BEGIN:VCALENDAR
PRODID:-//nuDatenautomaten//framework iCal4j //DE
VERSION:2.0
CALSCALE:GREGORIAN
BEGIN:VTIMEZONE
TZID:Europe/Berlin
LAST-MODIFIED:20260306T231828Z
TZURL:https://www.tzurl.org/zoneinfo/Europe/Berlin
X-LIC-LOCATION:Europe/Berlin
X-PROLEPTIC-TZNAME:LMT
BEGIN:STANDARD
TZNAME:CET
TZOFFSETFROM:+005328
TZOFFSETTO:+0100
DTSTART:18930401T000000
END:STANDARD
BEGIN:DAYLIGHT
TZNAME:CEST
TZOFFSETFROM:+0100
TZOFFSETTO:+0200
DTSTART:19160430T230000
RDATE:19400401T020000
RDATE:19430329T020000
RDATE:19460414T020000
RDATE:19470406T030000
RDATE:19480418T020000
RDATE:19490410T020000
RDATE:19800406T020000
END:DAYLIGHT
BEGIN:STANDARD
TZNAME:CET
TZOFFSETFROM:+0200
TZOFFSETTO:+0100
DTSTART:19161001T010000
RDATE:19421102T030000
RDATE:19431004T030000
RDATE:19441002T030000
RDATE:19451118T030000
RDATE:19461007T030000
END:STANDARD
BEGIN:DAYLIGHT
TZNAME:CEST
TZOFFSETFROM:+0100
TZOFFSETTO:+0200
DTSTART:19170416T020000
RRULE:FREQ=YEARLY;UNTIL=19180415T010000Z;BYMONTH=4;BYDAY=3MO
END:DAYLIGHT
BEGIN:STANDARD
TZNAME:CET
TZOFFSETFROM:+0200
TZOFFSETTO:+0100
DTSTART:19170917T030000
RRULE:FREQ=YEARLY;UNTIL=19180916T010000Z;BYMONTH=9;BYDAY=3MO
END:STANDARD
BEGIN:DAYLIGHT
TZNAME:CEST
TZOFFSETFROM:+0100
TZOFFSETTO:+0200
DTSTART:19440403T020000
RRULE:FREQ=YEARLY;UNTIL=19450402T010000Z;BYMONTH=4;BYDAY=1MO
END:DAYLIGHT
BEGIN:DAYLIGHT
TZNAME:CEMT
TZOFFSETFROM:+0200
TZOFFSETTO:+0300
DTSTART:19450524T020000
RDATE:19470511T030000
END:DAYLIGHT
BEGIN:DAYLIGHT
TZNAME:CEST
TZOFFSETFROM:+0300
TZOFFSETTO:+0200
DTSTART:19450924T030000
RDATE:19470629T030000
END:DAYLIGHT
BEGIN:STANDARD
TZNAME:CET
TZOFFSETFROM:+0100
TZOFFSETTO:+0100
DTSTART:19460101T000000
RDATE:19800101T000000
END:STANDARD
BEGIN:STANDARD
TZNAME:CET
TZOFFSETFROM:+0200
TZOFFSETTO:+0100
DTSTART:19471005T030000
RRULE:FREQ=YEARLY;UNTIL=19491002T010000Z;BYMONTH=10;BYDAY=1SU
END:STANDARD
BEGIN:STANDARD
TZNAME:CET
TZOFFSETFROM:+0200
TZOFFSETTO:+0100
DTSTART:19800928T030000
RRULE:FREQ=YEARLY;UNTIL=19950924T010000Z;BYMONTH=9;BYDAY=-1SU
END:STANDARD
BEGIN:DAYLIGHT
TZNAME:CEST
TZOFFSETFROM:+0100
TZOFFSETTO:+0200
DTSTART:19810329T020000
RRULE:FREQ=YEARLY;BYMONTH=3;BYDAY=-1SU
END:DAYLIGHT
BEGIN:STANDARD
TZNAME:CET
TZOFFSETFROM:+0200
TZOFFSETTO:+0100
DTSTART:19961027T030000
RRULE:FREQ=YEARLY;BYMONTH=10;BYDAY=-1SU
END:STANDARD
END:VTIMEZONE
BEGIN:VEVENT
DTSTAMP:20260422T005408Z
DTSTART;TZID=Europe/Berlin:20171125T170000
DTEND;TZID=Europe/Berlin:20171125T183000
SUMMARY:SLM SG Leipzig/Zwenkau vs HSG Riesa/Oschatz (42)
UID:6011eb90-67bb-0850-e053-25c7a80a8bd3
STATUS:CONFIRMED
LAST-MODIFIED:20180201T150953Z
DESCRIPTION:Sachsenliga\nBegegnungs-Nr: 42\nHeim: SG Leipzig/Zwenkau\nGast: HSG Riesa/Oschatz\nHalle: Stadthalle Zwenkau (31113)\nAdresse: Heinrich-Mann-Weg 17\, 04442 Zwenkau\n
LOCATION:Stadthalle Zwenkau (31113): Heinrich-Mann-Weg 17\, 04442 Zwenkau
CATEGORIES:Saison 2017/18
END:VEVENT
BEGIN:VEVENT
DTSTAMP:20260422T005408Z
DTSTART;TZID=Europe/Berlin:20171105T170000
DTEND;TZID=Europe/Berlin:20171105T183000
SUMMARY:SLM SG Leipzig/Zwenkau vs EHV Aue II (31)
UID:6011eb90-6895-0850-e053-25c7a80a8bd3
STATUS:CONFIRMED
LAST-MODIFIED:20171127T211048Z
DESCRIPTION:Sachsenliga\nBegegnungs-Nr: 31\nHeim: SG Leipzig/Zwenkau\nGast: EHV Aue II\nHalle: Stadthalle Zwenkau (31113)\nAdresse: Heinrich-Mann-Weg 17\, 04442 Zwenkau\n
LOCATION:Stadthalle Zwenkau (31113): Heinrich-Mann-Weg 17\, 04442 Zwenkau
CATEGORIES:Saison 2017/18
END:VEVENT
BEGIN:VEVENT
DTSTAMP:20260422T005408Z
DTSTART;TZID=Europe/Berlin:20170924T170000
DTEND;TZID=Europe/Berlin:20170924T183000
SUMMARY:SLM SG Leipzig/Zwenkau vs HVH Kamenz (16)
UID:6011eb90-6986-0850-e053-25c7a80a8bd3
STATUS:CONFIRMED
LAST-MODIFIED:20180226T220804Z
DESCRIPTION:Sachsenliga\nBegegnungs-Nr: 16\nHeim: SG Leipzig/Zwenkau\nGast: HVH Kamenz\nHalle: Stadthalle Zwenkau (31113)\nAdresse: Heinrich-Mann-Weg 17\, 04442 Zwenkau\n
LOCATION:Stadthalle Zwenkau (31113): Heinrich-Mann-Weg 17\, 04442 Zwenkau
CATEGORIES:Saison 2017/18
END:VEVENT
BEGIN:VEVENT
DTSTAMP:20260422T005408Z
DTSTART;TZID=Europe/Berlin:20170910T170000
DTEND;TZID=Europe/Berlin:20170910T183000
SUMMARY:SLM SG Leipzig/Zwenkau vs SG Cunewalde/Sohland (8)
UID:6011eb90-698a-0850-e053-25c7a80a8bd3
STATUS:CONFIRMED
LAST-MODIFIED:20171127T202802Z
DESCRIPTION:Sachsenliga\nBegegnungs-Nr: 8\nHeim: SG Leipzig/Zwenkau\nGast: SG Cunewalde/Sohland\nHalle: Stadthalle Zwenkau (31113)\nAdresse: Heinrich-Mann-Weg 17\, 04442 Zwenkau\n
LOCATION:Stadthalle Zwenkau (31113): Heinrich-Mann-Weg 17\, 04442 Zwenkau
CATEGORIES:Saison 2017/18
END:VEVENT
BEGIN:VEVENT
DTSTAMP:20260422T005408Z
DTSTART;TZID=Europe/Berlin:20180317T170000
DTEND;TZID=Europe/Berlin:20180317T183000
SUMMARY:SLM SG Leipzig/Zwenkau vs ZHC Grubenlampe (78)
UID:6011eb90-73fd-0850-e053-25c7a80a8bd3
STATUS:CONFIRMED
LAST-MODIFIED:20180318T071713Z
DESCRIPTION:Sachsenliga\nBegegnungs-Nr: 78\nHeim: SG Leipzig/Zwenkau\nGast: ZHC Grubenlampe\nHalle: Stadthalle Zwenkau (31113)\nAdresse: Heinrich-Mann-Weg 17\, 04442 Zwenkau\n
LOCATION:Stadthalle Zwenkau (31113): Heinrich-Mann-Weg 17\, 04442 Zwenkau
CATEGORIES:Saison 2017/18
END:VEVENT
BEGIN:VEVENT
DTSTAMP:20260422T005408Z
DTSTART;TZID=Europe/Berlin:20180304T170000
DTEND;TZID=Europe/Berlin:20180304T183000
SUMMARY:SLM SG Leipzig/Zwenkau vs Kurort Hartha (71)
UID:6011eb90-7404-0850-e053-25c7a80a8bd3
STATUS:CONFIRMED
DESCRIPTION:Sachsenliga\nBegegnungs-Nr: 71\nHeim: SG Leipzig/Zwenkau\nGast: Kurort Hartha\nHalle: Stadthalle Zwenkau (31113)\nAdresse: Heinrich-Mann-Weg 17\, 04442 Zwenkau\n
LOCATION:Stadthalle Zwenkau (31113): Heinrich-Mann-Weg 17\, 04442 Zwenkau
CATEGORIES:Saison 2017/18
END:VEVENT
BEGIN:VEVENT
DTSTAMP:20260422T005408Z
DTSTART;TZID=Europe/Berlin:20180408T170000
DTEND;TZID=Europe/Berlin:20180408T183000
SUMMARY:SLM SG Leipzig/Zwenkau vs LHV Hoyerswerda (55)
UID:6011eb90-74e1-0850-e053-25c7a80a8bd3
STATUS:CONFIRMED
LAST-MODIFIED:20180122T195612Z
DESCRIPTION:Sachsenliga\nBegegnungs-Nr: 55\nHeim: SG Leipzig/Zwenkau\nGast: LHV Hoyerswerda\nHalle: Stadthalle Zwenkau (31113)\nAdresse: Heinrich-Mann-Weg 17\, 04442 Zwenkau\n
LOCATION:Stadthalle Zwenkau (31113): Heinrich-Mann-Weg 17\, 04442 Zwenkau
CATEGORIES:Saison 2017/18
END:VEVENT
BEGIN:VEVENT
DTSTAMP:20260422T005408Z
DTSTART;TZID=Europe/Berlin:20180107T170000
DTEND;TZID=Europe/Berlin:20180107T183000
SUMMARY:SLM SG Leipzig/Zwenkau vs Koweg Görlitz (49)
UID:6011eb90-74e7-0850-e053-25c7a80a8bd3
STATUS:CONFIRMED
DESCRIPTION:Sachsenliga\nBegegnungs-Nr: 49\nHeim: SG Leipzig/Zwenkau\nGast: Koweg Görlitz\nHalle: Stadthalle Zwenkau (31113)\nAdresse: Heinrich-Mann-Weg 17\, 04442 Zwenkau\n
LOCATION:Stadthalle Zwenkau (31113): Heinrich-Mann-Weg 17\, 04442 Zwenkau
CATEGORIES:Saison 2017/18
END:VEVENT
BEGIN:VEVENT
DTSTAMP:20260422T005408Z
DTSTART;TZID=Europe/Berlin:20180415T170000
DTEND;TZID=Europe/Berlin:20180415T183000
SUMMARY:SLM SG Leipzig/Zwenkau vs HSG Neudorf/Döbeln (86)
UID:6011eb90-7319-0850-e053-25c7a80a8bd3
STATUS:CONFIRMED
DESCRIPTION:Sachsenliga\nBegegnungs-Nr: 86\nHeim: SG Leipzig/Zwenkau\nGast: HSG Neudorf/Döbeln\nHalle: Stadthalle Zwenkau (31113)\nAdresse: Heinrich-Mann-Weg 17\, 04442 Zwenkau\n
LOCATION:Stadthalle Zwenkau (31113): Heinrich-Mann-Weg 17\, 04442 Zwenkau
CATEGORIES:Saison 2017/18
END:VEVENT
BEGIN:VEVENT
DTSTAMP:20260422T005408Z
DTSTART;TZID=Europe/Berlin:20171119T180000
DTEND;TZID=Europe/Berlin:20171119T193000
SUMMARY:SLM HSG Neudorf/Döbeln vs SG Leipzig/Zwenkau (41)
UID:6011eb90-b9b9-0850-e053-25c7a80a8bd3
STATUS:CONFIRMED
LAST-MODIFIED:20180308T080029Z
DESCRIPTION:Sachsenliga\nBegegnungs-Nr: 41\nHeim: HSG Neudorf/Döbeln\nGast: SG Leipzig/Zwenkau\nHalle: Stadt-SH Döbeln (31202)\nAdresse: Str. des Friedens 9\, 04720 Döbeln\n
LOCATION:Stadt-SH Döbeln (31202): Str. des Friedens 9\, 04720 Döbeln
CATEGORIES:Saison 2017/18
END:VEVENT
BEGIN:VEVENT
DTSTAMP:20260422T005408Z
DTSTART;TZID=Europe/Berlin:20171029T170000
DTEND;TZID=Europe/Berlin:20171029T183000
SUMMARY:SLM Kurort Hartha vs SG Leipzig/Zwenkau (28)
UID:6011eb90-bb30-0850-e053-25c7a80a8bd3
STATUS:CONFIRMED
LAST-MODIFIED:20180308T075804Z
DESCRIPTION:Sachsenliga\nBegegnungs-Nr: 28\nHeim: Kurort Hartha\nGast: SG Leipzig/Zwenkau\nHalle: SH BSZ Freital (33207)\nAdresse: Otto-Dix-Str. 2\, 01705 Freital\n
LOCATION:SH BSZ Freital (33207): Otto-Dix-Str. 2\, 01705 Freital
CATEGORIES:Saison 2017/18
END:VEVENT
BEGIN:VEVENT
DTSTAMP:20260422T005408Z
DTSTART;TZID=Europe/Berlin:20180128T170000
DTEND;TZID=Europe/Berlin:20180128T183000
SUMMARY:SLM HVH Kamenz vs SG Leipzig/Zwenkau (58)
UID:6011eb90-74de-0850-e053-25c7a80a8bd3
STATUS:CONFIRMED
LAST-MODIFIED:20180308T080323Z
DESCRIPTION:Sachsenliga\nBegegnungs-Nr: 58\nHeim: HVH Kamenz\nGast: SG Leipzig/Zwenkau\nHalle: SH Albert-Schweitzer-Gymnasium Kamenz (34204)\nAdresse: Am Flugplatz\, 01917 Kamenz\, Parkplatz - Macherstraße 142\n
LOCATION:SH Albert-Schweitzer-Gymnasium Kamenz (34204): Am Flugplatz\, 01917 Kamenz\, Parkplatz - Macherstraße 142
CATEGORIES:Saison 2017/18
END:VEVENT
BEGIN:VEVENT
DTSTAMP:20260422T005408Z
DTSTART;TZID=Europe/Berlin:20170903T170000
DTEND;TZID=Europe/Berlin:20170903T183000
SUMMARY:SLM Koweg Görlitz vs SG Leipzig/Zwenkau (3)
UID:6011eb90-698e-0850-e053-25c7a80a8bd3
STATUS:CONFIRMED
LAST-MODIFIED:20171127T201837Z
DESCRIPTION:Sachsenliga\nBegegnungs-Nr: 3\nHeim: Koweg Görlitz\nGast: SG Leipzig/Zwenkau\nHalle: Jahn-SH Görlitz (34302)\nAdresse: Kummerau 6\, 02826 Görlitz\n
LOCATION:Jahn-SH Görlitz (34302): Kummerau 6\, 02826 Görlitz
CATEGORIES:Saison 2017/18
END:VEVENT
BEGIN:VEVENT
DTSTAMP:20260422T005408Z
DTSTART;TZID=Europe/Berlin:20180422T163000
DTEND;TZID=Europe/Berlin:20180422T180000
SUMMARY:SLM HSG Riesa/Oschatz vs SG Leipzig/Zwenkau (90)
UID:6011eb90-7315-0850-e053-25c7a80a8bd3
STATUS:CONFIRMED
DESCRIPTION:Sachsenliga\nBegegnungs-Nr: 90\nHeim: HSG Riesa/Oschatz\nGast: SG Leipzig/Zwenkau\nHalle: WM-Sporthalle Riesa (33213)\nAdresse: Am Sportzentrum 1\, 01587 Riesa\n
LOCATION:WM-Sporthalle Riesa (33213): Am Sportzentrum 1\, 01587 Riesa
CATEGORIES:Saison 2017/18
END:VEVENT
BEGIN:VEVENT
DTSTAMP:20260422T005408Z
DTSTART;TZID=Europe/Berlin:20180311T163000
DTEND;TZID=Europe/Berlin:20180311T180000
SUMMARY:SLM EHV Aue II vs SG Leipzig/Zwenkau (75)
UID:6011eb90-7400-0850-e053-25c7a80a8bd3
STATUS:CONFIRMED
LAST-MODIFIED:20180312T135126Z
DESCRIPTION:Sachsenliga\nBegegnungs-Nr: 75\nHeim: EHV Aue II\nGast: SG Leipzig/Zwenkau\nHalle: Erzgebirgshalle Lößnitz (32303)\nAdresse: Ringstraße 15\, 08294 Lößnitz\n
LOCATION:Erzgebirgshalle Lößnitz (32303): Ringstraße 15\, 08294 Lößnitz
CATEGORIES:Saison 2017/18
END:VEVENT
BEGIN:VEVENT
DTSTAMP:20260422T005408Z
DTSTART;TZID=Europe/Berlin:20180113T180000
DTEND;TZID=Europe/Berlin:20180113T193000
SUMMARY:SLM SG Cunewalde/Sohland vs SG Leipzig/Zwenkau (50)
UID:6011eb90-74e6-0850-e053-25c7a80a8bd3
STATUS:CONFIRMED
DESCRIPTION:Sachsenliga\nBegegnungs-Nr: 50\nHeim: SG Cunewalde/Sohland\nGast: SG Leipzig/Zwenkau\nHalle: SH \"W.-v.-Polenz\"-Schule Cunewalde (34509)\nAdresse: Czornebohstraße\, 02733 Cunewalde\n
LOCATION:SH \"W.-v.-Polenz\"-Schule Cunewalde (34509): Czornebohstraße\, 02733 Cunewalde
CATEGORIES:Saison 2017/18
END:VEVENT
BEGIN:VEVENT
DTSTAMP:20260422T005408Z
DTSTART;TZID=Europe/Berlin:20171216T170000
DTEND;TZID=Europe/Berlin:20171216T183000
SUMMARY:SLM LHV Hoyerswerda vs SG Leipzig/Zwenkau (10)
UID:6011eb90-6989-0850-e053-25c7a80a8bd3
STATUS:CONFIRMED
LAST-MODIFIED:20170728T120158Z
DESCRIPTION:Sachsenliga\nBegegnungs-Nr: 10\nHeim: LHV Hoyerswerda\nGast: SG Leipzig/Zwenkau\nHalle: SH BSZ \"Konrad Zuse\" Hoyerswerda (34201)\nAdresse: Käthe-Kollwitz-Str. 5\, 02977 Hoyerswerda\n
LOCATION:SH BSZ \"Konrad Zuse\" Hoyerswerda (34201): Käthe-Kollwitz-Str. 5\, 02977 Hoyerswerda
CATEGORIES:Saison 2017/18
END:VEVENT
BEGIN:VEVENT
DTSTAMP:20260422T005408Z
DTSTART;TZID=Europe/Berlin:20171111T170000
DTEND;TZID=Europe/Berlin:20171111T183000
SUMMARY:SLM ZHC Grubenlampe vs SG Leipzig/Zwenkau (34)
UID:6011eb90-c1ad-0850-e053-25c7a80a8bd3
STATUS:CONFIRMED
DESCRIPTION:Sachsenliga\nBegegnungs-Nr: 34\nHeim: ZHC Grubenlampe\nGast: SG Leipzig/Zwenkau\nHalle: SH Zwickau-Neuplanitz (32501)\nAdresse: Dortmunder Str. 7a\, 08062 Zwickau\n
LOCATION:SH Zwickau-Neuplanitz (32501): Dortmunder Str. 7a\, 08062 Zwickau
CATEGORIES:Saison 2017/18
END:VEVENT
END:VCALENDAR
