BEGIN:VCALENDAR
PRODID:-//nuDatenautomaten//framework iCal4j //DE
VERSION:2.0
CALSCALE:GREGORIAN
BEGIN:VTIMEZONE
TZID:Europe/Berlin
LAST-MODIFIED:20260306T231828Z
TZURL:https://www.tzurl.org/zoneinfo/Europe/Berlin
X-LIC-LOCATION:Europe/Berlin
X-PROLEPTIC-TZNAME:LMT
BEGIN:STANDARD
TZNAME:CET
TZOFFSETFROM:+005328
TZOFFSETTO:+0100
DTSTART:18930401T000000
END:STANDARD
BEGIN:DAYLIGHT
TZNAME:CEST
TZOFFSETFROM:+0100
TZOFFSETTO:+0200
DTSTART:19160430T230000
RDATE:19400401T020000
RDATE:19430329T020000
RDATE:19460414T020000
RDATE:19470406T030000
RDATE:19480418T020000
RDATE:19490410T020000
RDATE:19800406T020000
END:DAYLIGHT
BEGIN:STANDARD
TZNAME:CET
TZOFFSETFROM:+0200
TZOFFSETTO:+0100
DTSTART:19161001T010000
RDATE:19421102T030000
RDATE:19431004T030000
RDATE:19441002T030000
RDATE:19451118T030000
RDATE:19461007T030000
END:STANDARD
BEGIN:DAYLIGHT
TZNAME:CEST
TZOFFSETFROM:+0100
TZOFFSETTO:+0200
DTSTART:19170416T020000
RRULE:FREQ=YEARLY;UNTIL=19180415T010000Z;BYMONTH=4;BYDAY=3MO
END:DAYLIGHT
BEGIN:STANDARD
TZNAME:CET
TZOFFSETFROM:+0200
TZOFFSETTO:+0100
DTSTART:19170917T030000
RRULE:FREQ=YEARLY;UNTIL=19180916T010000Z;BYMONTH=9;BYDAY=3MO
END:STANDARD
BEGIN:DAYLIGHT
TZNAME:CEST
TZOFFSETFROM:+0100
TZOFFSETTO:+0200
DTSTART:19440403T020000
RRULE:FREQ=YEARLY;UNTIL=19450402T010000Z;BYMONTH=4;BYDAY=1MO
END:DAYLIGHT
BEGIN:DAYLIGHT
TZNAME:CEMT
TZOFFSETFROM:+0200
TZOFFSETTO:+0300
DTSTART:19450524T020000
RDATE:19470511T030000
END:DAYLIGHT
BEGIN:DAYLIGHT
TZNAME:CEST
TZOFFSETFROM:+0300
TZOFFSETTO:+0200
DTSTART:19450924T030000
RDATE:19470629T030000
END:DAYLIGHT
BEGIN:STANDARD
TZNAME:CET
TZOFFSETFROM:+0100
TZOFFSETTO:+0100
DTSTART:19460101T000000
RDATE:19800101T000000
END:STANDARD
BEGIN:STANDARD
TZNAME:CET
TZOFFSETFROM:+0200
TZOFFSETTO:+0100
DTSTART:19471005T030000
RRULE:FREQ=YEARLY;UNTIL=19491002T010000Z;BYMONTH=10;BYDAY=1SU
END:STANDARD
BEGIN:STANDARD
TZNAME:CET
TZOFFSETFROM:+0200
TZOFFSETTO:+0100
DTSTART:19800928T030000
RRULE:FREQ=YEARLY;UNTIL=19950924T010000Z;BYMONTH=9;BYDAY=-1SU
END:STANDARD
BEGIN:DAYLIGHT
TZNAME:CEST
TZOFFSETFROM:+0100
TZOFFSETTO:+0200
DTSTART:19810329T020000
RRULE:FREQ=YEARLY;BYMONTH=3;BYDAY=-1SU
END:DAYLIGHT
BEGIN:STANDARD
TZNAME:CET
TZOFFSETFROM:+0200
TZOFFSETTO:+0100
DTSTART:19961027T030000
RRULE:FREQ=YEARLY;BYMONTH=10;BYDAY=-1SU
END:STANDARD
END:VTIMEZONE
BEGIN:VEVENT
DTSTAMP:20260419T221410Z
DTSTART;TZID=Europe/Berlin:20180310T130000
DTEND;TZID=Europe/Berlin:20180310T143000
SUMMARY:SL MJA SC DHfK Leipzig vs NSG EHV/NH Aue (311)
UID:6011eb90-81dc-0850-e053-25c7a80a8bd3
STATUS:CONFIRMED
DESCRIPTION:Sachsenliga MJA\nBegegnungs-Nr: 311\nHeim: SC DHfK Leipzig\nGast: NSG EHV/NH Aue\nHalle: SH Rabet Leipzig (31130)\nAdresse: Konradstraße 30\, 04315 Leipzig\n
LOCATION:SH Rabet Leipzig (31130): Konradstraße 30\, 04315 Leipzig
CATEGORIES:Saison 2017/18
END:VEVENT
BEGIN:VEVENT
DTSTAMP:20260419T221410Z
DTSTART;TZID=Europe/Berlin:20180415T120000
DTEND;TZID=Europe/Berlin:20180415T133000
SUMMARY:SL MJA SC DHfK Leipzig vs SG LVB (322)
UID:6011eb90-8dfc-0850-e053-25c7a80a8bd3
STATUS:CONFIRMED
LAST-MODIFIED:20180409T154815Z
DESCRIPTION:Sachsenliga MJA\nBegegnungs-Nr: 322\nHeim: SC DHfK Leipzig\nGast: SG LVB\nHalle: SH Rabet Leipzig (31130)\nAdresse: Konradstraße 30\, 04315 Leipzig\n
LOCATION:SH Rabet Leipzig (31130): Konradstraße 30\, 04315 Leipzig
CATEGORIES:Saison 2017/18
END:VEVENT
BEGIN:VEVENT
DTSTAMP:20260419T221410Z
DTSTART;TZID=Europe/Berlin:20171209T130000
DTEND;TZID=Europe/Berlin:20171209T143000
SUMMARY:SL MJA SC DHfK Leipzig vs HSG Neudorf/Döbeln (266)
UID:6011eb90-8e0a-0850-e053-25c7a80a8bd3
STATUS:CONFIRMED
LAST-MODIFIED:20180204T143840Z
DESCRIPTION:Sachsenliga MJA\nBegegnungs-Nr: 266\nHeim: SC DHfK Leipzig\nGast: HSG Neudorf/Döbeln\nHalle: SH Rabet Leipzig (31130)\nAdresse: Konradstraße 30\, 04315 Leipzig\n
LOCATION:SH Rabet Leipzig (31130): Konradstraße 30\, 04315 Leipzig
CATEGORIES:Saison 2017/18
END:VEVENT
BEGIN:VEVENT
DTSTAMP:20260419T221410Z
DTSTART;TZID=Europe/Berlin:20170916T160000
DTEND;TZID=Europe/Berlin:20170916T173000
SUMMARY:SL MJA SC DHfK Leipzig vs NSG Oelsnitz/Oberlosa (214)
UID:6011eb90-8e2a-0850-e053-25c7a80a8bd3
STATUS:CONFIRMED
LAST-MODIFIED:20171006T112558Z
DESCRIPTION:Sachsenliga MJA\nBegegnungs-Nr: 214\nHeim: SC DHfK Leipzig\nGast: NSG Oelsnitz/Oberlosa\nHalle: SH Rabet Leipzig (31130)\nAdresse: Konradstraße 30\, 04315 Leipzig\n
LOCATION:SH Rabet Leipzig (31130): Konradstraße 30\, 04315 Leipzig
CATEGORIES:Saison 2017/18
END:VEVENT
BEGIN:VEVENT
DTSTAMP:20260419T221410Z
DTSTART;TZID=Europe/Berlin:20171015T140000
DTEND;TZID=Europe/Berlin:20171015T153000
SUMMARY:SL MJA SC DHfK Leipzig vs HSV Dresden (240)
UID:6011eb90-8fed-0850-e053-25c7a80a8bd3
STATUS:CONFIRMED
LAST-MODIFIED:20171023T182037Z
DESCRIPTION:Sachsenliga MJA\nBegegnungs-Nr: 240\nHeim: SC DHfK Leipzig\nGast: HSV Dresden\nHalle: SH Rabet Leipzig (31130)\nAdresse: Konradstraße 30\, 04315 Leipzig\n
LOCATION:SH Rabet Leipzig (31130): Konradstraße 30\, 04315 Leipzig
CATEGORIES:Saison 2017/18
END:VEVENT
BEGIN:VEVENT
DTSTAMP:20260419T221410Z
DTSTART;TZID=Europe/Berlin:20170930T140000
DTEND;TZID=Europe/Berlin:20170930T153000
SUMMARY:SL MJA SC DHfK Leipzig vs NSG Gc-Mee-LO (201)
UID:6011eb90-906f-0850-e053-25c7a80a8bd3
STATUS:CONFIRMED
LAST-MODIFIED:20171005T142850Z
DESCRIPTION:Sachsenliga MJA\nBegegnungs-Nr: 201\nHeim: SC DHfK Leipzig\nGast: NSG Gc-Mee-LO\nHalle: SH Rabet Leipzig (31130)\nAdresse: Konradstraße 30\, 04315 Leipzig\n
LOCATION:SH Rabet Leipzig (31130): Konradstraße 30\, 04315 Leipzig
CATEGORIES:Saison 2017/18
END:VEVENT
BEGIN:VEVENT
DTSTAMP:20260419T221410Z
DTSTART;TZID=Europe/Berlin:20171021T103000
DTEND;TZID=Europe/Berlin:20171021T120000
SUMMARY:SL MJA SC DHfK Leipzig vs NSG EHV/NH Aue II (227)
UID:6011eb90-980d-0850-e053-25c7a80a8bd3
STATUS:CONFIRMED
LAST-MODIFIED:20171023T183951Z
DESCRIPTION:Sachsenliga MJA\nBegegnungs-Nr: 227\nHeim: SC DHfK Leipzig\nGast: NSG EHV/NH Aue II\nHalle: SH Brüderstraße Leipzig (31101)\nAdresse: Brüderstr. 15\, 04103 Leipzig\n
LOCATION:SH Brüderstraße Leipzig (31101): Brüderstr. 15\, 04103 Leipzig
CATEGORIES:Saison 2017/18
END:VEVENT
BEGIN:VEVENT
DTSTAMP:20260419T221410Z
DTSTART;TZID=Europe/Berlin:20180127T140000
DTEND;TZID=Europe/Berlin:20180127T153000
SUMMARY:SL MJA SC DHfK Leipzig vs HSV Weinböhla (288)
UID:6011eb90-8f2d-0850-e053-25c7a80a8bd3
STATUS:CONFIRMED
DESCRIPTION:Sachsenliga MJA\nBegegnungs-Nr: 288\nHeim: SC DHfK Leipzig\nGast: HSV Weinböhla\nHalle: SH Rabet Leipzig (31130)\nAdresse: Konradstraße 30\, 04315 Leipzig\n
LOCATION:SH Rabet Leipzig (31130): Konradstraße 30\, 04315 Leipzig
CATEGORIES:Saison 2017/18
END:VEVENT
BEGIN:VEVENT
DTSTAMP:20260419T221410Z
DTSTART;TZID=Europe/Berlin:20180224T133000
DTEND;TZID=Europe/Berlin:20180224T150000
SUMMARY:SL MJA SC DHfK Leipzig vs SG Pirna/Heidenau (299)
UID:6011eb90-8f38-0850-e053-25c7a80a8bd3
STATUS:CONFIRMED
LAST-MODIFIED:20180217T154221Z
DESCRIPTION:Sachsenliga MJA\nBegegnungs-Nr: 299\nHeim: SC DHfK Leipzig\nGast: SG Pirna/Heidenau\nHalle: SH Rabet Leipzig (31130)\nAdresse: Konradstraße 30\, 04315 Leipzig\n
LOCATION:SH Rabet Leipzig (31130): Konradstraße 30\, 04315 Leipzig
CATEGORIES:Saison 2017/18
END:VEVENT
BEGIN:VEVENT
DTSTAMP:20260419T221410Z
DTSTART;TZID=Europe/Berlin:20180113T150000
DTEND;TZID=Europe/Berlin:20180113T163000
SUMMARY:SL MJA SC DHfK Leipzig vs HSG Freiberg (277)
UID:6011eb90-8d6f-0850-e053-25c7a80a8bd3
STATUS:CONFIRMED
LAST-MODIFIED:20180204T151233Z
DESCRIPTION:Sachsenliga MJA\nBegegnungs-Nr: 277\nHeim: SC DHfK Leipzig\nGast: HSG Freiberg\nHalle: SH Rabet Leipzig (31130)\nAdresse: Konradstraße 30\, 04315 Leipzig\n
LOCATION:SH Rabet Leipzig (31130): Konradstraße 30\, 04315 Leipzig
CATEGORIES:Saison 2017/18
END:VEVENT
BEGIN:VEVENT
DTSTAMP:20260419T221410Z
DTSTART;TZID=Europe/Berlin:20171118T110000
DTEND;TZID=Europe/Berlin:20171118T123000
SUMMARY:SL MJA SC DHfK Leipzig vs LHV Hoyerswerda (253)
UID:6011eb90-d542-0850-e053-25c7a80a8bd3
STATUS:CONFIRMED
LAST-MODIFIED:20171119T162228Z
DESCRIPTION:Sachsenliga MJA\nBegegnungs-Nr: 253\nHeim: SC DHfK Leipzig\nGast: LHV Hoyerswerda\nHalle: SH Rabet Leipzig (31130)\nAdresse: Konradstraße 30\, 04315 Leipzig\n
LOCATION:SH Rabet Leipzig (31130): Konradstraße 30\, 04315 Leipzig
CATEGORIES:Saison 2017/18
END:VEVENT
BEGIN:VEVENT
DTSTAMP:20260419T221410Z
DTSTART;TZID=Europe/Berlin:20170909T151500
DTEND;TZID=Europe/Berlin:20170909T164500
SUMMARY:SL MJA HSG Freiberg vs SC DHfK Leipzig (211)
UID:6011eb90-a9c9-0850-e053-25c7a80a8bd3
STATUS:CONFIRMED
LAST-MODIFIED:20171006T093752Z
DESCRIPTION:Sachsenliga MJA\nBegegnungs-Nr: 211\nHeim: HSG Freiberg\nGast: SC DHfK Leipzig\nHalle: Ernst-Grube-Halle Freiberg (32401)\nAdresse: Tschaikowskistr. 2\, 09599 Freiberg\n
LOCATION:Ernst-Grube-Halle Freiberg (32401): Tschaikowskistr. 2\, 09599 Freiberg
CATEGORIES:Saison 2017/18
END:VEVENT
BEGIN:VEVENT
DTSTAMP:20260419T221410Z
DTSTART;TZID=Europe/Berlin:20171111T130000
DTEND;TZID=Europe/Berlin:20171111T143000
SUMMARY:SL MJA NSG EHV/NH Aue vs SC DHfK Leipzig (244)
UID:6011eb90-c0a8-0850-e053-25c7a80a8bd3
STATUS:CONFIRMED
LAST-MODIFIED:20171119T094711Z
DESCRIPTION:Sachsenliga MJA\nBegegnungs-Nr: 244\nHeim: NSG EHV/NH Aue\nGast: SC DHfK Leipzig\nHalle: SH Zeller Berg Aue  (32304)\nAdresse: Agricolastr. 5\, 08280 Aue\n
LOCATION:SH Zeller Berg Aue  (32304): Agricolastr. 5\, 08280 Aue
CATEGORIES:Saison 2017/18
END:VEVENT
BEGIN:VEVENT
DTSTAMP:20260419T221410Z
DTSTART;TZID=Europe/Berlin:20180317T150000
DTEND;TZID=Europe/Berlin:20180317T163000
SUMMARY:SL MJA LHV Hoyerswerda vs SC DHfK Leipzig (320)
UID:6011eb90-8dfa-0850-e053-25c7a80a8bd3
STATUS:CONFIRMED
DESCRIPTION:Sachsenliga MJA\nBegegnungs-Nr: 320\nHeim: LHV Hoyerswerda\nGast: SC DHfK Leipzig\nHalle: SH BSZ \"Konrad Zuse\" Hoyerswerda (34201)\nAdresse: Käthe-Kollwitz-Str. 5\, 02977 Hoyerswerda\n
LOCATION:SH BSZ \"Konrad Zuse\" Hoyerswerda (34201): Käthe-Kollwitz-Str. 5\, 02977 Hoyerswerda
CATEGORIES:Saison 2017/18
END:VEVENT
BEGIN:VEVENT
DTSTAMP:20260419T221410Z
DTSTART;TZID=Europe/Berlin:20180407T120000
DTEND;TZID=Europe/Berlin:20180407T133000
SUMMARY:SL MJA NSG Oelsnitz/Oberlosa vs SC DHfK Leipzig (280)
UID:6011eb90-8d79-0850-e053-25c7a80a8bd3
STATUS:CONFIRMED
DESCRIPTION:Sachsenliga MJA\nBegegnungs-Nr: 280\nHeim: NSG Oelsnitz/Oberlosa\nGast: SC DHfK Leipzig\nHalle: SH Kurt-Helbig Plauen (32701)\nAdresse: Comeniusstr. 15\, 08523 Plauen\n
LOCATION:SH Kurt-Helbig Plauen (32701): Comeniusstr. 15\, 08523 Plauen
CATEGORIES:Saison 2017/18
END:VEVENT
BEGIN:VEVENT
DTSTAMP:20260419T221410Z
DTSTART;TZID=Europe/Berlin:20180320T183000
DTEND;TZID=Europe/Berlin:20180320T200000
SUMMARY:SL MJA NSG Gc-Mee-LO vs SC DHfK Leipzig (267)
UID:6011eb90-8e07-0850-e053-25c7a80a8bd3
STATUS:CONFIRMED
LAST-MODIFIED:20180315T074640Z
DESCRIPTION:Sachsenliga MJA\nBegegnungs-Nr: 267\nHeim: NSG Gc-Mee-LO\nGast: SC DHfK Leipzig\nHalle: Sachsenlandhalle Glauchau (32204)\nAdresse: An der Sachsenlandhalle 3\, 08371 Glauchau\n
LOCATION:Sachsenlandhalle Glauchau (32204): An der Sachsenlandhalle 3\, 08371 Glauchau
CATEGORIES:Saison 2017/18
END:VEVENT
BEGIN:VEVENT
DTSTAMP:20260419T221410Z
DTSTART;TZID=Europe/Berlin:20170923T130000
DTEND;TZID=Europe/Berlin:20170923T143000
SUMMARY:SL MJA HSV Weinböhla vs SC DHfK Leipzig (222)
UID:6011eb90-98ad-0850-e053-25c7a80a8bd3
STATUS:CONFIRMED
LAST-MODIFIED:20171007T084905Z
DESCRIPTION:Sachsenliga MJA\nBegegnungs-Nr: 222\nHeim: HSV Weinböhla\nGast: SC DHfK Leipzig\nHalle: Nassau-SH Weinböhla (33224)\nAdresse: Meißner Str. 1\, 01689 Weinböhla\n
LOCATION:Nassau-SH Weinböhla (33224): Meißner Str. 1\, 01689 Weinböhla
CATEGORIES:Saison 2017/18
END:VEVENT
BEGIN:VEVENT
DTSTAMP:20260419T221410Z
DTSTART;TZID=Europe/Berlin:20180203T130000
DTEND;TZID=Europe/Berlin:20180203T143000
SUMMARY:SL MJA NSG EHV/NH Aue II vs SC DHfK Leipzig (293)
UID:6011eb90-8f32-0850-e053-25c7a80a8bd3
STATUS:CONFIRMED
DESCRIPTION:Sachsenliga MJA\nBegegnungs-Nr: 293\nHeim: NSG EHV/NH Aue II\nGast: SC DHfK Leipzig\nHalle: SH Zeller Berg Aue  (32304)\nAdresse: Agricolastr. 5\, 08280 Aue\n
LOCATION:SH Zeller Berg Aue  (32304): Agricolastr. 5\, 08280 Aue
CATEGORIES:Saison 2017/18
END:VEVENT
BEGIN:VEVENT
DTSTAMP:20260419T221410Z
DTSTART;TZID=Europe/Berlin:20171028T164500
DTEND;TZID=Europe/Berlin:20171028T181500
SUMMARY:SL MJA SG Pirna/Heidenau vs SC DHfK Leipzig (233)
UID:6011eb90-cb03-0850-e053-25c7a80a8bd3
STATUS:CONFIRMED
LAST-MODIFIED:20171106T204457Z
DESCRIPTION:Sachsenliga MJA\nBegegnungs-Nr: 233\nHeim: SG Pirna/Heidenau\nGast: SC DHfK Leipzig\nHalle: SH Pirna-Sonnenstein (33302)\nAdresse: Struppener Str. 9\, 01796 Pirna\n
LOCATION:SH Pirna-Sonnenstein (33302): Struppener Str. 9\, 01796 Pirna
CATEGORIES:Saison 2017/18
END:VEVENT
BEGIN:VEVENT
DTSTAMP:20260419T221410Z
DTSTART;TZID=Europe/Berlin:20171125T163000
DTEND;TZID=Europe/Berlin:20171125T180000
SUMMARY:SL MJA SG LVB vs SC DHfK Leipzig (255)
UID:6011eb90-d3de-0850-e053-25c7a80a8bd3
STATUS:CONFIRMED
LAST-MODIFIED:20180204T135429Z
DESCRIPTION:Sachsenliga MJA\nBegegnungs-Nr: 255\nHeim: SG LVB\nGast: SC DHfK Leipzig\nHalle: SH Gymnasium an der Telemannstraße  (31109)\nAdresse: Telemannstraße 9\, 04107 Leipzig\n
LOCATION:SH Gymnasium an der Telemannstraße  (31109): Telemannstraße 9\, 04107 Leipzig
CATEGORIES:Saison 2017/18
END:VEVENT
BEGIN:VEVENT
DTSTAMP:20260419T221410Z
DTSTART;TZID=Europe/Berlin:20180303T110000
DTEND;TZID=Europe/Berlin:20180303T123000
SUMMARY:SL MJA HSV Dresden vs SC DHfK Leipzig (307)
UID:6011eb90-81d8-0850-e053-25c7a80a8bd3
STATUS:CONFIRMED
DESCRIPTION:Sachsenliga MJA\nBegegnungs-Nr: 307\nHeim: HSV Dresden\nGast: SC DHfK Leipzig\nHalle: SH 121. Oberschule Dresden (33102)\nAdresse: Gamigstraße 28/30\, 01239 Dresden\n
LOCATION:SH 121. Oberschule Dresden (33102): Gamigstraße 28/30\, 01239 Dresden
CATEGORIES:Saison 2017/18
END:VEVENT
END:VCALENDAR
