BEGIN:VCALENDAR
PRODID:-//nuDatenautomaten//framework iCal4j //DE
VERSION:2.0
CALSCALE:GREGORIAN
BEGIN:VTIMEZONE
TZID:Europe/Berlin
LAST-MODIFIED:20260306T231828Z
TZURL:https://www.tzurl.org/zoneinfo/Europe/Berlin
X-LIC-LOCATION:Europe/Berlin
X-PROLEPTIC-TZNAME:LMT
BEGIN:STANDARD
TZNAME:CET
TZOFFSETFROM:+005328
TZOFFSETTO:+0100
DTSTART:18930401T000000
END:STANDARD
BEGIN:DAYLIGHT
TZNAME:CEST
TZOFFSETFROM:+0100
TZOFFSETTO:+0200
DTSTART:19160430T230000
RDATE:19400401T020000
RDATE:19430329T020000
RDATE:19460414T020000
RDATE:19470406T030000
RDATE:19480418T020000
RDATE:19490410T020000
RDATE:19800406T020000
END:DAYLIGHT
BEGIN:STANDARD
TZNAME:CET
TZOFFSETFROM:+0200
TZOFFSETTO:+0100
DTSTART:19161001T010000
RDATE:19421102T030000
RDATE:19431004T030000
RDATE:19441002T030000
RDATE:19451118T030000
RDATE:19461007T030000
END:STANDARD
BEGIN:DAYLIGHT
TZNAME:CEST
TZOFFSETFROM:+0100
TZOFFSETTO:+0200
DTSTART:19170416T020000
RRULE:FREQ=YEARLY;UNTIL=19180415T010000Z;BYMONTH=4;BYDAY=3MO
END:DAYLIGHT
BEGIN:STANDARD
TZNAME:CET
TZOFFSETFROM:+0200
TZOFFSETTO:+0100
DTSTART:19170917T030000
RRULE:FREQ=YEARLY;UNTIL=19180916T010000Z;BYMONTH=9;BYDAY=3MO
END:STANDARD
BEGIN:DAYLIGHT
TZNAME:CEST
TZOFFSETFROM:+0100
TZOFFSETTO:+0200
DTSTART:19440403T020000
RRULE:FREQ=YEARLY;UNTIL=19450402T010000Z;BYMONTH=4;BYDAY=1MO
END:DAYLIGHT
BEGIN:DAYLIGHT
TZNAME:CEMT
TZOFFSETFROM:+0200
TZOFFSETTO:+0300
DTSTART:19450524T020000
RDATE:19470511T030000
END:DAYLIGHT
BEGIN:DAYLIGHT
TZNAME:CEST
TZOFFSETFROM:+0300
TZOFFSETTO:+0200
DTSTART:19450924T030000
RDATE:19470629T030000
END:DAYLIGHT
BEGIN:STANDARD
TZNAME:CET
TZOFFSETFROM:+0100
TZOFFSETTO:+0100
DTSTART:19460101T000000
RDATE:19800101T000000
END:STANDARD
BEGIN:STANDARD
TZNAME:CET
TZOFFSETFROM:+0200
TZOFFSETTO:+0100
DTSTART:19471005T030000
RRULE:FREQ=YEARLY;UNTIL=19491002T010000Z;BYMONTH=10;BYDAY=1SU
END:STANDARD
BEGIN:STANDARD
TZNAME:CET
TZOFFSETFROM:+0200
TZOFFSETTO:+0100
DTSTART:19800928T030000
RRULE:FREQ=YEARLY;UNTIL=19950924T010000Z;BYMONTH=9;BYDAY=-1SU
END:STANDARD
BEGIN:DAYLIGHT
TZNAME:CEST
TZOFFSETFROM:+0100
TZOFFSETTO:+0200
DTSTART:19810329T020000
RRULE:FREQ=YEARLY;BYMONTH=3;BYDAY=-1SU
END:DAYLIGHT
BEGIN:STANDARD
TZNAME:CET
TZOFFSETFROM:+0200
TZOFFSETTO:+0100
DTSTART:19961027T030000
RRULE:FREQ=YEARLY;BYMONTH=10;BYDAY=-1SU
END:STANDARD
END:VTIMEZONE
BEGIN:VEVENT
DTSTAMP:20260426T001422Z
DTSTART;TZID=Europe/Berlin:20171029T160000
DTEND;TZID=Europe/Berlin:20171029T173000
SUMMARY:VLFW SV 04 Plauen-O. II vs HSV Marienberg II (5040)
UID:6011eb90-85c8-0850-e053-25c7a80a8bd3
STATUS:CONFIRMED
LAST-MODIFIED:20171102T094420Z
DESCRIPTION:Verbandsliga Frauen Staffel West\nBegegnungs-Nr: 5040\nHeim: SV 04 Plauen-O. II\nGast: HSV Marienberg II\nHalle: SH Kurt-Helbig Plauen (32701)\nAdresse: Comeniusstr. 15\, 08523 Plauen\n
LOCATION:SH Kurt-Helbig Plauen (32701): Comeniusstr. 15\, 08523 Plauen
CATEGORIES:Saison 2017/18
END:VEVENT
BEGIN:VEVENT
DTSTAMP:20260426T001422Z
DTSTART;TZID=Europe/Berlin:20171015T160000
DTEND;TZID=Europe/Berlin:20171015T173000
SUMMARY:VLFW SV 04 Plauen-O. II vs TSG Schkeuditz (5028)
UID:6011eb90-8a70-0850-e053-25c7a80a8bd3
STATUS:CONFIRMED
LAST-MODIFIED:20171017T123239Z
DESCRIPTION:Verbandsliga Frauen Staffel West\nBegegnungs-Nr: 5028\nHeim: SV 04 Plauen-O. II\nGast: TSG Schkeuditz\nHalle: SH Kurt-Helbig Plauen (32701)\nAdresse: Comeniusstr. 15\, 08523 Plauen\n
LOCATION:SH Kurt-Helbig Plauen (32701): Comeniusstr. 15\, 08523 Plauen
CATEGORIES:Saison 2017/18
END:VEVENT
BEGIN:VEVENT
DTSTAMP:20260426T001422Z
DTSTART;TZID=Europe/Berlin:20171112T160000
DTEND;TZID=Europe/Berlin:20171112T173000
SUMMARY:VLFW SV 04 Plauen-O. II vs Turbine Leipzig (5052)
UID:6011eb90-8b54-0850-e053-25c7a80a8bd3
STATUS:CONFIRMED
LAST-MODIFIED:20180116T104807Z
DESCRIPTION:Verbandsliga Frauen Staffel West\nBegegnungs-Nr: 5052\nHeim: SV 04 Plauen-O. II\nGast: Turbine Leipzig\nHalle: SH Kurt-Helbig Plauen (32701)\nAdresse: Comeniusstr. 15\, 08523 Plauen\n
LOCATION:SH Kurt-Helbig Plauen (32701): Comeniusstr. 15\, 08523 Plauen
CATEGORIES:Saison 2017/18
END:VEVENT
BEGIN:VEVENT
DTSTAMP:20260426T001422Z
DTSTART;TZID=Europe/Berlin:20180107T160000
DTEND;TZID=Europe/Berlin:20180107T173000
SUMMARY:VLFW SV 04 Plauen-O. II vs Lok Wurzen (5072)
UID:6011eb90-228a-0850-e053-25c7a80a8bd3
STATUS:CONFIRMED
LAST-MODIFIED:20180109T142621Z
DESCRIPTION:Verbandsliga Frauen Staffel West\nBegegnungs-Nr: 5072\nHeim: SV 04 Plauen-O. II\nGast: Lok Wurzen\nHalle: SH Kurt-Helbig Plauen (32701)\nAdresse: Comeniusstr. 15\, 08523 Plauen\n
LOCATION:SH Kurt-Helbig Plauen (32701): Comeniusstr. 15\, 08523 Plauen
CATEGORIES:Saison 2017/18
END:VEVENT
BEGIN:VEVENT
DTSTAMP:20260426T001422Z
DTSTART;TZID=Europe/Berlin:20180415T160000
DTEND;TZID=Europe/Berlin:20180415T173000
SUMMARY:VLFW SV 04 Plauen-O. II vs HSG Rückmarsdorf II (5126)
UID:6011eb90-1fa9-0850-e053-25c7a80a8bd3
STATUS:CONFIRMED
LAST-MODIFIED:20180418T143024Z
DESCRIPTION:Verbandsliga Frauen Staffel West\nBegegnungs-Nr: 5126\nHeim: SV 04 Plauen-O. II\nGast: HSG Rückmarsdorf II\nHalle: SH Kurt-Helbig Plauen (32701)\nAdresse: Comeniusstr. 15\, 08523 Plauen\n
LOCATION:SH Kurt-Helbig Plauen (32701): Comeniusstr. 15\, 08523 Plauen
CATEGORIES:Saison 2017/18
END:VEVENT
BEGIN:VEVENT
DTSTAMP:20260426T001422Z
DTSTART;TZID=Europe/Berlin:20170924T160000
DTEND;TZID=Europe/Berlin:20170924T173000
SUMMARY:VLFW SV 04 Plauen-O. II vs SC DHfK Leipzig (5022)
UID:6011eb90-21c2-0850-e053-25c7a80a8bd3
STATUS:CONFIRMED
LAST-MODIFIED:20171006T124419Z
DESCRIPTION:Verbandsliga Frauen Staffel West\nBegegnungs-Nr: 5022\nHeim: SV 04 Plauen-O. II\nGast: SC DHfK Leipzig\nHalle: SH Kurt-Helbig Plauen (32701)\nAdresse: Comeniusstr. 15\, 08523 Plauen\n
LOCATION:SH Kurt-Helbig Plauen (32701): Comeniusstr. 15\, 08523 Plauen
CATEGORIES:Saison 2017/18
END:VEVENT
BEGIN:VEVENT
DTSTAMP:20260426T001422Z
DTSTART;TZID=Europe/Berlin:20171126T160000
DTEND;TZID=Europe/Berlin:20171126T173000
SUMMARY:VLFW SV 04 Plauen-O. II vs TuS Leipzig-Mockau (5064)
UID:6011eb90-2282-0850-e053-25c7a80a8bd3
STATUS:CONFIRMED
LAST-MODIFIED:20171129T205534Z
DESCRIPTION:Verbandsliga Frauen Staffel West\nBegegnungs-Nr: 5064\nHeim: SV 04 Plauen-O. II\nGast: TuS Leipzig-Mockau\nHalle: SH Kurt-Helbig Plauen (32701)\nAdresse: Comeniusstr. 15\, 08523 Plauen\n
LOCATION:SH Kurt-Helbig Plauen (32701): Comeniusstr. 15\, 08523 Plauen
CATEGORIES:Saison 2017/18
END:VEVENT
BEGIN:VEVENT
DTSTAMP:20260426T001422Z
DTSTART;TZID=Europe/Berlin:20170910T160000
DTEND;TZID=Europe/Berlin:20170910T173000
SUMMARY:VLFW SV 04 Plauen-O. II vs HSV Mölkau - Die Haie  (5011)
UID:6011eb90-24a0-0850-e053-25c7a80a8bd3
STATUS:CONFIRMED
LAST-MODIFIED:20170913T082808Z
DESCRIPTION:Verbandsliga Frauen Staffel West\nBegegnungs-Nr: 5011\nHeim: SV 04 Plauen-O. II\nGast: HSV Mölkau - Die Haie \nHalle: SH Kurt-Helbig Plauen (32701)\nAdresse: Comeniusstr. 15\, 08523 Plauen\n
LOCATION:SH Kurt-Helbig Plauen (32701): Comeniusstr. 15\, 08523 Plauen
CATEGORIES:Saison 2017/18
END:VEVENT
BEGIN:VEVENT
DTSTAMP:20260426T001422Z
DTSTART;TZID=Europe/Berlin:20180121T160000
DTEND;TZID=Europe/Berlin:20180121T173000
SUMMARY:VLFW SV 04 Plauen-O. II vs Leipziger SV Südwest (5084)
UID:6011eb90-1df8-0850-e053-25c7a80a8bd3
STATUS:CONFIRMED
LAST-MODIFIED:20180123T154529Z
DESCRIPTION:Verbandsliga Frauen Staffel West\nBegegnungs-Nr: 5084\nHeim: SV 04 Plauen-O. II\nGast: Leipziger SV Südwest\nHalle: SH Kurt-Helbig Plauen (32701)\nAdresse: Comeniusstr. 15\, 08523 Plauen\n
LOCATION:SH Kurt-Helbig Plauen (32701): Comeniusstr. 15\, 08523 Plauen
CATEGORIES:Saison 2017/18
END:VEVENT
BEGIN:VEVENT
DTSTAMP:20260426T001422Z
DTSTART;TZID=Europe/Berlin:20180225T160000
DTEND;TZID=Europe/Berlin:20180225T173000
SUMMARY:VLFW SV 04 Plauen-O. II vs HV Chemnitz III (5102)
UID:6011eb90-1ed0-0850-e053-25c7a80a8bd3
STATUS:CONFIRMED
LAST-MODIFIED:20180228T103552Z
DESCRIPTION:Verbandsliga Frauen Staffel West\nBegegnungs-Nr: 5102\nHeim: SV 04 Plauen-O. II\nGast: HV Chemnitz III\nHalle: SH Kurt-Helbig Plauen (32701)\nAdresse: Comeniusstr. 15\, 08523 Plauen\n
LOCATION:SH Kurt-Helbig Plauen (32701): Comeniusstr. 15\, 08523 Plauen
CATEGORIES:Saison 2017/18
END:VEVENT
BEGIN:VEVENT
DTSTAMP:20260426T001422Z
DTSTART;TZID=Europe/Berlin:20180311T160000
DTEND;TZID=Europe/Berlin:20180311T173000
SUMMARY:VLFW SV 04 Plauen-O. II vs SV Schneeberg (5113)
UID:6011eb90-1edb-0850-e053-25c7a80a8bd3
STATUS:CONFIRMED
LAST-MODIFIED:20180313T110437Z
DESCRIPTION:Verbandsliga Frauen Staffel West\nBegegnungs-Nr: 5113\nHeim: SV 04 Plauen-O. II\nGast: SV Schneeberg\nHalle: SH Kurt-Helbig Plauen (32701)\nAdresse: Comeniusstr. 15\, 08523 Plauen\n
LOCATION:SH Kurt-Helbig Plauen (32701): Comeniusstr. 15\, 08523 Plauen
CATEGORIES:Saison 2017/18
END:VEVENT
BEGIN:VEVENT
DTSTAMP:20260426T001422Z
DTSTART;TZID=Europe/Berlin:20180303T153000
DTEND;TZID=Europe/Berlin:20180303T170000
SUMMARY:VLFW HSV Marienberg II vs SV 04 Plauen-O. II (5105)
UID:6011eb90-1ed3-0850-e053-25c7a80a8bd3
STATUS:CONFIRMED
LAST-MODIFIED:20180306T124236Z
DESCRIPTION:Verbandsliga Frauen Staffel West\nBegegnungs-Nr: 5105\nHeim: HSV Marienberg II\nGast: SV 04 Plauen-O. II\nHalle: SH am Goldkindstein Marienberg (32416)\nAdresse: Dr.-Wilhelm-Külz-Allee 23\, 09496 Marienberg\n
LOCATION:SH am Goldkindstein Marienberg (32416): Dr.-Wilhelm-Külz-Allee 23\, 09496 Marienberg
CATEGORIES:Saison 2017/18
END:VEVENT
BEGIN:VEVENT
DTSTAMP:20260426T001422Z
DTSTART;TZID=Europe/Berlin:20171022T120000
DTEND;TZID=Europe/Berlin:20171022T133000
SUMMARY:VLFW HV Chemnitz III vs SV 04 Plauen-O. II (5034)
UID:6011eb90-8a76-0850-e053-25c7a80a8bd3
STATUS:CONFIRMED
LAST-MODIFIED:20171024T100827Z
DESCRIPTION:Verbandsliga Frauen Staffel West\nBegegnungs-Nr: 5034\nHeim: HV Chemnitz III\nGast: SV 04 Plauen-O. II\nHalle: Sachsenhalle Chemnitz (32101)\nAdresse: Straße Usti nad Labem 275\, 09119 Chemnitz\n
LOCATION:Sachsenhalle Chemnitz (32101): Straße Usti nad Labem 275\, 09119 Chemnitz
CATEGORIES:Saison 2017/18
END:VEVENT
BEGIN:VEVENT
DTSTAMP:20260426T001422Z
DTSTART;TZID=Europe/Berlin:20171104T193000
DTEND;TZID=Europe/Berlin:20171104T210000
SUMMARY:VLFW SV Schneeberg vs SV 04 Plauen-O. II (5045)
UID:6011eb90-8b4d-0850-e053-25c7a80a8bd3
STATUS:CONFIRMED
LAST-MODIFIED:20171108T082738Z
DESCRIPTION:Verbandsliga Frauen Staffel West\nBegegnungs-Nr: 5045\nHeim: SV Schneeberg\nGast: SV 04 Plauen-O. II\nHalle: Silberstrom-Halle Schneeberg (32307)\nAdresse: Keilbergring 20\, 08289 Schneeberg\n
LOCATION:Silberstrom-Halle Schneeberg (32307): Keilbergring 20\, 08289 Schneeberg
CATEGORIES:Saison 2017/18
END:VEVENT
BEGIN:VEVENT
DTSTAMP:20260426T001422Z
DTSTART;TZID=Europe/Berlin:20180210T150000
DTEND;TZID=Europe/Berlin:20180210T163000
SUMMARY:VLFW HSG Rückmarsdorf II vs SV 04 Plauen-O. II (5054)
UID:6011eb90-8b56-0850-e053-25c7a80a8bd3
STATUS:CONFIRMED
LAST-MODIFIED:20180225T093827Z
DESCRIPTION:Verbandsliga Frauen Staffel West\nBegegnungs-Nr: 5054\nHeim: HSG Rückmarsdorf II\nGast: SV 04 Plauen-O. II\nHalle: SH Reclam Gymnasium Leipzig-Mitte (31108)\nAdresse: Tarostraße (Zugang über Rewe-Parkplatz)\, 04103 Leipzig\n
LOCATION:SH Reclam Gymnasium Leipzig-Mitte (31108): Tarostraße (Zugang über Rewe-Parkplatz)\, 04103 Leipzig
CATEGORIES:Saison 2017/18
END:VEVENT
BEGIN:VEVENT
DTSTAMP:20260426T001422Z
DTSTART;TZID=Europe/Berlin:20180128T123000
DTEND;TZID=Europe/Berlin:20180128T140000
SUMMARY:VLFW SC DHfK Leipzig vs SV 04 Plauen-O. II (5087)
UID:6011eb90-1dfb-0850-e053-25c7a80a8bd3
STATUS:CONFIRMED
LAST-MODIFIED:20180130T111531Z
DESCRIPTION:Verbandsliga Frauen Staffel West\nBegegnungs-Nr: 5087\nHeim: SC DHfK Leipzig\nGast: SV 04 Plauen-O. II\nHalle: SH Rabet Leipzig (31130)\nAdresse: Konradstraße 30\, 04315 Leipzig\n
LOCATION:SH Rabet Leipzig (31130): Konradstraße 30\, 04315 Leipzig
CATEGORIES:Saison 2017/18
END:VEVENT
BEGIN:VEVENT
DTSTAMP:20260426T001422Z
DTSTART;TZID=Europe/Berlin:20180318T140000
DTEND;TZID=Europe/Berlin:20180318T153000
SUMMARY:VLFW Turbine Leipzig vs SV 04 Plauen-O. II (5119)
UID:6011eb90-1fa2-0850-e053-25c7a80a8bd3
STATUS:CONFIRMED
LAST-MODIFIED:20180424T133529Z
DESCRIPTION:Verbandsliga Frauen Staffel West\nBegegnungs-Nr: 5119\nHeim: Turbine Leipzig\nGast: SV 04 Plauen-O. II\nHalle: SH Ostwald Gymnasium Leipzig-Lößnig (31105)\nAdresse: Willi-Bredel-Str. 13\, 04279 Leipzig\n
LOCATION:SH Ostwald Gymnasium Leipzig-Lößnig (31105): Willi-Bredel-Str. 13\, 04279 Leipzig
CATEGORIES:Saison 2017/18
END:VEVENT
BEGIN:VEVENT
DTSTAMP:20260426T001422Z
DTSTART;TZID=Europe/Berlin:20170917T150000
DTEND;TZID=Europe/Berlin:20170917T163000
SUMMARY:VLFW Leipziger SV Südwest vs SV 04 Plauen-O. II (5015)
UID:6011eb90-21bc-0850-e053-25c7a80a8bd3
STATUS:CONFIRMED
LAST-MODIFIED:20171011T125205Z
DESCRIPTION:Verbandsliga Frauen Staffel West\nBegegnungs-Nr: 5015\nHeim: Leipziger SV Südwest\nGast: SV 04 Plauen-O. II\nHalle: SH An der Radrennbahn Leipzig (31128)\nAdresse: Windorfer Straße 63\, 04229 Leipzig\n
LOCATION:SH An der Radrennbahn Leipzig (31128): Windorfer Straße 63\, 04229 Leipzig
CATEGORIES:Saison 2017/18
END:VEVENT
BEGIN:VEVENT
DTSTAMP:20260426T001422Z
DTSTART;TZID=Europe/Berlin:20180114T140000
DTEND;TZID=Europe/Berlin:20180114T153000
SUMMARY:VLFW HSV Mölkau - Die Haie  vs SV 04 Plauen-O. II (5076)
UID:6011eb90-228e-0850-e053-25c7a80a8bd3
STATUS:CONFIRMED
LAST-MODIFIED:20180117T125957Z
DESCRIPTION:Verbandsliga Frauen Staffel West\nBegegnungs-Nr: 5076\nHeim: HSV Mölkau - Die Haie \nGast: SV 04 Plauen-O. II\nHalle: SH Oberschule Leipzig-Mölkau (31106)\nAdresse: Schulstr. 6\, 04316 Leipzig\n
LOCATION:SH Oberschule Leipzig-Mölkau (31106): Schulstr. 6\, 04316 Leipzig
CATEGORIES:Saison 2017/18
END:VEVENT
BEGIN:VEVENT
DTSTAMP:20260426T001422Z
DTSTART;TZID=Europe/Berlin:20180421T160000
DTEND;TZID=Europe/Berlin:20180421T173000
SUMMARY:VLFW TuS Leipzig-Mockau vs SV 04 Plauen-O. II (5132)
UID:6011eb90-2355-0850-e053-25c7a80a8bd3
STATUS:CONFIRMED
LAST-MODIFIED:20180709T172553Z
DESCRIPTION:Verbandsliga Frauen Staffel West\nBegegnungs-Nr: 5132\nHeim: TuS Leipzig-Mockau\nGast: SV 04 Plauen-O. II\nHalle: Rosenow-SH Leipzig (31124)\nAdresse: Rosenowstraße 60\, 04357 Leipzig\n
LOCATION:Rosenow-SH Leipzig (31124): Rosenowstraße 60\, 04357 Leipzig
CATEGORIES:Saison 2017/18
END:VEVENT
BEGIN:VEVENT
DTSTAMP:20260426T001422Z
DTSTART;TZID=Europe/Berlin:20171007T163000
DTEND;TZID=Europe/Berlin:20171007T180000
SUMMARY:VLFW Lok Wurzen vs SV 04 Plauen-O. II (5002)
UID:6011eb90-2358-0850-e053-25c7a80a8bd3
STATUS:CONFIRMED
LAST-MODIFIED:20171011T061428Z
DESCRIPTION:Verbandsliga Frauen Staffel West\nBegegnungs-Nr: 5002\nHeim: Lok Wurzen\nGast: SV 04 Plauen-O. II\nHalle: Stadt-SH Wurzen (31502)\nAdresse: Friedrich-Ebert-Str. 2 c\, 04808 Wurzen\n
LOCATION:Stadt-SH Wurzen (31502): Friedrich-Ebert-Str. 2 c\, 04808 Wurzen
CATEGORIES:Saison 2017/18
END:VEVENT
BEGIN:VEVENT
DTSTAMP:20260426T001422Z
DTSTART;TZID=Europe/Berlin:20180407T160000
DTEND;TZID=Europe/Berlin:20180407T173000
SUMMARY:VLFW TSG Schkeuditz vs SV 04 Plauen-O. II (5093)
UID:6011eb90-1e01-0850-e053-25c7a80a8bd3
STATUS:CONFIRMED
LAST-MODIFIED:20180409T171353Z
DESCRIPTION:Verbandsliga Frauen Staffel West\nBegegnungs-Nr: 5093\nHeim: TSG Schkeuditz\nGast: SV 04 Plauen-O. II\nHalle: Drei-Felder SH Schkeuditz (31409)\nAdresse: Lessingstraße 8a\, 04435 Schkeuditz\n
LOCATION:Drei-Felder SH Schkeuditz (31409): Lessingstraße 8a\, 04435 Schkeuditz
CATEGORIES:Saison 2017/18
END:VEVENT
END:VCALENDAR
