BEGIN:VCALENDAR
PRODID:-//nuDatenautomaten//framework iCal4j //DE
VERSION:2.0
CALSCALE:GREGORIAN
BEGIN:VTIMEZONE
TZID:Europe/Berlin
LAST-MODIFIED:20260306T231828Z
TZURL:https://www.tzurl.org/zoneinfo/Europe/Berlin
X-LIC-LOCATION:Europe/Berlin
X-PROLEPTIC-TZNAME:LMT
BEGIN:STANDARD
TZNAME:CET
TZOFFSETFROM:+005328
TZOFFSETTO:+0100
DTSTART:18930401T000000
END:STANDARD
BEGIN:DAYLIGHT
TZNAME:CEST
TZOFFSETFROM:+0100
TZOFFSETTO:+0200
DTSTART:19160430T230000
RDATE:19400401T020000
RDATE:19430329T020000
RDATE:19460414T020000
RDATE:19470406T030000
RDATE:19480418T020000
RDATE:19490410T020000
RDATE:19800406T020000
END:DAYLIGHT
BEGIN:STANDARD
TZNAME:CET
TZOFFSETFROM:+0200
TZOFFSETTO:+0100
DTSTART:19161001T010000
RDATE:19421102T030000
RDATE:19431004T030000
RDATE:19441002T030000
RDATE:19451118T030000
RDATE:19461007T030000
END:STANDARD
BEGIN:DAYLIGHT
TZNAME:CEST
TZOFFSETFROM:+0100
TZOFFSETTO:+0200
DTSTART:19170416T020000
RRULE:FREQ=YEARLY;UNTIL=19180415T010000Z;BYMONTH=4;BYDAY=3MO
END:DAYLIGHT
BEGIN:STANDARD
TZNAME:CET
TZOFFSETFROM:+0200
TZOFFSETTO:+0100
DTSTART:19170917T030000
RRULE:FREQ=YEARLY;UNTIL=19180916T010000Z;BYMONTH=9;BYDAY=3MO
END:STANDARD
BEGIN:DAYLIGHT
TZNAME:CEST
TZOFFSETFROM:+0100
TZOFFSETTO:+0200
DTSTART:19440403T020000
RRULE:FREQ=YEARLY;UNTIL=19450402T010000Z;BYMONTH=4;BYDAY=1MO
END:DAYLIGHT
BEGIN:DAYLIGHT
TZNAME:CEMT
TZOFFSETFROM:+0200
TZOFFSETTO:+0300
DTSTART:19450524T020000
RDATE:19470511T030000
END:DAYLIGHT
BEGIN:DAYLIGHT
TZNAME:CEST
TZOFFSETFROM:+0300
TZOFFSETTO:+0200
DTSTART:19450924T030000
RDATE:19470629T030000
END:DAYLIGHT
BEGIN:STANDARD
TZNAME:CET
TZOFFSETFROM:+0100
TZOFFSETTO:+0100
DTSTART:19460101T000000
RDATE:19800101T000000
END:STANDARD
BEGIN:STANDARD
TZNAME:CET
TZOFFSETFROM:+0200
TZOFFSETTO:+0100
DTSTART:19471005T030000
RRULE:FREQ=YEARLY;UNTIL=19491002T010000Z;BYMONTH=10;BYDAY=1SU
END:STANDARD
BEGIN:STANDARD
TZNAME:CET
TZOFFSETFROM:+0200
TZOFFSETTO:+0100
DTSTART:19800928T030000
RRULE:FREQ=YEARLY;UNTIL=19950924T010000Z;BYMONTH=9;BYDAY=-1SU
END:STANDARD
BEGIN:DAYLIGHT
TZNAME:CEST
TZOFFSETFROM:+0100
TZOFFSETTO:+0200
DTSTART:19810329T020000
RRULE:FREQ=YEARLY;BYMONTH=3;BYDAY=-1SU
END:DAYLIGHT
BEGIN:STANDARD
TZNAME:CET
TZOFFSETFROM:+0200
TZOFFSETTO:+0100
DTSTART:19961027T030000
RRULE:FREQ=YEARLY;BYMONTH=10;BYDAY=-1SU
END:STANDARD
END:VTIMEZONE
BEGIN:VEVENT
DTSTAMP:20260422T062452Z
DTSTART;TZID=Europe/Berlin:20171216T130000
DTEND;TZID=Europe/Berlin:20171216T143000
SUMMARY:SL MJA NSG EHV/NH Aue II vs HSV Dresden (271)
UID:6011eb8f-a194-0850-e053-25c7a80a8bd3
STATUS:CONFIRMED
LAST-MODIFIED:20180204T144408Z
DESCRIPTION:Sachsenliga MJA\nBegegnungs-Nr: 271\nHeim: NSG EHV/NH Aue II\nGast: HSV Dresden\nHalle: SH Zeller Berg Aue  (32304)\nAdresse: Agricolastr. 5\, 08280 Aue\n
LOCATION:SH Zeller Berg Aue  (32304): Agricolastr. 5\, 08280 Aue
CATEGORIES:Saison 2017/18
END:VEVENT
BEGIN:VEVENT
DTSTAMP:20260422T062452Z
DTSTART;TZID=Europe/Berlin:20180303T130000
DTEND;TZID=Europe/Berlin:20180303T143000
SUMMARY:SL MJA NSG EHV/NH Aue II vs HSG Freiberg (305)
UID:6011eb90-81d6-0850-e053-25c7a80a8bd3
STATUS:CONFIRMED
DESCRIPTION:Sachsenliga MJA\nBegegnungs-Nr: 305\nHeim: NSG EHV/NH Aue II\nGast: HSG Freiberg\nHalle: SH Zeller Berg Aue  (32304)\nAdresse: Agricolastr. 5\, 08280 Aue\n
LOCATION:SH Zeller Berg Aue  (32304): Agricolastr. 5\, 08280 Aue
CATEGORIES:Saison 2017/18
END:VEVENT
BEGIN:VEVENT
DTSTAMP:20260422T062452Z
DTSTART;TZID=Europe/Berlin:20180317T130000
DTEND;TZID=Europe/Berlin:20180317T143000
SUMMARY:SL MJA NSG EHV/NH Aue II vs HSV Weinböhla (316)
UID:6011eb90-81e1-0850-e053-25c7a80a8bd3
STATUS:CONFIRMED
DESCRIPTION:Sachsenliga MJA\nBegegnungs-Nr: 316\nHeim: NSG EHV/NH Aue II\nGast: HSV Weinböhla\nHalle: SH Zeller Berg Aue  (32304)\nAdresse: Agricolastr. 5\, 08280 Aue\n
LOCATION:SH Zeller Berg Aue  (32304): Agricolastr. 5\, 08280 Aue
CATEGORIES:Saison 2017/18
END:VEVENT
BEGIN:VEVENT
DTSTAMP:20260422T062452Z
DTSTART;TZID=Europe/Berlin:20171209T150000
DTEND;TZID=Europe/Berlin:20171209T163000
SUMMARY:SL MJA NSG EHV/NH Aue II vs SG Pirna/Heidenau (261)
UID:6011eb90-8296-0850-e053-25c7a80a8bd3
STATUS:CONFIRMED
LAST-MODIFIED:20180204T142835Z
DESCRIPTION:Sachsenliga MJA\nBegegnungs-Nr: 261\nHeim: NSG EHV/NH Aue II\nGast: SG Pirna/Heidenau\nHalle: SH Zeller Berg Aue  (32304)\nAdresse: Agricolastr. 5\, 08280 Aue\n
LOCATION:SH Zeller Berg Aue  (32304): Agricolastr. 5\, 08280 Aue
CATEGORIES:Saison 2017/18
END:VEVENT
BEGIN:VEVENT
DTSTAMP:20260422T062452Z
DTSTART;TZID=Europe/Berlin:20180120T130000
DTEND;TZID=Europe/Berlin:20180120T143000
SUMMARY:SL MJA NSG EHV/NH Aue II vs LHV Hoyerswerda (282)
UID:6011eb90-8d7b-0850-e053-25c7a80a8bd3
STATUS:CONFIRMED
DESCRIPTION:Sachsenliga MJA\nBegegnungs-Nr: 282\nHeim: NSG EHV/NH Aue II\nGast: LHV Hoyerswerda\nHalle: SH Zeller Berg Aue  (32304)\nAdresse: Agricolastr. 5\, 08280 Aue\n
LOCATION:SH Zeller Berg Aue  (32304): Agricolastr. 5\, 08280 Aue
CATEGORIES:Saison 2017/18
END:VEVENT
BEGIN:VEVENT
DTSTAMP:20260422T062452Z
DTSTART;TZID=Europe/Berlin:20180414T130000
DTEND;TZID=Europe/Berlin:20180414T143000
SUMMARY:SL MJA NSG EHV/NH Aue II vs HSG Neudorf/Döbeln (327)
UID:6011eb90-8e01-0850-e053-25c7a80a8bd3
STATUS:CONFIRMED
DESCRIPTION:Sachsenliga MJA\nBegegnungs-Nr: 327\nHeim: NSG EHV/NH Aue II\nGast: HSG Neudorf/Döbeln\nHalle: SH Zeller Berg Aue  (32304)\nAdresse: Agricolastr. 5\, 08280 Aue\n
LOCATION:SH Zeller Berg Aue  (32304): Agricolastr. 5\, 08280 Aue
CATEGORIES:Saison 2017/18
END:VEVENT
BEGIN:VEVENT
DTSTAMP:20260422T062452Z
DTSTART;TZID=Europe/Berlin:20170909T130000
DTEND;TZID=Europe/Berlin:20170909T143000
SUMMARY:SL MJA NSG EHV/NH Aue II vs NSG EHV/NH Aue (208)
UID:6011eb90-8e26-0850-e053-25c7a80a8bd3
STATUS:CONFIRMED
LAST-MODIFIED:20171006T075611Z
DESCRIPTION:Sachsenliga MJA\nBegegnungs-Nr: 208\nHeim: NSG EHV/NH Aue II\nGast: NSG EHV/NH Aue\nHalle: SH Zeller Berg Aue  (32304)\nAdresse: Agricolastr. 5\, 08280 Aue\n
LOCATION:SH Zeller Berg Aue  (32304): Agricolastr. 5\, 08280 Aue
CATEGORIES:Saison 2017/18
END:VEVENT
BEGIN:VEVENT
DTSTAMP:20260422T062452Z
DTSTART;TZID=Europe/Berlin:20170923T130000
DTEND;TZID=Europe/Berlin:20170923T143000
SUMMARY:SL MJA NSG EHV/NH Aue II vs SG LVB (221)
UID:6011eb90-8e2f-0850-e053-25c7a80a8bd3
STATUS:CONFIRMED
LAST-MODIFIED:20171007T082327Z
DESCRIPTION:Sachsenliga MJA\nBegegnungs-Nr: 221\nHeim: NSG EHV/NH Aue II\nGast: SG LVB\nHalle: SH Zeller Berg Aue  (32304)\nAdresse: Agricolastr. 5\, 08280 Aue\n
LOCATION:SH Zeller Berg Aue  (32304): Agricolastr. 5\, 08280 Aue
CATEGORIES:Saison 2017/18
END:VEVENT
BEGIN:VEVENT
DTSTAMP:20260422T062452Z
DTSTART;TZID=Europe/Berlin:20171028T130000
DTEND;TZID=Europe/Berlin:20171028T143000
SUMMARY:SL MJA NSG EHV/NH Aue II vs NSG Gc-Mee-LO (234)
UID:6011eb90-8f09-0850-e053-25c7a80a8bd3
STATUS:CONFIRMED
LAST-MODIFIED:20171107T210454Z
DESCRIPTION:Sachsenliga MJA\nBegegnungs-Nr: 234\nHeim: NSG EHV/NH Aue II\nGast: NSG Gc-Mee-LO\nHalle: SH Zeller Berg Aue  (32304)\nAdresse: Agricolastr. 5\, 08280 Aue\n
LOCATION:SH Zeller Berg Aue  (32304): Agricolastr. 5\, 08280 Aue
CATEGORIES:Saison 2017/18
END:VEVENT
BEGIN:VEVENT
DTSTAMP:20260422T062452Z
DTSTART;TZID=Europe/Berlin:20171111T150000
DTEND;TZID=Europe/Berlin:20171111T163000
SUMMARY:SL MJA NSG EHV/NH Aue II vs NSG Oelsnitz/Oberlosa (247)
UID:6011eb90-8ff1-0850-e053-25c7a80a8bd3
STATUS:CONFIRMED
LAST-MODIFIED:20171119T143807Z
DESCRIPTION:Sachsenliga MJA\nBegegnungs-Nr: 247\nHeim: NSG EHV/NH Aue II\nGast: NSG Oelsnitz/Oberlosa\nHalle: SH Zeller Berg Aue  (32304)\nAdresse: Agricolastr. 5\, 08280 Aue\n
LOCATION:SH Zeller Berg Aue  (32304): Agricolastr. 5\, 08280 Aue
CATEGORIES:Saison 2017/18
END:VEVENT
BEGIN:VEVENT
DTSTAMP:20260422T062452Z
DTSTART;TZID=Europe/Berlin:20180203T130000
DTEND;TZID=Europe/Berlin:20180203T143000
SUMMARY:SL MJA NSG EHV/NH Aue II vs SC DHfK Leipzig (293)
UID:6011eb90-8f32-0850-e053-25c7a80a8bd3
STATUS:CONFIRMED
DESCRIPTION:Sachsenliga MJA\nBegegnungs-Nr: 293\nHeim: NSG EHV/NH Aue II\nGast: SC DHfK Leipzig\nHalle: SH Zeller Berg Aue  (32304)\nAdresse: Agricolastr. 5\, 08280 Aue\n
LOCATION:SH Zeller Berg Aue  (32304): Agricolastr. 5\, 08280 Aue
CATEGORIES:Saison 2017/18
END:VEVENT
BEGIN:VEVENT
DTSTAMP:20260422T062452Z
DTSTART;TZID=Europe/Berlin:20171118T130000
DTEND;TZID=Europe/Berlin:20171118T143000
SUMMARY:SL MJA HSV Weinböhla vs NSG EHV/NH Aue II (249)
UID:6011eb90-bb8c-0850-e053-25c7a80a8bd3
STATUS:CONFIRMED
LAST-MODIFIED:20171119T151626Z
DESCRIPTION:Sachsenliga MJA\nBegegnungs-Nr: 249\nHeim: HSV Weinböhla\nGast: NSG EHV/NH Aue II\nHalle: Nassau-SH Weinböhla (33224)\nAdresse: Meißner Str. 1\, 01689 Weinböhla\n
LOCATION:Nassau-SH Weinböhla (33224): Meißner Str. 1\, 01689 Weinböhla
CATEGORIES:Saison 2017/18
END:VEVENT
BEGIN:VEVENT
DTSTAMP:20260422T062452Z
DTSTART;TZID=Europe/Berlin:20180310T120000
DTEND;TZID=Europe/Berlin:20180310T133000
SUMMARY:SL MJA NSG Oelsnitz/Oberlosa vs NSG EHV/NH Aue II (314)
UID:6011eb90-81df-0850-e053-25c7a80a8bd3
STATUS:CONFIRMED
DESCRIPTION:Sachsenliga MJA\nBegegnungs-Nr: 314\nHeim: NSG Oelsnitz/Oberlosa\nGast: NSG EHV/NH Aue II\nHalle: SH Kurt-Helbig Plauen (32701)\nAdresse: Comeniusstr. 15\, 08523 Plauen\n
LOCATION:SH Kurt-Helbig Plauen (32701): Comeniusstr. 15\, 08523 Plauen
CATEGORIES:Saison 2017/18
END:VEVENT
BEGIN:VEVENT
DTSTAMP:20260422T062452Z
DTSTART;TZID=Europe/Berlin:20170902T120000
DTEND;TZID=Europe/Berlin:20170902T133000
SUMMARY:SL MJA HSV Dresden vs NSG EHV/NH Aue II (205)
UID:6011eb90-826a-0850-e053-25c7a80a8bd3
STATUS:CONFIRMED
LAST-MODIFIED:20170905T181401Z
DESCRIPTION:Sachsenliga MJA\nBegegnungs-Nr: 205\nHeim: HSV Dresden\nGast: NSG EHV/NH Aue II\nHalle: SH 121. Oberschule Dresden (33102)\nAdresse: Gamigstraße 28/30\, 01239 Dresden\n
LOCATION:SH 121. Oberschule Dresden (33102): Gamigstraße 28/30\, 01239 Dresden
CATEGORIES:Saison 2017/18
END:VEVENT
BEGIN:VEVENT
DTSTAMP:20260422T062452Z
DTSTART;TZID=Europe/Berlin:20171125T150000
DTEND;TZID=Europe/Berlin:20171125T163000
SUMMARY:SL MJA HSG Neudorf/Döbeln vs NSG EHV/NH Aue II (260)
UID:6011eb90-8295-0850-e053-25c7a80a8bd3
STATUS:CONFIRMED
LAST-MODIFIED:20180204T141921Z
DESCRIPTION:Sachsenliga MJA\nBegegnungs-Nr: 260\nHeim: HSG Neudorf/Döbeln\nGast: NSG EHV/NH Aue II\nHalle: Rosental-SH Oschatz (31604)\nAdresse: Berufsschulstraße 8\, 04758 Oschatz\n
LOCATION:Rosental-SH Oschatz (31604): Berufsschulstraße 8\, 04758 Oschatz
CATEGORIES:Saison 2017/18
END:VEVENT
BEGIN:VEVENT
DTSTAMP:20260422T062452Z
DTSTART;TZID=Europe/Berlin:20180421T160000
DTEND;TZID=Europe/Berlin:20180421T173000
SUMMARY:SL MJA SG Pirna/Heidenau vs NSG EHV/NH Aue II (328)
UID:6011eb90-8e02-0850-e053-25c7a80a8bd3
STATUS:CONFIRMED
DESCRIPTION:Sachsenliga MJA\nBegegnungs-Nr: 328\nHeim: SG Pirna/Heidenau\nGast: NSG EHV/NH Aue II\nHalle: SH Pirna-Sonnenstein (33302)\nAdresse: Struppener Str. 9\, 01796 Pirna\n
LOCATION:SH Pirna-Sonnenstein (33302): Struppener Str. 9\, 01796 Pirna
CATEGORIES:Saison 2017/18
END:VEVENT
BEGIN:VEVENT
DTSTAMP:20260422T062452Z
DTSTART;TZID=Europe/Berlin:20171031T110000
DTEND;TZID=Europe/Berlin:20171031T123000
SUMMARY:SL MJA HSG Freiberg vs NSG EHV/NH Aue II (238)
UID:6011eb90-8f0a-0850-e053-25c7a80a8bd3
STATUS:CONFIRMED
LAST-MODIFIED:20171109T201753Z
DESCRIPTION:Sachsenliga MJA\nBegegnungs-Nr: 238\nHeim: HSG Freiberg\nGast: NSG EHV/NH Aue II\nHalle: Ernst-Grube-Halle Freiberg (32401)\nAdresse: Tschaikowskistr. 2\, 09599 Freiberg\n
LOCATION:Ernst-Grube-Halle Freiberg (32401): Tschaikowskistr. 2\, 09599 Freiberg
CATEGORIES:Saison 2017/18
END:VEVENT
BEGIN:VEVENT
DTSTAMP:20260422T062452Z
DTSTART;TZID=Europe/Berlin:20180127T170000
DTEND;TZID=Europe/Berlin:20180127T183000
SUMMARY:SL MJA SG LVB vs NSG EHV/NH Aue II (287)
UID:6011eb90-8f2c-0850-e053-25c7a80a8bd3
STATUS:CONFIRMED
DESCRIPTION:Sachsenliga MJA\nBegegnungs-Nr: 287\nHeim: SG LVB\nGast: NSG EHV/NH Aue II\nHalle: SH Gymnasium an der Telemannstraße  (31109)\nAdresse: Telemannstraße 9\, 04107 Leipzig\n
LOCATION:SH Gymnasium an der Telemannstraße  (31109): Telemannstraße 9\, 04107 Leipzig
CATEGORIES:Saison 2017/18
END:VEVENT
BEGIN:VEVENT
DTSTAMP:20260422T062452Z
DTSTART;TZID=Europe/Berlin:20170930T150000
DTEND;TZID=Europe/Berlin:20170930T163000
SUMMARY:SL MJA LHV Hoyerswerda vs NSG EHV/NH Aue II (216)
UID:6011eb90-917a-0850-e053-25c7a80a8bd3
STATUS:CONFIRMED
LAST-MODIFIED:20171007T071321Z
DESCRIPTION:Sachsenliga MJA\nBegegnungs-Nr: 216\nHeim: LHV Hoyerswerda\nGast: NSG EHV/NH Aue II\nHalle: SH BSZ \"Konrad Zuse\" Hoyerswerda (34201)\nAdresse: Käthe-Kollwitz-Str. 5\, 02977 Hoyerswerda\n
LOCATION:SH BSZ \"Konrad Zuse\" Hoyerswerda (34201): Käthe-Kollwitz-Str. 5\, 02977 Hoyerswerda
CATEGORIES:Saison 2017/18
END:VEVENT
BEGIN:VEVENT
DTSTAMP:20260422T062452Z
DTSTART;TZID=Europe/Berlin:20171021T103000
DTEND;TZID=Europe/Berlin:20171021T120000
SUMMARY:SL MJA SC DHfK Leipzig vs NSG EHV/NH Aue II (227)
UID:6011eb90-980d-0850-e053-25c7a80a8bd3
STATUS:CONFIRMED
LAST-MODIFIED:20171023T183951Z
DESCRIPTION:Sachsenliga MJA\nBegegnungs-Nr: 227\nHeim: SC DHfK Leipzig\nGast: NSG EHV/NH Aue II\nHalle: SH Brüderstraße Leipzig (31101)\nAdresse: Brüderstr. 15\, 04103 Leipzig\n
LOCATION:SH Brüderstraße Leipzig (31101): Brüderstr. 15\, 04103 Leipzig
CATEGORIES:Saison 2017/18
END:VEVENT
BEGIN:VEVENT
DTSTAMP:20260422T062452Z
DTSTART;TZID=Europe/Berlin:20180224T143000
DTEND;TZID=Europe/Berlin:20180224T160000
SUMMARY:SL MJA NSG Gc-Mee-LO vs NSG EHV/NH Aue II (300)
UID:6011eb90-8f39-0850-e053-25c7a80a8bd3
STATUS:CONFIRMED
DESCRIPTION:Sachsenliga MJA\nBegegnungs-Nr: 300\nHeim: NSG Gc-Mee-LO\nGast: NSG EHV/NH Aue II\nHalle: Sachsenlandhalle Glauchau (32204)\nAdresse: An der Sachsenlandhalle 3\, 08371 Glauchau\n
LOCATION:Sachsenlandhalle Glauchau (32204): An der Sachsenlandhalle 3\, 08371 Glauchau
CATEGORIES:Saison 2017/18
END:VEVENT
BEGIN:VEVENT
DTSTAMP:20260422T062452Z
DTSTART;TZID=Europe/Berlin:20180113T130000
DTEND;TZID=Europe/Berlin:20180113T143000
SUMMARY:SL MJA NSG EHV/NH Aue vs NSG EHV/NH Aue II (274)
UID:6011eb8f-a269-0850-e053-25c7a80a8bd3
STATUS:CONFIRMED
LAST-MODIFIED:20180204T150515Z
DESCRIPTION:Sachsenliga MJA\nBegegnungs-Nr: 274\nHeim: NSG EHV/NH Aue\nGast: NSG EHV/NH Aue II\nHalle: SH Zeller Berg Aue  (32304)\nAdresse: Agricolastr. 5\, 08280 Aue\n
LOCATION:SH Zeller Berg Aue  (32304): Agricolastr. 5\, 08280 Aue
CATEGORIES:Saison 2017/18
END:VEVENT
END:VCALENDAR
