BEGIN:VCALENDAR
PRODID:-//nuDatenautomaten//framework iCal4j //DE
VERSION:2.0
CALSCALE:GREGORIAN
BEGIN:VTIMEZONE
TZID:Europe/Berlin
LAST-MODIFIED:20260306T231828Z
TZURL:https://www.tzurl.org/zoneinfo/Europe/Berlin
X-LIC-LOCATION:Europe/Berlin
X-PROLEPTIC-TZNAME:LMT
BEGIN:STANDARD
TZNAME:CET
TZOFFSETFROM:+005328
TZOFFSETTO:+0100
DTSTART:18930401T000000
END:STANDARD
BEGIN:DAYLIGHT
TZNAME:CEST
TZOFFSETFROM:+0100
TZOFFSETTO:+0200
DTSTART:19160430T230000
RDATE:19400401T020000
RDATE:19430329T020000
RDATE:19460414T020000
RDATE:19470406T030000
RDATE:19480418T020000
RDATE:19490410T020000
RDATE:19800406T020000
END:DAYLIGHT
BEGIN:STANDARD
TZNAME:CET
TZOFFSETFROM:+0200
TZOFFSETTO:+0100
DTSTART:19161001T010000
RDATE:19421102T030000
RDATE:19431004T030000
RDATE:19441002T030000
RDATE:19451118T030000
RDATE:19461007T030000
END:STANDARD
BEGIN:DAYLIGHT
TZNAME:CEST
TZOFFSETFROM:+0100
TZOFFSETTO:+0200
DTSTART:19170416T020000
RRULE:FREQ=YEARLY;UNTIL=19180415T010000Z;BYMONTH=4;BYDAY=3MO
END:DAYLIGHT
BEGIN:STANDARD
TZNAME:CET
TZOFFSETFROM:+0200
TZOFFSETTO:+0100
DTSTART:19170917T030000
RRULE:FREQ=YEARLY;UNTIL=19180916T010000Z;BYMONTH=9;BYDAY=3MO
END:STANDARD
BEGIN:DAYLIGHT
TZNAME:CEST
TZOFFSETFROM:+0100
TZOFFSETTO:+0200
DTSTART:19440403T020000
RRULE:FREQ=YEARLY;UNTIL=19450402T010000Z;BYMONTH=4;BYDAY=1MO
END:DAYLIGHT
BEGIN:DAYLIGHT
TZNAME:CEMT
TZOFFSETFROM:+0200
TZOFFSETTO:+0300
DTSTART:19450524T020000
RDATE:19470511T030000
END:DAYLIGHT
BEGIN:DAYLIGHT
TZNAME:CEST
TZOFFSETFROM:+0300
TZOFFSETTO:+0200
DTSTART:19450924T030000
RDATE:19470629T030000
END:DAYLIGHT
BEGIN:STANDARD
TZNAME:CET
TZOFFSETFROM:+0100
TZOFFSETTO:+0100
DTSTART:19460101T000000
RDATE:19800101T000000
END:STANDARD
BEGIN:STANDARD
TZNAME:CET
TZOFFSETFROM:+0200
TZOFFSETTO:+0100
DTSTART:19471005T030000
RRULE:FREQ=YEARLY;UNTIL=19491002T010000Z;BYMONTH=10;BYDAY=1SU
END:STANDARD
BEGIN:STANDARD
TZNAME:CET
TZOFFSETFROM:+0200
TZOFFSETTO:+0100
DTSTART:19800928T030000
RRULE:FREQ=YEARLY;UNTIL=19950924T010000Z;BYMONTH=9;BYDAY=-1SU
END:STANDARD
BEGIN:DAYLIGHT
TZNAME:CEST
TZOFFSETFROM:+0100
TZOFFSETTO:+0200
DTSTART:19810329T020000
RRULE:FREQ=YEARLY;BYMONTH=3;BYDAY=-1SU
END:DAYLIGHT
BEGIN:STANDARD
TZNAME:CET
TZOFFSETFROM:+0200
TZOFFSETTO:+0100
DTSTART:19961027T030000
RRULE:FREQ=YEARLY;BYMONTH=10;BYDAY=-1SU
END:STANDARD
END:VTIMEZONE
BEGIN:VEVENT
DTSTAMP:20260423T201831Z
DTSTART;TZID=Europe/Berlin:20170909T120000
DTEND;TZID=Europe/Berlin:20170909T130000
SUMMARY:SLmJD SC DHfK Leipzig II vs NSG Westsachsen (1104)
UID:6011eb90-ab07-0850-e053-25c7a80a8bd3
STATUS:CONFIRMED
LAST-MODIFIED:20171112T140541Z
DESCRIPTION:Sachsenliga ml. Jugend D\nBegegnungs-Nr: 1104\nHeim: SC DHfK Leipzig II\nGast: NSG Westsachsen\nHalle: SH Rabet Leipzig (31130)\nAdresse: Konradstraße 30\, 04315 Leipzig\n
LOCATION:SH Rabet Leipzig (31130): Konradstraße 30\, 04315 Leipzig
CATEGORIES:Saison 2017/18
END:VEVENT
BEGIN:VEVENT
DTSTAMP:20260423T201831Z
DTSTART;TZID=Europe/Berlin:20171022T100000
DTEND;TZID=Europe/Berlin:20171022T110000
SUMMARY:SLmJD SC DHfK Leipzig II vs Radeberger SV (1116)
UID:6011eb90-ab10-0850-e053-25c7a80a8bd3
STATUS:CONFIRMED
LAST-MODIFIED:20171112T155837Z
DESCRIPTION:Sachsenliga ml. Jugend D\nBegegnungs-Nr: 1116\nHeim: SC DHfK Leipzig II\nGast: Radeberger SV\nHalle: SH Rabet Leipzig (31130)\nAdresse: Konradstraße 30\, 04315 Leipzig\n
LOCATION:SH Rabet Leipzig (31130): Konradstraße 30\, 04315 Leipzig
CATEGORIES:Saison 2017/18
END:VEVENT
BEGIN:VEVENT
DTSTAMP:20260423T201831Z
DTSTART;TZID=Europe/Berlin:20171209T113000
DTEND;TZID=Europe/Berlin:20171209T123000
SUMMARY:SLmJD SC DHfK Leipzig II vs NSG Oelsnitz/Oberlosa (1132)
UID:6011eb90-aba6-0850-e053-25c7a80a8bd3
STATUS:CONFIRMED
LAST-MODIFIED:20171212T143626Z
DESCRIPTION:Sachsenliga ml. Jugend D\nBegegnungs-Nr: 1132\nHeim: SC DHfK Leipzig II\nGast: NSG Oelsnitz/Oberlosa\nHalle: SH Rabet Leipzig (31130)\nAdresse: Konradstraße 30\, 04315 Leipzig\n
LOCATION:SH Rabet Leipzig (31130): Konradstraße 30\, 04315 Leipzig
CATEGORIES:Saison 2017/18
END:VEVENT
BEGIN:VEVENT
DTSTAMP:20260423T201831Z
DTSTART;TZID=Europe/Berlin:20180127T100000
DTEND;TZID=Europe/Berlin:20180127T110000
SUMMARY:SLmJD SC DHfK Leipzig II vs NSG EHV/NH Aue (1148)
UID:6011eb90-ac4b-0850-e053-25c7a80a8bd3
STATUS:CONFIRMED
LAST-MODIFIED:20180131T150532Z
DESCRIPTION:Sachsenliga ml. Jugend D\nBegegnungs-Nr: 1148\nHeim: SC DHfK Leipzig II\nGast: NSG EHV/NH Aue\nHalle: SH Rabet Leipzig (31130)\nAdresse: Konradstraße 30\, 04315 Leipzig\n
LOCATION:SH Rabet Leipzig (31130): Konradstraße 30\, 04315 Leipzig
CATEGORIES:Saison 2017/18
END:VEVENT
BEGIN:VEVENT
DTSTAMP:20260423T201831Z
DTSTART;TZID=Europe/Berlin:20180304T123000
DTEND;TZID=Europe/Berlin:20180304T133000
SUMMARY:SLmJD SC DHfK Leipzig II vs SG LVB/Mölkau (1154)
UID:6011eb90-acee-0850-e053-25c7a80a8bd3
STATUS:CONFIRMED
LAST-MODIFIED:20180306T175611Z
DESCRIPTION:Sachsenliga ml. Jugend D\nBegegnungs-Nr: 1154\nHeim: SC DHfK Leipzig II\nGast: SG LVB/Mölkau\nHalle: SH Rabet Leipzig (31130)\nAdresse: Konradstraße 30\, 04315 Leipzig\n
LOCATION:SH Rabet Leipzig (31130): Konradstraße 30\, 04315 Leipzig
CATEGORIES:Saison 2017/18
END:VEVENT
BEGIN:VEVENT
DTSTAMP:20260423T201831Z
DTSTART;TZID=Europe/Berlin:20180428T120000
DTEND;TZID=Europe/Berlin:20180428T130000
SUMMARY:SLmJD SC DHfK Leipzig II vs HSG Riesa/Oschatz (1170)
UID:6011eb90-ad97-0850-e053-25c7a80a8bd3
STATUS:CONFIRMED
LAST-MODIFIED:20180504T113334Z
DESCRIPTION:Sachsenliga ml. Jugend D\nBegegnungs-Nr: 1170\nHeim: SC DHfK Leipzig II\nGast: HSG Riesa/Oschatz\nHalle: SH Rabet Leipzig (31130)\nAdresse: Konradstraße 30\, 04315 Leipzig\n
LOCATION:SH Rabet Leipzig (31130): Konradstraße 30\, 04315 Leipzig
CATEGORIES:Saison 2017/18
END:VEVENT
BEGIN:VEVENT
DTSTAMP:20260423T201831Z
DTSTART;TZID=Europe/Berlin:20171112T110000
DTEND;TZID=Europe/Berlin:20171112T120000
SUMMARY:SLmJD SC DHfK Leipzig II vs SC DHfK Leipzig (1124)
UID:6011eb90-c054-0850-e053-25c7a80a8bd3
STATUS:CONFIRMED
LAST-MODIFIED:20171115T185233Z
DESCRIPTION:Sachsenliga ml. Jugend D\nBegegnungs-Nr: 1124\nHeim: SC DHfK Leipzig II\nGast: SC DHfK Leipzig\nHalle: SH Rabet Leipzig (31130)\nAdresse: Konradstraße 30\, 04315 Leipzig\n
LOCATION:SH Rabet Leipzig (31130): Konradstraße 30\, 04315 Leipzig
CATEGORIES:Saison 2017/18
END:VEVENT
BEGIN:VEVENT
DTSTAMP:20260423T201831Z
DTSTART;TZID=Europe/Berlin:20180318T140000
DTEND;TZID=Europe/Berlin:20180318T150000
SUMMARY:SLmJD SC DHfK Leipzig II vs HSV Dresden (1164)
UID:6011eb90-acf8-0850-e053-25c7a80a8bd3
STATUS:CONFIRMED
LAST-MODIFIED:20180320T184015Z
DESCRIPTION:Sachsenliga ml. Jugend D\nBegegnungs-Nr: 1164\nHeim: SC DHfK Leipzig II\nGast: HSV Dresden\nHalle: SH Rabet Leipzig (31130)\nAdresse: Konradstraße 30\, 04315 Leipzig\n
LOCATION:SH Rabet Leipzig (31130): Konradstraße 30\, 04315 Leipzig
CATEGORIES:Saison 2017/18
END:VEVENT
BEGIN:VEVENT
DTSTAMP:20260423T201831Z
DTSTART;TZID=Europe/Berlin:20170923T110000
DTEND;TZID=Europe/Berlin:20170923T120000
SUMMARY:SLmJD NSG EHV/NH Aue vs SC DHfK Leipzig II (1112)
UID:6011eb90-ab30-0850-e053-25c7a80a8bd3
STATUS:CONFIRMED
LAST-MODIFIED:20171112T154330Z
DESCRIPTION:Sachsenliga ml. Jugend D\nBegegnungs-Nr: 1112\nHeim: NSG EHV/NH Aue\nGast: SC DHfK Leipzig II\nHalle: SH Zeller Berg Aue  (32304)\nAdresse: Agricolastr. 5\, 08280 Aue\n
LOCATION:SH Zeller Berg Aue  (32304): Agricolastr. 5\, 08280 Aue
CATEGORIES:Saison 2017/18
END:VEVENT
BEGIN:VEVENT
DTSTAMP:20260423T201831Z
DTSTART;TZID=Europe/Berlin:20171125T110000
DTEND;TZID=Europe/Berlin:20171125T120000
SUMMARY:SLmJD HSV Dresden vs SC DHfK Leipzig II (1128)
UID:6011eb90-aba2-0850-e053-25c7a80a8bd3
STATUS:CONFIRMED
LAST-MODIFIED:20171128T190832Z
DESCRIPTION:Sachsenliga ml. Jugend D\nBegegnungs-Nr: 1128\nHeim: HSV Dresden\nGast: SC DHfK Leipzig II\nHalle: SH 121. Oberschule Dresden (33102)\nAdresse: Gamigstraße 28/30\, 01239 Dresden\n
LOCATION:SH 121. Oberschule Dresden (33102): Gamigstraße 28/30\, 01239 Dresden
CATEGORIES:Saison 2017/18
END:VEVENT
BEGIN:VEVENT
DTSTAMP:20260423T201831Z
DTSTART;TZID=Europe/Berlin:20180203T103000
DTEND;TZID=Europe/Berlin:20180203T113000
SUMMARY:SLmJD Radeberger SV vs SC DHfK Leipzig II (1152)
UID:6011eb90-acec-0850-e053-25c7a80a8bd3
STATUS:CONFIRMED
LAST-MODIFIED:20180206T150949Z
DESCRIPTION:Sachsenliga ml. Jugend D\nBegegnungs-Nr: 1152\nHeim: Radeberger SV\nGast: SC DHfK Leipzig II\nHalle: 3-Feld-Halle-GY Radeberg (34217)\nAdresse: Dr. Albert-Dietze Strasse\, 01454 Radeberg\n
LOCATION:3-Feld-Halle-GY Radeberg (34217): Dr. Albert-Dietze Strasse\, 01454 Radeberg
CATEGORIES:Saison 2017/18
END:VEVENT
BEGIN:VEVENT
DTSTAMP:20260423T201831Z
DTSTART;TZID=Europe/Berlin:20180310T110000
DTEND;TZID=Europe/Berlin:20180310T120000
SUMMARY:SLmJD SC DHfK Leipzig vs SC DHfK Leipzig II (1160)
UID:6011eb90-acf4-0850-e053-25c7a80a8bd3
STATUS:CONFIRMED
LAST-MODIFIED:20180313T181857Z
DESCRIPTION:Sachsenliga ml. Jugend D\nBegegnungs-Nr: 1160\nHeim: SC DHfK Leipzig\nGast: SC DHfK Leipzig II\nHalle: SH Rabet Leipzig (31130)\nAdresse: Konradstraße 30\, 04315 Leipzig\n
LOCATION:SH Rabet Leipzig (31130): Konradstraße 30\, 04315 Leipzig
CATEGORIES:Saison 2017/18
END:VEVENT
BEGIN:VEVENT
DTSTAMP:20260423T201831Z
DTSTART;TZID=Europe/Berlin:20180113T120000
DTEND;TZID=Europe/Berlin:20180113T130000
SUMMARY:SLmJD NSG Westsachsen vs SC DHfK Leipzig II (1140)
UID:6011eb90-ac43-0850-e053-25c7a80a8bd3
STATUS:CONFIRMED
LAST-MODIFIED:20180118T121547Z
DESCRIPTION:Sachsenliga ml. Jugend D\nBegegnungs-Nr: 1140\nHeim: NSG Westsachsen\nGast: SC DHfK Leipzig II\nHalle: SH Werdau (32508)\nAdresse: Alexander-von-Humboldt-Str. 4\, 08412 Werdau\n
LOCATION:SH Werdau (32508): Alexander-von-Humboldt-Str. 4\, 08412 Werdau
CATEGORIES:Saison 2017/18
END:VEVENT
BEGIN:VEVENT
DTSTAMP:20260423T201831Z
DTSTART;TZID=Europe/Berlin:20171105T103000
DTEND;TZID=Europe/Berlin:20171105T113000
SUMMARY:SLmJD SG LVB/Mölkau vs SC DHfK Leipzig II (1118)
UID:6011eb90-ab11-0850-e053-25c7a80a8bd3
STATUS:CONFIRMED
LAST-MODIFIED:20171112T103357Z
DESCRIPTION:Sachsenliga ml. Jugend D\nBegegnungs-Nr: 1118\nHeim: SG LVB/Mölkau\nGast: SC DHfK Leipzig II\nHalle: SH Oberschule Leipzig-Mölkau (31106)\nAdresse: Schulstr. 6\, 04316 Leipzig\n
LOCATION:SH Oberschule Leipzig-Mölkau (31106): Schulstr. 6\, 04316 Leipzig
CATEGORIES:Saison 2017/18
END:VEVENT
BEGIN:VEVENT
DTSTAMP:20260423T201831Z
DTSTART;TZID=Europe/Berlin:20171216T110000
DTEND;TZID=Europe/Berlin:20171216T120000
SUMMARY:SLmJD HSG Riesa/Oschatz vs SC DHfK Leipzig II (1134)
UID:6011eb90-aba8-0850-e053-25c7a80a8bd3
STATUS:CONFIRMED
LAST-MODIFIED:20171227T122023Z
DESCRIPTION:Sachsenliga ml. Jugend D\nBegegnungs-Nr: 1134\nHeim: HSG Riesa/Oschatz\nGast: SC DHfK Leipzig II\nHalle: SH des Städtischen Gymnasiums Riesa (33230)\nAdresse: Robert-Schumann-Straße 2\, 01589 Riesa\n
LOCATION:SH des Städtischen Gymnasiums Riesa (33230): Robert-Schumann-Straße 2\, 01589 Riesa
CATEGORIES:Saison 2017/18
END:VEVENT
BEGIN:VEVENT
DTSTAMP:20260423T201831Z
DTSTART;TZID=Europe/Berlin:20180421T100000
DTEND;TZID=Europe/Berlin:20180421T110000
SUMMARY:SLmJD NSG Oelsnitz/Oberlosa vs SC DHfK Leipzig II (1168)
UID:6011eb90-acfc-0850-e053-25c7a80a8bd3
STATUS:CONFIRMED
LAST-MODIFIED:20180424T163256Z
DESCRIPTION:Sachsenliga ml. Jugend D\nBegegnungs-Nr: 1168\nHeim: NSG Oelsnitz/Oberlosa\nGast: SC DHfK Leipzig II\nHalle: SH Kurt-Helbig Plauen (32701)\nAdresse: Comeniusstr. 15\, 08523 Plauen\n
LOCATION:SH Kurt-Helbig Plauen (32701): Comeniusstr. 15\, 08523 Plauen
CATEGORIES:Saison 2017/18
END:VEVENT
END:VCALENDAR
