BEGIN:VCALENDAR
PRODID:-//nuDatenautomaten//framework iCal4j //DE
VERSION:2.0
CALSCALE:GREGORIAN
BEGIN:VTIMEZONE
TZID:Europe/Berlin
LAST-MODIFIED:20260306T231828Z
TZURL:https://www.tzurl.org/zoneinfo/Europe/Berlin
X-LIC-LOCATION:Europe/Berlin
X-PROLEPTIC-TZNAME:LMT
BEGIN:STANDARD
TZNAME:CET
TZOFFSETFROM:+005328
TZOFFSETTO:+0100
DTSTART:18930401T000000
END:STANDARD
BEGIN:DAYLIGHT
TZNAME:CEST
TZOFFSETFROM:+0100
TZOFFSETTO:+0200
DTSTART:19160430T230000
RDATE:19400401T020000
RDATE:19430329T020000
RDATE:19460414T020000
RDATE:19470406T030000
RDATE:19480418T020000
RDATE:19490410T020000
RDATE:19800406T020000
END:DAYLIGHT
BEGIN:STANDARD
TZNAME:CET
TZOFFSETFROM:+0200
TZOFFSETTO:+0100
DTSTART:19161001T010000
RDATE:19421102T030000
RDATE:19431004T030000
RDATE:19441002T030000
RDATE:19451118T030000
RDATE:19461007T030000
END:STANDARD
BEGIN:DAYLIGHT
TZNAME:CEST
TZOFFSETFROM:+0100
TZOFFSETTO:+0200
DTSTART:19170416T020000
RRULE:FREQ=YEARLY;UNTIL=19180415T010000Z;BYMONTH=4;BYDAY=3MO
END:DAYLIGHT
BEGIN:STANDARD
TZNAME:CET
TZOFFSETFROM:+0200
TZOFFSETTO:+0100
DTSTART:19170917T030000
RRULE:FREQ=YEARLY;UNTIL=19180916T010000Z;BYMONTH=9;BYDAY=3MO
END:STANDARD
BEGIN:DAYLIGHT
TZNAME:CEST
TZOFFSETFROM:+0100
TZOFFSETTO:+0200
DTSTART:19440403T020000
RRULE:FREQ=YEARLY;UNTIL=19450402T010000Z;BYMONTH=4;BYDAY=1MO
END:DAYLIGHT
BEGIN:DAYLIGHT
TZNAME:CEMT
TZOFFSETFROM:+0200
TZOFFSETTO:+0300
DTSTART:19450524T020000
RDATE:19470511T030000
END:DAYLIGHT
BEGIN:DAYLIGHT
TZNAME:CEST
TZOFFSETFROM:+0300
TZOFFSETTO:+0200
DTSTART:19450924T030000
RDATE:19470629T030000
END:DAYLIGHT
BEGIN:STANDARD
TZNAME:CET
TZOFFSETFROM:+0100
TZOFFSETTO:+0100
DTSTART:19460101T000000
RDATE:19800101T000000
END:STANDARD
BEGIN:STANDARD
TZNAME:CET
TZOFFSETFROM:+0200
TZOFFSETTO:+0100
DTSTART:19471005T030000
RRULE:FREQ=YEARLY;UNTIL=19491002T010000Z;BYMONTH=10;BYDAY=1SU
END:STANDARD
BEGIN:STANDARD
TZNAME:CET
TZOFFSETFROM:+0200
TZOFFSETTO:+0100
DTSTART:19800928T030000
RRULE:FREQ=YEARLY;UNTIL=19950924T010000Z;BYMONTH=9;BYDAY=-1SU
END:STANDARD
BEGIN:DAYLIGHT
TZNAME:CEST
TZOFFSETFROM:+0100
TZOFFSETTO:+0200
DTSTART:19810329T020000
RRULE:FREQ=YEARLY;BYMONTH=3;BYDAY=-1SU
END:DAYLIGHT
BEGIN:STANDARD
TZNAME:CET
TZOFFSETFROM:+0200
TZOFFSETTO:+0100
DTSTART:19961027T030000
RRULE:FREQ=YEARLY;BYMONTH=10;BYDAY=-1SU
END:STANDARD
END:VTIMEZONE
BEGIN:VEVENT
DTSTAMP:20260421T050655Z
DTSTART;TZID=Europe/Berlin:20180422T110000
DTEND;TZID=Europe/Berlin:20180422T120000
SUMMARY:gE2 SG Zschorlau/Schneeberg vs HV Grüna (631)
UID:6011eb90-5dfa-0850-e053-25c7a80a8bd3
STATUS:CONFIRMED
LAST-MODIFIED:20180508T185921Z
DESCRIPTION:E-Jugend Staffel 2\nBegegnungs-Nr: 631\nHeim: SG Zschorlau/Schneeberg\nGast: HV Grüna\nHalle: Sachsenlandhalle Glauchau (32204)\nAdresse: An der Sachsenlandhalle 3\, 08371 Glauchau\n
LOCATION:Sachsenlandhalle Glauchau (32204): An der Sachsenlandhalle 3\, 08371 Glauchau
CATEGORIES:Saison 2017/18
END:VEVENT
BEGIN:VEVENT
DTSTAMP:20260421T050655Z
DTSTART;TZID=Europe/Berlin:20180415T110000
DTEND;TZID=Europe/Berlin:20180415T120000
SUMMARY:gE2 SG Zschorlau/Schneeberg vs SV Che.-Harthau (621)
UID:6011eb90-5ec1-0850-e053-25c7a80a8bd3
STATUS:CONFIRMED
LAST-MODIFIED:20180508T185452Z
DESCRIPTION:E-Jugend Staffel 2\nBegegnungs-Nr: 621\nHeim: SG Zschorlau/Schneeberg\nGast: SV Che.-Harthau\nHalle: SH Diesterwegschule Chemnitz (32102)\nAdresse: Kreherstr. 101\, 09127 Chemnitz\n
LOCATION:SH Diesterwegschule Chemnitz (32102): Kreherstr. 101\, 09127 Chemnitz
CATEGORIES:Saison 2017/18
END:VEVENT
BEGIN:VEVENT
DTSTAMP:20260421T050655Z
DTSTART;TZID=Europe/Berlin:20180204T150000
DTEND;TZID=Europe/Berlin:20180204T160000
SUMMARY:gE2 SG Zschorlau/Schneeberg vs Oberlungwitzer SV (595)
UID:6011eb90-5f9a-0850-e053-25c7a80a8bd3
STATUS:CONFIRMED
LAST-MODIFIED:20180209T162720Z
DESCRIPTION:E-Jugend Staffel 2\nBegegnungs-Nr: 595\nHeim: SG Zschorlau/Schneeberg\nGast: Oberlungwitzer SV\nHalle: Sachsenlandhalle Glauchau (32204)\nAdresse: An der Sachsenlandhalle 3\, 08371 Glauchau\n
LOCATION:Sachsenlandhalle Glauchau (32204): An der Sachsenlandhalle 3\, 08371 Glauchau
CATEGORIES:Saison 2017/18
END:VEVENT
BEGIN:VEVENT
DTSTAMP:20260421T050655Z
DTSTART;TZID=Europe/Berlin:20180106T113000
DTEND;TZID=Europe/Berlin:20180106T123000
SUMMARY:gE2 SG Zschorlau/Schneeberg vs HV 90 Klingenthal (564)
UID:6011eb90-6130-0850-e053-25c7a80a8bd3
STATUS:CONFIRMED
LAST-MODIFIED:20180110T173426Z
DESCRIPTION:E-Jugend Staffel 2\nBegegnungs-Nr: 564\nHeim: SG Zschorlau/Schneeberg\nGast: HV 90 Klingenthal\nHalle: Silberstrom-Halle Schneeberg (32307)\nAdresse: Keilbergring 20\, 08289 Schneeberg\n
LOCATION:Silberstrom-Halle Schneeberg (32307): Keilbergring 20\, 08289 Schneeberg
CATEGORIES:Saison 2017/18
END:VEVENT
BEGIN:VEVENT
DTSTAMP:20260421T050655Z
DTSTART;TZID=Europe/Berlin:20171111T110000
DTEND;TZID=Europe/Berlin:20171111T120000
SUMMARY:gE2 SG Zschorlau/Schneeberg vs SG Stahl Chemnitz (541)
UID:6011eb90-61ef-0850-e053-25c7a80a8bd3
STATUS:CONFIRMED
LAST-MODIFIED:20171112T111838Z
DESCRIPTION:E-Jugend Staffel 2\nBegegnungs-Nr: 541\nHeim: SG Zschorlau/Schneeberg\nGast: SG Stahl Chemnitz\nHalle: SH am Käthe Kollwitz Gymnasium (32512)\nAdresse: Lassallestraße 1\, 08058 Zwickau\n
LOCATION:SH am Käthe Kollwitz Gymnasium (32512): Lassallestraße 1\, 08058 Zwickau
CATEGORIES:Saison 2017/18
END:VEVENT
BEGIN:VEVENT
DTSTAMP:20260421T050655Z
DTSTART;TZID=Europe/Berlin:20171111T100000
DTEND;TZID=Europe/Berlin:20171111T110000
SUMMARY:gE2 SG Zschorlau/Schneeberg vs TSV Lichtentanne (540)
UID:6011eb90-6285-0850-e053-25c7a80a8bd3
STATUS:CONFIRMED
LAST-MODIFIED:20171112T111815Z
DESCRIPTION:E-Jugend Staffel 2\nBegegnungs-Nr: 540\nHeim: SG Zschorlau/Schneeberg\nGast: TSV Lichtentanne\nHalle: SH am Käthe Kollwitz Gymnasium (32512)\nAdresse: Lassallestraße 1\, 08058 Zwickau\n
LOCATION:SH am Käthe Kollwitz Gymnasium (32512): Lassallestraße 1\, 08058 Zwickau
CATEGORIES:Saison 2017/18
END:VEVENT
BEGIN:VEVENT
DTSTAMP:20260421T050655Z
DTSTART;TZID=Europe/Berlin:20171104T140000
DTEND;TZID=Europe/Berlin:20171104T150000
SUMMARY:gE2 SG Zschorlau/Schneeberg vs SG Raschau-Beierfeld (537)
UID:6011eb90-6288-0850-e053-25c7a80a8bd3
STATUS:CONFIRMED
LAST-MODIFIED:20171106T192655Z
DESCRIPTION:E-Jugend Staffel 2\nBegegnungs-Nr: 537\nHeim: SG Zschorlau/Schneeberg\nGast: SG Raschau-Beierfeld\nHalle: SH Zschorlau (32305)\nAdresse: Schulstraße 2\, 08321 Zschorlau\n
LOCATION:SH Zschorlau (32305): Schulstraße 2\, 08321 Zschorlau
CATEGORIES:Saison 2017/18
END:VEVENT
BEGIN:VEVENT
DTSTAMP:20260421T050655Z
DTSTART;TZID=Europe/Berlin:20170916T140000
DTEND;TZID=Europe/Berlin:20170916T150000
SUMMARY:gE2 SG Zschorlau/Schneeberg vs ESV Lok Chemnitz (512)
UID:6011eb90-6349-0850-e053-25c7a80a8bd3
STATUS:CONFIRMED
LAST-MODIFIED:20170916T183437Z
DESCRIPTION:E-Jugend Staffel 2\nBegegnungs-Nr: 512\nHeim: SG Zschorlau/Schneeberg\nGast: ESV Lok Chemnitz\nHalle: SH Zschorlau (32305)\nAdresse: Schulstraße 2\, 08321 Zschorlau\n
LOCATION:SH Zschorlau (32305): Schulstraße 2\, 08321 Zschorlau
CATEGORIES:Saison 2017/18
END:VEVENT
BEGIN:VEVENT
DTSTAMP:20260421T050655Z
DTSTART;TZID=Europe/Berlin:20170916T120000
DTEND;TZID=Europe/Berlin:20170916T130000
SUMMARY:gE2 SG Zschorlau/Schneeberg vs HV Chemnitz (510)
UID:6011eb90-634b-0850-e053-25c7a80a8bd3
STATUS:CONFIRMED
LAST-MODIFIED:20170916T183344Z
DESCRIPTION:E-Jugend Staffel 2\nBegegnungs-Nr: 510\nHeim: SG Zschorlau/Schneeberg\nGast: HV Chemnitz\nHalle: SH Zschorlau (32305)\nAdresse: Schulstraße 2\, 08321 Zschorlau\n
LOCATION:SH Zschorlau (32305): Schulstraße 2\, 08321 Zschorlau
CATEGORIES:Saison 2017/18
END:VEVENT
BEGIN:VEVENT
DTSTAMP:20260421T050655Z
DTSTART;TZID=Europe/Berlin:20180204T160000
DTEND;TZID=Europe/Berlin:20180204T170000
SUMMARY:gE2 SG Zschorlau/Schneeberg vs HC Glauchau/Meerane (596)
UID:6011eb90-5f99-0850-e053-25c7a80a8bd3
STATUS:CONFIRMED
LAST-MODIFIED:20180209T162746Z
DESCRIPTION:E-Jugend Staffel 2\nBegegnungs-Nr: 596\nHeim: SG Zschorlau/Schneeberg\nGast: HC Glauchau/Meerane\nHalle: Sachsenlandhalle Glauchau (32204)\nAdresse: An der Sachsenlandhalle 3\, 08371 Glauchau\n
LOCATION:Sachsenlandhalle Glauchau (32204): An der Sachsenlandhalle 3\, 08371 Glauchau
CATEGORIES:Saison 2017/18
END:VEVENT
BEGIN:VEVENT
DTSTAMP:20260421T050655Z
DTSTART;TZID=Europe/Berlin:20180106T133000
DTEND;TZID=Europe/Berlin:20180106T143000
SUMMARY:gE2 SG Zschorlau/Schneeberg vs HSV Marienberg (566)
UID:6011eb90-612d-0850-e053-25c7a80a8bd3
STATUS:CONFIRMED
LAST-MODIFIED:20180110T173512Z
DESCRIPTION:E-Jugend Staffel 2\nBegegnungs-Nr: 566\nHeim: SG Zschorlau/Schneeberg\nGast: HSV Marienberg\nHalle: Silberstrom-Halle Schneeberg (32307)\nAdresse: Keilbergring 20\, 08289 Schneeberg\n
LOCATION:Silberstrom-Halle Schneeberg (32307): Keilbergring 20\, 08289 Schneeberg
CATEGORIES:Saison 2017/18
END:VEVENT
BEGIN:VEVENT
DTSTAMP:20260421T050655Z
DTSTART;TZID=Europe/Berlin:20180127T120000
DTEND;TZID=Europe/Berlin:20180127T130000
SUMMARY:gE2 SG Raschau-Beierfeld vs SG Zschorlau/Schneeberg (580)
UID:6011eb90-606b-0850-e053-25c7a80a8bd3
STATUS:CONFIRMED
LAST-MODIFIED:20180201T180247Z
DESCRIPTION:E-Jugend Staffel 2\nBegegnungs-Nr: 580\nHeim: SG Raschau-Beierfeld\nGast: SG Zschorlau/Schneeberg\nHalle: Sachsenhalle Chemnitz (32101)\nAdresse: Straße Usti nad Labem 275\, 09119 Chemnitz\n
LOCATION:Sachsenhalle Chemnitz (32101): Straße Usti nad Labem 275\, 09119 Chemnitz
CATEGORIES:Saison 2017/18
END:VEVENT
BEGIN:VEVENT
DTSTAMP:20260421T050655Z
DTSTART;TZID=Europe/Berlin:20180422T100000
DTEND;TZID=Europe/Berlin:20180422T110000
SUMMARY:gE2 HC Glauchau/Meerane vs SG Zschorlau/Schneeberg (630)
UID:6011eb90-5dfb-0850-e053-25c7a80a8bd3
STATUS:CONFIRMED
LAST-MODIFIED:20180508T185858Z
DESCRIPTION:E-Jugend Staffel 2\nBegegnungs-Nr: 630\nHeim: HC Glauchau/Meerane\nGast: SG Zschorlau/Schneeberg\nHalle: Sachsenlandhalle Glauchau (32204)\nAdresse: An der Sachsenlandhalle 3\, 08371 Glauchau\n
LOCATION:Sachsenlandhalle Glauchau (32204): An der Sachsenlandhalle 3\, 08371 Glauchau
CATEGORIES:Saison 2017/18
END:VEVENT
BEGIN:VEVENT
DTSTAMP:20260421T050655Z
DTSTART;TZID=Europe/Berlin:20180415T120000
DTEND;TZID=Europe/Berlin:20180415T130000
SUMMARY:gE2 TSV Lichtentanne vs SG Zschorlau/Schneeberg (622)
UID:6011eb90-5ec0-0850-e053-25c7a80a8bd3
STATUS:CONFIRMED
LAST-MODIFIED:20180508T185601Z
DESCRIPTION:E-Jugend Staffel 2\nBegegnungs-Nr: 622\nHeim: TSV Lichtentanne\nGast: SG Zschorlau/Schneeberg\nHalle: SH Diesterwegschule Chemnitz (32102)\nAdresse: Kreherstr. 101\, 09127 Chemnitz\n
LOCATION:SH Diesterwegschule Chemnitz (32102): Kreherstr. 101\, 09127 Chemnitz
CATEGORIES:Saison 2017/18
END:VEVENT
BEGIN:VEVENT
DTSTAMP:20260421T050655Z
DTSTART;TZID=Europe/Berlin:20180317T130000
DTEND;TZID=Europe/Berlin:20180317T140000
SUMMARY:gE2 HV Chemnitz vs SG Zschorlau/Schneeberg (607)
UID:6011eb90-5ecf-0850-e053-25c7a80a8bd3
STATUS:CONFIRMED
LAST-MODIFIED:20180405T102628Z
DESCRIPTION:E-Jugend Staffel 2\nBegegnungs-Nr: 607\nHeim: HV Chemnitz\nGast: SG Zschorlau/Schneeberg\nHalle: SH am Goldkindstein Marienberg (32416)\nAdresse: Dr.-Wilhelm-Külz-Allee 23\, 09496 Marienberg\n
LOCATION:SH am Goldkindstein Marienberg (32416): Dr.-Wilhelm-Külz-Allee 23\, 09496 Marienberg
CATEGORIES:Saison 2017/18
END:VEVENT
BEGIN:VEVENT
DTSTAMP:20260421T050655Z
DTSTART;TZID=Europe/Berlin:20180317T120000
DTEND;TZID=Europe/Berlin:20180317T130000
SUMMARY:gE2 HSV Marienberg vs SG Zschorlau/Schneeberg (606)
UID:6011eb90-5f8f-0850-e053-25c7a80a8bd3
STATUS:CONFIRMED
LAST-MODIFIED:20180405T102603Z
DESCRIPTION:E-Jugend Staffel 2\nBegegnungs-Nr: 606\nHeim: HSV Marienberg\nGast: SG Zschorlau/Schneeberg\nHalle: SH am Goldkindstein Marienberg (32416)\nAdresse: Dr.-Wilhelm-Külz-Allee 23\, 09496 Marienberg\n
LOCATION:SH am Goldkindstein Marienberg (32416): Dr.-Wilhelm-Külz-Allee 23\, 09496 Marienberg
CATEGORIES:Saison 2017/18
END:VEVENT
BEGIN:VEVENT
DTSTAMP:20260421T050655Z
DTSTART;TZID=Europe/Berlin:20180303T140000
DTEND;TZID=Europe/Berlin:20180303T150000
SUMMARY:gE2 Oberlungwitzer SV vs SG Zschorlau/Schneeberg (599)
UID:6011eb90-5f96-0850-e053-25c7a80a8bd3
STATUS:CONFIRMED
LAST-MODIFIED:20180305T110132Z
DESCRIPTION:E-Jugend Staffel 2\nBegegnungs-Nr: 599\nHeim: Oberlungwitzer SV\nGast: SG Zschorlau/Schneeberg\nHalle: Silberstrom-Halle Schneeberg (32307)\nAdresse: Keilbergring 20\, 08289 Schneeberg\n
LOCATION:Silberstrom-Halle Schneeberg (32307): Keilbergring 20\, 08289 Schneeberg
CATEGORIES:Saison 2017/18
END:VEVENT
BEGIN:VEVENT
DTSTAMP:20260421T050655Z
DTSTART;TZID=Europe/Berlin:20180303T120000
DTEND;TZID=Europe/Berlin:20180303T130000
SUMMARY:gE2 HV 90 Klingenthal vs SG Zschorlau/Schneeberg (597)
UID:6011eb90-5f98-0850-e053-25c7a80a8bd3
STATUS:CONFIRMED
LAST-MODIFIED:20180305T110032Z
DESCRIPTION:E-Jugend Staffel 2\nBegegnungs-Nr: 597\nHeim: HV 90 Klingenthal\nGast: SG Zschorlau/Schneeberg\nHalle: Silberstrom-Halle Schneeberg (32307)\nAdresse: Keilbergring 20\, 08289 Schneeberg\n
LOCATION:Silberstrom-Halle Schneeberg (32307): Keilbergring 20\, 08289 Schneeberg
CATEGORIES:Saison 2017/18
END:VEVENT
BEGIN:VEVENT
DTSTAMP:20260421T050655Z
DTSTART;TZID=Europe/Berlin:20180127T130000
DTEND;TZID=Europe/Berlin:20180127T140000
SUMMARY:gE2 ESV Lok Chemnitz vs SG Zschorlau/Schneeberg (581)
UID:6011eb90-606a-0850-e053-25c7a80a8bd3
STATUS:CONFIRMED
LAST-MODIFIED:20180201T180313Z
DESCRIPTION:E-Jugend Staffel 2\nBegegnungs-Nr: 581\nHeim: ESV Lok Chemnitz\nGast: SG Zschorlau/Schneeberg\nHalle: Sachsenhalle Chemnitz (32101)\nAdresse: Straße Usti nad Labem 275\, 09119 Chemnitz\n
LOCATION:Sachsenhalle Chemnitz (32101): Straße Usti nad Labem 275\, 09119 Chemnitz
CATEGORIES:Saison 2017/18
END:VEVENT
BEGIN:VEVENT
DTSTAMP:20260421T050655Z
DTSTART;TZID=Europe/Berlin:20171104T160000
DTEND;TZID=Europe/Berlin:20171104T170000
SUMMARY:gE2 SG Stahl Chemnitz vs SG Zschorlau/Schneeberg (539)
UID:6011eb90-6286-0850-e053-25c7a80a8bd3
STATUS:CONFIRMED
LAST-MODIFIED:20171106T192655Z
DESCRIPTION:E-Jugend Staffel 2\nBegegnungs-Nr: 539\nHeim: SG Stahl Chemnitz\nGast: SG Zschorlau/Schneeberg\nHalle: SH Zschorlau (32305)\nAdresse: Schulstraße 2\, 08321 Zschorlau\n
LOCATION:SH Zschorlau (32305): Schulstraße 2\, 08321 Zschorlau
CATEGORIES:Saison 2017/18
END:VEVENT
BEGIN:VEVENT
DTSTAMP:20260421T050655Z
DTSTART;TZID=Europe/Berlin:20171021T130000
DTEND;TZID=Europe/Berlin:20171021T140000
SUMMARY:gE2 SV Che.-Harthau vs SG Zschorlau/Schneeberg (524)
UID:6011eb90-6294-0850-e053-25c7a80a8bd3
STATUS:CONFIRMED
LAST-MODIFIED:20171106T192655Z
DESCRIPTION:E-Jugend Staffel 2\nBegegnungs-Nr: 524\nHeim: SV Che.-Harthau\nGast: SG Zschorlau/Schneeberg\nHalle: SH Diesterwegschule Chemnitz (32102)\nAdresse: Kreherstr. 101\, 09127 Chemnitz\n
LOCATION:SH Diesterwegschule Chemnitz (32102): Kreherstr. 101\, 09127 Chemnitz
CATEGORIES:Saison 2017/18
END:VEVENT
BEGIN:VEVENT
DTSTAMP:20260421T050655Z
DTSTART;TZID=Europe/Berlin:20171021T120000
DTEND;TZID=Europe/Berlin:20171021T130000
SUMMARY:gE2 HV Grüna vs SG Zschorlau/Schneeberg (523)
UID:6011eb90-633f-0850-e053-25c7a80a8bd3
STATUS:CONFIRMED
LAST-MODIFIED:20171106T192426Z
DESCRIPTION:E-Jugend Staffel 2\nBegegnungs-Nr: 523\nHeim: HV Grüna\nGast: SG Zschorlau/Schneeberg\nHalle: SH Diesterwegschule Chemnitz (32102)\nAdresse: Kreherstr. 101\, 09127 Chemnitz\n
LOCATION:SH Diesterwegschule Chemnitz (32102): Kreherstr. 101\, 09127 Chemnitz
CATEGORIES:Saison 2017/18
END:VEVENT
END:VCALENDAR
