BEGIN:VCALENDAR
PRODID:-//nuDatenautomaten//framework iCal4j //DE
VERSION:2.0
CALSCALE:GREGORIAN
BEGIN:VTIMEZONE
TZID:Europe/Berlin
LAST-MODIFIED:20260306T231828Z
TZURL:https://www.tzurl.org/zoneinfo/Europe/Berlin
X-LIC-LOCATION:Europe/Berlin
X-PROLEPTIC-TZNAME:LMT
BEGIN:STANDARD
TZNAME:CET
TZOFFSETFROM:+005328
TZOFFSETTO:+0100
DTSTART:18930401T000000
END:STANDARD
BEGIN:DAYLIGHT
TZNAME:CEST
TZOFFSETFROM:+0100
TZOFFSETTO:+0200
DTSTART:19160430T230000
RDATE:19400401T020000
RDATE:19430329T020000
RDATE:19460414T020000
RDATE:19470406T030000
RDATE:19480418T020000
RDATE:19490410T020000
RDATE:19800406T020000
END:DAYLIGHT
BEGIN:STANDARD
TZNAME:CET
TZOFFSETFROM:+0200
TZOFFSETTO:+0100
DTSTART:19161001T010000
RDATE:19421102T030000
RDATE:19431004T030000
RDATE:19441002T030000
RDATE:19451118T030000
RDATE:19461007T030000
END:STANDARD
BEGIN:DAYLIGHT
TZNAME:CEST
TZOFFSETFROM:+0100
TZOFFSETTO:+0200
DTSTART:19170416T020000
RRULE:FREQ=YEARLY;UNTIL=19180415T010000Z;BYMONTH=4;BYDAY=3MO
END:DAYLIGHT
BEGIN:STANDARD
TZNAME:CET
TZOFFSETFROM:+0200
TZOFFSETTO:+0100
DTSTART:19170917T030000
RRULE:FREQ=YEARLY;UNTIL=19180916T010000Z;BYMONTH=9;BYDAY=3MO
END:STANDARD
BEGIN:DAYLIGHT
TZNAME:CEST
TZOFFSETFROM:+0100
TZOFFSETTO:+0200
DTSTART:19440403T020000
RRULE:FREQ=YEARLY;UNTIL=19450402T010000Z;BYMONTH=4;BYDAY=1MO
END:DAYLIGHT
BEGIN:DAYLIGHT
TZNAME:CEMT
TZOFFSETFROM:+0200
TZOFFSETTO:+0300
DTSTART:19450524T020000
RDATE:19470511T030000
END:DAYLIGHT
BEGIN:DAYLIGHT
TZNAME:CEST
TZOFFSETFROM:+0300
TZOFFSETTO:+0200
DTSTART:19450924T030000
RDATE:19470629T030000
END:DAYLIGHT
BEGIN:STANDARD
TZNAME:CET
TZOFFSETFROM:+0100
TZOFFSETTO:+0100
DTSTART:19460101T000000
RDATE:19800101T000000
END:STANDARD
BEGIN:STANDARD
TZNAME:CET
TZOFFSETFROM:+0200
TZOFFSETTO:+0100
DTSTART:19471005T030000
RRULE:FREQ=YEARLY;UNTIL=19491002T010000Z;BYMONTH=10;BYDAY=1SU
END:STANDARD
BEGIN:STANDARD
TZNAME:CET
TZOFFSETFROM:+0200
TZOFFSETTO:+0100
DTSTART:19800928T030000
RRULE:FREQ=YEARLY;UNTIL=19950924T010000Z;BYMONTH=9;BYDAY=-1SU
END:STANDARD
BEGIN:DAYLIGHT
TZNAME:CEST
TZOFFSETFROM:+0100
TZOFFSETTO:+0200
DTSTART:19810329T020000
RRULE:FREQ=YEARLY;BYMONTH=3;BYDAY=-1SU
END:DAYLIGHT
BEGIN:STANDARD
TZNAME:CET
TZOFFSETFROM:+0200
TZOFFSETTO:+0100
DTSTART:19961027T030000
RRULE:FREQ=YEARLY;BYMONTH=10;BYDAY=-1SU
END:STANDARD
END:VTIMEZONE
BEGIN:VEVENT
DTSTAMP:20260423T190302Z
DTSTART;TZID=Europe/Berlin:20171118T170000
DTEND;TZID=Europe/Berlin:20171118T183000
SUMMARY:Kreisliga Vogtland HV 90 Klingenthal vs Schönheider Handballer  (24)
UID:6011eb90-b4a6-0850-e053-25c7a80a8bd3
STATUS:CONFIRMED
LAST-MODIFIED:20180424T132108Z
DESCRIPTION:Kreisliga Männer\nBegegnungs-Nr: 24\nHeim: HV 90 Klingenthal\nGast: Schönheider Handballer \nHalle: SH Klingenthal (32712)\nAdresse: Amtsberg 20\, 08248 Klingenthal\n
LOCATION:SH Klingenthal (32712): Amtsberg 20\, 08248 Klingenthal
CATEGORIES:Saison 2017/18
END:VEVENT
BEGIN:VEVENT
DTSTAMP:20260423T190302Z
DTSTART;TZID=Europe/Berlin:20180324T170000
DTEND;TZID=Europe/Berlin:20180324T183000
SUMMARY:Kreisliga Vogtland HV 90 Klingenthal vs TSV Oelsnitz II (53)
UID:6011eb90-5296-0850-e053-25c7a80a8bd3
STATUS:CONFIRMED
LAST-MODIFIED:20180412T160115Z
DESCRIPTION:Kreisliga Männer\nBegegnungs-Nr: 53\nHeim: HV 90 Klingenthal\nGast: TSV Oelsnitz II\nHalle: SH Klingenthal (32712)\nAdresse: Amtsberg 20\, 08248 Klingenthal\n
LOCATION:SH Klingenthal (32712): Amtsberg 20\, 08248 Klingenthal
CATEGORIES:Saison 2017/18
END:VEVENT
BEGIN:VEVENT
DTSTAMP:20260423T190302Z
DTSTART;TZID=Europe/Berlin:20171209T150000
DTEND;TZID=Europe/Berlin:20171209T163000
SUMMARY:Kreisliga Vogtland HV 90 Klingenthal vs Neptun Markneukirchen (28)
UID:6011eb90-542b-0850-e053-25c7a80a8bd3
STATUS:CONFIRMED
LAST-MODIFIED:20180424T132507Z
DESCRIPTION:Kreisliga Männer\nBegegnungs-Nr: 28\nHeim: HV 90 Klingenthal\nGast: Neptun Markneukirchen\nHalle: SH Klingenthal (32712)\nAdresse: Amtsberg 20\, 08248 Klingenthal\n
LOCATION:SH Klingenthal (32712): Amtsberg 20\, 08248 Klingenthal
CATEGORIES:Saison 2017/18
END:VEVENT
BEGIN:VEVENT
DTSTAMP:20260423T190302Z
DTSTART;TZID=Europe/Berlin:20180113T170000
DTEND;TZID=Europe/Berlin:20180113T183000
SUMMARY:Kreisliga Vogtland HV 90 Klingenthal vs Rodewischer Hb-Wölfe II (32)
UID:6011eb90-542f-0850-e053-25c7a80a8bd3
STATUS:CONFIRMED
LAST-MODIFIED:20180424T132643Z
DESCRIPTION:Kreisliga Männer\nBegegnungs-Nr: 32\nHeim: HV 90 Klingenthal\nGast: Rodewischer Hb-Wölfe II\nHalle: SH Klingenthal (32712)\nAdresse: Amtsberg 20\, 08248 Klingenthal\n
LOCATION:SH Klingenthal (32712): Amtsberg 20\, 08248 Klingenthal
CATEGORIES:Saison 2017/18
END:VEVENT
BEGIN:VEVENT
DTSTAMP:20260423T190302Z
DTSTART;TZID=Europe/Berlin:20171021T170000
DTEND;TZID=Europe/Berlin:20171021T183000
SUMMARY:Kreisliga Vogtland HV 90 Klingenthal vs HC Einheit Plauen III (14)
UID:6011eb90-54ef-0850-e053-25c7a80a8bd3
STATUS:CONFIRMED
LAST-MODIFIED:20180424T131729Z
DESCRIPTION:Kreisliga Männer\nBegegnungs-Nr: 14\nHeim: HV 90 Klingenthal\nGast: HC Einheit Plauen III\nHalle: SH Klingenthal (32712)\nAdresse: Amtsberg 20\, 08248 Klingenthal\n
LOCATION:SH Klingenthal (32712): Amtsberg 20\, 08248 Klingenthal
CATEGORIES:Saison 2017/18
END:VEVENT
BEGIN:VEVENT
DTSTAMP:20260423T190302Z
DTSTART;TZID=Europe/Berlin:20180203T170000
DTEND;TZID=Europe/Berlin:20180203T183000
SUMMARY:Kreisliga Vogtland HV 90 Klingenthal vs VfB Lengenfeld II (19)
UID:6011eb90-56a3-0850-e053-25c7a80a8bd3
STATUS:CONFIRMED
LAST-MODIFIED:20180113T082724Z
DESCRIPTION:Kreisliga Männer\nBegegnungs-Nr: 19\nHeim: HV 90 Klingenthal\nGast: VfB Lengenfeld II\nHalle: SH Klingenthal (32712)\nAdresse: Amtsberg 20\, 08248 Klingenthal\n
LOCATION:SH Klingenthal (32712): Amtsberg 20\, 08248 Klingenthal
CATEGORIES:Saison 2017/18
END:VEVENT
BEGIN:VEVENT
DTSTAMP:20260423T190302Z
DTSTART;TZID=Europe/Berlin:20180317T170000
DTEND;TZID=Europe/Berlin:20180317T183000
SUMMARY:Kreisliga Vogtland HV 90 Klingenthal vs SV 04 Plauen-O. IV (49)
UID:6011eb90-56a4-0850-e053-25c7a80a8bd3
STATUS:CONFIRMED
LAST-MODIFIED:20180320T162826Z
DESCRIPTION:Kreisliga Männer\nBegegnungs-Nr: 49\nHeim: HV 90 Klingenthal\nGast: SV 04 Plauen-O. IV\nHalle: SH Klingenthal (32712)\nAdresse: Amtsberg 20\, 08248 Klingenthal\n
LOCATION:SH Klingenthal (32712): Amtsberg 20\, 08248 Klingenthal
CATEGORIES:Saison 2017/18
END:VEVENT
BEGIN:VEVENT
DTSTAMP:20260423T190302Z
DTSTART;TZID=Europe/Berlin:20180224T140000
DTEND;TZID=Europe/Berlin:20180224T153000
SUMMARY:Kreisliga Vogtland HC Einheit Plauen III vs HV 90 Klingenthal (42)
UID:6011eb90-569b-0850-e053-25c7a80a8bd3
STATUS:CONFIRMED
LAST-MODIFIED:20180424T133259Z
DESCRIPTION:Kreisliga Männer\nBegegnungs-Nr: 42\nHeim: HC Einheit Plauen III\nGast: HV 90 Klingenthal\nHalle: Dreifelder-SH am BSZ \"Anne Frank\" (32711)\nAdresse: Wieprechtstr. 11\, 08525 Plauen\n
LOCATION:Dreifelder-SH am BSZ \"Anne Frank\" (32711): Wieprechtstr. 11\, 08525 Plauen
CATEGORIES:Saison 2017/18
END:VEVENT
BEGIN:VEVENT
DTSTAMP:20260423T190302Z
DTSTART;TZID=Europe/Berlin:20170910T123000
DTEND;TZID=Europe/Berlin:20170910T140000
SUMMARY:Kreisliga Vogtland TSV Oelsnitz II vs HV 90 Klingenthal (4)
UID:6011eb90-5292-0850-e053-25c7a80a8bd3
STATUS:CONFIRMED
LAST-MODIFIED:20180424T131454Z
DESCRIPTION:Kreisliga Männer\nBegegnungs-Nr: 4\nHeim: TSV Oelsnitz II\nGast: HV 90 Klingenthal\nHalle: SH Oelsnitz/V. (32707)\nAdresse: Adolf-Damaschke-Str. 55 a (Am Stadion)\, 08606 Oelsnitz\n
LOCATION:SH Oelsnitz/V. (32707): Adolf-Damaschke-Str. 55 a (Am Stadion)\, 08606 Oelsnitz
CATEGORIES:Saison 2017/18
END:VEVENT
BEGIN:VEVENT
DTSTAMP:20260423T190302Z
DTSTART;TZID=Europe/Berlin:20171028T140000
DTEND;TZID=Europe/Berlin:20171028T153000
SUMMARY:Kreisliga Vogtland SV 04 Plauen-O. IV vs HV 90 Klingenthal (17)
UID:6011eb90-54f2-0850-e053-25c7a80a8bd3
STATUS:CONFIRMED
LAST-MODIFIED:20180424T131933Z
DESCRIPTION:Kreisliga Männer\nBegegnungs-Nr: 17\nHeim: SV 04 Plauen-O. IV\nGast: HV 90 Klingenthal\nHalle: SH Kurt-Helbig Plauen (32701)\nAdresse: Comeniusstr. 15\, 08523 Plauen\n
LOCATION:SH Kurt-Helbig Plauen (32701): Comeniusstr. 15\, 08523 Plauen
CATEGORIES:Saison 2017/18
END:VEVENT
BEGIN:VEVENT
DTSTAMP:20260423T190302Z
DTSTART;TZID=Europe/Berlin:20180127T150000
DTEND;TZID=Europe/Berlin:20180127T163000
SUMMARY:Kreisliga Vogtland Neptun Markneukirchen vs HV 90 Klingenthal (38)
UID:6011eb90-5697-0850-e053-25c7a80a8bd3
STATUS:CONFIRMED
LAST-MODIFIED:20180424T132934Z
DESCRIPTION:Kreisliga Männer\nBegegnungs-Nr: 38\nHeim: Neptun Markneukirchen\nGast: HV 90 Klingenthal\nHalle: SH Gymnasium Markneukirchen (32713)\nAdresse: Alte Wohlhausenerstr. 10\, 08258 Markneukirchen\n
LOCATION:SH Gymnasium Markneukirchen (32713): Alte Wohlhausenerstr. 10\, 08258 Markneukirchen
CATEGORIES:Saison 2017/18
END:VEVENT
BEGIN:VEVENT
DTSTAMP:20260423T190302Z
DTSTART;TZID=Europe/Berlin:20171126T134500
DTEND;TZID=Europe/Berlin:20171126T151500
SUMMARY:Kreisliga Vogtland Rodewischer Hb-Wölfe II vs HV 90 Klingenthal (26)
UID:6011eb90-d886-0850-e053-25c7a80a8bd3
STATUS:CONFIRMED
LAST-MODIFIED:20180424T132255Z
DESCRIPTION:Kreisliga Männer\nBegegnungs-Nr: 26\nHeim: Rodewischer Hb-Wölfe II\nGast: HV 90 Klingenthal\nHalle: Göltzschtalhalle Rodewisch (32703)\nAdresse: Schillerstr. 4\, 08228 Rodewisch\n
LOCATION:Göltzschtalhalle Rodewisch (32703): Schillerstr. 4\, 08228 Rodewisch
CATEGORIES:Saison 2017/18
END:VEVENT
BEGIN:VEVENT
DTSTAMP:20260423T190302Z
DTSTART;TZID=Europe/Berlin:20180414T150000
DTEND;TZID=Europe/Berlin:20180414T163000
SUMMARY:Kreisliga Vogtland Schönheider Handballer  vs HV 90 Klingenthal (54)
UID:6011eb90-5297-0850-e053-25c7a80a8bd3
STATUS:CONFIRMED
LAST-MODIFIED:20180417T150634Z
DESCRIPTION:Kreisliga Männer\nBegegnungs-Nr: 54\nHeim: Schönheider Handballer \nGast: HV 90 Klingenthal\nHalle: SH Schönheide (32310)\nAdresse: Hauptstr. 70\, 08304 Schönheide\n
LOCATION:SH Schönheide (32310): Hauptstr. 70\, 08304 Schönheide
CATEGORIES:Saison 2017/18
END:VEVENT
END:VCALENDAR
