BEGIN:VCALENDAR
PRODID:-//nuDatenautomaten//framework iCal4j //DE
VERSION:2.0
CALSCALE:GREGORIAN
BEGIN:VTIMEZONE
TZID:Europe/Berlin
LAST-MODIFIED:20260306T231828Z
TZURL:https://www.tzurl.org/zoneinfo/Europe/Berlin
X-LIC-LOCATION:Europe/Berlin
X-PROLEPTIC-TZNAME:LMT
BEGIN:STANDARD
TZNAME:CET
TZOFFSETFROM:+005328
TZOFFSETTO:+0100
DTSTART:18930401T000000
END:STANDARD
BEGIN:DAYLIGHT
TZNAME:CEST
TZOFFSETFROM:+0100
TZOFFSETTO:+0200
DTSTART:19160430T230000
RDATE:19400401T020000
RDATE:19430329T020000
RDATE:19460414T020000
RDATE:19470406T030000
RDATE:19480418T020000
RDATE:19490410T020000
RDATE:19800406T020000
END:DAYLIGHT
BEGIN:STANDARD
TZNAME:CET
TZOFFSETFROM:+0200
TZOFFSETTO:+0100
DTSTART:19161001T010000
RDATE:19421102T030000
RDATE:19431004T030000
RDATE:19441002T030000
RDATE:19451118T030000
RDATE:19461007T030000
END:STANDARD
BEGIN:DAYLIGHT
TZNAME:CEST
TZOFFSETFROM:+0100
TZOFFSETTO:+0200
DTSTART:19170416T020000
RRULE:FREQ=YEARLY;UNTIL=19180415T010000Z;BYMONTH=4;BYDAY=3MO
END:DAYLIGHT
BEGIN:STANDARD
TZNAME:CET
TZOFFSETFROM:+0200
TZOFFSETTO:+0100
DTSTART:19170917T030000
RRULE:FREQ=YEARLY;UNTIL=19180916T010000Z;BYMONTH=9;BYDAY=3MO
END:STANDARD
BEGIN:DAYLIGHT
TZNAME:CEST
TZOFFSETFROM:+0100
TZOFFSETTO:+0200
DTSTART:19440403T020000
RRULE:FREQ=YEARLY;UNTIL=19450402T010000Z;BYMONTH=4;BYDAY=1MO
END:DAYLIGHT
BEGIN:DAYLIGHT
TZNAME:CEMT
TZOFFSETFROM:+0200
TZOFFSETTO:+0300
DTSTART:19450524T020000
RDATE:19470511T030000
END:DAYLIGHT
BEGIN:DAYLIGHT
TZNAME:CEST
TZOFFSETFROM:+0300
TZOFFSETTO:+0200
DTSTART:19450924T030000
RDATE:19470629T030000
END:DAYLIGHT
BEGIN:STANDARD
TZNAME:CET
TZOFFSETFROM:+0100
TZOFFSETTO:+0100
DTSTART:19460101T000000
RDATE:19800101T000000
END:STANDARD
BEGIN:STANDARD
TZNAME:CET
TZOFFSETFROM:+0200
TZOFFSETTO:+0100
DTSTART:19471005T030000
RRULE:FREQ=YEARLY;UNTIL=19491002T010000Z;BYMONTH=10;BYDAY=1SU
END:STANDARD
BEGIN:STANDARD
TZNAME:CET
TZOFFSETFROM:+0200
TZOFFSETTO:+0100
DTSTART:19800928T030000
RRULE:FREQ=YEARLY;UNTIL=19950924T010000Z;BYMONTH=9;BYDAY=-1SU
END:STANDARD
BEGIN:DAYLIGHT
TZNAME:CEST
TZOFFSETFROM:+0100
TZOFFSETTO:+0200
DTSTART:19810329T020000
RRULE:FREQ=YEARLY;BYMONTH=3;BYDAY=-1SU
END:DAYLIGHT
BEGIN:STANDARD
TZNAME:CET
TZOFFSETFROM:+0200
TZOFFSETTO:+0100
DTSTART:19961027T030000
RRULE:FREQ=YEARLY;BYMONTH=10;BYDAY=-1SU
END:STANDARD
END:VTIMEZONE
BEGIN:VEVENT
DTSTAMP:20260424T014905Z
DTSTART;TZID=Europe/Berlin:20180121T130000
DTEND;TZID=Europe/Berlin:20180121T143000
SUMMARY:Kreisliga Vogtland VfB Lengenfeld II vs SV 04 Plauen-O. IV (34)
UID:6011eb90-5432-0850-e053-25c7a80a8bd3
STATUS:CONFIRMED
LAST-MODIFIED:20180125T155351Z
DESCRIPTION:Kreisliga Männer\nBegegnungs-Nr: 34\nHeim: VfB Lengenfeld II\nGast: SV 04 Plauen-O. IV\nHalle: SH Lengenfeld (32705)\nAdresse: Schulstr. 2a\, 08585 Lengenfeld\n
LOCATION:SH Lengenfeld (32705): Schulstr. 2a\, 08585 Lengenfeld
CATEGORIES:Saison 2017/18
END:VEVENT
BEGIN:VEVENT
DTSTAMP:20260424T014905Z
DTSTART;TZID=Europe/Berlin:20171029T130000
DTEND;TZID=Europe/Berlin:20171029T143000
SUMMARY:Kreisliga Vogtland VfB Lengenfeld II vs TSV Oelsnitz II (18)
UID:6011eb90-529a-0850-e053-25c7a80a8bd3
STATUS:CONFIRMED
LAST-MODIFIED:20171030T075417Z
DESCRIPTION:Kreisliga Männer\nBegegnungs-Nr: 18\nHeim: VfB Lengenfeld II\nGast: TSV Oelsnitz II\nHalle: SH Lengenfeld (32705)\nAdresse: Schulstr. 2a\, 08585 Lengenfeld\n
LOCATION:SH Lengenfeld (32705): Schulstr. 2a\, 08585 Lengenfeld
CATEGORIES:Saison 2017/18
END:VEVENT
BEGIN:VEVENT
DTSTAMP:20260424T014905Z
DTSTART;TZID=Europe/Berlin:20171126T130000
DTEND;TZID=Europe/Berlin:20171126T143000
SUMMARY:Kreisliga Vogtland VfB Lengenfeld II vs Neptun Markneukirchen (25)
UID:6011eb90-5428-0850-e053-25c7a80a8bd3
STATUS:CONFIRMED
LAST-MODIFIED:20180113T120859Z
DESCRIPTION:Kreisliga Männer\nBegegnungs-Nr: 25\nHeim: VfB Lengenfeld II\nGast: Neptun Markneukirchen\nHalle: SH Lengenfeld (32705)\nAdresse: Schulstr. 2a\, 08585 Lengenfeld\n
LOCATION:SH Lengenfeld (32705): Schulstr. 2a\, 08585 Lengenfeld
CATEGORIES:Saison 2017/18
END:VEVENT
BEGIN:VEVENT
DTSTAMP:20260424T014905Z
DTSTART;TZID=Europe/Berlin:20170910T130000
DTEND;TZID=Europe/Berlin:20170910T143000
SUMMARY:Kreisliga Vogtland VfB Lengenfeld II vs HC Einheit Plauen III (5)
UID:6011eb90-54e9-0850-e053-25c7a80a8bd3
STATUS:CONFIRMED
LAST-MODIFIED:20171009T155841Z
DESCRIPTION:Kreisliga Männer\nBegegnungs-Nr: 5\nHeim: VfB Lengenfeld II\nGast: HC Einheit Plauen III\nHalle: SH Lengenfeld (32705)\nAdresse: Schulstr. 2a\, 08585 Lengenfeld\n
LOCATION:SH Lengenfeld (32705): Schulstr. 2a\, 08585 Lengenfeld
CATEGORIES:Saison 2017/18
END:VEVENT
BEGIN:VEVENT
DTSTAMP:20260424T014905Z
DTSTART;TZID=Europe/Berlin:20171015T130000
DTEND;TZID=Europe/Berlin:20171015T143000
SUMMARY:Kreisliga Vogtland VfB Lengenfeld II vs Rodewischer Hb-Wölfe II (12)
UID:6011eb90-54ee-0850-e053-25c7a80a8bd3
STATUS:CONFIRMED
LAST-MODIFIED:20171017T162749Z
DESCRIPTION:Kreisliga Männer\nBegegnungs-Nr: 12\nHeim: VfB Lengenfeld II\nGast: Rodewischer Hb-Wölfe II\nHalle: SH Lengenfeld (32705)\nAdresse: Schulstr. 2a\, 08585 Lengenfeld\n
LOCATION:SH Lengenfeld (32705): Schulstr. 2a\, 08585 Lengenfeld
CATEGORIES:Saison 2017/18
END:VEVENT
BEGIN:VEVENT
DTSTAMP:20260424T014905Z
DTSTART;TZID=Europe/Berlin:20180225T130000
DTEND;TZID=Europe/Berlin:20180225T143000
SUMMARY:Kreisliga Vogtland VfB Lengenfeld II vs Schönheider Handballer  (43)
UID:6011eb90-569c-0850-e053-25c7a80a8bd3
STATUS:CONFIRMED
LAST-MODIFIED:20180228T112032Z
DESCRIPTION:Kreisliga Männer\nBegegnungs-Nr: 43\nHeim: VfB Lengenfeld II\nGast: Schönheider Handballer \nHalle: SH Lengenfeld (32705)\nAdresse: Schulstr. 2a\, 08585 Lengenfeld\n
LOCATION:SH Lengenfeld (32705): Schulstr. 2a\, 08585 Lengenfeld
CATEGORIES:Saison 2017/18
END:VEVENT
BEGIN:VEVENT
DTSTAMP:20260424T014905Z
DTSTART;TZID=Europe/Berlin:20180407T150000
DTEND;TZID=Europe/Berlin:20180407T163000
SUMMARY:Kreisliga Vogtland Neptun Markneukirchen vs VfB Lengenfeld II (52)
UID:6011eb90-5295-0850-e053-25c7a80a8bd3
STATUS:CONFIRMED
LAST-MODIFIED:20180412T155927Z
DESCRIPTION:Kreisliga Männer\nBegegnungs-Nr: 52\nHeim: Neptun Markneukirchen\nGast: VfB Lengenfeld II\nHalle: SH Gymnasium Markneukirchen (32713)\nAdresse: Alte Wohlhausenerstr. 10\, 08258 Markneukirchen\n
LOCATION:SH Gymnasium Markneukirchen (32713): Alte Wohlhausenerstr. 10\, 08258 Markneukirchen
CATEGORIES:Saison 2017/18
END:VEVENT
BEGIN:VEVENT
DTSTAMP:20260424T014905Z
DTSTART;TZID=Europe/Berlin:20180106T150000
DTEND;TZID=Europe/Berlin:20180106T163000
SUMMARY:Kreisliga Vogtland Schönheider Handballer  vs VfB Lengenfeld II (27)
UID:6011eb90-542a-0850-e053-25c7a80a8bd3
STATUS:CONFIRMED
LAST-MODIFIED:20180113T120956Z
DESCRIPTION:Kreisliga Männer\nBegegnungs-Nr: 27\nHeim: Schönheider Handballer \nGast: VfB Lengenfeld II\nHalle: SH Schönheide (32310)\nAdresse: Hauptstr. 70\, 08304 Schönheide\n
LOCATION:SH Schönheide (32310): Hauptstr. 70\, 08304 Schönheide
CATEGORIES:Saison 2017/18
END:VEVENT
BEGIN:VEVENT
DTSTAMP:20260424T014905Z
DTSTART;TZID=Europe/Berlin:20180113T183000
DTEND;TZID=Europe/Berlin:20180113T200000
SUMMARY:Kreisliga Vogtland HC Einheit Plauen III vs VfB Lengenfeld II (33)
UID:6011eb90-5431-0850-e053-25c7a80a8bd3
STATUS:CONFIRMED
LAST-MODIFIED:20180118T125825Z
DESCRIPTION:Kreisliga Männer\nBegegnungs-Nr: 33\nHeim: HC Einheit Plauen III\nGast: VfB Lengenfeld II\nHalle: Dreifelder-SH am BSZ \"Anne Frank\" (32711)\nAdresse: Wieprechtstr. 11\, 08525 Plauen\n
LOCATION:Dreifelder-SH am BSZ \"Anne Frank\" (32711): Wieprechtstr. 11\, 08525 Plauen
CATEGORIES:Saison 2017/18
END:VEVENT
BEGIN:VEVENT
DTSTAMP:20260424T014905Z
DTSTART;TZID=Europe/Berlin:20170916T120000
DTEND;TZID=Europe/Berlin:20170916T133000
SUMMARY:Kreisliga Vogtland SV 04 Plauen-O. IV vs VfB Lengenfeld II (7)
UID:6011eb90-54eb-0850-e053-25c7a80a8bd3
STATUS:CONFIRMED
LAST-MODIFIED:20171009T161530Z
DESCRIPTION:Kreisliga Männer\nBegegnungs-Nr: 7\nHeim: SV 04 Plauen-O. IV\nGast: VfB Lengenfeld II\nHalle: SH Kurt-Helbig Plauen (32701)\nAdresse: Comeniusstr. 15\, 08523 Plauen\n
LOCATION:SH Kurt-Helbig Plauen (32701): Comeniusstr. 15\, 08523 Plauen
CATEGORIES:Saison 2017/18
END:VEVENT
BEGIN:VEVENT
DTSTAMP:20260424T014905Z
DTSTART;TZID=Europe/Berlin:20180203T170000
DTEND;TZID=Europe/Berlin:20180203T183000
SUMMARY:Kreisliga Vogtland HV 90 Klingenthal vs VfB Lengenfeld II (19)
UID:6011eb90-56a3-0850-e053-25c7a80a8bd3
STATUS:CONFIRMED
LAST-MODIFIED:20180113T082724Z
DESCRIPTION:Kreisliga Männer\nBegegnungs-Nr: 19\nHeim: HV 90 Klingenthal\nGast: VfB Lengenfeld II\nHalle: SH Klingenthal (32712)\nAdresse: Amtsberg 20\, 08248 Klingenthal\n
LOCATION:SH Klingenthal (32712): Amtsberg 20\, 08248 Klingenthal
CATEGORIES:Saison 2017/18
END:VEVENT
BEGIN:VEVENT
DTSTAMP:20260424T014905Z
DTSTART;TZID=Europe/Berlin:20180304T123000
DTEND;TZID=Europe/Berlin:20180304T140000
SUMMARY:Kreisliga Vogtland TSV Oelsnitz II vs VfB Lengenfeld II (46)
UID:6011eb90-569f-0850-e053-25c7a80a8bd3
STATUS:CONFIRMED
LAST-MODIFIED:20180320T161139Z
DESCRIPTION:Kreisliga Männer\nBegegnungs-Nr: 46\nHeim: TSV Oelsnitz II\nGast: VfB Lengenfeld II\nHalle: SH Oelsnitz/V. (32707)\nAdresse: Adolf-Damaschke-Str. 55 a (Am Stadion)\, 08606 Oelsnitz\n
LOCATION:SH Oelsnitz/V. (32707): Adolf-Damaschke-Str. 55 a (Am Stadion)\, 08606 Oelsnitz
CATEGORIES:Saison 2017/18
END:VEVENT
BEGIN:VEVENT
DTSTAMP:20260424T014905Z
DTSTART;TZID=Europe/Berlin:20180318T134500
DTEND;TZID=Europe/Berlin:20180318T151500
SUMMARY:Kreisliga Vogtland Rodewischer Hb-Wölfe II vs VfB Lengenfeld II (51)
UID:6011eb90-5294-0850-e053-25c7a80a8bd3
STATUS:CONFIRMED
LAST-MODIFIED:20180320T180334Z
DESCRIPTION:Kreisliga Männer\nBegegnungs-Nr: 51\nHeim: Rodewischer Hb-Wölfe II\nGast: VfB Lengenfeld II\nHalle: Göltzschtalhalle Rodewisch (32703)\nAdresse: Schillerstr. 4\, 08228 Rodewisch\n
LOCATION:Göltzschtalhalle Rodewisch (32703): Schillerstr. 4\, 08228 Rodewisch
CATEGORIES:Saison 2017/18
END:VEVENT
END:VCALENDAR
