BEGIN:VCALENDAR
PRODID:-//nuDatenautomaten//framework iCal4j //DE
VERSION:2.0
CALSCALE:GREGORIAN
BEGIN:VTIMEZONE
TZID:Europe/Berlin
LAST-MODIFIED:20260306T231828Z
TZURL:https://www.tzurl.org/zoneinfo/Europe/Berlin
X-LIC-LOCATION:Europe/Berlin
X-PROLEPTIC-TZNAME:LMT
BEGIN:STANDARD
TZNAME:CET
TZOFFSETFROM:+005328
TZOFFSETTO:+0100
DTSTART:18930401T000000
END:STANDARD
BEGIN:DAYLIGHT
TZNAME:CEST
TZOFFSETFROM:+0100
TZOFFSETTO:+0200
DTSTART:19160430T230000
RDATE:19400401T020000
RDATE:19430329T020000
RDATE:19460414T020000
RDATE:19470406T030000
RDATE:19480418T020000
RDATE:19490410T020000
RDATE:19800406T020000
END:DAYLIGHT
BEGIN:STANDARD
TZNAME:CET
TZOFFSETFROM:+0200
TZOFFSETTO:+0100
DTSTART:19161001T010000
RDATE:19421102T030000
RDATE:19431004T030000
RDATE:19441002T030000
RDATE:19451118T030000
RDATE:19461007T030000
END:STANDARD
BEGIN:DAYLIGHT
TZNAME:CEST
TZOFFSETFROM:+0100
TZOFFSETTO:+0200
DTSTART:19170416T020000
RRULE:FREQ=YEARLY;UNTIL=19180415T010000Z;BYMONTH=4;BYDAY=3MO
END:DAYLIGHT
BEGIN:STANDARD
TZNAME:CET
TZOFFSETFROM:+0200
TZOFFSETTO:+0100
DTSTART:19170917T030000
RRULE:FREQ=YEARLY;UNTIL=19180916T010000Z;BYMONTH=9;BYDAY=3MO
END:STANDARD
BEGIN:DAYLIGHT
TZNAME:CEST
TZOFFSETFROM:+0100
TZOFFSETTO:+0200
DTSTART:19440403T020000
RRULE:FREQ=YEARLY;UNTIL=19450402T010000Z;BYMONTH=4;BYDAY=1MO
END:DAYLIGHT
BEGIN:DAYLIGHT
TZNAME:CEMT
TZOFFSETFROM:+0200
TZOFFSETTO:+0300
DTSTART:19450524T020000
RDATE:19470511T030000
END:DAYLIGHT
BEGIN:DAYLIGHT
TZNAME:CEST
TZOFFSETFROM:+0300
TZOFFSETTO:+0200
DTSTART:19450924T030000
RDATE:19470629T030000
END:DAYLIGHT
BEGIN:STANDARD
TZNAME:CET
TZOFFSETFROM:+0100
TZOFFSETTO:+0100
DTSTART:19460101T000000
RDATE:19800101T000000
END:STANDARD
BEGIN:STANDARD
TZNAME:CET
TZOFFSETFROM:+0200
TZOFFSETTO:+0100
DTSTART:19471005T030000
RRULE:FREQ=YEARLY;UNTIL=19491002T010000Z;BYMONTH=10;BYDAY=1SU
END:STANDARD
BEGIN:STANDARD
TZNAME:CET
TZOFFSETFROM:+0200
TZOFFSETTO:+0100
DTSTART:19800928T030000
RRULE:FREQ=YEARLY;UNTIL=19950924T010000Z;BYMONTH=9;BYDAY=-1SU
END:STANDARD
BEGIN:DAYLIGHT
TZNAME:CEST
TZOFFSETFROM:+0100
TZOFFSETTO:+0200
DTSTART:19810329T020000
RRULE:FREQ=YEARLY;BYMONTH=3;BYDAY=-1SU
END:DAYLIGHT
BEGIN:STANDARD
TZNAME:CET
TZOFFSETFROM:+0200
TZOFFSETTO:+0100
DTSTART:19961027T030000
RRULE:FREQ=YEARLY;BYMONTH=10;BYDAY=-1SU
END:STANDARD
END:VTIMEZONE
BEGIN:VEVENT
DTSTAMP:20260423T232245Z
DTSTART;TZID=Europe/Berlin:20180113T141500
DTEND;TZID=Europe/Berlin:20180113T154500
SUMMARY:Bezirksliga Lok Wurzen vs VICTORIA Naunhof (11085)
UID:cc954432-aae4-4a2d-bec2-cc7d2ff8f3d2
STATUS:CONFIRMED
LAST-MODIFIED:20180328T215736Z
DESCRIPTION:Bezirksliga Männer\nBegegnungs-Nr: 11085\nHeim: Lok Wurzen\nGast: VICTORIA Naunhof\nHalle: Stadt-SH Wurzen (31502)\nAdresse: Friedrich-Ebert-Str. 2 c\, 04808 Wurzen\n
LOCATION:Stadt-SH Wurzen (31502): Friedrich-Ebert-Str. 2 c\, 04808 Wurzen
CATEGORIES:Saison 2017/18
END:VEVENT
BEGIN:VEVENT
DTSTAMP:20260423T232245Z
DTSTART;TZID=Europe/Berlin:20171126T173000
DTEND;TZID=Europe/Berlin:20171126T190000
SUMMARY:Bezirksliga Lok Wurzen vs SG MoGoNo (11072)
UID:2e584838-3e89-48bd-b37e-7133e85a32d4
STATUS:CONFIRMED
LAST-MODIFIED:20180328T215601Z
DESCRIPTION:Bezirksliga Männer\nBegegnungs-Nr: 11072\nHeim: Lok Wurzen\nGast: SG MoGoNo\nHalle: Stadt-SH Wurzen (31502)\nAdresse: Friedrich-Ebert-Str. 2 c\, 04808 Wurzen\n
LOCATION:Stadt-SH Wurzen (31502): Friedrich-Ebert-Str. 2 c\, 04808 Wurzen
CATEGORIES:Saison 2017/18
END:VEVENT
BEGIN:VEVENT
DTSTAMP:20260423T232245Z
DTSTART;TZID=Europe/Berlin:20171111T183000
DTEND;TZID=Europe/Berlin:20171111T200000
SUMMARY:Bezirksliga Lok Wurzen vs VfL Waldheim 54 II (11058)
UID:1e65d3fe-129f-4cc8-902d-4ed7c8b04d0e
STATUS:CONFIRMED
LAST-MODIFIED:20180328T215301Z
DESCRIPTION:Bezirksliga Männer\nBegegnungs-Nr: 11058\nHeim: Lok Wurzen\nGast: VfL Waldheim 54 II\nHalle: Stadt-SH Wurzen (31502)\nAdresse: Friedrich-Ebert-Str. 2 c\, 04808 Wurzen\n
LOCATION:Stadt-SH Wurzen (31502): Friedrich-Ebert-Str. 2 c\, 04808 Wurzen
CATEGORIES:Saison 2017/18
END:VEVENT
BEGIN:VEVENT
DTSTAMP:20260423T232245Z
DTSTART;TZID=Europe/Berlin:20171029T183000
DTEND;TZID=Europe/Berlin:20171029T200000
SUMMARY:Bezirksliga Lok Wurzen vs HSG Riesa/Oschatz II (11048)
UID:436fa90a-c562-4841-9a0e-0a40c79d243c
STATUS:CONFIRMED
LAST-MODIFIED:20180328T215202Z
DESCRIPTION:Bezirksliga Männer\nBegegnungs-Nr: 11048\nHeim: Lok Wurzen\nGast: HSG Riesa/Oschatz II\nHalle: Stadt-SH Wurzen (31502)\nAdresse: Friedrich-Ebert-Str. 2 c\, 04808 Wurzen\n
LOCATION:Stadt-SH Wurzen (31502): Friedrich-Ebert-Str. 2 c\, 04808 Wurzen
CATEGORIES:Saison 2017/18
END:VEVENT
BEGIN:VEVENT
DTSTAMP:20260423T232245Z
DTSTART;TZID=Europe/Berlin:20171014T183000
DTEND;TZID=Europe/Berlin:20171014T200000
SUMMARY:Bezirksliga Lok Wurzen vs SC DHfK Leipzig II (11036)
UID:ce69b6af-2a77-498a-a051-234cdb29b982
STATUS:CONFIRMED
LAST-MODIFIED:20180328T214754Z
DESCRIPTION:Bezirksliga Männer\nBegegnungs-Nr: 11036\nHeim: Lok Wurzen\nGast: SC DHfK Leipzig II\nHalle: Stadt-SH Wurzen (31502)\nAdresse: Friedrich-Ebert-Str. 2 c\, 04808 Wurzen\n
LOCATION:Stadt-SH Wurzen (31502): Friedrich-Ebert-Str. 2 c\, 04808 Wurzen
CATEGORIES:Saison 2017/18
END:VEVENT
BEGIN:VEVENT
DTSTAMP:20260423T232245Z
DTSTART;TZID=Europe/Berlin:20170917T183000
DTEND;TZID=Europe/Berlin:20170917T200000
SUMMARY:Bezirksliga Lok Wurzen vs SV Leisnig 90 (11018)
UID:63b38f0a-2756-4948-ad9b-aef39d0f825f
STATUS:CONFIRMED
LAST-MODIFIED:20180501T203502Z
DESCRIPTION:Bezirksliga Männer\nBegegnungs-Nr: 11018\nHeim: Lok Wurzen\nGast: SV Leisnig 90\nHalle: Stadt-SH Wurzen (31502)\nAdresse: Friedrich-Ebert-Str. 2 c\, 04808 Wurzen\n
LOCATION:Stadt-SH Wurzen (31502): Friedrich-Ebert-Str. 2 c\, 04808 Wurzen
CATEGORIES:Saison 2017/18
END:VEVENT
BEGIN:VEVENT
DTSTAMP:20260423T232245Z
DTSTART;TZID=Europe/Berlin:20170902T183000
DTEND;TZID=Europe/Berlin:20170902T200000
SUMMARY:Bezirksliga Lok Wurzen vs HV Glesien (11005)
UID:775e3b86-1010-457b-833e-e6f11524814a
STATUS:CONFIRMED
LAST-MODIFIED:20180403T090730Z
DESCRIPTION:Bezirksliga Männer\nBegegnungs-Nr: 11005\nHeim: Lok Wurzen\nGast: HV Glesien\nHalle: Stadt-SH Wurzen (31502)\nAdresse: Friedrich-Ebert-Str. 2 c\, 04808 Wurzen\n
LOCATION:Stadt-SH Wurzen (31502): Friedrich-Ebert-Str. 2 c\, 04808 Wurzen
CATEGORIES:Saison 2017/18
END:VEVENT
BEGIN:VEVENT
DTSTAMP:20260423T232245Z
DTSTART;TZID=Europe/Berlin:20180324T183000
DTEND;TZID=Europe/Berlin:20180324T200000
SUMMARY:Bezirksliga Lok Wurzen vs SG LVB III (11142)
UID:0aa12bd5-fbe7-4787-b895-985a84026eda
STATUS:CONFIRMED
LAST-MODIFIED:20180403T124358Z
DESCRIPTION:Bezirksliga Männer\nBegegnungs-Nr: 11142\nHeim: Lok Wurzen\nGast: SG LVB III\nHalle: Stadt-SH Wurzen (31502)\nAdresse: Friedrich-Ebert-Str. 2 c\, 04808 Wurzen\n
LOCATION:Stadt-SH Wurzen (31502): Friedrich-Ebert-Str. 2 c\, 04808 Wurzen
CATEGORIES:Saison 2017/18
END:VEVENT
BEGIN:VEVENT
DTSTAMP:20260423T232245Z
DTSTART;TZID=Europe/Berlin:20180310T183000
DTEND;TZID=Europe/Berlin:20180310T200000
SUMMARY:Bezirksliga Lok Wurzen vs HSV Mölkau - Die Haie  (11131)
UID:743e3a0f-ec9d-4be1-9c56-838c17f6cbfd
STATUS:CONFIRMED
LAST-MODIFIED:20180501T163851Z
DESCRIPTION:Bezirksliga Männer\nBegegnungs-Nr: 11131\nHeim: Lok Wurzen\nGast: HSV Mölkau - Die Haie \nHalle: Stadt-SH Wurzen (31502)\nAdresse: Friedrich-Ebert-Str. 2 c\, 04808 Wurzen\n
LOCATION:Stadt-SH Wurzen (31502): Friedrich-Ebert-Str. 2 c\, 04808 Wurzen
CATEGORIES:Saison 2017/18
END:VEVENT
BEGIN:VEVENT
DTSTAMP:20260423T232245Z
DTSTART;TZID=Europe/Berlin:20180224T183000
DTEND;TZID=Europe/Berlin:20180224T200000
SUMMARY:Bezirksliga Lok Wurzen vs VfB Eilenburg (11119)
UID:53b64767-0ca8-440b-a951-a1b789066891
STATUS:CONFIRMED
LAST-MODIFIED:20180328T220316Z
DESCRIPTION:Bezirksliga Männer\nBegegnungs-Nr: 11119\nHeim: Lok Wurzen\nGast: VfB Eilenburg\nHalle: Stadt-SH Wurzen (31502)\nAdresse: Friedrich-Ebert-Str. 2 c\, 04808 Wurzen\n
LOCATION:Stadt-SH Wurzen (31502): Friedrich-Ebert-Str. 2 c\, 04808 Wurzen
CATEGORIES:Saison 2017/18
END:VEVENT
BEGIN:VEVENT
DTSTAMP:20260423T232245Z
DTSTART;TZID=Europe/Berlin:20180203T183000
DTEND;TZID=Europe/Berlin:20180203T200000
SUMMARY:Bezirksliga Lok Wurzen vs Leipziger SV Südwest (11108)
UID:038abf79-43c0-4397-b458-058302eaf95f
STATUS:CONFIRMED
LAST-MODIFIED:20180328T220132Z
DESCRIPTION:Bezirksliga Männer\nBegegnungs-Nr: 11108\nHeim: Lok Wurzen\nGast: Leipziger SV Südwest\nHalle: Stadt-SH Wurzen (31502)\nAdresse: Friedrich-Ebert-Str. 2 c\, 04808 Wurzen\n
LOCATION:Stadt-SH Wurzen (31502): Friedrich-Ebert-Str. 2 c\, 04808 Wurzen
CATEGORIES:Saison 2017/18
END:VEVENT
BEGIN:VEVENT
DTSTAMP:20260423T232245Z
DTSTART;TZID=Europe/Berlin:20180421T183000
DTEND;TZID=Europe/Berlin:20180421T200000
SUMMARY:Bezirksliga Lok Wurzen vs SV Lok Leipzig-M. II (11154)
UID:3578e377-cde1-415a-99b3-97cec3d763cd
STATUS:CONFIRMED
LAST-MODIFIED:20180424T195807Z
DESCRIPTION:Bezirksliga Männer\nBegegnungs-Nr: 11154\nHeim: Lok Wurzen\nGast: SV Lok Leipzig-M. II\nHalle: Stadt-SH Wurzen (31502)\nAdresse: Friedrich-Ebert-Str. 2 c\, 04808 Wurzen\n
LOCATION:Stadt-SH Wurzen (31502): Friedrich-Ebert-Str. 2 c\, 04808 Wurzen
CATEGORIES:Saison 2017/18
END:VEVENT
BEGIN:VEVENT
DTSTAMP:20260423T232245Z
DTSTART;TZID=Europe/Berlin:20180120T170000
DTEND;TZID=Europe/Berlin:20180120T183000
SUMMARY:Bezirksliga SV Leisnig 90 vs Lok Wurzen (11092)
UID:c01c660a-b9cc-49de-a012-1e1fac6eb84a
STATUS:CONFIRMED
LAST-MODIFIED:20180328T215907Z
DESCRIPTION:Bezirksliga Männer\nBegegnungs-Nr: 11092\nHeim: SV Leisnig 90\nGast: Lok Wurzen\nHalle: SH Leisnig (31205)\nAdresse: Chemnitzer Str. 101\, 04703 Leisnig\n
LOCATION:SH Leisnig (31205): Chemnitzer Str. 101\, 04703 Leisnig
CATEGORIES:Saison 2017/18
END:VEVENT
BEGIN:VEVENT
DTSTAMP:20260423T232245Z
DTSTART;TZID=Europe/Berlin:20180106T170000
DTEND;TZID=Europe/Berlin:20180106T183000
SUMMARY:Bezirksliga HV Glesien vs Lok Wurzen (11083)
UID:9279b774-94ff-4864-81b3-10727ec1ed91
STATUS:CONFIRMED
LAST-MODIFIED:20180328T215736Z
DESCRIPTION:Bezirksliga Männer\nBegegnungs-Nr: 11083\nHeim: HV Glesien\nGast: Lok Wurzen\nHalle: Sport- und Festhalle Radefeld (31301)\nAdresse: Landsberger Str. 5\, 04435 Schkeuditz / OT Radefeld\n
LOCATION:Sport- und Festhalle Radefeld (31301): Landsberger Str. 5\, 04435 Schkeuditz / OT Radefeld
CATEGORIES:Saison 2017/18
END:VEVENT
BEGIN:VEVENT
DTSTAMP:20260423T232245Z
DTSTART;TZID=Europe/Berlin:20171216T153000
DTEND;TZID=Europe/Berlin:20171216T170000
SUMMARY:Bezirksliga SV Lok Leipzig-M. II vs Lok Wurzen (11076)
UID:c1df25f7-a778-4877-9d90-f67be4acf4ba
STATUS:CONFIRMED
LAST-MODIFIED:20180328T215601Z
DESCRIPTION:Bezirksliga Männer\nBegegnungs-Nr: 11076\nHeim: SV Lok Leipzig-M. II\nGast: Lok Wurzen\nHalle: SH Astrid Lindgren Grundschule Leipzig (31104)\nAdresse: Löbauer Str. 46\, 04347 Leipzig\n
LOCATION:SH Astrid Lindgren Grundschule Leipzig (31104): Löbauer Str. 46\, 04347 Leipzig
CATEGORIES:Saison 2017/18
END:VEVENT
BEGIN:VEVENT
DTSTAMP:20260423T232245Z
DTSTART;TZID=Europe/Berlin:20171118T190000
DTEND;TZID=Europe/Berlin:20171118T203000
SUMMARY:Bezirksliga SG LVB III vs Lok Wurzen (11063)
UID:0a166aa0-d8bb-489c-b7dc-e284eca6729e
STATUS:CONFIRMED
LAST-MODIFIED:20180328T215601Z
DESCRIPTION:Bezirksliga Männer\nBegegnungs-Nr: 11063\nHeim: SG LVB III\nGast: Lok Wurzen\nHalle: SH Gymnasium an der Telemannstraße  (31109)\nAdresse: Telemannstraße 9\, 04107 Leipzig\n
LOCATION:SH Gymnasium an der Telemannstraße  (31109): Telemannstraße 9\, 04107 Leipzig
CATEGORIES:Saison 2017/18
END:VEVENT
BEGIN:VEVENT
DTSTAMP:20260423T232245Z
DTSTART;TZID=Europe/Berlin:20171105T160000
DTEND;TZID=Europe/Berlin:20171105T173000
SUMMARY:Bezirksliga HSV Mölkau - Die Haie  vs Lok Wurzen (11054)
UID:e85310a3-4adc-4aed-bfec-73d601eb2896
STATUS:CONFIRMED
LAST-MODIFIED:20180328T215202Z
DESCRIPTION:Bezirksliga Männer\nBegegnungs-Nr: 11054\nHeim: HSV Mölkau - Die Haie \nGast: Lok Wurzen\nHalle: SH Oberschule Leipzig-Mölkau (31106)\nAdresse: Schulstr. 6\, 04316 Leipzig\n
LOCATION:SH Oberschule Leipzig-Mölkau (31106): Schulstr. 6\, 04316 Leipzig
CATEGORIES:Saison 2017/18
END:VEVENT
BEGIN:VEVENT
DTSTAMP:20260423T232245Z
DTSTART;TZID=Europe/Berlin:20171021T180000
DTEND;TZID=Europe/Berlin:20171021T193000
SUMMARY:Bezirksliga VfB Eilenburg vs Lok Wurzen (11039)
UID:fda01d29-f273-4ba8-969e-119149852d45
STATUS:CONFIRMED
LAST-MODIFIED:20180328T214843Z
DESCRIPTION:Bezirksliga Männer\nBegegnungs-Nr: 11039\nHeim: VfB Eilenburg\nGast: Lok Wurzen\nHalle: Belian-SH Eilenburg (31307)\nAdresse: Dr.-Belian-Str. 7\, 04838 Eilenburg\n
LOCATION:Belian-SH Eilenburg (31307): Dr.-Belian-Str. 7\, 04838 Eilenburg
CATEGORIES:Saison 2017/18
END:VEVENT
BEGIN:VEVENT
DTSTAMP:20260423T232245Z
DTSTART;TZID=Europe/Berlin:20171008T133000
DTEND;TZID=Europe/Berlin:20171008T150000
SUMMARY:Bezirksliga Leipziger SV Südwest vs Lok Wurzen (11029)
UID:b21248b1-5d49-4b52-9975-e91dbc94afa9
STATUS:CONFIRMED
LAST-MODIFIED:20180328T214754Z
DESCRIPTION:Bezirksliga Männer\nBegegnungs-Nr: 11029\nHeim: Leipziger SV Südwest\nGast: Lok Wurzen\nHalle: SH An der Radrennbahn Leipzig (31128)\nAdresse: Windorfer Straße 63\, 04229 Leipzig\n
LOCATION:SH An der Radrennbahn Leipzig (31128): Windorfer Straße 63\, 04229 Leipzig
CATEGORIES:Saison 2017/18
END:VEVENT
BEGIN:VEVENT
DTSTAMP:20260423T232245Z
DTSTART;TZID=Europe/Berlin:20170909T190000
DTEND;TZID=Europe/Berlin:20170909T203000
SUMMARY:Bezirksliga VICTORIA Naunhof vs Lok Wurzen (11010)
UID:7cf3682b-9b4d-40fb-b533-73115110d05d
STATUS:CONFIRMED
LAST-MODIFIED:20180501T190010Z
DESCRIPTION:Bezirksliga Männer\nBegegnungs-Nr: 11010\nHeim: VICTORIA Naunhof\nGast: Lok Wurzen\nHalle: Parthelandhalle Naunhof (31120)\nAdresse: Wiesenstraße 34\, 04683 Naunhof\n
LOCATION:Parthelandhalle Naunhof (31120): Wiesenstraße 34\, 04683 Naunhof
CATEGORIES:Saison 2017/18
END:VEVENT
BEGIN:VEVENT
DTSTAMP:20260423T232245Z
DTSTART;TZID=Europe/Berlin:20180414T170000
DTEND;TZID=Europe/Berlin:20180414T183000
SUMMARY:Bezirksliga SG MoGoNo vs Lok Wurzen (11147)
UID:0dd9512e-720f-4f9e-801c-a502f8332a3b
STATUS:CONFIRMED
LAST-MODIFIED:20180424T181810Z
DESCRIPTION:Bezirksliga Männer\nBegegnungs-Nr: 11147\nHeim: SG MoGoNo\nGast: Lok Wurzen\nHalle: SH Kästner-Grundschule Leipzig (31131)\nAdresse: Erfurter Str\, 04155 Leipzig\n
LOCATION:SH Kästner-Grundschule Leipzig (31131): Erfurter Str\, 04155 Leipzig
CATEGORIES:Saison 2017/18
END:VEVENT
BEGIN:VEVENT
DTSTAMP:20260423T232245Z
DTSTART;TZID=Europe/Berlin:20180317T150000
DTEND;TZID=Europe/Berlin:20180317T163000
SUMMARY:Bezirksliga VfL Waldheim 54 II vs Lok Wurzen (11133)
UID:f7ed510c-478a-4b72-9688-54ddd9cc9ccf
STATUS:CONFIRMED
LAST-MODIFIED:20180501T153908Z
DESCRIPTION:Bezirksliga Männer\nBegegnungs-Nr: 11133\nHeim: VfL Waldheim 54 II\nGast: Lok Wurzen\nHalle: Stadt-SH Waldheim (31204)\nAdresse: Am Schulberg 3 (Anfahrt zum Parkplatz über die Schönberger Straße)\, 04736 Waldheim\n
LOCATION:Stadt-SH Waldheim (31204): Am Schulberg 3 (Anfahrt zum Parkplatz über die Schönberger Straße)\, 04736 Waldheim
CATEGORIES:Saison 2017/18
END:VEVENT
BEGIN:VEVENT
DTSTAMP:20260423T232245Z
DTSTART;TZID=Europe/Berlin:20180303T190000
DTEND;TZID=Europe/Berlin:20180303T203000
SUMMARY:Bezirksliga HSG Riesa/Oschatz II vs Lok Wurzen (11125)
UID:53333dc1-8098-4df6-a2a0-6bd73a88973b
STATUS:CONFIRMED
LAST-MODIFIED:20180328T220642Z
DESCRIPTION:Bezirksliga Männer\nBegegnungs-Nr: 11125\nHeim: HSG Riesa/Oschatz II\nGast: Lok Wurzen\nHalle: WM-Sporthalle Riesa (33213)\nAdresse: Am Sportzentrum 1\, 01587 Riesa\n
LOCATION:WM-Sporthalle Riesa (33213): Am Sportzentrum 1\, 01587 Riesa
CATEGORIES:Saison 2017/18
END:VEVENT
BEGIN:VEVENT
DTSTAMP:20260423T232245Z
DTSTART;TZID=Europe/Berlin:20180210T140000
DTEND;TZID=Europe/Berlin:20180210T153000
SUMMARY:Bezirksliga SC DHfK Leipzig II vs Lok Wurzen (11109)
UID:d13c0e11-04cc-4ebf-b4fc-78c006da1bc5
STATUS:CONFIRMED
LAST-MODIFIED:20180328T220132Z
DESCRIPTION:Bezirksliga Männer\nBegegnungs-Nr: 11109\nHeim: SC DHfK Leipzig II\nGast: Lok Wurzen\nHalle: SH Rabet Leipzig (31130)\nAdresse: Konradstraße 30\, 04315 Leipzig\n
LOCATION:SH Rabet Leipzig (31130): Konradstraße 30\, 04315 Leipzig
CATEGORIES:Saison 2017/18
END:VEVENT
END:VCALENDAR
