BEGIN:VCALENDAR
PRODID:-//nuDatenautomaten//framework iCal4j //DE
VERSION:2.0
CALSCALE:GREGORIAN
BEGIN:VTIMEZONE
TZID:Europe/Berlin
LAST-MODIFIED:20260306T231828Z
TZURL:https://www.tzurl.org/zoneinfo/Europe/Berlin
X-LIC-LOCATION:Europe/Berlin
X-PROLEPTIC-TZNAME:LMT
BEGIN:STANDARD
TZNAME:CET
TZOFFSETFROM:+005328
TZOFFSETTO:+0100
DTSTART:18930401T000000
END:STANDARD
BEGIN:DAYLIGHT
TZNAME:CEST
TZOFFSETFROM:+0100
TZOFFSETTO:+0200
DTSTART:19160430T230000
RDATE:19400401T020000
RDATE:19430329T020000
RDATE:19460414T020000
RDATE:19470406T030000
RDATE:19480418T020000
RDATE:19490410T020000
RDATE:19800406T020000
END:DAYLIGHT
BEGIN:STANDARD
TZNAME:CET
TZOFFSETFROM:+0200
TZOFFSETTO:+0100
DTSTART:19161001T010000
RDATE:19421102T030000
RDATE:19431004T030000
RDATE:19441002T030000
RDATE:19451118T030000
RDATE:19461007T030000
END:STANDARD
BEGIN:DAYLIGHT
TZNAME:CEST
TZOFFSETFROM:+0100
TZOFFSETTO:+0200
DTSTART:19170416T020000
RRULE:FREQ=YEARLY;UNTIL=19180415T010000Z;BYMONTH=4;BYDAY=3MO
END:DAYLIGHT
BEGIN:STANDARD
TZNAME:CET
TZOFFSETFROM:+0200
TZOFFSETTO:+0100
DTSTART:19170917T030000
RRULE:FREQ=YEARLY;UNTIL=19180916T010000Z;BYMONTH=9;BYDAY=3MO
END:STANDARD
BEGIN:DAYLIGHT
TZNAME:CEST
TZOFFSETFROM:+0100
TZOFFSETTO:+0200
DTSTART:19440403T020000
RRULE:FREQ=YEARLY;UNTIL=19450402T010000Z;BYMONTH=4;BYDAY=1MO
END:DAYLIGHT
BEGIN:DAYLIGHT
TZNAME:CEMT
TZOFFSETFROM:+0200
TZOFFSETTO:+0300
DTSTART:19450524T020000
RDATE:19470511T030000
END:DAYLIGHT
BEGIN:DAYLIGHT
TZNAME:CEST
TZOFFSETFROM:+0300
TZOFFSETTO:+0200
DTSTART:19450924T030000
RDATE:19470629T030000
END:DAYLIGHT
BEGIN:STANDARD
TZNAME:CET
TZOFFSETFROM:+0100
TZOFFSETTO:+0100
DTSTART:19460101T000000
RDATE:19800101T000000
END:STANDARD
BEGIN:STANDARD
TZNAME:CET
TZOFFSETFROM:+0200
TZOFFSETTO:+0100
DTSTART:19471005T030000
RRULE:FREQ=YEARLY;UNTIL=19491002T010000Z;BYMONTH=10;BYDAY=1SU
END:STANDARD
BEGIN:STANDARD
TZNAME:CET
TZOFFSETFROM:+0200
TZOFFSETTO:+0100
DTSTART:19800928T030000
RRULE:FREQ=YEARLY;UNTIL=19950924T010000Z;BYMONTH=9;BYDAY=-1SU
END:STANDARD
BEGIN:DAYLIGHT
TZNAME:CEST
TZOFFSETFROM:+0100
TZOFFSETTO:+0200
DTSTART:19810329T020000
RRULE:FREQ=YEARLY;BYMONTH=3;BYDAY=-1SU
END:DAYLIGHT
BEGIN:STANDARD
TZNAME:CET
TZOFFSETFROM:+0200
TZOFFSETTO:+0100
DTSTART:19961027T030000
RRULE:FREQ=YEARLY;BYMONTH=10;BYDAY=-1SU
END:STANDARD
END:VTIMEZONE
BEGIN:VEVENT
DTSTAMP:20260420T040704Z
DTSTART;TZID=Europe/Berlin:20180106T170000
DTEND;TZID=Europe/Berlin:20180106T183000
SUMMARY:Bezirksliga HV Glesien vs Lok Wurzen (11083)
UID:9279b774-94ff-4864-81b3-10727ec1ed91
STATUS:CONFIRMED
LAST-MODIFIED:20180328T215736Z
DESCRIPTION:Bezirksliga Männer\nBegegnungs-Nr: 11083\nHeim: HV Glesien\nGast: Lok Wurzen\nHalle: Sport- und Festhalle Radefeld (31301)\nAdresse: Landsberger Str. 5\, 04435 Schkeuditz / OT Radefeld\n
LOCATION:Sport- und Festhalle Radefeld (31301): Landsberger Str. 5\, 04435 Schkeuditz / OT Radefeld
CATEGORIES:Saison 2017/18
END:VEVENT
BEGIN:VEVENT
DTSTAMP:20260420T040704Z
DTSTART;TZID=Europe/Berlin:20171216T170000
DTEND;TZID=Europe/Berlin:20171216T183000
SUMMARY:Bezirksliga HV Glesien vs SV Leisnig 90 (11078)
UID:235a414f-9e62-4a79-8090-3aa23a1ef57c
STATUS:CONFIRMED
LAST-MODIFIED:20180328T215601Z
DESCRIPTION:Bezirksliga Männer\nBegegnungs-Nr: 11078\nHeim: HV Glesien\nGast: SV Leisnig 90\nHalle: Sport- und Festhalle Radefeld (31301)\nAdresse: Landsberger Str. 5\, 04435 Schkeuditz / OT Radefeld\n
LOCATION:Sport- und Festhalle Radefeld (31301): Landsberger Str. 5\, 04435 Schkeuditz / OT Radefeld
CATEGORIES:Saison 2017/18
END:VEVENT
BEGIN:VEVENT
DTSTAMP:20260420T040704Z
DTSTART;TZID=Europe/Berlin:20171111T170000
DTEND;TZID=Europe/Berlin:20171111T183000
SUMMARY:Bezirksliga HV Glesien vs SV Lok Leipzig-M. II (11057)
UID:935573ab-554a-42ad-8bb6-3a3e8d59bd86
STATUS:CONFIRMED
LAST-MODIFIED:20180328T215301Z
DESCRIPTION:Bezirksliga Männer\nBegegnungs-Nr: 11057\nHeim: HV Glesien\nGast: SV Lok Leipzig-M. II\nHalle: Sport- und Festhalle Radefeld (31301)\nAdresse: Landsberger Str. 5\, 04435 Schkeuditz / OT Radefeld\n
LOCATION:Sport- und Festhalle Radefeld (31301): Landsberger Str. 5\, 04435 Schkeuditz / OT Radefeld
CATEGORIES:Saison 2017/18
END:VEVENT
BEGIN:VEVENT
DTSTAMP:20260420T040704Z
DTSTART;TZID=Europe/Berlin:20180203T170000
DTEND;TZID=Europe/Berlin:20180203T183000
SUMMARY:Bezirksliga HV Glesien vs HSG Riesa/Oschatz II (11107)
UID:6bd6ec6f-57b0-4180-96b0-86012c541d1d
STATUS:CONFIRMED
LAST-MODIFIED:20180328T220132Z
DESCRIPTION:Bezirksliga Männer\nBegegnungs-Nr: 11107\nHeim: HV Glesien\nGast: HSG Riesa/Oschatz II\nHalle: Sport- und Festhalle Radefeld (31301)\nAdresse: Landsberger Str. 5\, 04435 Schkeuditz / OT Radefeld\n
LOCATION:Sport- und Festhalle Radefeld (31301): Landsberger Str. 5\, 04435 Schkeuditz / OT Radefeld
CATEGORIES:Saison 2017/18
END:VEVENT
BEGIN:VEVENT
DTSTAMP:20260420T040704Z
DTSTART;TZID=Europe/Berlin:20171014T170000
DTEND;TZID=Europe/Berlin:20171014T183000
SUMMARY:Bezirksliga HV Glesien vs HSV Mölkau - Die Haie  (11034)
UID:cdfac446-463b-4b1e-96f7-260345ce43c9
STATUS:CONFIRMED
LAST-MODIFIED:20180328T214754Z
DESCRIPTION:Bezirksliga Männer\nBegegnungs-Nr: 11034\nHeim: HV Glesien\nGast: HSV Mölkau - Die Haie \nHalle: Sport- und Festhalle Radefeld (31301)\nAdresse: Landsberger Str. 5\, 04435 Schkeuditz / OT Radefeld\n
LOCATION:Sport- und Festhalle Radefeld (31301): Landsberger Str. 5\, 04435 Schkeuditz / OT Radefeld
CATEGORIES:Saison 2017/18
END:VEVENT
BEGIN:VEVENT
DTSTAMP:20260420T040704Z
DTSTART;TZID=Europe/Berlin:20170923T170000
DTEND;TZID=Europe/Berlin:20170923T183000
SUMMARY:Bezirksliga HV Glesien vs VfB Eilenburg (11023)
UID:a72d2ca2-8f20-430c-ad73-5394e67ff54d
STATUS:CONFIRMED
LAST-MODIFIED:20180328T214630Z
DESCRIPTION:Bezirksliga Männer\nBegegnungs-Nr: 11023\nHeim: HV Glesien\nGast: VfB Eilenburg\nHalle: Sport- und Festhalle Radefeld (31301)\nAdresse: Landsberger Str. 5\, 04435 Schkeuditz / OT Radefeld\n
LOCATION:Sport- und Festhalle Radefeld (31301): Landsberger Str. 5\, 04435 Schkeuditz / OT Radefeld
CATEGORIES:Saison 2017/18
END:VEVENT
BEGIN:VEVENT
DTSTAMP:20260420T040704Z
DTSTART;TZID=Europe/Berlin:20170909T170000
DTEND;TZID=Europe/Berlin:20170909T183000
SUMMARY:Bezirksliga HV Glesien vs Leipziger SV Südwest (11011)
UID:4f6f7601-6d92-42e5-8d62-02142c425b8b
STATUS:CONFIRMED
LAST-MODIFIED:20180501T191016Z
DESCRIPTION:Bezirksliga Männer\nBegegnungs-Nr: 11011\nHeim: HV Glesien\nGast: Leipziger SV Südwest\nHalle: Sport- und Festhalle Radefeld (31301)\nAdresse: Landsberger Str. 5\, 04435 Schkeuditz / OT Radefeld\n
LOCATION:Sport- und Festhalle Radefeld (31301): Landsberger Str. 5\, 04435 Schkeuditz / OT Radefeld
CATEGORIES:Saison 2017/18
END:VEVENT
BEGIN:VEVENT
DTSTAMP:20260420T040704Z
DTSTART;TZID=Europe/Berlin:20180310T170000
DTEND;TZID=Europe/Berlin:20180310T183000
SUMMARY:Bezirksliga HV Glesien vs SG MoGoNo (11130)
UID:4283d2ce-10b3-476a-aae6-4803d658fa5c
STATUS:CONFIRMED
LAST-MODIFIED:20180501T164806Z
DESCRIPTION:Bezirksliga Männer\nBegegnungs-Nr: 11130\nHeim: HV Glesien\nGast: SG MoGoNo\nHalle: Sport- und Festhalle Radefeld (31301)\nAdresse: Landsberger Str. 5\, 04435 Schkeuditz / OT Radefeld\n
LOCATION:Sport- und Festhalle Radefeld (31301): Landsberger Str. 5\, 04435 Schkeuditz / OT Radefeld
CATEGORIES:Saison 2017/18
END:VEVENT
BEGIN:VEVENT
DTSTAMP:20260420T040704Z
DTSTART;TZID=Europe/Berlin:20171028T170000
DTEND;TZID=Europe/Berlin:20171028T183000
SUMMARY:Bezirksliga HV Glesien vs SG LVB III (11046)
UID:a959459c-a6b9-4dac-a476-ba3190cc2d12
STATUS:CONFIRMED
LAST-MODIFIED:20180328T214944Z
DESCRIPTION:Bezirksliga Männer\nBegegnungs-Nr: 11046\nHeim: HV Glesien\nGast: SG LVB III\nHalle: Sport- und Festhalle Radefeld (31301)\nAdresse: Landsberger Str. 5\, 04435 Schkeuditz / OT Radefeld\n
LOCATION:Sport- und Festhalle Radefeld (31301): Landsberger Str. 5\, 04435 Schkeuditz / OT Radefeld
CATEGORIES:Saison 2017/18
END:VEVENT
BEGIN:VEVENT
DTSTAMP:20260420T040704Z
DTSTART;TZID=Europe/Berlin:20180224T170000
DTEND;TZID=Europe/Berlin:20180224T183000
SUMMARY:Bezirksliga HV Glesien vs VfL Waldheim 54 II (11118)
UID:aa0a8245-d939-4f41-9166-ded0a85bbc64
STATUS:CONFIRMED
LAST-MODIFIED:20180328T220316Z
DESCRIPTION:Bezirksliga Männer\nBegegnungs-Nr: 11118\nHeim: HV Glesien\nGast: VfL Waldheim 54 II\nHalle: Sport- und Festhalle Radefeld (31301)\nAdresse: Landsberger Str. 5\, 04435 Schkeuditz / OT Radefeld\n
LOCATION:Sport- und Festhalle Radefeld (31301): Landsberger Str. 5\, 04435 Schkeuditz / OT Radefeld
CATEGORIES:Saison 2017/18
END:VEVENT
BEGIN:VEVENT
DTSTAMP:20260420T040704Z
DTSTART;TZID=Europe/Berlin:20180121T153000
DTEND;TZID=Europe/Berlin:20180121T170000
SUMMARY:Bezirksliga HV Glesien vs SC DHfK Leipzig II (11096)
UID:a25602e2-1f9e-47f9-91a4-84edccca19ec
STATUS:CONFIRMED
LAST-MODIFIED:20180328T215907Z
DESCRIPTION:Bezirksliga Männer\nBegegnungs-Nr: 11096\nHeim: HV Glesien\nGast: SC DHfK Leipzig II\nHalle: Sport- und Festhalle Radefeld (31301)\nAdresse: Landsberger Str. 5\, 04435 Schkeuditz / OT Radefeld\n
LOCATION:Sport- und Festhalle Radefeld (31301): Landsberger Str. 5\, 04435 Schkeuditz / OT Radefeld
CATEGORIES:Saison 2017/18
END:VEVENT
BEGIN:VEVENT
DTSTAMP:20260420T040704Z
DTSTART;TZID=Europe/Berlin:20180414T170000
DTEND;TZID=Europe/Berlin:20180414T183000
SUMMARY:Bezirksliga HV Glesien vs VICTORIA Naunhof (11148)
UID:609dfdc2-4d2a-4ef0-9b79-ef8d74598ef7
STATUS:CONFIRMED
LAST-MODIFIED:20180424T182508Z
DESCRIPTION:Bezirksliga Männer\nBegegnungs-Nr: 11148\nHeim: HV Glesien\nGast: VICTORIA Naunhof\nHalle: Sport- und Festhalle Radefeld (31301)\nAdresse: Landsberger Str. 5\, 04435 Schkeuditz / OT Radefeld\n
LOCATION:Sport- und Festhalle Radefeld (31301): Landsberger Str. 5\, 04435 Schkeuditz / OT Radefeld
CATEGORIES:Saison 2017/18
END:VEVENT
BEGIN:VEVENT
DTSTAMP:20260420T040704Z
DTSTART;TZID=Europe/Berlin:20180114T140000
DTEND;TZID=Europe/Berlin:20180114T153000
SUMMARY:Bezirksliga Leipziger SV Südwest vs HV Glesien (11089)
UID:9b57157b-ad20-4a94-a52a-36c71585044b
STATUS:CONFIRMED
LAST-MODIFIED:20180328T215736Z
DESCRIPTION:Bezirksliga Männer\nBegegnungs-Nr: 11089\nHeim: Leipziger SV Südwest\nGast: HV Glesien\nHalle: SH An der Radrennbahn Leipzig (31128)\nAdresse: Windorfer Straße 63\, 04229 Leipzig\n
LOCATION:SH An der Radrennbahn Leipzig (31128): Windorfer Straße 63\, 04229 Leipzig
CATEGORIES:Saison 2017/18
END:VEVENT
BEGIN:VEVENT
DTSTAMP:20260420T040704Z
DTSTART;TZID=Europe/Berlin:20171125T190000
DTEND;TZID=Europe/Berlin:20171125T203000
SUMMARY:Bezirksliga VICTORIA Naunhof vs HV Glesien (11070)
UID:b404d412-38f5-43bf-b4b0-53e8f69d13fd
STATUS:CONFIRMED
LAST-MODIFIED:20180328T215601Z
DESCRIPTION:Bezirksliga Männer\nBegegnungs-Nr: 11070\nHeim: VICTORIA Naunhof\nGast: HV Glesien\nHalle: Parthelandhalle Naunhof (31120)\nAdresse: Wiesenstraße 34\, 04683 Naunhof\n
LOCATION:Parthelandhalle Naunhof (31120): Wiesenstraße 34\, 04683 Naunhof
CATEGORIES:Saison 2017/18
END:VEVENT
BEGIN:VEVENT
DTSTAMP:20260420T040704Z
DTSTART;TZID=Europe/Berlin:20171105T170000
DTEND;TZID=Europe/Berlin:20171105T183000
SUMMARY:Bezirksliga SG MoGoNo vs HV Glesien (11053)
UID:bcd2d864-03c8-4db4-b8a6-71809c553cf1
STATUS:CONFIRMED
LAST-MODIFIED:20180328T215202Z
DESCRIPTION:Bezirksliga Männer\nBegegnungs-Nr: 11053\nHeim: SG MoGoNo\nGast: HV Glesien\nHalle: SH Kästner-Grundschule Leipzig (31131)\nAdresse: Erfurter Str\, 04155 Leipzig\n
LOCATION:SH Kästner-Grundschule Leipzig (31131): Erfurter Str\, 04155 Leipzig
CATEGORIES:Saison 2017/18
END:VEVENT
BEGIN:VEVENT
DTSTAMP:20260420T040704Z
DTSTART;TZID=Europe/Berlin:20171021T150000
DTEND;TZID=Europe/Berlin:20171021T163000
SUMMARY:Bezirksliga VfL Waldheim 54 II vs HV Glesien (11037)
UID:7dd9da29-f2dc-4c09-a1d0-ba1184d936aa
STATUS:CONFIRMED
LAST-MODIFIED:20180328T214754Z
DESCRIPTION:Bezirksliga Männer\nBegegnungs-Nr: 11037\nHeim: VfL Waldheim 54 II\nGast: HV Glesien\nHalle: Stadt-SH Waldheim (31204)\nAdresse: Am Schulberg 3 (Anfahrt zum Parkplatz über die Schönberger Straße)\, 04736 Waldheim\n
LOCATION:Stadt-SH Waldheim (31204): Am Schulberg 3 (Anfahrt zum Parkplatz über die Schönberger Straße)\, 04736 Waldheim
CATEGORIES:Saison 2017/18
END:VEVENT
BEGIN:VEVENT
DTSTAMP:20260420T040704Z
DTSTART;TZID=Europe/Berlin:20171007T170000
DTEND;TZID=Europe/Berlin:20171007T183000
SUMMARY:Bezirksliga HSG Riesa/Oschatz II vs HV Glesien (11026)
UID:d421ffc5-961c-4288-b4cd-8670a9c9605d
STATUS:CONFIRMED
LAST-MODIFIED:20180328T214630Z
DESCRIPTION:Bezirksliga Männer\nBegegnungs-Nr: 11026\nHeim: HSG Riesa/Oschatz II\nGast: HV Glesien\nHalle: WM-Sporthalle Riesa (33213)\nAdresse: Am Sportzentrum 1\, 01587 Riesa\n
LOCATION:WM-Sporthalle Riesa (33213): Am Sportzentrum 1\, 01587 Riesa
CATEGORIES:Saison 2017/18
END:VEVENT
BEGIN:VEVENT
DTSTAMP:20260420T040704Z
DTSTART;TZID=Europe/Berlin:20170917T170000
DTEND;TZID=Europe/Berlin:20170917T183000
SUMMARY:Bezirksliga SC DHfK Leipzig II vs HV Glesien (11015)
UID:f6ed74fc-e5c0-4982-9d75-80b9941eb6f4
STATUS:CONFIRMED
LAST-MODIFIED:20180823T153242Z
DESCRIPTION:Bezirksliga Männer\nBegegnungs-Nr: 11015\nHeim: SC DHfK Leipzig II\nGast: HV Glesien\nHalle: SH Rabet Leipzig (31130)\nAdresse: Konradstraße 30\, 04315 Leipzig\n
LOCATION:SH Rabet Leipzig (31130): Konradstraße 30\, 04315 Leipzig
CATEGORIES:Saison 2017/18
END:VEVENT
BEGIN:VEVENT
DTSTAMP:20260420T040704Z
DTSTART;TZID=Europe/Berlin:20170902T183000
DTEND;TZID=Europe/Berlin:20170902T200000
SUMMARY:Bezirksliga Lok Wurzen vs HV Glesien (11005)
UID:775e3b86-1010-457b-833e-e6f11524814a
STATUS:CONFIRMED
LAST-MODIFIED:20180403T090730Z
DESCRIPTION:Bezirksliga Männer\nBegegnungs-Nr: 11005\nHeim: Lok Wurzen\nGast: HV Glesien\nHalle: Stadt-SH Wurzen (31502)\nAdresse: Friedrich-Ebert-Str. 2 c\, 04808 Wurzen\n
LOCATION:Stadt-SH Wurzen (31502): Friedrich-Ebert-Str. 2 c\, 04808 Wurzen
CATEGORIES:Saison 2017/18
END:VEVENT
BEGIN:VEVENT
DTSTAMP:20260420T040704Z
DTSTART;TZID=Europe/Berlin:20180421T170000
DTEND;TZID=Europe/Berlin:20180421T183000
SUMMARY:Bezirksliga SV Leisnig 90 vs HV Glesien (11153)
UID:7a96956e-c35d-444c-9687-093d4792cc6c
STATUS:CONFIRMED
LAST-MODIFIED:20180424T193753Z
DESCRIPTION:Bezirksliga Männer\nBegegnungs-Nr: 11153\nHeim: SV Leisnig 90\nGast: HV Glesien\nHalle: SH Leisnig (31205)\nAdresse: Chemnitzer Str. 101\, 04703 Leisnig\n
LOCATION:SH Leisnig (31205): Chemnitzer Str. 101\, 04703 Leisnig
CATEGORIES:Saison 2017/18
END:VEVENT
BEGIN:VEVENT
DTSTAMP:20260420T040704Z
DTSTART;TZID=Europe/Berlin:20180317T153000
DTEND;TZID=Europe/Berlin:20180317T170000
SUMMARY:Bezirksliga SV Lok Leipzig-M. II vs HV Glesien (11137)
UID:834588d6-d7ec-42e1-a65e-e311f6524a45
STATUS:CONFIRMED
LAST-MODIFIED:20180501T133035Z
DESCRIPTION:Bezirksliga Männer\nBegegnungs-Nr: 11137\nHeim: SV Lok Leipzig-M. II\nGast: HV Glesien\nHalle: SH Astrid Lindgren Grundschule Leipzig (31104)\nAdresse: Löbauer Str. 46\, 04347 Leipzig\n
LOCATION:SH Astrid Lindgren Grundschule Leipzig (31104): Löbauer Str. 46\, 04347 Leipzig
CATEGORIES:Saison 2017/18
END:VEVENT
BEGIN:VEVENT
DTSTAMP:20260420T040704Z
DTSTART;TZID=Europe/Berlin:20180303T163000
DTEND;TZID=Europe/Berlin:20180303T180000
SUMMARY:Bezirksliga SG LVB III vs HV Glesien (11123)
UID:bed0fb87-a5df-4fcb-b213-dfe0e4289aa9
STATUS:CONFIRMED
LAST-MODIFIED:20180328T220642Z
DESCRIPTION:Bezirksliga Männer\nBegegnungs-Nr: 11123\nHeim: SG LVB III\nGast: HV Glesien\nHalle: SH Gymnasium an der Telemannstraße  (31109)\nAdresse: Telemannstraße 9\, 04107 Leipzig\n
LOCATION:SH Gymnasium an der Telemannstraße  (31109): Telemannstraße 9\, 04107 Leipzig
CATEGORIES:Saison 2017/18
END:VEVENT
BEGIN:VEVENT
DTSTAMP:20260420T040704Z
DTSTART;TZID=Europe/Berlin:20180211T160000
DTEND;TZID=Europe/Berlin:20180211T173000
SUMMARY:Bezirksliga HSV Mölkau - Die Haie  vs HV Glesien (11114)
UID:9b0ef160-3deb-4e16-bb0e-08bc897a13ed
STATUS:CONFIRMED
LAST-MODIFIED:20180328T220316Z
DESCRIPTION:Bezirksliga Männer\nBegegnungs-Nr: 11114\nHeim: HSV Mölkau - Die Haie \nGast: HV Glesien\nHalle: SH Oberschule Leipzig-Mölkau (31106)\nAdresse: Schulstr. 6\, 04316 Leipzig\n
LOCATION:SH Oberschule Leipzig-Mölkau (31106): Schulstr. 6\, 04316 Leipzig
CATEGORIES:Saison 2017/18
END:VEVENT
BEGIN:VEVENT
DTSTAMP:20260420T040704Z
DTSTART;TZID=Europe/Berlin:20180127T154500
DTEND;TZID=Europe/Berlin:20180127T171500
SUMMARY:Bezirksliga VfB Eilenburg vs HV Glesien (11098)
UID:8916526d-d491-4099-a5e5-192414624c00
STATUS:CONFIRMED
LAST-MODIFIED:20180328T215907Z
DESCRIPTION:Bezirksliga Männer\nBegegnungs-Nr: 11098\nHeim: VfB Eilenburg\nGast: HV Glesien\nHalle: Belian-SH Eilenburg (31307)\nAdresse: Dr.-Belian-Str. 7\, 04838 Eilenburg\n
LOCATION:Belian-SH Eilenburg (31307): Dr.-Belian-Str. 7\, 04838 Eilenburg
CATEGORIES:Saison 2017/18
END:VEVENT
END:VCALENDAR
