BEGIN:VCALENDAR
PRODID:-//nuDatenautomaten//framework iCal4j //DE
VERSION:2.0
CALSCALE:GREGORIAN
BEGIN:VTIMEZONE
TZID:Europe/Berlin
LAST-MODIFIED:20260306T231828Z
TZURL:https://www.tzurl.org/zoneinfo/Europe/Berlin
X-LIC-LOCATION:Europe/Berlin
X-PROLEPTIC-TZNAME:LMT
BEGIN:STANDARD
TZNAME:CET
TZOFFSETFROM:+005328
TZOFFSETTO:+0100
DTSTART:18930401T000000
END:STANDARD
BEGIN:DAYLIGHT
TZNAME:CEST
TZOFFSETFROM:+0100
TZOFFSETTO:+0200
DTSTART:19160430T230000
RDATE:19400401T020000
RDATE:19430329T020000
RDATE:19460414T020000
RDATE:19470406T030000
RDATE:19480418T020000
RDATE:19490410T020000
RDATE:19800406T020000
END:DAYLIGHT
BEGIN:STANDARD
TZNAME:CET
TZOFFSETFROM:+0200
TZOFFSETTO:+0100
DTSTART:19161001T010000
RDATE:19421102T030000
RDATE:19431004T030000
RDATE:19441002T030000
RDATE:19451118T030000
RDATE:19461007T030000
END:STANDARD
BEGIN:DAYLIGHT
TZNAME:CEST
TZOFFSETFROM:+0100
TZOFFSETTO:+0200
DTSTART:19170416T020000
RRULE:FREQ=YEARLY;UNTIL=19180415T010000Z;BYMONTH=4;BYDAY=3MO
END:DAYLIGHT
BEGIN:STANDARD
TZNAME:CET
TZOFFSETFROM:+0200
TZOFFSETTO:+0100
DTSTART:19170917T030000
RRULE:FREQ=YEARLY;UNTIL=19180916T010000Z;BYMONTH=9;BYDAY=3MO
END:STANDARD
BEGIN:DAYLIGHT
TZNAME:CEST
TZOFFSETFROM:+0100
TZOFFSETTO:+0200
DTSTART:19440403T020000
RRULE:FREQ=YEARLY;UNTIL=19450402T010000Z;BYMONTH=4;BYDAY=1MO
END:DAYLIGHT
BEGIN:DAYLIGHT
TZNAME:CEMT
TZOFFSETFROM:+0200
TZOFFSETTO:+0300
DTSTART:19450524T020000
RDATE:19470511T030000
END:DAYLIGHT
BEGIN:DAYLIGHT
TZNAME:CEST
TZOFFSETFROM:+0300
TZOFFSETTO:+0200
DTSTART:19450924T030000
RDATE:19470629T030000
END:DAYLIGHT
BEGIN:STANDARD
TZNAME:CET
TZOFFSETFROM:+0100
TZOFFSETTO:+0100
DTSTART:19460101T000000
RDATE:19800101T000000
END:STANDARD
BEGIN:STANDARD
TZNAME:CET
TZOFFSETFROM:+0200
TZOFFSETTO:+0100
DTSTART:19471005T030000
RRULE:FREQ=YEARLY;UNTIL=19491002T010000Z;BYMONTH=10;BYDAY=1SU
END:STANDARD
BEGIN:STANDARD
TZNAME:CET
TZOFFSETFROM:+0200
TZOFFSETTO:+0100
DTSTART:19800928T030000
RRULE:FREQ=YEARLY;UNTIL=19950924T010000Z;BYMONTH=9;BYDAY=-1SU
END:STANDARD
BEGIN:DAYLIGHT
TZNAME:CEST
TZOFFSETFROM:+0100
TZOFFSETTO:+0200
DTSTART:19810329T020000
RRULE:FREQ=YEARLY;BYMONTH=3;BYDAY=-1SU
END:DAYLIGHT
BEGIN:STANDARD
TZNAME:CET
TZOFFSETFROM:+0200
TZOFFSETTO:+0100
DTSTART:19961027T030000
RRULE:FREQ=YEARLY;BYMONTH=10;BYDAY=-1SU
END:STANDARD
END:VTIMEZONE
BEGIN:VEVENT
DTSTAMP:20260422T020454Z
DTSTART;TZID=Europe/Berlin:20190519T124000
DTEND;TZID=Europe/Berlin:20190519T134000
SUMMARY:Quali SL Hoffnungsrunde LHV Hoyerswerda vs Radeberger SV (51)
UID:9b28fd4c-e16b-467f-af17-6dbdaafe23d5
STATUS:CONFIRMED
DESCRIPTION:Qualifikation Sachsenliga Hoffnungsrunde\nBegegnungs-Nr: 51\nHeim: LHV Hoyerswerda\nGast: Radeberger SV\nHalle: Sachsenhalle Chemnitz (32101)\nAdresse: Straße Usti nad Labem 275\, 09119 Chemnitz\n
LOCATION:Sachsenhalle Chemnitz (32101): Straße Usti nad Labem 275\, 09119 Chemnitz
CATEGORIES:Saison 2018/19
END:VEVENT
BEGIN:VEVENT
DTSTAMP:20260422T020454Z
DTSTART;TZID=Europe/Berlin:20190519T160000
DTEND;TZID=Europe/Berlin:20190519T170000
SUMMARY:Quali SL Hoffnungsrunde LHV Hoyerswerda vs HSG Riesa/Oschatz (56)
UID:bdcedbfe-5cf2-4c4f-8642-2d5b1371d192
STATUS:CONFIRMED
DESCRIPTION:Qualifikation Sachsenliga Hoffnungsrunde\nBegegnungs-Nr: 56\nHeim: LHV Hoyerswerda\nGast: HSG Riesa/Oschatz\nHalle: Sachsenhalle Chemnitz (32101)\nAdresse: Straße Usti nad Labem 275\, 09119 Chemnitz\n
LOCATION:Sachsenhalle Chemnitz (32101): Straße Usti nad Labem 275\, 09119 Chemnitz
CATEGORIES:Saison 2018/19
END:VEVENT
BEGIN:VEVENT
DTSTAMP:20260422T020454Z
DTSTART;TZID=Europe/Berlin:20190519T144000
DTEND;TZID=Europe/Berlin:20190519T154000
SUMMARY:Quali SL Hoffnungsrunde LHV Hoyerswerda vs HSG Rottluff/Lok Chemnitz (54)
UID:82243d07-0a6f-4620-86d3-695fabe6de8b
STATUS:CONFIRMED
DESCRIPTION:Qualifikation Sachsenliga Hoffnungsrunde\nBegegnungs-Nr: 54\nHeim: LHV Hoyerswerda\nGast: HSG Rottluff/Lok Chemnitz\nHalle: Sachsenhalle Chemnitz (32101)\nAdresse: Straße Usti nad Labem 275\, 09119 Chemnitz\n
LOCATION:Sachsenhalle Chemnitz (32101): Straße Usti nad Labem 275\, 09119 Chemnitz
CATEGORIES:Saison 2018/19
END:VEVENT
BEGIN:VEVENT
DTSTAMP:20260422T020454Z
DTSTART;TZID=Europe/Berlin:20181006T110000
DTEND;TZID=Europe/Berlin:20181006T120000
SUMMARY:Sachsenliga mJC LHV Hoyerswerda vs SG LVB (525)
UID:1b1327fd-07fc-468f-a7e6-cc5611e089b7
STATUS:CONFIRMED
DESCRIPTION:Sachsenliga männliche Jugend C\nBegegnungs-Nr: 525\nHeim: LHV Hoyerswerda\nGast: SG LVB\nHalle: SH BSZ \"Konrad Zuse\" Hoyerswerda (34201)\nAdresse: Käthe-Kollwitz-Str. 5\, 02977 Hoyerswerda\n
LOCATION:SH BSZ \"Konrad Zuse\" Hoyerswerda (34201): Käthe-Kollwitz-Str. 5\, 02977 Hoyerswerda
CATEGORIES:Saison 2018/19
END:VEVENT
BEGIN:VEVENT
DTSTAMP:20260422T020454Z
DTSTART;TZID=Europe/Berlin:20190310T130000
DTEND;TZID=Europe/Berlin:20190310T140000
SUMMARY:Sachsenliga mJC LHV Hoyerswerda vs NSG Oelsnitz/Oberlosa (583)
UID:38f77aed-44ce-4916-ab2c-0deed4fc970f
STATUS:CONFIRMED
LAST-MODIFIED:20190311T165518Z
DESCRIPTION:Sachsenliga männliche Jugend C\nBegegnungs-Nr: 583\nHeim: LHV Hoyerswerda\nGast: NSG Oelsnitz/Oberlosa\nHalle: SH BSZ \"Konrad Zuse\" Hoyerswerda (34201)\nAdresse: Käthe-Kollwitz-Str. 5\, 02977 Hoyerswerda\n
LOCATION:SH BSZ \"Konrad Zuse\" Hoyerswerda (34201): Käthe-Kollwitz-Str. 5\, 02977 Hoyerswerda
CATEGORIES:Saison 2018/19
END:VEVENT
BEGIN:VEVENT
DTSTAMP:20260422T020454Z
DTSTART;TZID=Europe/Berlin:20180909T100000
DTEND;TZID=Europe/Berlin:20180909T110000
SUMMARY:Sachsenliga mJC LHV Hoyerswerda vs HSV Dresden (504)
UID:4ddb139c-0e83-4204-af5e-53abd5f41a8e
STATUS:CONFIRMED
LAST-MODIFIED:20180924T155227Z
DESCRIPTION:Sachsenliga männliche Jugend C\nBegegnungs-Nr: 504\nHeim: LHV Hoyerswerda\nGast: HSV Dresden\nHalle: SH BSZ \"Konrad Zuse\" Hoyerswerda (34201)\nAdresse: Käthe-Kollwitz-Str. 5\, 02977 Hoyerswerda\n
LOCATION:SH BSZ \"Konrad Zuse\" Hoyerswerda (34201): Käthe-Kollwitz-Str. 5\, 02977 Hoyerswerda
CATEGORIES:Saison 2018/19
END:VEVENT
BEGIN:VEVENT
DTSTAMP:20260422T020454Z
DTSTART;TZID=Europe/Berlin:20181027T163000
DTEND;TZID=Europe/Berlin:20181027T173000
SUMMARY:Sachsenliga mJC LHV Hoyerswerda vs HC Elbflorenz 2006 (526)
UID:a10a80fb-f14b-478c-aad9-65e540c5e03b
STATUS:CONFIRMED
DESCRIPTION:Sachsenliga männliche Jugend C\nBegegnungs-Nr: 526\nHeim: LHV Hoyerswerda\nGast: HC Elbflorenz 2006\nHalle: SH BSZ \"Konrad Zuse\" Hoyerswerda (34201)\nAdresse: Käthe-Kollwitz-Str. 5\, 02977 Hoyerswerda\n
LOCATION:SH BSZ \"Konrad Zuse\" Hoyerswerda (34201): Käthe-Kollwitz-Str. 5\, 02977 Hoyerswerda
CATEGORIES:Saison 2018/19
END:VEVENT
BEGIN:VEVENT
DTSTAMP:20260422T020454Z
DTSTART;TZID=Europe/Berlin:20181104T130000
DTEND;TZID=Europe/Berlin:20181104T140000
SUMMARY:Sachsenliga mJC LHV Hoyerswerda vs NSG EHV/NH Aue (538)
UID:13f34c50-9894-4c02-8dc5-d4c523d53701
STATUS:CONFIRMED
LAST-MODIFIED:20190128T152027Z
DESCRIPTION:Sachsenliga männliche Jugend C\nBegegnungs-Nr: 538\nHeim: LHV Hoyerswerda\nGast: NSG EHV/NH Aue\nHalle: SH BSZ \"Konrad Zuse\" Hoyerswerda (34201)\nAdresse: Käthe-Kollwitz-Str. 5\, 02977 Hoyerswerda\n
LOCATION:SH BSZ \"Konrad Zuse\" Hoyerswerda (34201): Käthe-Kollwitz-Str. 5\, 02977 Hoyerswerda
CATEGORIES:Saison 2018/19
END:VEVENT
BEGIN:VEVENT
DTSTAMP:20260422T020454Z
DTSTART;TZID=Europe/Berlin:20181209T110000
DTEND;TZID=Europe/Berlin:20181209T120000
SUMMARY:Sachsenliga mJC LHV Hoyerswerda vs NSG Westsachsen (558)
UID:fa81ef07-03fd-4c0a-9c92-c3561a452968
STATUS:CONFIRMED
LAST-MODIFIED:20190115T154154Z
DESCRIPTION:Sachsenliga männliche Jugend C\nBegegnungs-Nr: 558\nHeim: LHV Hoyerswerda\nGast: NSG Westsachsen\nHalle: SH BSZ \"Konrad Zuse\" Hoyerswerda (34201)\nAdresse: Käthe-Kollwitz-Str. 5\, 02977 Hoyerswerda\n
LOCATION:SH BSZ \"Konrad Zuse\" Hoyerswerda (34201): Käthe-Kollwitz-Str. 5\, 02977 Hoyerswerda
CATEGORIES:Saison 2018/19
END:VEVENT
BEGIN:VEVENT
DTSTAMP:20260422T020454Z
DTSTART;TZID=Europe/Berlin:20181215T150000
DTEND;TZID=Europe/Berlin:20181215T160000
SUMMARY:Sachsenliga mJC LHV Hoyerswerda vs HSG Freiberg (562)
UID:6ea5b5c0-653e-46a1-af6b-f5e182a13f08
STATUS:CONFIRMED
LAST-MODIFIED:20190115T153257Z
DESCRIPTION:Sachsenliga männliche Jugend C\nBegegnungs-Nr: 562\nHeim: LHV Hoyerswerda\nGast: HSG Freiberg\nHalle: SH BSZ \"Konrad Zuse\" Hoyerswerda (34201)\nAdresse: Käthe-Kollwitz-Str. 5\, 02977 Hoyerswerda\n
LOCATION:SH BSZ \"Konrad Zuse\" Hoyerswerda (34201): Käthe-Kollwitz-Str. 5\, 02977 Hoyerswerda
CATEGORIES:Saison 2018/19
END:VEVENT
BEGIN:VEVENT
DTSTAMP:20260422T020454Z
DTSTART;TZID=Europe/Berlin:20180929T110000
DTEND;TZID=Europe/Berlin:20180929T120000
SUMMARY:Sachsenliga mJC LHV Hoyerswerda vs SC DHfK Leipzig (516)
UID:f7c47481-ed32-4dff-8fd8-c03df315312a
STATUS:CONFIRMED
LAST-MODIFIED:20190108T115658Z
DESCRIPTION:Sachsenliga männliche Jugend C\nBegegnungs-Nr: 516\nHeim: LHV Hoyerswerda\nGast: SC DHfK Leipzig\nHalle: SH BSZ \"Konrad Zuse\" Hoyerswerda (34201)\nAdresse: Käthe-Kollwitz-Str. 5\, 02977 Hoyerswerda\n
LOCATION:SH BSZ \"Konrad Zuse\" Hoyerswerda (34201): Käthe-Kollwitz-Str. 5\, 02977 Hoyerswerda
CATEGORIES:Saison 2018/19
END:VEVENT
BEGIN:VEVENT
DTSTAMP:20260422T020454Z
DTSTART;TZID=Europe/Berlin:20190511T155000
DTEND;TZID=Europe/Berlin:20190511T165000
SUMMARY:Quali SL Gruppe A LHV Hoyerswerda vs SG MoGoNo (28)
UID:d42497ff-55ae-45ed-88ad-243530b04faa
STATUS:CONFIRMED
LAST-MODIFIED:20190503T164119Z
DESCRIPTION:Qualifikation Sachsenliga Gruppe A\nBegegnungs-Nr: 28\nHeim: LHV Hoyerswerda\nGast: SG MoGoNo\nHalle: Sachsenhalle Chemnitz (32101)\nAdresse: Straße Usti nad Labem 275\, 09119 Chemnitz\n
LOCATION:Sachsenhalle Chemnitz (32101): Straße Usti nad Labem 275\, 09119 Chemnitz
CATEGORIES:Saison 2018/19
END:VEVENT
BEGIN:VEVENT
DTSTAMP:20260422T020454Z
DTSTART;TZID=Europe/Berlin:20181124T120000
DTEND;TZID=Europe/Berlin:20181124T130000
SUMMARY:Sachsenliga mJC LHV Hoyerswerda vs Koweg Görlitz (551)
UID:6392cb50-e451-400b-a47e-68563da505ad
STATUS:CONFIRMED
LAST-MODIFIED:20190128T152809Z
DESCRIPTION:Sachsenliga männliche Jugend C\nBegegnungs-Nr: 551\nHeim: LHV Hoyerswerda\nGast: Koweg Görlitz\nHalle: SH BSZ \"Konrad Zuse\" Hoyerswerda (34201)\nAdresse: Käthe-Kollwitz-Str. 5\, 02977 Hoyerswerda\n
LOCATION:SH BSZ \"Konrad Zuse\" Hoyerswerda (34201): Käthe-Kollwitz-Str. 5\, 02977 Hoyerswerda
CATEGORIES:Saison 2018/19
END:VEVENT
BEGIN:VEVENT
DTSTAMP:20260422T020454Z
DTSTART;TZID=Europe/Berlin:20190113T120000
DTEND;TZID=Europe/Berlin:20190113T130000
SUMMARY:Sachsenliga mJC SC DHfK Leipzig vs LHV Hoyerswerda (566)
UID:4e66065d-e728-4e9c-a025-c66dd68ba322
STATUS:CONFIRMED
LAST-MODIFIED:20190115T114409Z
DESCRIPTION:Sachsenliga männliche Jugend C\nBegegnungs-Nr: 566\nHeim: SC DHfK Leipzig\nGast: LHV Hoyerswerda\nHalle: SH Sportoberschule (31132)\nAdresse: Max -Planck-Str. 53-55\, 04105 Leipzig\n
LOCATION:SH Sportoberschule (31132): Max -Planck-Str. 53-55\, 04105 Leipzig
CATEGORIES:Saison 2018/19
END:VEVENT
BEGIN:VEVENT
DTSTAMP:20260422T020454Z
DTSTART;TZID=Europe/Berlin:20190126T124500
DTEND;TZID=Europe/Berlin:20190126T134500
SUMMARY:Sachsenliga mJC HC Elbflorenz 2006 vs LHV Hoyerswerda (571)
UID:f1c4cc56-fe9b-4e04-bc78-b2a68a96e113
STATUS:CONFIRMED
LAST-MODIFIED:20190128T145755Z
DESCRIPTION:Sachsenliga männliche Jugend C\nBegegnungs-Nr: 571\nHeim: HC Elbflorenz 2006\nGast: LHV Hoyerswerda\nHalle: BallsportARENA Dresden (33133)\nAdresse: Weißeritzstraße 4\, 01067 Dresden\n
LOCATION:BallsportARENA Dresden (33133): Weißeritzstraße 4\, 01067 Dresden
CATEGORIES:Saison 2018/19
END:VEVENT
BEGIN:VEVENT
DTSTAMP:20260422T020454Z
DTSTART;TZID=Europe/Berlin:20181111T103000
DTEND;TZID=Europe/Berlin:20181111T113000
SUMMARY:Sachsenliga mJC Koweg Görlitz vs LHV Hoyerswerda (541)
UID:33ac59b0-2e06-4e30-ba63-3aa4c7c2f7eb
STATUS:CONFIRMED
LAST-MODIFIED:20190128T152240Z
DESCRIPTION:Sachsenliga männliche Jugend C\nBegegnungs-Nr: 541\nHeim: Koweg Görlitz\nGast: LHV Hoyerswerda\nHalle: SH Rauschwalde (34301)\nAdresse: Diesterwegplatz 8\, 02827 Görlitz\n
LOCATION:SH Rauschwalde (34301): Diesterwegplatz 8\, 02827 Görlitz
CATEGORIES:Saison 2018/19
END:VEVENT
BEGIN:VEVENT
DTSTAMP:20260422T020454Z
DTSTART;TZID=Europe/Berlin:20190511T143500
DTEND;TZID=Europe/Berlin:20190511T153500
SUMMARY:Quali SL Gruppe A NSG Westsachsen vs LHV Hoyerswerda (27)
UID:2a06b531-7b2a-401a-84bf-655507b749b4
STATUS:CONFIRMED
LAST-MODIFIED:20190503T164119Z
DESCRIPTION:Qualifikation Sachsenliga Gruppe A\nBegegnungs-Nr: 27\nHeim: NSG Westsachsen\nGast: LHV Hoyerswerda\nHalle: Sachsenhalle Chemnitz (32101)\nAdresse: Straße Usti nad Labem 275\, 09119 Chemnitz\n
LOCATION:Sachsenhalle Chemnitz (32101): Straße Usti nad Labem 275\, 09119 Chemnitz
CATEGORIES:Saison 2018/19
END:VEVENT
BEGIN:VEVENT
DTSTAMP:20260422T020454Z
DTSTART;TZID=Europe/Berlin:20190519T104000
DTEND;TZID=Europe/Berlin:20190519T114000
SUMMARY:Quali SL Hoffnungsrunde OSV Zittau vs LHV Hoyerswerda (48)
UID:fb7c914c-1f45-4c3e-a6e8-b54a61900466
STATUS:CONFIRMED
DESCRIPTION:Qualifikation Sachsenliga Hoffnungsrunde\nBegegnungs-Nr: 48\nHeim: OSV Zittau\nGast: LHV Hoyerswerda\nHalle: Sachsenhalle Chemnitz (32101)\nAdresse: Straße Usti nad Labem 275\, 09119 Chemnitz\n
LOCATION:Sachsenhalle Chemnitz (32101): Straße Usti nad Labem 275\, 09119 Chemnitz
CATEGORIES:Saison 2018/19
END:VEVENT
BEGIN:VEVENT
DTSTAMP:20260422T020454Z
DTSTART;TZID=Europe/Berlin:20180915T170000
DTEND;TZID=Europe/Berlin:20180915T180000
SUMMARY:Sachsenliga mJC NSG Westsachsen vs LHV Hoyerswerda (508)
UID:87ab3fd9-a42e-4768-a089-08713aa0e43e
STATUS:CONFIRMED
LAST-MODIFIED:20180924T155613Z
DESCRIPTION:Sachsenliga männliche Jugend C\nBegegnungs-Nr: 508\nHeim: NSG Westsachsen\nGast: LHV Hoyerswerda\nHalle: SH Zwickau-Neuplanitz (32501)\nAdresse: Dortmunder Str. 7a\, 08062 Zwickau\n
LOCATION:SH Zwickau-Neuplanitz (32501): Dortmunder Str. 7a\, 08062 Zwickau
CATEGORIES:Saison 2018/19
END:VEVENT
BEGIN:VEVENT
DTSTAMP:20260422T020454Z
DTSTART;TZID=Europe/Berlin:20180922T131500
DTEND;TZID=Europe/Berlin:20180922T141500
SUMMARY:Sachsenliga mJC HSG Freiberg vs LHV Hoyerswerda (512)
UID:236dd6f4-cadf-4d72-9f79-80db723b9eec
STATUS:CONFIRMED
LAST-MODIFIED:20190108T114447Z
DESCRIPTION:Sachsenliga männliche Jugend C\nBegegnungs-Nr: 512\nHeim: HSG Freiberg\nGast: LHV Hoyerswerda\nHalle: Ernst-Grube-Halle Freiberg (32401)\nAdresse: Tschaikowskistr. 2\, 09599 Freiberg\n
LOCATION:Ernst-Grube-Halle Freiberg (32401): Tschaikowskistr. 2\, 09599 Freiberg
CATEGORIES:Saison 2018/19
END:VEVENT
BEGIN:VEVENT
DTSTAMP:20260422T020454Z
DTSTART;TZID=Europe/Berlin:20181031T110000
DTEND;TZID=Europe/Berlin:20181031T120000
SUMMARY:Sachsenliga mJC NSG Oelsnitz/Oberlosa vs LHV Hoyerswerda (533)
UID:a3aa0dcd-0a37-40a6-afae-88d57a97835b
STATUS:CONFIRMED
LAST-MODIFIED:20190128T145934Z
DESCRIPTION:Sachsenliga männliche Jugend C\nBegegnungs-Nr: 533\nHeim: NSG Oelsnitz/Oberlosa\nGast: LHV Hoyerswerda\nHalle: SH Kurt-Helbig Plauen (32701)\nAdresse: Comeniusstr. 15\, 08523 Plauen\n
LOCATION:SH Kurt-Helbig Plauen (32701): Comeniusstr. 15\, 08523 Plauen
CATEGORIES:Saison 2018/19
END:VEVENT
BEGIN:VEVENT
DTSTAMP:20260422T020454Z
DTSTART;TZID=Europe/Berlin:20181117T123000
DTEND;TZID=Europe/Berlin:20181117T133000
SUMMARY:Sachsenliga mJC HSV Dresden vs LHV Hoyerswerda (549)
UID:a1a5e2bd-c27f-449c-bfca-e0bda8fa3f89
STATUS:CONFIRMED
LAST-MODIFIED:20190128T152425Z
DESCRIPTION:Sachsenliga männliche Jugend C\nBegegnungs-Nr: 549\nHeim: HSV Dresden\nGast: LHV Hoyerswerda\nHalle: SH 121. Oberschule Dresden (33102)\nAdresse: Gamigstraße 28/30\, 01239 Dresden\n
LOCATION:SH 121. Oberschule Dresden (33102): Gamigstraße 28/30\, 01239 Dresden
CATEGORIES:Saison 2018/19
END:VEVENT
BEGIN:VEVENT
DTSTAMP:20260422T020454Z
DTSTART;TZID=Europe/Berlin:20190209T133000
DTEND;TZID=Europe/Berlin:20190209T143000
SUMMARY:Sachsenliga mJC SG LVB vs LHV Hoyerswerda (580)
UID:ff6716c4-45cd-43b2-9e97-8d073e6d2e8b
STATUS:CONFIRMED
DESCRIPTION:Sachsenliga männliche Jugend C\nBegegnungs-Nr: 580\nHeim: SG LVB\nGast: LHV Hoyerswerda\nHalle: SH Gymnasium an der Telemannstraße  (31109)\nAdresse: Telemannstraße 9\, 04107 Leipzig\n
LOCATION:SH Gymnasium an der Telemannstraße  (31109): Telemannstraße 9\, 04107 Leipzig
CATEGORIES:Saison 2018/19
END:VEVENT
BEGIN:VEVENT
DTSTAMP:20260422T020454Z
DTSTART;TZID=Europe/Berlin:20190317T110000
DTEND;TZID=Europe/Berlin:20190317T120000
SUMMARY:Sachsenliga mJC NSG EHV/NH Aue vs LHV Hoyerswerda (588)
UID:5488597a-a7b7-4ac9-b4df-cd6468cbfe64
STATUS:CONFIRMED
LAST-MODIFIED:20190320T160840Z
DESCRIPTION:Sachsenliga männliche Jugend C\nBegegnungs-Nr: 588\nHeim: NSG EHV/NH Aue\nGast: LHV Hoyerswerda\nHalle: SH Zeller Berg Aue  (32304)\nAdresse: Agricolastr. 5\, 08280 Aue\n
LOCATION:SH Zeller Berg Aue  (32304): Agricolastr. 5\, 08280 Aue
CATEGORIES:Saison 2018/19
END:VEVENT
BEGIN:VEVENT
DTSTAMP:20260422T020454Z
DTSTART;TZID=Europe/Berlin:20190511T100000
DTEND;TZID=Europe/Berlin:20190511T110000
SUMMARY:Quali SL Gruppe A HSG Rottluff/Lok Chemnitz vs LHV Hoyerswerda (23)
UID:1257da27-4951-45da-8d0c-49452a9611ba
STATUS:CONFIRMED
LAST-MODIFIED:20190503T164119Z
DESCRIPTION:Qualifikation Sachsenliga Gruppe A\nBegegnungs-Nr: 23\nHeim: HSG Rottluff/Lok Chemnitz\nGast: LHV Hoyerswerda\nHalle: Sachsenhalle Chemnitz (32101)\nAdresse: Straße Usti nad Labem 275\, 09119 Chemnitz\n
LOCATION:Sachsenhalle Chemnitz (32101): Straße Usti nad Labem 275\, 09119 Chemnitz
CATEGORIES:Saison 2018/19
END:VEVENT
END:VCALENDAR
