BEGIN:VCALENDAR
PRODID:-//nuDatenautomaten//framework iCal4j //DE
VERSION:2.0
CALSCALE:GREGORIAN
BEGIN:VTIMEZONE
TZID:Europe/Berlin
LAST-MODIFIED:20260306T231828Z
TZURL:https://www.tzurl.org/zoneinfo/Europe/Berlin
X-LIC-LOCATION:Europe/Berlin
X-PROLEPTIC-TZNAME:LMT
BEGIN:STANDARD
TZNAME:CET
TZOFFSETFROM:+005328
TZOFFSETTO:+0100
DTSTART:18930401T000000
END:STANDARD
BEGIN:DAYLIGHT
TZNAME:CEST
TZOFFSETFROM:+0100
TZOFFSETTO:+0200
DTSTART:19160430T230000
RDATE:19400401T020000
RDATE:19430329T020000
RDATE:19460414T020000
RDATE:19470406T030000
RDATE:19480418T020000
RDATE:19490410T020000
RDATE:19800406T020000
END:DAYLIGHT
BEGIN:STANDARD
TZNAME:CET
TZOFFSETFROM:+0200
TZOFFSETTO:+0100
DTSTART:19161001T010000
RDATE:19421102T030000
RDATE:19431004T030000
RDATE:19441002T030000
RDATE:19451118T030000
RDATE:19461007T030000
END:STANDARD
BEGIN:DAYLIGHT
TZNAME:CEST
TZOFFSETFROM:+0100
TZOFFSETTO:+0200
DTSTART:19170416T020000
RRULE:FREQ=YEARLY;UNTIL=19180415T010000Z;BYMONTH=4;BYDAY=3MO
END:DAYLIGHT
BEGIN:STANDARD
TZNAME:CET
TZOFFSETFROM:+0200
TZOFFSETTO:+0100
DTSTART:19170917T030000
RRULE:FREQ=YEARLY;UNTIL=19180916T010000Z;BYMONTH=9;BYDAY=3MO
END:STANDARD
BEGIN:DAYLIGHT
TZNAME:CEST
TZOFFSETFROM:+0100
TZOFFSETTO:+0200
DTSTART:19440403T020000
RRULE:FREQ=YEARLY;UNTIL=19450402T010000Z;BYMONTH=4;BYDAY=1MO
END:DAYLIGHT
BEGIN:DAYLIGHT
TZNAME:CEMT
TZOFFSETFROM:+0200
TZOFFSETTO:+0300
DTSTART:19450524T020000
RDATE:19470511T030000
END:DAYLIGHT
BEGIN:DAYLIGHT
TZNAME:CEST
TZOFFSETFROM:+0300
TZOFFSETTO:+0200
DTSTART:19450924T030000
RDATE:19470629T030000
END:DAYLIGHT
BEGIN:STANDARD
TZNAME:CET
TZOFFSETFROM:+0100
TZOFFSETTO:+0100
DTSTART:19460101T000000
RDATE:19800101T000000
END:STANDARD
BEGIN:STANDARD
TZNAME:CET
TZOFFSETFROM:+0200
TZOFFSETTO:+0100
DTSTART:19471005T030000
RRULE:FREQ=YEARLY;UNTIL=19491002T010000Z;BYMONTH=10;BYDAY=1SU
END:STANDARD
BEGIN:STANDARD
TZNAME:CET
TZOFFSETFROM:+0200
TZOFFSETTO:+0100
DTSTART:19800928T030000
RRULE:FREQ=YEARLY;UNTIL=19950924T010000Z;BYMONTH=9;BYDAY=-1SU
END:STANDARD
BEGIN:DAYLIGHT
TZNAME:CEST
TZOFFSETFROM:+0100
TZOFFSETTO:+0200
DTSTART:19810329T020000
RRULE:FREQ=YEARLY;BYMONTH=3;BYDAY=-1SU
END:DAYLIGHT
BEGIN:STANDARD
TZNAME:CET
TZOFFSETFROM:+0200
TZOFFSETTO:+0100
DTSTART:19961027T030000
RRULE:FREQ=YEARLY;BYMONTH=10;BYDAY=-1SU
END:STANDARD
END:VTIMEZONE
BEGIN:VEVENT
DTSTAMP:20260423T132833Z
DTSTART;TZID=Europe/Berlin:20181124T193000
DTEND;TZID=Europe/Berlin:20181124T210000
SUMMARY:Sachsenliga (SLF) SV Schneeberg vs Radeberger SV (1057)
UID:b149a1a6-bc51-4b11-abb3-4373d68d3999
STATUS:CONFIRMED
LAST-MODIFIED:20190201T175117Z
DESCRIPTION:Sachsenliga Frauen\nBegegnungs-Nr: 1057\nHeim: SV Schneeberg\nGast: Radeberger SV\nHalle: Silberstrom-Halle Schneeberg (32307)\nAdresse: Keilbergring 20\, 08289 Schneeberg\n
LOCATION:Silberstrom-Halle Schneeberg (32307): Keilbergring 20\, 08289 Schneeberg
CATEGORIES:Saison 2018/19
END:VEVENT
BEGIN:VEVENT
DTSTAMP:20260423T132833Z
DTSTART;TZID=Europe/Berlin:20190126T193000
DTEND;TZID=Europe/Berlin:20190126T210000
SUMMARY:Sachsenliga (SLF) SV Schneeberg vs HSG Neudorf/Döbeln (1077)
UID:2416f572-834d-4798-a9b8-efb178ea16f4
STATUS:CONFIRMED
LAST-MODIFIED:20190201T180951Z
DESCRIPTION:Sachsenliga Frauen\nBegegnungs-Nr: 1077\nHeim: SV Schneeberg\nGast: HSG Neudorf/Döbeln\nHalle: Silberstrom-Halle Schneeberg (32307)\nAdresse: Keilbergring 20\, 08289 Schneeberg\n
LOCATION:Silberstrom-Halle Schneeberg (32307): Keilbergring 20\, 08289 Schneeberg
CATEGORIES:Saison 2018/19
END:VEVENT
BEGIN:VEVENT
DTSTAMP:20260423T132833Z
DTSTART;TZID=Europe/Berlin:20181215T193000
DTEND;TZID=Europe/Berlin:20181215T210000
SUMMARY:Sachsenliga (SLF) SV Schneeberg vs HV Chemnitz II (1072)
UID:becf38c9-47b7-4011-a8ff-1c880ddd7b51
STATUS:CONFIRMED
LAST-MODIFIED:20190201T180045Z
DESCRIPTION:Sachsenliga Frauen\nBegegnungs-Nr: 1072\nHeim: SV Schneeberg\nGast: HV Chemnitz II\nHalle: Silberstrom-Halle Schneeberg (32307)\nAdresse: Keilbergring 20\, 08289 Schneeberg\n
LOCATION:Silberstrom-Halle Schneeberg (32307): Keilbergring 20\, 08289 Schneeberg
CATEGORIES:Saison 2018/19
END:VEVENT
BEGIN:VEVENT
DTSTAMP:20260423T132833Z
DTSTART;TZID=Europe/Berlin:20190406T193000
DTEND;TZID=Europe/Berlin:20190406T210000
SUMMARY:Sachsenliga (SLF) SV Schneeberg vs HC Rödertal  II (1118)
UID:0aa93d36-7a33-40e6-b042-d34e164773ee
STATUS:CONFIRMED
LAST-MODIFIED:20190411T092500Z
DESCRIPTION:Sachsenliga Frauen\nBegegnungs-Nr: 1118\nHeim: SV Schneeberg\nGast: HC Rödertal  II\nHalle: Silberstrom-Halle Schneeberg (32307)\nAdresse: Keilbergring 20\, 08289 Schneeberg\n
LOCATION:Silberstrom-Halle Schneeberg (32307): Keilbergring 20\, 08289 Schneeberg
CATEGORIES:Saison 2018/19
END:VEVENT
BEGIN:VEVENT
DTSTAMP:20260423T132833Z
DTSTART;TZID=Europe/Berlin:20190427T160000
DTEND;TZID=Europe/Berlin:20190427T173000
SUMMARY:Sachsenliga (SLF) SV Schneeberg vs Rotation Weißenborn (1127)
UID:166dc18a-c9b8-41da-badb-95a35988b885
STATUS:CONFIRMED
LAST-MODIFIED:20190501T100919Z
DESCRIPTION:Sachsenliga Frauen\nBegegnungs-Nr: 1127\nHeim: SV Schneeberg\nGast: Rotation Weißenborn\nHalle: Silberstrom-Halle Schneeberg (32307)\nAdresse: Keilbergring 20\, 08289 Schneeberg\n
LOCATION:Silberstrom-Halle Schneeberg (32307): Keilbergring 20\, 08289 Schneeberg
CATEGORIES:Saison 2018/19
END:VEVENT
BEGIN:VEVENT
DTSTAMP:20260423T132833Z
DTSTART;TZID=Europe/Berlin:20181027T193000
DTEND;TZID=Europe/Berlin:20181027T210000
SUMMARY:Sachsenliga (SLF) SV Schneeberg vs HC Leipzig II (1032)
UID:8c32abfb-671c-40ca-84ca-815f211a8e39
STATUS:CONFIRMED
LAST-MODIFIED:20181101T130510Z
DESCRIPTION:Sachsenliga Frauen\nBegegnungs-Nr: 1032\nHeim: SV Schneeberg\nGast: HC Leipzig II\nHalle: Silberstrom-Halle Schneeberg (32307)\nAdresse: Keilbergring 20\, 08289 Schneeberg\n
LOCATION:Silberstrom-Halle Schneeberg (32307): Keilbergring 20\, 08289 Schneeberg
CATEGORIES:Saison 2018/19
END:VEVENT
BEGIN:VEVENT
DTSTAMP:20260423T132833Z
DTSTART;TZID=Europe/Berlin:20190316T193000
DTEND;TZID=Europe/Berlin:20190316T210000
SUMMARY:Sachsenliga (SLF) SV Schneeberg vs SC Markranstädt II (1106)
UID:77e913d9-f80a-494b-a926-883c8c338d5a
STATUS:CONFIRMED
LAST-MODIFIED:20190319T191454Z
DESCRIPTION:Sachsenliga Frauen\nBegegnungs-Nr: 1106\nHeim: SV Schneeberg\nGast: SC Markranstädt II\nHalle: Silberstrom-Halle Schneeberg (32307)\nAdresse: Keilbergring 20\, 08289 Schneeberg\n
LOCATION:Silberstrom-Halle Schneeberg (32307): Keilbergring 20\, 08289 Schneeberg
CATEGORIES:Saison 2018/19
END:VEVENT
BEGIN:VEVENT
DTSTAMP:20260423T132833Z
DTSTART;TZID=Europe/Berlin:20181110T193000
DTEND;TZID=Europe/Berlin:20181110T210000
SUMMARY:Sachsenliga (SLF) SV Schneeberg vs SV 04 Plauen-O. (1044)
UID:d6484d8e-9388-4599-9bbc-69e57b0ff7e7
STATUS:CONFIRMED
LAST-MODIFIED:20181113T151845Z
DESCRIPTION:Sachsenliga Frauen\nBegegnungs-Nr: 1044\nHeim: SV Schneeberg\nGast: SV 04 Plauen-O.\nHalle: Silberstrom-Halle Schneeberg (32307)\nAdresse: Keilbergring 20\, 08289 Schneeberg\n
LOCATION:Silberstrom-Halle Schneeberg (32307): Keilbergring 20\, 08289 Schneeberg
CATEGORIES:Saison 2018/19
END:VEVENT
BEGIN:VEVENT
DTSTAMP:20260423T132833Z
DTSTART;TZID=Europe/Berlin:20190216T193000
DTEND;TZID=Europe/Berlin:20190216T210000
SUMMARY:Sachsenliga (SLF) SV Schneeberg vs USV TU Dresden (1093)
UID:2228181e-0677-40a3-aa72-cc936f430586
STATUS:CONFIRMED
LAST-MODIFIED:20190217T094554Z
DESCRIPTION:Sachsenliga Frauen\nBegegnungs-Nr: 1093\nHeim: SV Schneeberg\nGast: USV TU Dresden\nHalle: Silberstrom-Halle Schneeberg (32307)\nAdresse: Keilbergring 20\, 08289 Schneeberg\n
LOCATION:Silberstrom-Halle Schneeberg (32307): Keilbergring 20\, 08289 Schneeberg
CATEGORIES:Saison 2018/19
END:VEVENT
BEGIN:VEVENT
DTSTAMP:20260423T132833Z
DTSTART;TZID=Europe/Berlin:20180922T193000
DTEND;TZID=Europe/Berlin:20180922T210000
SUMMARY:Sachsenliga (SLF) SV Schneeberg vs BSV Sa. Zwickau II (1017)
UID:bdffb2a4-539f-4637-ba50-6f5cba9202a4
STATUS:CONFIRMED
LAST-MODIFIED:20181101T095529Z
DESCRIPTION:Sachsenliga Frauen\nBegegnungs-Nr: 1017\nHeim: SV Schneeberg\nGast: BSV Sa. Zwickau II\nHalle: Silberstrom-Halle Schneeberg (32307)\nAdresse: Keilbergring 20\, 08289 Schneeberg\n
LOCATION:Silberstrom-Halle Schneeberg (32307): Keilbergring 20\, 08289 Schneeberg
CATEGORIES:Saison 2018/19
END:VEVENT
BEGIN:VEVENT
DTSTAMP:20260423T132833Z
DTSTART;TZID=Europe/Berlin:20190202T193000
DTEND;TZID=Europe/Berlin:20190202T210000
SUMMARY:Sachsenliga (SLF) SV Schneeberg vs HSV Marienberg (1081)
UID:7cad4b27-366b-430d-a9e6-551f97eb3805
STATUS:CONFIRMED
LAST-MODIFIED:20190212T170040Z
DESCRIPTION:Sachsenliga Frauen\nBegegnungs-Nr: 1081\nHeim: SV Schneeberg\nGast: HSV Marienberg\nHalle: Silberstrom-Halle Schneeberg (32307)\nAdresse: Keilbergring 20\, 08289 Schneeberg\n
LOCATION:Silberstrom-Halle Schneeberg (32307): Keilbergring 20\, 08289 Schneeberg
CATEGORIES:Saison 2018/19
END:VEVENT
BEGIN:VEVENT
DTSTAMP:20260423T132833Z
DTSTART;TZID=Europe/Berlin:20181209T163000
DTEND;TZID=Europe/Berlin:20181209T180000
SUMMARY:Sachsenliga (SLF) HV Chemnitz II vs SV Schneeberg (1070)
UID:02db5449-d127-4e97-b1a4-f2469b1a0e7f
STATUS:CONFIRMED
LAST-MODIFIED:20190201T175936Z
DESCRIPTION:Sachsenliga Frauen\nBegegnungs-Nr: 1070\nHeim: HV Chemnitz II\nGast: SV Schneeberg\nHalle: Sachsenhalle Chemnitz (32101)\nAdresse: Straße Usti nad Labem 275\, 09119 Chemnitz\n
LOCATION:Sachsenhalle Chemnitz (32101): Straße Usti nad Labem 275\, 09119 Chemnitz
CATEGORIES:Saison 2018/19
END:VEVENT
BEGIN:VEVENT
DTSTAMP:20260423T132833Z
DTSTART;TZID=Europe/Berlin:20190413T190000
DTEND;TZID=Europe/Berlin:20190413T203000
SUMMARY:Sachsenliga (SLF) Radeberger SV vs SV Schneeberg (1125)
UID:adabfe7f-404e-4837-a5f3-17aaea09b63a
STATUS:CONFIRMED
LAST-MODIFIED:20190423T063553Z
DESCRIPTION:Sachsenliga Frauen\nBegegnungs-Nr: 1125\nHeim: Radeberger SV\nGast: SV Schneeberg\nHalle: 3-Feld-Halle-BSZ Radeberg (34209)\nAdresse: Robert-Blum-Weg 5\, 01454 Radeberg\n
LOCATION:3-Feld-Halle-BSZ Radeberg (34209): Robert-Blum-Weg 5\, 01454 Radeberg
CATEGORIES:Saison 2018/19
END:VEVENT
BEGIN:VEVENT
DTSTAMP:20260423T132833Z
DTSTART;TZID=Europe/Berlin:20181021T160000
DTEND;TZID=Europe/Berlin:20181021T173000
SUMMARY:Sachsenliga (SLF) HSG Neudorf/Döbeln vs SV Schneeberg (1029)
UID:80a8e873-b604-42b9-abc8-8528ae652283
STATUS:CONFIRMED
LAST-MODIFIED:20181101T125702Z
DESCRIPTION:Sachsenliga Frauen\nBegegnungs-Nr: 1029\nHeim: HSG Neudorf/Döbeln\nGast: SV Schneeberg\nHalle: Stadt-SH Döbeln (31202)\nAdresse: Str. des Friedens 9\, 04720 Döbeln\n
LOCATION:Stadt-SH Döbeln (31202): Str. des Friedens 9\, 04720 Döbeln
CATEGORIES:Saison 2018/19
END:VEVENT
BEGIN:VEVENT
DTSTAMP:20260423T132833Z
DTSTART;TZID=Europe/Berlin:20181104T150000
DTEND;TZID=Europe/Berlin:20181104T163000
SUMMARY:Sachsenliga (SLF) SC Markranstädt II vs SV Schneeberg (1038)
UID:da66a2e9-a683-4411-b17d-77b827b84f07
STATUS:CONFIRMED
LAST-MODIFIED:20181108T140423Z
DESCRIPTION:Sachsenliga Frauen\nBegegnungs-Nr: 1038\nHeim: SC Markranstädt II\nGast: SV Schneeberg\nHalle: Sportcenter Markranstädt (31127)\nAdresse: Leipziger Str. 47\, 04420 Markranstädt\n
LOCATION:Sportcenter Markranstädt (31127): Leipziger Str. 47\, 04420 Markranstädt
CATEGORIES:Saison 2018/19
END:VEVENT
BEGIN:VEVENT
DTSTAMP:20260423T132833Z
DTSTART;TZID=Europe/Berlin:20190330T160000
DTEND;TZID=Europe/Berlin:20190330T173000
SUMMARY:Sachsenliga (SLF) SV 04 Plauen-O. vs SV Schneeberg (1109)
UID:de3c6ade-73cf-4646-92d6-89ab851de6cb
STATUS:CONFIRMED
LAST-MODIFIED:20190411T091209Z
DESCRIPTION:Sachsenliga Frauen\nBegegnungs-Nr: 1109\nHeim: SV 04 Plauen-O.\nGast: SV Schneeberg\nHalle: SH Kurt-Helbig Plauen (32701)\nAdresse: Comeniusstr. 15\, 08523 Plauen\n
LOCATION:SH Kurt-Helbig Plauen (32701): Comeniusstr. 15\, 08523 Plauen
CATEGORIES:Saison 2018/19
END:VEVENT
BEGIN:VEVENT
DTSTAMP:20260423T132833Z
DTSTART;TZID=Europe/Berlin:20180929T170000
DTEND;TZID=Europe/Berlin:20180929T183000
SUMMARY:Sachsenliga (SLF) USV TU Dresden vs SV Schneeberg (1022)
UID:f3d60777-e314-4e53-8e91-90b14376c08f
STATUS:CONFIRMED
LAST-MODIFIED:20181101T124621Z
DESCRIPTION:Sachsenliga Frauen\nBegegnungs-Nr: 1022\nHeim: USV TU Dresden\nGast: SV Schneeberg\nHalle: JOYNEXT Arena Dresden (Spielfeld 1) (33112a)\nAdresse: Magdeburger Straße 10\, 01067 Dresden\n
LOCATION:JOYNEXT Arena Dresden (Spielfeld 1) (33112a): Magdeburger Straße 10\, 01067 Dresden
CATEGORIES:Saison 2018/19
END:VEVENT
BEGIN:VEVENT
DTSTAMP:20260423T132833Z
DTSTART;TZID=Europe/Berlin:20181118T170000
DTEND;TZID=Europe/Berlin:20181118T183000
SUMMARY:Sachsenliga (SLF) HC Rödertal  II vs SV Schneeberg (1052)
UID:1ea09949-fbc5-40bc-8360-e58983417e84
STATUS:CONFIRMED
LAST-MODIFIED:20190201T174807Z
DESCRIPTION:Sachsenliga Frauen\nBegegnungs-Nr: 1052\nHeim: HC Rödertal  II\nGast: SV Schneeberg\nHalle: 3-Feld-Halle-GY Großröhrsdorf (34514)\nAdresse: Melanchthonstraße 21\, 01900  Großröhrsdorf\n
LOCATION:3-Feld-Halle-GY Großröhrsdorf (34514): Melanchthonstraße 21\, 01900  Großröhrsdorf
CATEGORIES:Saison 2018/19
END:VEVENT
BEGIN:VEVENT
DTSTAMP:20260423T132833Z
DTSTART;TZID=Europe/Berlin:20181201T160000
DTEND;TZID=Europe/Berlin:20181201T173000
SUMMARY:Sachsenliga (SLF) Rotation Weißenborn vs SV Schneeberg (1060)
UID:be70d459-1da6-4da7-b234-da5b15ceee36
STATUS:CONFIRMED
LAST-MODIFIED:20190201T175308Z
DESCRIPTION:Sachsenliga Frauen\nBegegnungs-Nr: 1060\nHeim: Rotation Weißenborn\nGast: SV Schneeberg\nHalle: SH Schoeller Weißenborn (32415)\nAdresse: Lichtenberger Straße 8\, 09600 Weißenborn\n
LOCATION:SH Schoeller Weißenborn (32415): Lichtenberger Straße 8\, 09600 Weißenborn
CATEGORIES:Saison 2018/19
END:VEVENT
BEGIN:VEVENT
DTSTAMP:20260423T132833Z
DTSTART;TZID=Europe/Berlin:20190309T173000
DTEND;TZID=Europe/Berlin:20190309T190000
SUMMARY:Sachsenliga (SLF) HC Leipzig II vs SV Schneeberg (1100)
UID:3d9621e2-8c9e-4dcc-87fe-8fb698a8fbd8
STATUS:CONFIRMED
LAST-MODIFIED:20190311T075622Z
DESCRIPTION:Sachsenliga Frauen\nBegegnungs-Nr: 1100\nHeim: HC Leipzig II\nGast: SV Schneeberg\nHalle: Kleine ARENA Leipzig (31117)\nAdresse: Am Sportforum 1\, 04105 Leipzig\n
LOCATION:Kleine ARENA Leipzig (31117): Am Sportforum 1\, 04105 Leipzig
CATEGORIES:Saison 2018/19
END:VEVENT
BEGIN:VEVENT
DTSTAMP:20260423T132833Z
DTSTART;TZID=Europe/Berlin:20190209T140000
DTEND;TZID=Europe/Berlin:20190209T153000
SUMMARY:Sachsenliga (SLF) BSV Sa. Zwickau II vs SV Schneeberg (1086)
UID:f5df4763-ad92-4237-aaca-16ef96c021b8
STATUS:CONFIRMED
LAST-MODIFIED:20190212T171843Z
DESCRIPTION:Sachsenliga Frauen\nBegegnungs-Nr: 1086\nHeim: BSV Sa. Zwickau II\nGast: SV Schneeberg\nHalle: SH Zwickau-Neuplanitz (32501)\nAdresse: Dortmunder Str. 7a\, 08062 Zwickau\n
LOCATION:SH Zwickau-Neuplanitz (32501): Dortmunder Str. 7a\, 08062 Zwickau
CATEGORIES:Saison 2018/19
END:VEVENT
BEGIN:VEVENT
DTSTAMP:20260423T132833Z
DTSTART;TZID=Europe/Berlin:20180915T173000
DTEND;TZID=Europe/Berlin:20180915T190000
SUMMARY:Sachsenliga (SLF) HSV Marienberg vs SV Schneeberg (1013)
UID:f5c224cc-c38b-4986-a83e-a0b705baed12
STATUS:CONFIRMED
LAST-MODIFIED:20190201T173329Z
DESCRIPTION:Sachsenliga Frauen\nBegegnungs-Nr: 1013\nHeim: HSV Marienberg\nGast: SV Schneeberg\nHalle: SH am Goldkindstein Marienberg (32416)\nAdresse: Dr.-Wilhelm-Külz-Allee 23\, 09496 Marienberg\n
LOCATION:SH am Goldkindstein Marienberg (32416): Dr.-Wilhelm-Külz-Allee 23\, 09496 Marienberg
CATEGORIES:Saison 2018/19
END:VEVENT
END:VCALENDAR
