BEGIN:VCALENDAR
PRODID:-//nuDatenautomaten//framework iCal4j //DE
VERSION:2.0
CALSCALE:GREGORIAN
BEGIN:VTIMEZONE
TZID:Europe/Berlin
LAST-MODIFIED:20260306T231828Z
TZURL:https://www.tzurl.org/zoneinfo/Europe/Berlin
X-LIC-LOCATION:Europe/Berlin
X-PROLEPTIC-TZNAME:LMT
BEGIN:STANDARD
TZNAME:CET
TZOFFSETFROM:+005328
TZOFFSETTO:+0100
DTSTART:18930401T000000
END:STANDARD
BEGIN:DAYLIGHT
TZNAME:CEST
TZOFFSETFROM:+0100
TZOFFSETTO:+0200
DTSTART:19160430T230000
RDATE:19400401T020000
RDATE:19430329T020000
RDATE:19460414T020000
RDATE:19470406T030000
RDATE:19480418T020000
RDATE:19490410T020000
RDATE:19800406T020000
END:DAYLIGHT
BEGIN:STANDARD
TZNAME:CET
TZOFFSETFROM:+0200
TZOFFSETTO:+0100
DTSTART:19161001T010000
RDATE:19421102T030000
RDATE:19431004T030000
RDATE:19441002T030000
RDATE:19451118T030000
RDATE:19461007T030000
END:STANDARD
BEGIN:DAYLIGHT
TZNAME:CEST
TZOFFSETFROM:+0100
TZOFFSETTO:+0200
DTSTART:19170416T020000
RRULE:FREQ=YEARLY;UNTIL=19180415T010000Z;BYMONTH=4;BYDAY=3MO
END:DAYLIGHT
BEGIN:STANDARD
TZNAME:CET
TZOFFSETFROM:+0200
TZOFFSETTO:+0100
DTSTART:19170917T030000
RRULE:FREQ=YEARLY;UNTIL=19180916T010000Z;BYMONTH=9;BYDAY=3MO
END:STANDARD
BEGIN:DAYLIGHT
TZNAME:CEST
TZOFFSETFROM:+0100
TZOFFSETTO:+0200
DTSTART:19440403T020000
RRULE:FREQ=YEARLY;UNTIL=19450402T010000Z;BYMONTH=4;BYDAY=1MO
END:DAYLIGHT
BEGIN:DAYLIGHT
TZNAME:CEMT
TZOFFSETFROM:+0200
TZOFFSETTO:+0300
DTSTART:19450524T020000
RDATE:19470511T030000
END:DAYLIGHT
BEGIN:DAYLIGHT
TZNAME:CEST
TZOFFSETFROM:+0300
TZOFFSETTO:+0200
DTSTART:19450924T030000
RDATE:19470629T030000
END:DAYLIGHT
BEGIN:STANDARD
TZNAME:CET
TZOFFSETFROM:+0100
TZOFFSETTO:+0100
DTSTART:19460101T000000
RDATE:19800101T000000
END:STANDARD
BEGIN:STANDARD
TZNAME:CET
TZOFFSETFROM:+0200
TZOFFSETTO:+0100
DTSTART:19471005T030000
RRULE:FREQ=YEARLY;UNTIL=19491002T010000Z;BYMONTH=10;BYDAY=1SU
END:STANDARD
BEGIN:STANDARD
TZNAME:CET
TZOFFSETFROM:+0200
TZOFFSETTO:+0100
DTSTART:19800928T030000
RRULE:FREQ=YEARLY;UNTIL=19950924T010000Z;BYMONTH=9;BYDAY=-1SU
END:STANDARD
BEGIN:DAYLIGHT
TZNAME:CEST
TZOFFSETFROM:+0100
TZOFFSETTO:+0200
DTSTART:19810329T020000
RRULE:FREQ=YEARLY;BYMONTH=3;BYDAY=-1SU
END:DAYLIGHT
BEGIN:STANDARD
TZNAME:CET
TZOFFSETFROM:+0200
TZOFFSETTO:+0100
DTSTART:19961027T030000
RRULE:FREQ=YEARLY;BYMONTH=10;BYDAY=-1SU
END:STANDARD
END:VTIMEZONE
BEGIN:VEVENT
DTSTAMP:20260422T013452Z
DTSTART;TZID=Europe/Berlin:20181202T120000
DTEND;TZID=Europe/Berlin:20181202T133000
SUMMARY:Verbandsliga Staffel West (VLFW) HV Chemnitz III vs Leipziger SV Südwest (5064)
UID:0503efad-ddda-42b1-9625-c25d9e527798
STATUS:CONFIRMED
LAST-MODIFIED:20181214T100538Z
DESCRIPTION:Verbandsliga Frauen Staffel West\nBegegnungs-Nr: 5064\nHeim: HV Chemnitz III\nGast: Leipziger SV Südwest\nHalle: Sachsenhalle Chemnitz (32101)\nAdresse: Straße Usti nad Labem 275\, 09119 Chemnitz\n
LOCATION:Sachsenhalle Chemnitz (32101): Straße Usti nad Labem 275\, 09119 Chemnitz
CATEGORIES:Saison 2018/19
END:VEVENT
BEGIN:VEVENT
DTSTAMP:20260422T013452Z
DTSTART;TZID=Europe/Berlin:20190407T120000
DTEND;TZID=Europe/Berlin:20190407T133000
SUMMARY:Verbandsliga Staffel West (VLFW) HV Chemnitz III vs VfL Waldheim 54 (5118)
UID:9fe8cce9-91b1-4d73-b947-19edbd45b983
STATUS:CONFIRMED
LAST-MODIFIED:20190523T114357Z
DESCRIPTION:Verbandsliga Frauen Staffel West\nBegegnungs-Nr: 5118\nHeim: HV Chemnitz III\nGast: VfL Waldheim 54\nHalle: Sachsenhalle Chemnitz (32101)\nAdresse: Straße Usti nad Labem 275\, 09119 Chemnitz\n
LOCATION:Sachsenhalle Chemnitz (32101): Straße Usti nad Labem 275\, 09119 Chemnitz
CATEGORIES:Saison 2018/19
END:VEVENT
BEGIN:VEVENT
DTSTAMP:20260422T013452Z
DTSTART;TZID=Europe/Berlin:20190413T130000
DTEND;TZID=Europe/Berlin:20190413T143000
SUMMARY:Verbandsliga Staffel West (VLFW) HV Chemnitz III vs HSV Marienberg II (5121)
UID:73699595-319b-4931-9c6a-986b4dbb2b68
STATUS:CONFIRMED
LAST-MODIFIED:20190523T114458Z
DESCRIPTION:Verbandsliga Frauen Staffel West\nBegegnungs-Nr: 5121\nHeim: HV Chemnitz III\nGast: HSV Marienberg II\nHalle: Sachsenhalle Chemnitz (32101)\nAdresse: Straße Usti nad Labem 275\, 09119 Chemnitz\n
LOCATION:Sachsenhalle Chemnitz (32101): Straße Usti nad Labem 275\, 09119 Chemnitz
CATEGORIES:Saison 2018/19
END:VEVENT
BEGIN:VEVENT
DTSTAMP:20260422T013452Z
DTSTART;TZID=Europe/Berlin:20181028T143000
DTEND;TZID=Europe/Berlin:20181028T160000
SUMMARY:Verbandsliga Staffel West (VLFW) HV Chemnitz III vs SV 04 Plauen-O. II (5034)
UID:df590286-1b9d-48ef-9927-6e768a8e6502
STATUS:CONFIRMED
LAST-MODIFIED:20181109T143419Z
DESCRIPTION:Verbandsliga Frauen Staffel West\nBegegnungs-Nr: 5034\nHeim: HV Chemnitz III\nGast: SV 04 Plauen-O. II\nHalle: Sachsenhalle Chemnitz (32101)\nAdresse: Straße Usti nad Labem 275\, 09119 Chemnitz\n
LOCATION:Sachsenhalle Chemnitz (32101): Straße Usti nad Labem 275\, 09119 Chemnitz
CATEGORIES:Saison 2018/19
END:VEVENT
BEGIN:VEVENT
DTSTAMP:20260422T013452Z
DTSTART;TZID=Europe/Berlin:20181209T143000
DTEND;TZID=Europe/Berlin:20181209T160000
SUMMARY:Verbandsliga Staffel West (VLFW) HV Chemnitz III vs TSG Schkeuditz (5070)
UID:d9b91cdb-85bd-4ac2-9ceb-5a1d0c828c8d
STATUS:CONFIRMED
LAST-MODIFIED:20181214T104629Z
DESCRIPTION:Verbandsliga Frauen Staffel West\nBegegnungs-Nr: 5070\nHeim: HV Chemnitz III\nGast: TSG Schkeuditz\nHalle: Sachsenhalle Chemnitz (32101)\nAdresse: Straße Usti nad Labem 275\, 09119 Chemnitz\n
LOCATION:Sachsenhalle Chemnitz (32101): Straße Usti nad Labem 275\, 09119 Chemnitz
CATEGORIES:Saison 2018/19
END:VEVENT
BEGIN:VEVENT
DTSTAMP:20260422T013452Z
DTSTART;TZID=Europe/Berlin:20190203T143000
DTEND;TZID=Europe/Berlin:20190203T160000
SUMMARY:Verbandsliga Staffel West (VLFW) HV Chemnitz III vs HC Glauchau/Meerane (5083)
UID:e96faff9-10e2-4f87-ad95-f2d014317f16
STATUS:CONFIRMED
LAST-MODIFIED:20190204T092003Z
DESCRIPTION:Verbandsliga Frauen Staffel West\nBegegnungs-Nr: 5083\nHeim: HV Chemnitz III\nGast: HC Glauchau/Meerane\nHalle: Sachsenhalle Chemnitz (32101)\nAdresse: Straße Usti nad Labem 275\, 09119 Chemnitz\n
LOCATION:Sachsenhalle Chemnitz (32101): Straße Usti nad Labem 275\, 09119 Chemnitz
CATEGORIES:Saison 2018/19
END:VEVENT
BEGIN:VEVENT
DTSTAMP:20260422T013452Z
DTSTART;TZID=Europe/Berlin:20181007T140000
DTEND;TZID=Europe/Berlin:20181007T153000
SUMMARY:Verbandsliga Staffel West (VLFW) HV Chemnitz III vs Turbine Leipzig (5023)
UID:4d68d8f0-f952-40e2-b0b0-9fbb4db16e7b
STATUS:CONFIRMED
LAST-MODIFIED:20181109T142939Z
DESCRIPTION:Verbandsliga Frauen Staffel West\nBegegnungs-Nr: 5023\nHeim: HV Chemnitz III\nGast: Turbine Leipzig\nHalle: Sachsenhalle Chemnitz (32101)\nAdresse: Straße Usti nad Labem 275\, 09119 Chemnitz\n
LOCATION:Sachsenhalle Chemnitz (32101): Straße Usti nad Labem 275\, 09119 Chemnitz
CATEGORIES:Saison 2018/19
END:VEVENT
BEGIN:VEVENT
DTSTAMP:20260422T013452Z
DTSTART;TZID=Europe/Berlin:20181111T120000
DTEND;TZID=Europe/Berlin:20181111T133000
SUMMARY:Verbandsliga Staffel West (VLFW) HV Chemnitz III vs HSG Riesa/Oschatz II (5045)
UID:948b4a96-6622-4995-9a37-94e465f88a8c
STATUS:CONFIRMED
LAST-MODIFIED:20181214T082233Z
DESCRIPTION:Verbandsliga Frauen Staffel West\nBegegnungs-Nr: 5045\nHeim: HV Chemnitz III\nGast: HSG Riesa/Oschatz II\nHalle: Sachsenhalle Chemnitz (32101)\nAdresse: Straße Usti nad Labem 275\, 09119 Chemnitz\n
LOCATION:Sachsenhalle Chemnitz (32101): Straße Usti nad Labem 275\, 09119 Chemnitz
CATEGORIES:Saison 2018/19
END:VEVENT
BEGIN:VEVENT
DTSTAMP:20260422T013452Z
DTSTART;TZID=Europe/Berlin:20180909T143000
DTEND;TZID=Europe/Berlin:20180909T160000
SUMMARY:Verbandsliga Staffel West (VLFW) HV Chemnitz III vs Zwönitzer HSV (5010)
UID:8ed8a9ae-d5ab-4d98-8ec0-7484c30c79c1
STATUS:CONFIRMED
LAST-MODIFIED:20180911T134338Z
DESCRIPTION:Verbandsliga Frauen Staffel West\nBegegnungs-Nr: 5010\nHeim: HV Chemnitz III\nGast: Zwönitzer HSV\nHalle: Sachsenhalle Chemnitz (32101)\nAdresse: Straße Usti nad Labem 275\, 09119 Chemnitz\n
LOCATION:Sachsenhalle Chemnitz (32101): Straße Usti nad Labem 275\, 09119 Chemnitz
CATEGORIES:Saison 2018/19
END:VEVENT
BEGIN:VEVENT
DTSTAMP:20260422T013452Z
DTSTART;TZID=Europe/Berlin:20190217T143000
DTEND;TZID=Europe/Berlin:20190217T160000
SUMMARY:Verbandsliga Staffel West (VLFW) HV Chemnitz III vs HSV Mölkau - Die Haie  (5095)
UID:decf4243-07ae-433a-9f3d-1a1c737ae78a
STATUS:CONFIRMED
LAST-MODIFIED:20190523T113348Z
DESCRIPTION:Verbandsliga Frauen Staffel West\nBegegnungs-Nr: 5095\nHeim: HV Chemnitz III\nGast: HSV Mölkau - Die Haie \nHalle: Sachsenhalle Chemnitz (32101)\nAdresse: Straße Usti nad Labem 275\, 09119 Chemnitz\n
LOCATION:Sachsenhalle Chemnitz (32101): Straße Usti nad Labem 275\, 09119 Chemnitz
CATEGORIES:Saison 2018/19
END:VEVENT
BEGIN:VEVENT
DTSTAMP:20260422T013452Z
DTSTART;TZID=Europe/Berlin:20190317T143000
DTEND;TZID=Europe/Berlin:20190317T160000
SUMMARY:Verbandsliga Staffel West (VLFW) HV Chemnitz III vs TuS Leipzig-Mockau (5107)
UID:471d7571-a5ef-4a13-98e8-a561e6139368
STATUS:CONFIRMED
LAST-MODIFIED:20190523T113843Z
DESCRIPTION:Verbandsliga Frauen Staffel West\nBegegnungs-Nr: 5107\nHeim: HV Chemnitz III\nGast: TuS Leipzig-Mockau\nHalle: Sachsenhalle Chemnitz (32101)\nAdresse: Straße Usti nad Labem 275\, 09119 Chemnitz\n
LOCATION:Sachsenhalle Chemnitz (32101): Straße Usti nad Labem 275\, 09119 Chemnitz
CATEGORIES:Saison 2018/19
END:VEVENT
BEGIN:VEVENT
DTSTAMP:20260422T013452Z
DTSTART;TZID=Europe/Berlin:20181124T153000
DTEND;TZID=Europe/Berlin:20181124T170000
SUMMARY:Verbandsliga Staffel West (VLFW) HSV Marienberg II vs HV Chemnitz III (5057)
UID:53500cdf-2514-4612-b78f-3836393d99fe
STATUS:CONFIRMED
LAST-MODIFIED:20181214T100630Z
DESCRIPTION:Verbandsliga Frauen Staffel West\nBegegnungs-Nr: 5057\nHeim: HSV Marienberg II\nGast: HV Chemnitz III\nHalle: SH am Goldkindstein Marienberg (32416)\nAdresse: Dr.-Wilhelm-Külz-Allee 23\, 09496 Marienberg\n
LOCATION:SH am Goldkindstein Marienberg (32416): Dr.-Wilhelm-Külz-Allee 23\, 09496 Marienberg
CATEGORIES:Saison 2018/19
END:VEVENT
BEGIN:VEVENT
DTSTAMP:20260422T013452Z
DTSTART;TZID=Europe/Berlin:20190330T150000
DTEND;TZID=Europe/Berlin:20190330T163000
SUMMARY:Verbandsliga Staffel West (VLFW) HSG Riesa/Oschatz II vs HV Chemnitz III (5111)
UID:a082377f-265d-4a28-9f7b-e0a4d1c1b987
STATUS:CONFIRMED
LAST-MODIFIED:20190523T114111Z
DESCRIPTION:Verbandsliga Frauen Staffel West\nBegegnungs-Nr: 5111\nHeim: HSG Riesa/Oschatz II\nGast: HV Chemnitz III\nHalle: WM-Sporthalle Riesa (33213)\nAdresse: Am Sportzentrum 1\, 01587 Riesa\n
LOCATION:WM-Sporthalle Riesa (33213): Am Sportzentrum 1\, 01587 Riesa
CATEGORIES:Saison 2018/19
END:VEVENT
BEGIN:VEVENT
DTSTAMP:20260422T013452Z
DTSTART;TZID=Europe/Berlin:20190209T160000
DTEND;TZID=Europe/Berlin:20190209T173000
SUMMARY:Verbandsliga Staffel West (VLFW) Turbine Leipzig vs HV Chemnitz III (5085)
UID:5082c980-f601-44dd-9b74-32159409aaf1
STATUS:CONFIRMED
LAST-MODIFIED:20190215T101301Z
DESCRIPTION:Verbandsliga Frauen Staffel West\nBegegnungs-Nr: 5085\nHeim: Turbine Leipzig\nGast: HV Chemnitz III\nHalle: SH Ostwald Gymnasium Leipzig-Lößnig (31105)\nAdresse: Willi-Bredel-Str. 13\, 04279 Leipzig\n
LOCATION:SH Ostwald Gymnasium Leipzig-Lößnig (31105): Willi-Bredel-Str. 13\, 04279 Leipzig
CATEGORIES:Saison 2018/19
END:VEVENT
BEGIN:VEVENT
DTSTAMP:20260422T013452Z
DTSTART;TZID=Europe/Berlin:20190310T160000
DTEND;TZID=Europe/Berlin:20190310T173000
SUMMARY:Verbandsliga Staffel West (VLFW) SV 04 Plauen-O. II vs HV Chemnitz III (5102)
UID:6d1111d3-2d62-4f33-8c58-19a3a427a897
STATUS:CONFIRMED
LAST-MODIFIED:20190523T113629Z
DESCRIPTION:Verbandsliga Frauen Staffel West\nBegegnungs-Nr: 5102\nHeim: SV 04 Plauen-O. II\nGast: HV Chemnitz III\nHalle: SH Kurt-Helbig Plauen (32701)\nAdresse: Comeniusstr. 15\, 08523 Plauen\n
LOCATION:SH Kurt-Helbig Plauen (32701): Comeniusstr. 15\, 08523 Plauen
CATEGORIES:Saison 2018/19
END:VEVENT
BEGIN:VEVENT
DTSTAMP:20260422T013452Z
DTSTART;TZID=Europe/Berlin:20190428T140000
DTEND;TZID=Europe/Berlin:20190428T153000
SUMMARY:Verbandsliga Staffel West (VLFW) Leipziger SV Südwest vs HV Chemnitz III (5128)
UID:b744f641-6afd-476e-b3b3-36d2c15d3049
STATUS:CONFIRMED
LAST-MODIFIED:20190523T114707Z
DESCRIPTION:Verbandsliga Frauen Staffel West\nBegegnungs-Nr: 5128\nHeim: Leipziger SV Südwest\nGast: HV Chemnitz III\nHalle: SH An der Radrennbahn Leipzig (31128)\nAdresse: Windorfer Straße 63\, 04229 Leipzig\n
LOCATION:SH An der Radrennbahn Leipzig (31128): Windorfer Straße 63\, 04229 Leipzig
CATEGORIES:Saison 2018/19
END:VEVENT
BEGIN:VEVENT
DTSTAMP:20260422T013452Z
DTSTART;TZID=Europe/Berlin:20180930T140000
DTEND;TZID=Europe/Berlin:20180930T153000
SUMMARY:Verbandsliga Staffel West (VLFW) HSV Mölkau - Die Haie  vs HV Chemnitz III (5027)
UID:5d16a9b0-9dd2-464d-9250-b63591f8775e
STATUS:CONFIRMED
LAST-MODIFIED:20181109T141826Z
DESCRIPTION:Verbandsliga Frauen Staffel West\nBegegnungs-Nr: 5027\nHeim: HSV Mölkau - Die Haie \nGast: HV Chemnitz III\nHalle: SH Oberschule Leipzig-Mölkau (31106)\nAdresse: Schulstr. 6\, 04316 Leipzig\n
LOCATION:SH Oberschule Leipzig-Mölkau (31106): Schulstr. 6\, 04316 Leipzig
CATEGORIES:Saison 2018/19
END:VEVENT
BEGIN:VEVENT
DTSTAMP:20260422T013452Z
DTSTART;TZID=Europe/Berlin:20181103T180000
DTEND;TZID=Europe/Berlin:20181103T193000
SUMMARY:Verbandsliga Staffel West (VLFW) TuS Leipzig-Mockau vs HV Chemnitz III (5039)
UID:94a3eac1-3be7-43b4-b235-32841e8ca316
STATUS:CONFIRMED
LAST-MODIFIED:20181109T141329Z
DESCRIPTION:Verbandsliga Frauen Staffel West\nBegegnungs-Nr: 5039\nHeim: TuS Leipzig-Mockau\nGast: HV Chemnitz III\nHalle: Rosenow-SH Leipzig (31124)\nAdresse: Rosenowstraße 60\, 04357 Leipzig\n
LOCATION:Rosenow-SH Leipzig (31124): Rosenowstraße 60\, 04357 Leipzig
CATEGORIES:Saison 2018/19
END:VEVENT
BEGIN:VEVENT
DTSTAMP:20260422T013452Z
DTSTART;TZID=Europe/Berlin:20181117T150000
DTEND;TZID=Europe/Berlin:20181117T163000
SUMMARY:Verbandsliga Staffel West (VLFW) VfL Waldheim 54 vs HV Chemnitz III (5050)
UID:498cd8c0-f0da-466e-ac60-737595991120
STATUS:CONFIRMED
LAST-MODIFIED:20181214T100855Z
DESCRIPTION:Verbandsliga Frauen Staffel West\nBegegnungs-Nr: 5050\nHeim: VfL Waldheim 54\nGast: HV Chemnitz III\nHalle: Stadt-SH Waldheim (31204)\nAdresse: Am Schulberg 3 (Anfahrt zum Parkplatz über die Schönberger Straße)\, 04736 Waldheim\n
LOCATION:Stadt-SH Waldheim (31204): Am Schulberg 3 (Anfahrt zum Parkplatz über die Schönberger Straße)\, 04736 Waldheim
CATEGORIES:Saison 2018/19
END:VEVENT
BEGIN:VEVENT
DTSTAMP:20260422T013452Z
DTSTART;TZID=Europe/Berlin:20180901T160000
DTEND;TZID=Europe/Berlin:20180901T173000
SUMMARY:Verbandsliga Staffel West (VLFW) TSG Schkeuditz vs HV Chemnitz III (5004)
UID:98e9392c-d7df-4f56-a808-107a3a2e1aad
STATUS:CONFIRMED
LAST-MODIFIED:20180907T134410Z
DESCRIPTION:Verbandsliga Frauen Staffel West\nBegegnungs-Nr: 5004\nHeim: TSG Schkeuditz\nGast: HV Chemnitz III\nHalle: Drei-Felder SH Schkeuditz (31409)\nAdresse: Lessingstraße 8a\, 04435 Schkeuditz\n
LOCATION:Drei-Felder SH Schkeuditz (31409): Lessingstraße 8a\, 04435 Schkeuditz
CATEGORIES:Saison 2018/19
END:VEVENT
BEGIN:VEVENT
DTSTAMP:20260422T013452Z
DTSTART;TZID=Europe/Berlin:20180916T160000
DTEND;TZID=Europe/Berlin:20180916T173000
SUMMARY:Verbandsliga Staffel West (VLFW) HC Glauchau/Meerane vs HV Chemnitz III (5017)
UID:73e87a23-9f48-4197-aa7d-4ab7ad2a4b66
STATUS:CONFIRMED
LAST-MODIFIED:20180917T120722Z
DESCRIPTION:Verbandsliga Frauen Staffel West\nBegegnungs-Nr: 5017\nHeim: HC Glauchau/Meerane\nGast: HV Chemnitz III\nHalle: SH Meerane (32202)\nAdresse: Leipziger Str. 7\, 08393 Meerane\n
LOCATION:SH Meerane (32202): Leipziger Str. 7\, 08393 Meerane
CATEGORIES:Saison 2018/19
END:VEVENT
BEGIN:VEVENT
DTSTAMP:20260422T013452Z
DTSTART;TZID=Europe/Berlin:20190126T140000
DTEND;TZID=Europe/Berlin:20190126T153000
SUMMARY:Verbandsliga Staffel West (VLFW) Zwönitzer HSV vs HV Chemnitz III (5074)
UID:6359da43-2bd9-40ce-989d-501071df75a0
STATUS:CONFIRMED
LAST-MODIFIED:20190204T090501Z
DESCRIPTION:Verbandsliga Frauen Staffel West\nBegegnungs-Nr: 5074\nHeim: Zwönitzer HSV\nGast: HV Chemnitz III\nHalle: SH Zwönitz (32301)\nAdresse: Turnhallenweg 5\, 08297 Zwönitz\n
LOCATION:SH Zwönitz (32301): Turnhallenweg 5\, 08297 Zwönitz
CATEGORIES:Saison 2018/19
END:VEVENT
END:VCALENDAR
