BEGIN:VCALENDAR
PRODID:-//nuDatenautomaten//framework iCal4j //DE
VERSION:2.0
CALSCALE:GREGORIAN
BEGIN:VTIMEZONE
TZID:Europe/Berlin
LAST-MODIFIED:20260306T231828Z
TZURL:https://www.tzurl.org/zoneinfo/Europe/Berlin
X-LIC-LOCATION:Europe/Berlin
X-PROLEPTIC-TZNAME:LMT
BEGIN:STANDARD
TZNAME:CET
TZOFFSETFROM:+005328
TZOFFSETTO:+0100
DTSTART:18930401T000000
END:STANDARD
BEGIN:DAYLIGHT
TZNAME:CEST
TZOFFSETFROM:+0100
TZOFFSETTO:+0200
DTSTART:19160430T230000
RDATE:19400401T020000
RDATE:19430329T020000
RDATE:19460414T020000
RDATE:19470406T030000
RDATE:19480418T020000
RDATE:19490410T020000
RDATE:19800406T020000
END:DAYLIGHT
BEGIN:STANDARD
TZNAME:CET
TZOFFSETFROM:+0200
TZOFFSETTO:+0100
DTSTART:19161001T010000
RDATE:19421102T030000
RDATE:19431004T030000
RDATE:19441002T030000
RDATE:19451118T030000
RDATE:19461007T030000
END:STANDARD
BEGIN:DAYLIGHT
TZNAME:CEST
TZOFFSETFROM:+0100
TZOFFSETTO:+0200
DTSTART:19170416T020000
RRULE:FREQ=YEARLY;UNTIL=19180415T010000Z;BYMONTH=4;BYDAY=3MO
END:DAYLIGHT
BEGIN:STANDARD
TZNAME:CET
TZOFFSETFROM:+0200
TZOFFSETTO:+0100
DTSTART:19170917T030000
RRULE:FREQ=YEARLY;UNTIL=19180916T010000Z;BYMONTH=9;BYDAY=3MO
END:STANDARD
BEGIN:DAYLIGHT
TZNAME:CEST
TZOFFSETFROM:+0100
TZOFFSETTO:+0200
DTSTART:19440403T020000
RRULE:FREQ=YEARLY;UNTIL=19450402T010000Z;BYMONTH=4;BYDAY=1MO
END:DAYLIGHT
BEGIN:DAYLIGHT
TZNAME:CEMT
TZOFFSETFROM:+0200
TZOFFSETTO:+0300
DTSTART:19450524T020000
RDATE:19470511T030000
END:DAYLIGHT
BEGIN:DAYLIGHT
TZNAME:CEST
TZOFFSETFROM:+0300
TZOFFSETTO:+0200
DTSTART:19450924T030000
RDATE:19470629T030000
END:DAYLIGHT
BEGIN:STANDARD
TZNAME:CET
TZOFFSETFROM:+0100
TZOFFSETTO:+0100
DTSTART:19460101T000000
RDATE:19800101T000000
END:STANDARD
BEGIN:STANDARD
TZNAME:CET
TZOFFSETFROM:+0200
TZOFFSETTO:+0100
DTSTART:19471005T030000
RRULE:FREQ=YEARLY;UNTIL=19491002T010000Z;BYMONTH=10;BYDAY=1SU
END:STANDARD
BEGIN:STANDARD
TZNAME:CET
TZOFFSETFROM:+0200
TZOFFSETTO:+0100
DTSTART:19800928T030000
RRULE:FREQ=YEARLY;UNTIL=19950924T010000Z;BYMONTH=9;BYDAY=-1SU
END:STANDARD
BEGIN:DAYLIGHT
TZNAME:CEST
TZOFFSETFROM:+0100
TZOFFSETTO:+0200
DTSTART:19810329T020000
RRULE:FREQ=YEARLY;BYMONTH=3;BYDAY=-1SU
END:DAYLIGHT
BEGIN:STANDARD
TZNAME:CET
TZOFFSETFROM:+0200
TZOFFSETTO:+0100
DTSTART:19961027T030000
RRULE:FREQ=YEARLY;BYMONTH=10;BYDAY=-1SU
END:STANDARD
END:VTIMEZONE
BEGIN:VEVENT
DTSTAMP:20260423T004049Z
DTSTART;TZID=Europe/Berlin:20181111T103000
DTEND;TZID=Europe/Berlin:20181111T113000
SUMMARY:Sachsenliga mJC Koweg Görlitz vs LHV Hoyerswerda (541)
UID:33ac59b0-2e06-4e30-ba63-3aa4c7c2f7eb
STATUS:CONFIRMED
LAST-MODIFIED:20190128T152240Z
DESCRIPTION:Sachsenliga männliche Jugend C\nBegegnungs-Nr: 541\nHeim: Koweg Görlitz\nGast: LHV Hoyerswerda\nHalle: SH Rauschwalde (34301)\nAdresse: Diesterwegplatz 8\, 02827 Görlitz\n
LOCATION:SH Rauschwalde (34301): Diesterwegplatz 8\, 02827 Görlitz
CATEGORIES:Saison 2018/19
END:VEVENT
BEGIN:VEVENT
DTSTAMP:20260423T004049Z
DTSTART;TZID=Europe/Berlin:20180916T121500
DTEND;TZID=Europe/Berlin:20180916T131500
SUMMARY:Sachsenliga mJC Koweg Görlitz vs SC DHfK Leipzig (506)
UID:312db590-3466-4949-b150-110c072000b2
STATUS:CONFIRMED
LAST-MODIFIED:20180924T155800Z
DESCRIPTION:Sachsenliga männliche Jugend C\nBegegnungs-Nr: 506\nHeim: Koweg Görlitz\nGast: SC DHfK Leipzig\nHalle: SH Rauschwalde (34301)\nAdresse: Diesterwegplatz 8\, 02827 Görlitz\n
LOCATION:SH Rauschwalde (34301): Diesterwegplatz 8\, 02827 Görlitz
CATEGORIES:Saison 2018/19
END:VEVENT
BEGIN:VEVENT
DTSTAMP:20260423T004049Z
DTSTART;TZID=Europe/Berlin:20180909T140000
DTEND;TZID=Europe/Berlin:20180909T150000
SUMMARY:Sachsenliga mJC Koweg Görlitz vs SG LVB (505)
UID:faf9d91b-5f4b-4d25-aef8-521527d300b1
STATUS:CONFIRMED
LAST-MODIFIED:20180924T155449Z
DESCRIPTION:Sachsenliga männliche Jugend C\nBegegnungs-Nr: 505\nHeim: Koweg Görlitz\nGast: SG LVB\nHalle: SH Rauschwalde (34301)\nAdresse: Diesterwegplatz 8\, 02827 Görlitz\n
LOCATION:SH Rauschwalde (34301): Diesterwegplatz 8\, 02827 Görlitz
CATEGORIES:Saison 2018/19
END:VEVENT
BEGIN:VEVENT
DTSTAMP:20260423T004049Z
DTSTART;TZID=Europe/Berlin:20180930T121500
DTEND;TZID=Europe/Berlin:20180930T131500
SUMMARY:Sachsenliga mJC Koweg Görlitz vs HSG Freiberg (517)
UID:1256e2af-ec42-4c0e-921c-d47db6b60130
STATUS:CONFIRMED
LAST-MODIFIED:20190118T175531Z
DESCRIPTION:Sachsenliga männliche Jugend C\nBegegnungs-Nr: 517\nHeim: Koweg Görlitz\nGast: HSG Freiberg\nHalle: SH Rauschwalde (34301)\nAdresse: Diesterwegplatz 8\, 02827 Görlitz\n
LOCATION:SH Rauschwalde (34301): Diesterwegplatz 8\, 02827 Görlitz
CATEGORIES:Saison 2018/19
END:VEVENT
BEGIN:VEVENT
DTSTAMP:20260423T004049Z
DTSTART;TZID=Europe/Berlin:20181003T143000
DTEND;TZID=Europe/Berlin:20181003T153000
SUMMARY:Sachsenliga mJC Koweg Görlitz vs NSG Oelsnitz/Oberlosa (522)
UID:adea790f-6c46-48cc-9f3a-1e89268f36f3
STATUS:CONFIRMED
LAST-MODIFIED:20190128T150441Z
DESCRIPTION:Sachsenliga männliche Jugend C\nBegegnungs-Nr: 522\nHeim: Koweg Görlitz\nGast: NSG Oelsnitz/Oberlosa\nHalle: SH Rauschwalde (34301)\nAdresse: Diesterwegplatz 8\, 02827 Görlitz\n
LOCATION:SH Rauschwalde (34301): Diesterwegplatz 8\, 02827 Görlitz
CATEGORIES:Saison 2018/19
END:VEVENT
BEGIN:VEVENT
DTSTAMP:20260423T004049Z
DTSTART;TZID=Europe/Berlin:20190202T154500
DTEND;TZID=Europe/Berlin:20190202T164500
SUMMARY:Sachsenliga mJC Koweg Görlitz vs NSG Westsachsen (573)
UID:ff4ad927-0e55-41de-9ab1-f4b5accaad9e
STATUS:CONFIRMED
LAST-MODIFIED:20190211T170254Z
DESCRIPTION:Sachsenliga männliche Jugend C\nBegegnungs-Nr: 573\nHeim: Koweg Görlitz\nGast: NSG Westsachsen\nHalle: SH Rauschwalde (34301)\nAdresse: Diesterwegplatz 8\, 02827 Görlitz\n
LOCATION:SH Rauschwalde (34301): Diesterwegplatz 8\, 02827 Görlitz
CATEGORIES:Saison 2018/19
END:VEVENT
BEGIN:VEVENT
DTSTAMP:20260423T004049Z
DTSTART;TZID=Europe/Berlin:20190310T121500
DTEND;TZID=Europe/Berlin:20190310T131500
SUMMARY:Sachsenliga mJC Koweg Görlitz vs NSG EHV/NH Aue (582)
UID:59f6f3be-83a9-49db-8a14-b3baa3b11429
STATUS:CONFIRMED
LAST-MODIFIED:20190311T165411Z
DESCRIPTION:Sachsenliga männliche Jugend C\nBegegnungs-Nr: 582\nHeim: Koweg Görlitz\nGast: NSG EHV/NH Aue\nHalle: SH Rauschwalde (34301)\nAdresse: Diesterwegplatz 8\, 02827 Görlitz\n
LOCATION:SH Rauschwalde (34301): Diesterwegplatz 8\, 02827 Görlitz
CATEGORIES:Saison 2018/19
END:VEVENT
BEGIN:VEVENT
DTSTAMP:20260423T004049Z
DTSTART;TZID=Europe/Berlin:20180923T140000
DTEND;TZID=Europe/Berlin:20180923T150000
SUMMARY:Sachsenliga mJC Koweg Görlitz vs HC Elbflorenz 2006 (511)
UID:f37b59ca-32d8-4499-b3c6-b1e9ef29fa23
STATUS:CONFIRMED
LAST-MODIFIED:20190108T115509Z
DESCRIPTION:Sachsenliga männliche Jugend C\nBegegnungs-Nr: 511\nHeim: Koweg Görlitz\nGast: HC Elbflorenz 2006\nHalle: SH Rauschwalde (34301)\nAdresse: Diesterwegplatz 8\, 02827 Görlitz\n
LOCATION:SH Rauschwalde (34301): Diesterwegplatz 8\, 02827 Görlitz
CATEGORIES:Saison 2018/19
END:VEVENT
BEGIN:VEVENT
DTSTAMP:20260423T004049Z
DTSTART;TZID=Europe/Berlin:20190106T130000
DTEND;TZID=Europe/Berlin:20190106T140000
SUMMARY:Sachsenliga mJC Koweg Görlitz vs HSV Dresden (589)
UID:e180e2c0-3bb3-4eaf-ad3a-8b1c4dff879f
STATUS:CONFIRMED
LAST-MODIFIED:20190111T144149Z
DESCRIPTION:Sachsenliga männliche Jugend C\nBegegnungs-Nr: 589\nHeim: Koweg Görlitz\nGast: HSV Dresden\nHalle: SH Rauschwalde (34301)\nAdresse: Diesterwegplatz 8\, 02827 Görlitz\n
LOCATION:SH Rauschwalde (34301): Diesterwegplatz 8\, 02827 Görlitz
CATEGORIES:Saison 2018/19
END:VEVENT
BEGIN:VEVENT
DTSTAMP:20260423T004049Z
DTSTART;TZID=Europe/Berlin:20181209T130000
DTEND;TZID=Europe/Berlin:20181209T140000
SUMMARY:Sachsenliga mJC SC DHfK Leipzig vs Koweg Görlitz (556)
UID:dce32413-b619-47b0-b33e-ba846a590322
STATUS:CONFIRMED
LAST-MODIFIED:20190115T153350Z
DESCRIPTION:Sachsenliga männliche Jugend C\nBegegnungs-Nr: 556\nHeim: SC DHfK Leipzig\nGast: Koweg Görlitz\nHalle: SH Sportoberschule (31132)\nAdresse: Max -Planck-Str. 53-55\, 04105 Leipzig\n
LOCATION:SH Sportoberschule (31132): Max -Planck-Str. 53-55\, 04105 Leipzig
CATEGORIES:Saison 2018/19
END:VEVENT
BEGIN:VEVENT
DTSTAMP:20260423T004049Z
DTSTART;TZID=Europe/Berlin:20181117T111500
DTEND;TZID=Europe/Berlin:20181117T121500
SUMMARY:Sachsenliga mJC SG LVB vs Koweg Görlitz (550)
UID:db262b3b-01ee-44ac-9121-f764e0d216ac
STATUS:CONFIRMED
LAST-MODIFIED:20190128T152353Z
DESCRIPTION:Sachsenliga männliche Jugend C\nBegegnungs-Nr: 550\nHeim: SG LVB\nGast: Koweg Görlitz\nHalle: SH Gymnasium an der Telemannstraße  (31109)\nAdresse: Telemannstraße 9\, 04107 Leipzig\n
LOCATION:SH Gymnasium an der Telemannstraße  (31109): Telemannstraße 9\, 04107 Leipzig
CATEGORIES:Saison 2018/19
END:VEVENT
BEGIN:VEVENT
DTSTAMP:20260423T004049Z
DTSTART;TZID=Europe/Berlin:20181027T140000
DTEND;TZID=Europe/Berlin:20181027T150000
SUMMARY:Sachsenliga mJC NSG Westsachsen vs Koweg Görlitz (528)
UID:8fca5594-3eb5-4596-baff-18b16d341a13
STATUS:CONFIRMED
LAST-MODIFIED:20190128T151118Z
DESCRIPTION:Sachsenliga männliche Jugend C\nBegegnungs-Nr: 528\nHeim: NSG Westsachsen\nGast: Koweg Görlitz\nHalle: SH Werdau (32508)\nAdresse: Alexander-von-Humboldt-Str. 4\, 08412 Werdau\n
LOCATION:SH Werdau (32508): Alexander-von-Humboldt-Str. 4\, 08412 Werdau
CATEGORIES:Saison 2018/19
END:VEVENT
BEGIN:VEVENT
DTSTAMP:20260423T004049Z
DTSTART;TZID=Europe/Berlin:20181031T110000
DTEND;TZID=Europe/Berlin:20181031T120000
SUMMARY:Sachsenliga mJC NSG EHV/NH Aue vs Koweg Görlitz (532)
UID:0ac19c36-b836-43cc-8254-580fd8e5d58f
STATUS:CONFIRMED
LAST-MODIFIED:20190128T145855Z
DESCRIPTION:Sachsenliga männliche Jugend C\nBegegnungs-Nr: 532\nHeim: NSG EHV/NH Aue\nGast: Koweg Görlitz\nHalle: SH Zeller Berg Aue  (32304)\nAdresse: Agricolastr. 5\, 08280 Aue\n
LOCATION:SH Zeller Berg Aue  (32304): Agricolastr. 5\, 08280 Aue
CATEGORIES:Saison 2018/19
END:VEVENT
BEGIN:VEVENT
DTSTAMP:20260423T004049Z
DTSTART;TZID=Europe/Berlin:20181103T123000
DTEND;TZID=Europe/Berlin:20181103T133000
SUMMARY:Sachsenliga mJC HSV Dresden vs Koweg Görlitz (539)
UID:a4721153-233c-418d-8c30-2fe361872ff7
STATUS:CONFIRMED
LAST-MODIFIED:20190128T151659Z
DESCRIPTION:Sachsenliga männliche Jugend C\nBegegnungs-Nr: 539\nHeim: HSV Dresden\nGast: Koweg Görlitz\nHalle: SH 121. Oberschule Dresden (33102)\nAdresse: Gamigstraße 28/30\, 01239 Dresden\n
LOCATION:SH 121. Oberschule Dresden (33102): Gamigstraße 28/30\, 01239 Dresden
CATEGORIES:Saison 2018/19
END:VEVENT
BEGIN:VEVENT
DTSTAMP:20260423T004049Z
DTSTART;TZID=Europe/Berlin:20190330T150000
DTEND;TZID=Europe/Berlin:20190330T160000
SUMMARY:Sachsenliga mJC HSG Freiberg vs Koweg Görlitz (567)
UID:719a5554-e702-4f0e-af0b-53445176d519
STATUS:CONFIRMED
LAST-MODIFIED:20190121T214038Z
DESCRIPTION:Sachsenliga männliche Jugend C\nBegegnungs-Nr: 567\nHeim: HSG Freiberg\nGast: Koweg Görlitz\nHalle: Ernst-Grube-Halle Freiberg (32401)\nAdresse: Tschaikowskistr. 2\, 09599 Freiberg\n
LOCATION:Ernst-Grube-Halle Freiberg (32401): Tschaikowskistr. 2\, 09599 Freiberg
CATEGORIES:Saison 2018/19
END:VEVENT
BEGIN:VEVENT
DTSTAMP:20260423T004049Z
DTSTART;TZID=Europe/Berlin:20190210T110000
DTEND;TZID=Europe/Berlin:20190210T120000
SUMMARY:Sachsenliga mJC NSG Oelsnitz/Oberlosa vs Koweg Görlitz (577)
UID:1dd9359b-ffce-41d5-a573-4962695c0951
STATUS:CONFIRMED
LAST-MODIFIED:20190211T131521Z
DESCRIPTION:Sachsenliga männliche Jugend C\nBegegnungs-Nr: 577\nHeim: NSG Oelsnitz/Oberlosa\nGast: Koweg Görlitz\nHalle: Dreifelder-SH am BSZ \"Anne Frank\" (32711)\nAdresse: Wieprechtstr. 11\, 08525 Plauen\n
LOCATION:Dreifelder-SH am BSZ \"Anne Frank\" (32711): Wieprechtstr. 11\, 08525 Plauen
CATEGORIES:Saison 2018/19
END:VEVENT
BEGIN:VEVENT
DTSTAMP:20260423T004049Z
DTSTART;TZID=Europe/Berlin:20181215T151500
DTEND;TZID=Europe/Berlin:20181215T161500
SUMMARY:Sachsenliga mJC HC Elbflorenz 2006 vs Koweg Görlitz (561)
UID:69073eb1-852b-460a-a734-220e4365b94e
STATUS:CONFIRMED
LAST-MODIFIED:20190108T115033Z
DESCRIPTION:Sachsenliga männliche Jugend C\nBegegnungs-Nr: 561\nHeim: HC Elbflorenz 2006\nGast: Koweg Görlitz\nHalle: BallsportARENA Dresden (33133)\nAdresse: Weißeritzstraße 4\, 01067 Dresden\n
LOCATION:BallsportARENA Dresden (33133): Weißeritzstraße 4\, 01067 Dresden
CATEGORIES:Saison 2018/19
END:VEVENT
BEGIN:VEVENT
DTSTAMP:20260423T004049Z
DTSTART;TZID=Europe/Berlin:20181124T120000
DTEND;TZID=Europe/Berlin:20181124T130000
SUMMARY:Sachsenliga mJC LHV Hoyerswerda vs Koweg Görlitz (551)
UID:6392cb50-e451-400b-a47e-68563da505ad
STATUS:CONFIRMED
LAST-MODIFIED:20190128T152809Z
DESCRIPTION:Sachsenliga männliche Jugend C\nBegegnungs-Nr: 551\nHeim: LHV Hoyerswerda\nGast: Koweg Görlitz\nHalle: SH BSZ \"Konrad Zuse\" Hoyerswerda (34201)\nAdresse: Käthe-Kollwitz-Str. 5\, 02977 Hoyerswerda\n
LOCATION:SH BSZ \"Konrad Zuse\" Hoyerswerda (34201): Käthe-Kollwitz-Str. 5\, 02977 Hoyerswerda
CATEGORIES:Saison 2018/19
END:VEVENT
END:VCALENDAR
