BEGIN:VCALENDAR
PRODID:-//nuDatenautomaten//framework iCal4j //DE
VERSION:2.0
CALSCALE:GREGORIAN
BEGIN:VTIMEZONE
TZID:Europe/Berlin
LAST-MODIFIED:20260306T231828Z
TZURL:https://www.tzurl.org/zoneinfo/Europe/Berlin
X-LIC-LOCATION:Europe/Berlin
X-PROLEPTIC-TZNAME:LMT
BEGIN:STANDARD
TZNAME:CET
TZOFFSETFROM:+005328
TZOFFSETTO:+0100
DTSTART:18930401T000000
END:STANDARD
BEGIN:DAYLIGHT
TZNAME:CEST
TZOFFSETFROM:+0100
TZOFFSETTO:+0200
DTSTART:19160430T230000
RDATE:19400401T020000
RDATE:19430329T020000
RDATE:19460414T020000
RDATE:19470406T030000
RDATE:19480418T020000
RDATE:19490410T020000
RDATE:19800406T020000
END:DAYLIGHT
BEGIN:STANDARD
TZNAME:CET
TZOFFSETFROM:+0200
TZOFFSETTO:+0100
DTSTART:19161001T010000
RDATE:19421102T030000
RDATE:19431004T030000
RDATE:19441002T030000
RDATE:19451118T030000
RDATE:19461007T030000
END:STANDARD
BEGIN:DAYLIGHT
TZNAME:CEST
TZOFFSETFROM:+0100
TZOFFSETTO:+0200
DTSTART:19170416T020000
RRULE:FREQ=YEARLY;UNTIL=19180415T010000Z;BYMONTH=4;BYDAY=3MO
END:DAYLIGHT
BEGIN:STANDARD
TZNAME:CET
TZOFFSETFROM:+0200
TZOFFSETTO:+0100
DTSTART:19170917T030000
RRULE:FREQ=YEARLY;UNTIL=19180916T010000Z;BYMONTH=9;BYDAY=3MO
END:STANDARD
BEGIN:DAYLIGHT
TZNAME:CEST
TZOFFSETFROM:+0100
TZOFFSETTO:+0200
DTSTART:19440403T020000
RRULE:FREQ=YEARLY;UNTIL=19450402T010000Z;BYMONTH=4;BYDAY=1MO
END:DAYLIGHT
BEGIN:DAYLIGHT
TZNAME:CEMT
TZOFFSETFROM:+0200
TZOFFSETTO:+0300
DTSTART:19450524T020000
RDATE:19470511T030000
END:DAYLIGHT
BEGIN:DAYLIGHT
TZNAME:CEST
TZOFFSETFROM:+0300
TZOFFSETTO:+0200
DTSTART:19450924T030000
RDATE:19470629T030000
END:DAYLIGHT
BEGIN:STANDARD
TZNAME:CET
TZOFFSETFROM:+0100
TZOFFSETTO:+0100
DTSTART:19460101T000000
RDATE:19800101T000000
END:STANDARD
BEGIN:STANDARD
TZNAME:CET
TZOFFSETFROM:+0200
TZOFFSETTO:+0100
DTSTART:19471005T030000
RRULE:FREQ=YEARLY;UNTIL=19491002T010000Z;BYMONTH=10;BYDAY=1SU
END:STANDARD
BEGIN:STANDARD
TZNAME:CET
TZOFFSETFROM:+0200
TZOFFSETTO:+0100
DTSTART:19800928T030000
RRULE:FREQ=YEARLY;UNTIL=19950924T010000Z;BYMONTH=9;BYDAY=-1SU
END:STANDARD
BEGIN:DAYLIGHT
TZNAME:CEST
TZOFFSETFROM:+0100
TZOFFSETTO:+0200
DTSTART:19810329T020000
RRULE:FREQ=YEARLY;BYMONTH=3;BYDAY=-1SU
END:DAYLIGHT
BEGIN:STANDARD
TZNAME:CET
TZOFFSETFROM:+0200
TZOFFSETTO:+0100
DTSTART:19961027T030000
RRULE:FREQ=YEARLY;BYMONTH=10;BYDAY=-1SU
END:STANDARD
END:VTIMEZONE
BEGIN:VEVENT
DTSTAMP:20260423T122016Z
DTSTART;TZID=Europe/Berlin:20181202T110000
DTEND;TZID=Europe/Berlin:20181202T120000
SUMMARY:OSLwJB HVH Kamenz vs TBSV Neugersdorf (10029)
UID:8d9b3107-796c-4195-a0a7-21bf65a644b0
STATUS:CONFIRMED
LAST-MODIFIED:20181211T180433Z
DESCRIPTION:Ostsachsenliga weiblich B\nBegegnungs-Nr: 10029\nHeim: HVH Kamenz\nGast: TBSV Neugersdorf\nHalle: SH Albert-Schweitzer-Gymnasium Kamenz (34204)\nAdresse: Am Flugplatz\, 01917 Kamenz\, Parkplatz - Macherstraße 142\n
LOCATION:SH Albert-Schweitzer-Gymnasium Kamenz (34204): Am Flugplatz\, 01917 Kamenz\, Parkplatz - Macherstraße 142
CATEGORIES:Saison 2018/19
END:VEVENT
BEGIN:VEVENT
DTSTAMP:20260423T122016Z
DTSTART;TZID=Europe/Berlin:20190413T100000
DTEND;TZID=Europe/Berlin:20190413T110000
SUMMARY:OSLwJB HVH Kamenz vs TSV Niesky (10054)
UID:f1141c67-72b6-45a1-88de-d04100ddd9d6
STATUS:CONFIRMED
LAST-MODIFIED:20190416T155413Z
DESCRIPTION:Ostsachsenliga weiblich B\nBegegnungs-Nr: 10054\nHeim: HVH Kamenz\nGast: TSV Niesky\nHalle: SH Albert-Schweitzer-Gymnasium Kamenz (34204)\nAdresse: Am Flugplatz\, 01917 Kamenz\, Parkplatz - Macherstraße 142\n
LOCATION:SH Albert-Schweitzer-Gymnasium Kamenz (34204): Am Flugplatz\, 01917 Kamenz\, Parkplatz - Macherstraße 142
CATEGORIES:Saison 2018/19
END:VEVENT
BEGIN:VEVENT
DTSTAMP:20260423T122016Z
DTSTART;TZID=Europe/Berlin:20180922T100000
DTEND;TZID=Europe/Berlin:20180922T110000
SUMMARY:OSLwJB HVH Kamenz vs OSV Zittau (10010)
UID:6721cf02-aaeb-4f20-8245-938e70a0033f
STATUS:CONFIRMED
LAST-MODIFIED:20181019T195451Z
DESCRIPTION:Ostsachsenliga weiblich B\nBegegnungs-Nr: 10010\nHeim: HVH Kamenz\nGast: OSV Zittau\nHalle: SH Albert-Schweitzer-Gymnasium Kamenz (34204)\nAdresse: Am Flugplatz\, 01917 Kamenz\, Parkplatz - Macherstraße 142\n
LOCATION:SH Albert-Schweitzer-Gymnasium Kamenz (34204): Am Flugplatz\, 01917 Kamenz\, Parkplatz - Macherstraße 142
CATEGORIES:Saison 2018/19
END:VEVENT
BEGIN:VEVENT
DTSTAMP:20260423T122016Z
DTSTART;TZID=Europe/Berlin:20190113T100000
DTEND;TZID=Europe/Berlin:20190113T110000
SUMMARY:OSLwJB HVH Kamenz vs SG Cunewalde/Sohland (10015)
UID:fc2e286b-7349-442f-b3e7-c979a7e8baa1
STATUS:CONFIRMED
LAST-MODIFIED:20190116T190045Z
DESCRIPTION:Ostsachsenliga weiblich B\nBegegnungs-Nr: 10015\nHeim: HVH Kamenz\nGast: SG Cunewalde/Sohland\nHalle: SH Albert-Schweitzer-Gymnasium Kamenz (34204)\nAdresse: Am Flugplatz\, 01917 Kamenz\, Parkplatz - Macherstraße 142\n
LOCATION:SH Albert-Schweitzer-Gymnasium Kamenz (34204): Am Flugplatz\, 01917 Kamenz\, Parkplatz - Macherstraße 142
CATEGORIES:Saison 2018/19
END:VEVENT
BEGIN:VEVENT
DTSTAMP:20260423T122016Z
DTSTART;TZID=Europe/Berlin:20190202T100000
DTEND;TZID=Europe/Berlin:20190202T110000
SUMMARY:OSLwJB HVH Kamenz vs SG Rödertal/Radeberg III (10038)
UID:db5e47bb-dd23-4da7-8a72-fa8192b0c39c
STATUS:CONFIRMED
LAST-MODIFIED:20190204T144140Z
DESCRIPTION:Ostsachsenliga weiblich B\nBegegnungs-Nr: 10038\nHeim: HVH Kamenz\nGast: SG Rödertal/Radeberg III\nHalle: SH Albert-Schweitzer-Gymnasium Kamenz (34204)\nAdresse: Am Flugplatz\, 01917 Kamenz\, Parkplatz - Macherstraße 142\n
LOCATION:SH Albert-Schweitzer-Gymnasium Kamenz (34204): Am Flugplatz\, 01917 Kamenz\, Parkplatz - Macherstraße 142
CATEGORIES:Saison 2018/19
END:VEVENT
BEGIN:VEVENT
DTSTAMP:20260423T122016Z
DTSTART;TZID=Europe/Berlin:20190316T100000
DTEND;TZID=Europe/Berlin:20190316T110000
SUMMARY:OSLwJB HVH Kamenz vs VfB Bischofswerda (10044)
UID:65fdf883-9a8c-46a5-af35-5c56fd914dfe
STATUS:CONFIRMED
LAST-MODIFIED:20190319T155523Z
DESCRIPTION:Ostsachsenliga weiblich B\nBegegnungs-Nr: 10044\nHeim: HVH Kamenz\nGast: VfB Bischofswerda\nHalle: SH Albert-Schweitzer-Gymnasium Kamenz (34204)\nAdresse: Am Flugplatz\, 01917 Kamenz\, Parkplatz - Macherstraße 142\n
LOCATION:SH Albert-Schweitzer-Gymnasium Kamenz (34204): Am Flugplatz\, 01917 Kamenz\, Parkplatz - Macherstraße 142
CATEGORIES:Saison 2018/19
END:VEVENT
BEGIN:VEVENT
DTSTAMP:20260423T122016Z
DTSTART;TZID=Europe/Berlin:20181125T143000
DTEND;TZID=Europe/Berlin:20181125T153000
SUMMARY:OSLwJB TSV Niesky vs HVH Kamenz (10026)
UID:d2cbee4a-a0ab-4a5a-b3d3-dbe2ca9c42a4
STATUS:CONFIRMED
LAST-MODIFIED:20181127T162015Z
DESCRIPTION:Ostsachsenliga weiblich B\nBegegnungs-Nr: 10026\nHeim: TSV Niesky\nGast: HVH Kamenz\nHalle: SH Niesky (34401)\nAdresse: Bahnhofstr. 2 a\, 02906 Niesky\n
LOCATION:SH Niesky (34401): Bahnhofstr. 2 a\, 02906 Niesky
CATEGORIES:Saison 2018/19
END:VEVENT
BEGIN:VEVENT
DTSTAMP:20260423T122016Z
DTSTART;TZID=Europe/Berlin:20190309T134500
DTEND;TZID=Europe/Berlin:20190309T144500
SUMMARY:OSLwJB SG Cunewalde/Sohland vs HVH Kamenz (10042)
UID:fc77430e-aa4e-4f66-a5d7-7aa10a981d83
STATUS:CONFIRMED
LAST-MODIFIED:20190312T192237Z
DESCRIPTION:Ostsachsenliga weiblich B\nBegegnungs-Nr: 10042\nHeim: SG Cunewalde/Sohland\nGast: HVH Kamenz\nHalle: \"Oberland-Sporthalle\" Sohland (34501)\nAdresse: G. - Hauptmann - Str. 4 A\, 02689 Sohland\n
LOCATION:\"Oberland-Sporthalle\" Sohland (34501): G. - Hauptmann - Str. 4 A\, 02689 Sohland
CATEGORIES:Saison 2018/19
END:VEVENT
BEGIN:VEVENT
DTSTAMP:20260423T122016Z
DTSTART;TZID=Europe/Berlin:20190323T141500
DTEND;TZID=Europe/Berlin:20190323T151500
SUMMARY:OSLwJB TBSV Neugersdorf vs HVH Kamenz (10046)
UID:e19de89c-8c5b-417b-8677-cc042f66520c
STATUS:CONFIRMED
LAST-MODIFIED:20190327T182519Z
DESCRIPTION:Ostsachsenliga weiblich B\nBegegnungs-Nr: 10046\nHeim: TBSV Neugersdorf\nGast: HVH Kamenz\nHalle: FSZ Oberland \"Albert Schweitzer\" (34112)\nAdresse: Friedrich-Ebert-Str.27\, 02730 Ebersbach-Neugersdorf\n
LOCATION:FSZ Oberland \"Albert Schweitzer\" (34112): Friedrich-Ebert-Str.27\, 02730 Ebersbach-Neugersdorf
CATEGORIES:Saison 2018/19
END:VEVENT
BEGIN:VEVENT
DTSTAMP:20260423T122016Z
DTSTART;TZID=Europe/Berlin:20190209T140000
DTEND;TZID=Europe/Berlin:20190209T150000
SUMMARY:OSLwJB OSV Zittau vs HVH Kamenz (10039)
UID:0bce3273-72dc-4016-a08f-dbfbdc4ad509
STATUS:CONFIRMED
LAST-MODIFIED:20190221T142623Z
DESCRIPTION:Ostsachsenliga weiblich B\nBegegnungs-Nr: 10039\nHeim: OSV Zittau\nGast: HVH Kamenz\nHalle: SH Zittau (34107)\nAdresse: Lisa - Tetzner - Str.\, 02763 Zittau\n
LOCATION:SH Zittau (34107): Lisa - Tetzner - Str.\, 02763 Zittau
CATEGORIES:Saison 2018/19
END:VEVENT
BEGIN:VEVENT
DTSTAMP:20260423T122016Z
DTSTART;TZID=Europe/Berlin:20190122T183000
DTEND;TZID=Europe/Berlin:20190122T193000
SUMMARY:OSLwJB VfB Bischofswerda vs HVH Kamenz (10016)
UID:630819b9-228a-46d6-9acf-4a4c2f809031
STATUS:CONFIRMED
LAST-MODIFIED:20190130T201630Z
DESCRIPTION:Ostsachsenliga weiblich B\nBegegnungs-Nr: 10016\nHeim: VfB Bischofswerda\nGast: HVH Kamenz\nHalle: SH Wesenitzsportpark Bischofswerda (34505)\nAdresse: Clara-Zetkin-Str. 4\, 01877  Bischofswerda\n
LOCATION:SH Wesenitzsportpark Bischofswerda (34505): Clara-Zetkin-Str. 4\, 01877  Bischofswerda
CATEGORIES:Saison 2018/19
END:VEVENT
BEGIN:VEVENT
DTSTAMP:20260423T122016Z
DTSTART;TZID=Europe/Berlin:20180915T123000
DTEND;TZID=Europe/Berlin:20180915T133000
SUMMARY:OSLwJB SG Rödertal/Radeberg III vs HVH Kamenz (10006)
UID:2a95fcff-e75e-4525-ab04-3d959256ba94
STATUS:CONFIRMED
LAST-MODIFIED:20180918T183031Z
DESCRIPTION:Ostsachsenliga weiblich B\nBegegnungs-Nr: 10006\nHeim: SG Rödertal/Radeberg III\nGast: HVH Kamenz\nHalle: 3-Feld-Halle-GY Großröhrsdorf (34514)\nAdresse: Melanchthonstraße 21\, 01900  Großröhrsdorf\n
LOCATION:3-Feld-Halle-GY Großröhrsdorf (34514): Melanchthonstraße 21\, 01900  Großröhrsdorf
CATEGORIES:Saison 2018/19
END:VEVENT
END:VCALENDAR
