BEGIN:VCALENDAR
PRODID:-//nuDatenautomaten//framework iCal4j //DE
VERSION:2.0
CALSCALE:GREGORIAN
BEGIN:VTIMEZONE
TZID:Europe/Berlin
LAST-MODIFIED:20260306T231828Z
TZURL:https://www.tzurl.org/zoneinfo/Europe/Berlin
X-LIC-LOCATION:Europe/Berlin
X-PROLEPTIC-TZNAME:LMT
BEGIN:STANDARD
TZNAME:CET
TZOFFSETFROM:+005328
TZOFFSETTO:+0100
DTSTART:18930401T000000
END:STANDARD
BEGIN:DAYLIGHT
TZNAME:CEST
TZOFFSETFROM:+0100
TZOFFSETTO:+0200
DTSTART:19160430T230000
RDATE:19400401T020000
RDATE:19430329T020000
RDATE:19460414T020000
RDATE:19470406T030000
RDATE:19480418T020000
RDATE:19490410T020000
RDATE:19800406T020000
END:DAYLIGHT
BEGIN:STANDARD
TZNAME:CET
TZOFFSETFROM:+0200
TZOFFSETTO:+0100
DTSTART:19161001T010000
RDATE:19421102T030000
RDATE:19431004T030000
RDATE:19441002T030000
RDATE:19451118T030000
RDATE:19461007T030000
END:STANDARD
BEGIN:DAYLIGHT
TZNAME:CEST
TZOFFSETFROM:+0100
TZOFFSETTO:+0200
DTSTART:19170416T020000
RRULE:FREQ=YEARLY;UNTIL=19180415T010000Z;BYMONTH=4;BYDAY=3MO
END:DAYLIGHT
BEGIN:STANDARD
TZNAME:CET
TZOFFSETFROM:+0200
TZOFFSETTO:+0100
DTSTART:19170917T030000
RRULE:FREQ=YEARLY;UNTIL=19180916T010000Z;BYMONTH=9;BYDAY=3MO
END:STANDARD
BEGIN:DAYLIGHT
TZNAME:CEST
TZOFFSETFROM:+0100
TZOFFSETTO:+0200
DTSTART:19440403T020000
RRULE:FREQ=YEARLY;UNTIL=19450402T010000Z;BYMONTH=4;BYDAY=1MO
END:DAYLIGHT
BEGIN:DAYLIGHT
TZNAME:CEMT
TZOFFSETFROM:+0200
TZOFFSETTO:+0300
DTSTART:19450524T020000
RDATE:19470511T030000
END:DAYLIGHT
BEGIN:DAYLIGHT
TZNAME:CEST
TZOFFSETFROM:+0300
TZOFFSETTO:+0200
DTSTART:19450924T030000
RDATE:19470629T030000
END:DAYLIGHT
BEGIN:STANDARD
TZNAME:CET
TZOFFSETFROM:+0100
TZOFFSETTO:+0100
DTSTART:19460101T000000
RDATE:19800101T000000
END:STANDARD
BEGIN:STANDARD
TZNAME:CET
TZOFFSETFROM:+0200
TZOFFSETTO:+0100
DTSTART:19471005T030000
RRULE:FREQ=YEARLY;UNTIL=19491002T010000Z;BYMONTH=10;BYDAY=1SU
END:STANDARD
BEGIN:STANDARD
TZNAME:CET
TZOFFSETFROM:+0200
TZOFFSETTO:+0100
DTSTART:19800928T030000
RRULE:FREQ=YEARLY;UNTIL=19950924T010000Z;BYMONTH=9;BYDAY=-1SU
END:STANDARD
BEGIN:DAYLIGHT
TZNAME:CEST
TZOFFSETFROM:+0100
TZOFFSETTO:+0200
DTSTART:19810329T020000
RRULE:FREQ=YEARLY;BYMONTH=3;BYDAY=-1SU
END:DAYLIGHT
BEGIN:STANDARD
TZNAME:CET
TZOFFSETFROM:+0200
TZOFFSETTO:+0100
DTSTART:19961027T030000
RRULE:FREQ=YEARLY;BYMONTH=10;BYDAY=-1SU
END:STANDARD
END:VTIMEZONE
BEGIN:VEVENT
DTSTAMP:20260423T194819Z
DTSTART;TZID=Europe/Berlin:20181117T150000
DTEND;TZID=Europe/Berlin:20181117T163000
SUMMARY:Verbandsliga Staffel Ost (VLFO) SG Klotzsche vs VfL Meißen (4049)
UID:8cf6ea30-d9a7-4b9c-85c1-08bf993b7fee
STATUS:CONFIRMED
LAST-MODIFIED:20181121T091648Z
DESCRIPTION:Verbandsliga Frauen Staffel Ost\nBegegnungs-Nr: 4049\nHeim: SG Klotzsche\nGast: VfL Meißen\nHalle: SH Gymnasium Klotzsche (33126)\nAdresse: Karl-Marx-Straße 44\, 01109 Dresden\n
LOCATION:SH Gymnasium Klotzsche (33126): Karl-Marx-Straße 44\, 01109 Dresden
CATEGORIES:Saison 2018/19
END:VEVENT
BEGIN:VEVENT
DTSTAMP:20260423T194819Z
DTSTART;TZID=Europe/Berlin:20181103T180000
DTEND;TZID=Europe/Berlin:20181103T193000
SUMMARY:Verbandsliga Staffel Ost (VLFO) SG Klotzsche vs SF 01 Dresden (4042)
UID:cdf52518-e775-49bf-970a-2457791e8e2c
STATUS:CONFIRMED
LAST-MODIFIED:20181104T143733Z
DESCRIPTION:Verbandsliga Frauen Staffel Ost\nBegegnungs-Nr: 4042\nHeim: SG Klotzsche\nGast: SF 01 Dresden\nHalle: SH Gymnasium Klotzsche (33126)\nAdresse: Karl-Marx-Straße 44\, 01109 Dresden\n
LOCATION:SH Gymnasium Klotzsche (33126): Karl-Marx-Straße 44\, 01109 Dresden
CATEGORIES:Saison 2018/19
END:VEVENT
BEGIN:VEVENT
DTSTAMP:20260423T194819Z
DTSTART;TZID=Europe/Berlin:20190413T170000
DTEND;TZID=Europe/Berlin:20190413T183000
SUMMARY:Verbandsliga Staffel Ost (VLFO) SG Klotzsche vs Stahl Rietschen (4123)
UID:5d1efc0d-1252-4807-8662-847b09d5116b
STATUS:CONFIRMED
LAST-MODIFIED:20190414T071421Z
DESCRIPTION:Verbandsliga Frauen Staffel Ost\nBegegnungs-Nr: 4123\nHeim: SG Klotzsche\nGast: Stahl Rietschen\nHalle: SH Gymnasium Klotzsche (33126)\nAdresse: Karl-Marx-Straße 44\, 01109 Dresden\n
LOCATION:SH Gymnasium Klotzsche (33126): Karl-Marx-Straße 44\, 01109 Dresden
CATEGORIES:Saison 2018/19
END:VEVENT
BEGIN:VEVENT
DTSTAMP:20260423T194819Z
DTSTART;TZID=Europe/Berlin:20180902T161500
DTEND;TZID=Europe/Berlin:20180902T174500
SUMMARY:Verbandsliga Staffel Ost (VLFO) SG Klotzsche vs HC Elbflorenz 2006 (4002)
UID:fffa5670-9c55-4857-8f18-c9567042c3b7
STATUS:CONFIRMED
LAST-MODIFIED:20181108T141410Z
DESCRIPTION:Verbandsliga Frauen Staffel Ost\nBegegnungs-Nr: 4002\nHeim: SG Klotzsche\nGast: HC Elbflorenz 2006\nHalle: SH Gymnasium Klotzsche (33126)\nAdresse: Karl-Marx-Straße 44\, 01109 Dresden\n
LOCATION:SH Gymnasium Klotzsche (33126): Karl-Marx-Straße 44\, 01109 Dresden
CATEGORIES:Saison 2018/19
END:VEVENT
BEGIN:VEVENT
DTSTAMP:20260423T194819Z
DTSTART;TZID=Europe/Berlin:20190309T180000
DTEND;TZID=Europe/Berlin:20190309T193000
SUMMARY:Verbandsliga Staffel Ost (VLFO) SG Klotzsche vs TBSV Neugersdorf (4101)
UID:fe4be482-637f-458b-8ffb-5d035f6eafd6
STATUS:CONFIRMED
LAST-MODIFIED:20190318T150711Z
DESCRIPTION:Verbandsliga Frauen Staffel Ost\nBegegnungs-Nr: 4101\nHeim: SG Klotzsche\nGast: TBSV Neugersdorf\nHalle: SH Gymnasium Klotzsche (33126)\nAdresse: Karl-Marx-Straße 44\, 01109 Dresden\n
LOCATION:SH Gymnasium Klotzsche (33126): Karl-Marx-Straße 44\, 01109 Dresden
CATEGORIES:Saison 2018/19
END:VEVENT
BEGIN:VEVENT
DTSTAMP:20260423T194819Z
DTSTART;TZID=Europe/Berlin:20190330T150000
DTEND;TZID=Europe/Berlin:20190330T163000
SUMMARY:Verbandsliga Staffel Ost (VLFO) SG Klotzsche vs HCS Neustadt-S. (4111)
UID:add2b873-9c4f-4d52-8692-919a3aef0c56
STATUS:CONFIRMED
LAST-MODIFIED:20190331T081844Z
DESCRIPTION:Verbandsliga Frauen Staffel Ost\nBegegnungs-Nr: 4111\nHeim: SG Klotzsche\nGast: HCS Neustadt-S.\nHalle: SH Gymnasium Klotzsche (33126)\nAdresse: Karl-Marx-Straße 44\, 01109 Dresden\n
LOCATION:SH Gymnasium Klotzsche (33126): Karl-Marx-Straße 44\, 01109 Dresden
CATEGORIES:Saison 2018/19
END:VEVENT
BEGIN:VEVENT
DTSTAMP:20260423T194819Z
DTSTART;TZID=Europe/Berlin:20180915T190000
DTEND;TZID=Europe/Berlin:20180915T203000
SUMMARY:Verbandsliga Staffel Ost (VLFO) SG Klotzsche vs VfB Bischofswerda (4016)
UID:07c5d5be-946e-4d95-b94b-f05ac2b937f6
STATUS:CONFIRMED
LAST-MODIFIED:20180916T074620Z
DESCRIPTION:Verbandsliga Frauen Staffel Ost\nBegegnungs-Nr: 4016\nHeim: SG Klotzsche\nGast: VfB Bischofswerda\nHalle: SH Gymnasium Klotzsche (33126)\nAdresse: Karl-Marx-Straße 44\, 01109 Dresden\n
LOCATION:SH Gymnasium Klotzsche (33126): Karl-Marx-Straße 44\, 01109 Dresden
CATEGORIES:Saison 2018/19
END:VEVENT
BEGIN:VEVENT
DTSTAMP:20260423T194819Z
DTSTART;TZID=Europe/Berlin:20180929T150000
DTEND;TZID=Europe/Berlin:20180929T163000
SUMMARY:Verbandsliga Staffel Ost (VLFO) SG Klotzsche vs HSV Weinböhla (4026)
UID:35a14643-3255-4c26-a543-2dece27840d2
STATUS:CONFIRMED
LAST-MODIFIED:20181003T062043Z
DESCRIPTION:Verbandsliga Frauen Staffel Ost\nBegegnungs-Nr: 4026\nHeim: SG Klotzsche\nGast: HSV Weinböhla\nHalle: SH Gymnasium Klotzsche (33126)\nAdresse: Karl-Marx-Straße 44\, 01109 Dresden\n
LOCATION:SH Gymnasium Klotzsche (33126): Karl-Marx-Straße 44\, 01109 Dresden
CATEGORIES:Saison 2018/19
END:VEVENT
BEGIN:VEVENT
DTSTAMP:20260423T194819Z
DTSTART;TZID=Europe/Berlin:20181201T170000
DTEND;TZID=Europe/Berlin:20181201T183000
SUMMARY:Verbandsliga Staffel Ost (VLFO) SG Klotzsche vs Koweg Görlitz II (4061)
UID:fb1c5da6-da32-418a-8f4f-ee78c8da1758
STATUS:CONFIRMED
LAST-MODIFIED:20181130T204822Z
DESCRIPTION:Verbandsliga Frauen Staffel Ost\nBegegnungs-Nr: 4061\nHeim: SG Klotzsche\nGast: Koweg Görlitz II\nHalle: SH Gymnasium Klotzsche (33126)\nAdresse: Karl-Marx-Straße 44\, 01109 Dresden\n
LOCATION:SH Gymnasium Klotzsche (33126): Karl-Marx-Straße 44\, 01109 Dresden
CATEGORIES:Saison 2018/19
END:VEVENT
BEGIN:VEVENT
DTSTAMP:20260423T194819Z
DTSTART;TZID=Europe/Berlin:20190126T150000
DTEND;TZID=Europe/Berlin:20190126T163000
SUMMARY:Verbandsliga Staffel Ost (VLFO) SG Klotzsche vs HC Rödertal  III (4075)
UID:0eff9de3-bc87-49a6-a0a3-32d8986860e1
STATUS:CONFIRMED
LAST-MODIFIED:20190128T152310Z
DESCRIPTION:Verbandsliga Frauen Staffel Ost\nBegegnungs-Nr: 4075\nHeim: SG Klotzsche\nGast: HC Rödertal  III\nHalle: SH Gymnasium Klotzsche (33126)\nAdresse: Karl-Marx-Straße 44\, 01109 Dresden\n
LOCATION:SH Gymnasium Klotzsche (33126): Karl-Marx-Straße 44\, 01109 Dresden
CATEGORIES:Saison 2018/19
END:VEVENT
BEGIN:VEVENT
DTSTAMP:20260423T194819Z
DTSTART;TZID=Europe/Berlin:20190209T190000
DTEND;TZID=Europe/Berlin:20190209T203000
SUMMARY:Verbandsliga Staffel Ost (VLFO) SG Klotzsche vs SSV Heidenau  (4089)
UID:852bb6d8-67f5-4646-a29e-cb6860eab9dd
STATUS:CONFIRMED
LAST-MODIFIED:20190212T140613Z
DESCRIPTION:Verbandsliga Frauen Staffel Ost\nBegegnungs-Nr: 4089\nHeim: SG Klotzsche\nGast: SSV Heidenau \nHalle: SH Gymnasium Klotzsche (33126)\nAdresse: Karl-Marx-Straße 44\, 01109 Dresden\n
LOCATION:SH Gymnasium Klotzsche (33126): Karl-Marx-Straße 44\, 01109 Dresden
CATEGORIES:Saison 2018/19
END:VEVENT
BEGIN:VEVENT
DTSTAMP:20260423T194819Z
DTSTART;TZID=Europe/Berlin:20181208T183000
DTEND;TZID=Europe/Berlin:20181208T200000
SUMMARY:Verbandsliga Staffel Ost (VLFO) HC Elbflorenz 2006 vs SG Klotzsche (4069)
UID:f4e4315b-25ad-4ed4-90fe-cd66db74bb5b
STATUS:CONFIRMED
LAST-MODIFIED:20181213T101100Z
DESCRIPTION:Verbandsliga Frauen Staffel Ost\nBegegnungs-Nr: 4069\nHeim: HC Elbflorenz 2006\nGast: SG Klotzsche\nHalle: BallsportARENA Dresden (33133)\nAdresse: Weißeritzstraße 4\, 01067 Dresden\n
LOCATION:BallsportARENA Dresden (33133): Weißeritzstraße 4\, 01067 Dresden
CATEGORIES:Saison 2018/19
END:VEVENT
BEGIN:VEVENT
DTSTAMP:20260423T194819Z
DTSTART;TZID=Europe/Berlin:20181014T170000
DTEND;TZID=Europe/Berlin:20181014T183000
SUMMARY:Verbandsliga Staffel Ost (VLFO) HCS Neustadt-S. vs SG Klotzsche (4031)
UID:dbac27f9-ac7c-4582-b36b-10a90ac740a3
STATUS:CONFIRMED
LAST-MODIFIED:20181015T132742Z
DESCRIPTION:Verbandsliga Frauen Staffel Ost\nBegegnungs-Nr: 4031\nHeim: HCS Neustadt-S.\nGast: SG Klotzsche\nHalle: Sportforum Neustadt (33303)\nAdresse: Maxim-Gorki-Straße 10\, 01844  Neustadt\n
LOCATION:Sportforum Neustadt (33303): Maxim-Gorki-Straße 10\, 01844  Neustadt
CATEGORIES:Saison 2018/19
END:VEVENT
BEGIN:VEVENT
DTSTAMP:20260423T194819Z
DTSTART;TZID=Europe/Berlin:20190406T180000
DTEND;TZID=Europe/Berlin:20190406T193000
SUMMARY:Verbandsliga Staffel Ost (VLFO) VfL Meißen vs SG Klotzsche (4118)
UID:50fedd00-ddae-41aa-a543-79ae71bf31ed
STATUS:CONFIRMED
LAST-MODIFIED:20190407T073709Z
DESCRIPTION:Verbandsliga Frauen Staffel Ost\nBegegnungs-Nr: 4118\nHeim: VfL Meißen\nGast: SG Klotzsche\nHalle: SH \"Heiliger Grund\" Meißen (33212)\nAdresse: Goethestraße 27\, 01662 Meißen\n
LOCATION:SH \"Heiliger Grund\" Meißen (33212): Goethestraße 27\, 01662 Meißen
CATEGORIES:Saison 2018/19
END:VEVENT
BEGIN:VEVENT
DTSTAMP:20260423T194819Z
DTSTART;TZID=Europe/Berlin:20190428T140000
DTEND;TZID=Europe/Berlin:20190428T153000
SUMMARY:Verbandsliga Staffel Ost (VLFO) Koweg Görlitz II vs SG Klotzsche (4130)
UID:74998a5c-e624-43da-9b1a-0e648df7f944
STATUS:CONFIRMED
LAST-MODIFIED:20190428T153723Z
DESCRIPTION:Verbandsliga Frauen Staffel Ost\nBegegnungs-Nr: 4130\nHeim: Koweg Görlitz II\nGast: SG Klotzsche\nHalle: SH Rauschwalde (34301)\nAdresse: Diesterwegplatz 8\, 02827 Görlitz\n
LOCATION:SH Rauschwalde (34301): Diesterwegplatz 8\, 02827 Görlitz
CATEGORIES:Saison 2018/19
END:VEVENT
BEGIN:VEVENT
DTSTAMP:20260423T194819Z
DTSTART;TZID=Europe/Berlin:20190317T180000
DTEND;TZID=Europe/Berlin:20190317T193000
SUMMARY:Verbandsliga Staffel Ost (VLFO) SF 01 Dresden vs SG Klotzsche (4109)
UID:5c4bdea5-59fe-46ea-b0bf-349b83fef7b9
STATUS:CONFIRMED
LAST-MODIFIED:20190318T102927Z
DESCRIPTION:Verbandsliga Frauen Staffel Ost\nBegegnungs-Nr: 4109\nHeim: SF 01 Dresden\nGast: SG Klotzsche\nHalle: SH Marie-Curie-Gymnasium Dresden (33128)\nAdresse: Zirkusstraße 7\, 01069 Dresden\n
LOCATION:SH Marie-Curie-Gymnasium Dresden (33128): Zirkusstraße 7\, 01069 Dresden
CATEGORIES:Saison 2018/19
END:VEVENT
BEGIN:VEVENT
DTSTAMP:20260423T194819Z
DTSTART;TZID=Europe/Berlin:20180922T161500
DTEND;TZID=Europe/Berlin:20180922T174500
SUMMARY:Verbandsliga Staffel Ost (VLFO) SSV Heidenau  vs SG Klotzsche (4020)
UID:4bfeabec-6bc8-4bfc-a86e-69812e3eebd3
STATUS:CONFIRMED
LAST-MODIFIED:20180928T141358Z
DESCRIPTION:Verbandsliga Frauen Staffel Ost\nBegegnungs-Nr: 4020\nHeim: SSV Heidenau \nGast: SG Klotzsche\nHalle: SH Pestalozzi-Gymnasium Heidenau (33306)\nAdresse: Hauptstraße 37\, 01809 Heidenau\n
LOCATION:SH Pestalozzi-Gymnasium Heidenau (33306): Hauptstraße 37\, 01809 Heidenau
CATEGORIES:Saison 2018/19
END:VEVENT
BEGIN:VEVENT
DTSTAMP:20260423T194819Z
DTSTART;TZID=Europe/Berlin:20181027T160000
DTEND;TZID=Europe/Berlin:20181027T173000
SUMMARY:Verbandsliga Staffel Ost (VLFO) TBSV Neugersdorf vs SG Klotzsche (4032)
UID:6feb810a-a874-4f9c-9784-c6eaeca708ba
STATUS:CONFIRMED
LAST-MODIFIED:20181030T143439Z
DESCRIPTION:Verbandsliga Frauen Staffel Ost\nBegegnungs-Nr: 4032\nHeim: TBSV Neugersdorf\nGast: SG Klotzsche\nHalle: FSZ Oberland \"Albert Schweitzer\" (34112)\nAdresse: Friedrich-Ebert-Str.27\, 02730 Ebersbach-Neugersdorf\n
LOCATION:FSZ Oberland \"Albert Schweitzer\" (34112): Friedrich-Ebert-Str.27\, 02730 Ebersbach-Neugersdorf
CATEGORIES:Saison 2018/19
END:VEVENT
BEGIN:VEVENT
DTSTAMP:20260423T194819Z
DTSTART;TZID=Europe/Berlin:20181124T140000
DTEND;TZID=Europe/Berlin:20181124T153000
SUMMARY:Verbandsliga Staffel Ost (VLFO) Stahl Rietschen vs SG Klotzsche (4054)
UID:8395bd1b-e725-4e95-bcec-9d9620a23069
STATUS:CONFIRMED
LAST-MODIFIED:20181126T140827Z
DESCRIPTION:Verbandsliga Frauen Staffel Ost\nBegegnungs-Nr: 4054\nHeim: Stahl Rietschen\nGast: SG Klotzsche\nHalle: Oberlausitz-SH Rietschen (34403)\nAdresse: Am Festplatz 1\, 02956 Rietschen\n
LOCATION:Oberlausitz-SH Rietschen (34403): Am Festplatz 1\, 02956 Rietschen
CATEGORIES:Saison 2018/19
END:VEVENT
BEGIN:VEVENT
DTSTAMP:20260423T194819Z
DTSTART;TZID=Europe/Berlin:20190202T160000
DTEND;TZID=Europe/Berlin:20190202T173000
SUMMARY:Verbandsliga Staffel Ost (VLFO) VfB Bischofswerda vs SG Klotzsche (4079)
UID:7568f898-7c94-4967-b860-59b38b403281
STATUS:CONFIRMED
LAST-MODIFIED:20190204T153528Z
DESCRIPTION:Verbandsliga Frauen Staffel Ost\nBegegnungs-Nr: 4079\nHeim: VfB Bischofswerda\nGast: SG Klotzsche\nHalle: SH Wesenitzsportpark Bischofswerda (34505)\nAdresse: Clara-Zetkin-Str. 4\, 01877  Bischofswerda\n
LOCATION:SH Wesenitzsportpark Bischofswerda (34505): Clara-Zetkin-Str. 4\, 01877  Bischofswerda
CATEGORIES:Saison 2018/19
END:VEVENT
BEGIN:VEVENT
DTSTAMP:20260423T194819Z
DTSTART;TZID=Europe/Berlin:20180909T133000
DTEND;TZID=Europe/Berlin:20180909T150000
SUMMARY:Verbandsliga Staffel Ost (VLFO) HC Rödertal  III vs SG Klotzsche (4011)
UID:b4f98526-2184-4545-89d5-82bd535c7654
STATUS:CONFIRMED
LAST-MODIFIED:20181113T145524Z
DESCRIPTION:Verbandsliga Frauen Staffel Ost\nBegegnungs-Nr: 4011\nHeim: HC Rödertal  III\nGast: SG Klotzsche\nHalle: 3-Feld-Halle-GY Großröhrsdorf (34514)\nAdresse: Melanchthonstraße 21\, 01900  Großröhrsdorf\n
LOCATION:3-Feld-Halle-GY Großröhrsdorf (34514): Melanchthonstraße 21\, 01900  Großröhrsdorf
CATEGORIES:Saison 2018/19
END:VEVENT
BEGIN:VEVENT
DTSTAMP:20260423T194819Z
DTSTART;TZID=Europe/Berlin:20190216T170000
DTEND;TZID=Europe/Berlin:20190216T183000
SUMMARY:Verbandsliga Staffel Ost (VLFO) HSV Weinböhla vs SG Klotzsche (4093)
UID:135957d7-cdbc-423d-ac85-0e0d37ad7880
STATUS:CONFIRMED
LAST-MODIFIED:20190219T142130Z
DESCRIPTION:Verbandsliga Frauen Staffel Ost\nBegegnungs-Nr: 4093\nHeim: HSV Weinböhla\nGast: SG Klotzsche\nHalle: Nassau-SH Weinböhla (33224)\nAdresse: Meißner Str. 1\, 01689 Weinböhla\n
LOCATION:Nassau-SH Weinböhla (33224): Meißner Str. 1\, 01689 Weinböhla
CATEGORIES:Saison 2018/19
END:VEVENT
END:VCALENDAR
