BEGIN:VCALENDAR
PRODID:-//nuDatenautomaten//framework iCal4j //DE
VERSION:2.0
CALSCALE:GREGORIAN
BEGIN:VTIMEZONE
TZID:Europe/Berlin
LAST-MODIFIED:20260306T231828Z
TZURL:https://www.tzurl.org/zoneinfo/Europe/Berlin
X-LIC-LOCATION:Europe/Berlin
X-PROLEPTIC-TZNAME:LMT
BEGIN:STANDARD
TZNAME:CET
TZOFFSETFROM:+005328
TZOFFSETTO:+0100
DTSTART:18930401T000000
END:STANDARD
BEGIN:DAYLIGHT
TZNAME:CEST
TZOFFSETFROM:+0100
TZOFFSETTO:+0200
DTSTART:19160430T230000
RDATE:19400401T020000
RDATE:19430329T020000
RDATE:19460414T020000
RDATE:19470406T030000
RDATE:19480418T020000
RDATE:19490410T020000
RDATE:19800406T020000
END:DAYLIGHT
BEGIN:STANDARD
TZNAME:CET
TZOFFSETFROM:+0200
TZOFFSETTO:+0100
DTSTART:19161001T010000
RDATE:19421102T030000
RDATE:19431004T030000
RDATE:19441002T030000
RDATE:19451118T030000
RDATE:19461007T030000
END:STANDARD
BEGIN:DAYLIGHT
TZNAME:CEST
TZOFFSETFROM:+0100
TZOFFSETTO:+0200
DTSTART:19170416T020000
RRULE:FREQ=YEARLY;UNTIL=19180415T010000Z;BYMONTH=4;BYDAY=3MO
END:DAYLIGHT
BEGIN:STANDARD
TZNAME:CET
TZOFFSETFROM:+0200
TZOFFSETTO:+0100
DTSTART:19170917T030000
RRULE:FREQ=YEARLY;UNTIL=19180916T010000Z;BYMONTH=9;BYDAY=3MO
END:STANDARD
BEGIN:DAYLIGHT
TZNAME:CEST
TZOFFSETFROM:+0100
TZOFFSETTO:+0200
DTSTART:19440403T020000
RRULE:FREQ=YEARLY;UNTIL=19450402T010000Z;BYMONTH=4;BYDAY=1MO
END:DAYLIGHT
BEGIN:DAYLIGHT
TZNAME:CEMT
TZOFFSETFROM:+0200
TZOFFSETTO:+0300
DTSTART:19450524T020000
RDATE:19470511T030000
END:DAYLIGHT
BEGIN:DAYLIGHT
TZNAME:CEST
TZOFFSETFROM:+0300
TZOFFSETTO:+0200
DTSTART:19450924T030000
RDATE:19470629T030000
END:DAYLIGHT
BEGIN:STANDARD
TZNAME:CET
TZOFFSETFROM:+0100
TZOFFSETTO:+0100
DTSTART:19460101T000000
RDATE:19800101T000000
END:STANDARD
BEGIN:STANDARD
TZNAME:CET
TZOFFSETFROM:+0200
TZOFFSETTO:+0100
DTSTART:19471005T030000
RRULE:FREQ=YEARLY;UNTIL=19491002T010000Z;BYMONTH=10;BYDAY=1SU
END:STANDARD
BEGIN:STANDARD
TZNAME:CET
TZOFFSETFROM:+0200
TZOFFSETTO:+0100
DTSTART:19800928T030000
RRULE:FREQ=YEARLY;UNTIL=19950924T010000Z;BYMONTH=9;BYDAY=-1SU
END:STANDARD
BEGIN:DAYLIGHT
TZNAME:CEST
TZOFFSETFROM:+0100
TZOFFSETTO:+0200
DTSTART:19810329T020000
RRULE:FREQ=YEARLY;BYMONTH=3;BYDAY=-1SU
END:DAYLIGHT
BEGIN:STANDARD
TZNAME:CET
TZOFFSETFROM:+0200
TZOFFSETTO:+0100
DTSTART:19961027T030000
RRULE:FREQ=YEARLY;BYMONTH=10;BYDAY=-1SU
END:STANDARD
END:VTIMEZONE
BEGIN:VEVENT
DTSTAMP:20260423T181339Z
DTSTART;TZID=Europe/Berlin:20181125T160000
DTEND;TZID=Europe/Berlin:20181125T173000
SUMMARY:Verbandsliga Staffel Ost (VLFO) SF 01 Dresden vs VfB Bischofswerda (4058)
UID:0de9f4e0-2b6d-464c-8a28-54136ec073d4
STATUS:CONFIRMED
LAST-MODIFIED:20181126T140447Z
DESCRIPTION:Verbandsliga Frauen Staffel Ost\nBegegnungs-Nr: 4058\nHeim: SF 01 Dresden\nGast: VfB Bischofswerda\nHalle: SH 117. Grundschule Dresden (33132)\nAdresse: Reichenbachstr. 12\, 01069 Dresden\n
LOCATION:SH 117. Grundschule Dresden (33132): Reichenbachstr. 12\, 01069 Dresden
CATEGORIES:Saison 2018/19
END:VEVENT
BEGIN:VEVENT
DTSTAMP:20260423T181339Z
DTSTART;TZID=Europe/Berlin:20190406T180000
DTEND;TZID=Europe/Berlin:20190406T193000
SUMMARY:Verbandsliga Staffel Ost (VLFO) SF 01 Dresden vs HC Rödertal  III (4117)
UID:dee5badb-0902-461e-8f0a-4c87edcb9d63
STATUS:CONFIRMED
LAST-MODIFIED:20190407T073308Z
DESCRIPTION:Verbandsliga Frauen Staffel Ost\nBegegnungs-Nr: 4117\nHeim: SF 01 Dresden\nGast: HC Rödertal  III\nHalle: SH 117. Grundschule Dresden (33132)\nAdresse: Reichenbachstr. 12\, 01069 Dresden\n
LOCATION:SH 117. Grundschule Dresden (33132): Reichenbachstr. 12\, 01069 Dresden
CATEGORIES:Saison 2018/19
END:VEVENT
BEGIN:VEVENT
DTSTAMP:20260423T181339Z
DTSTART;TZID=Europe/Berlin:20190317T180000
DTEND;TZID=Europe/Berlin:20190317T193000
SUMMARY:Verbandsliga Staffel Ost (VLFO) SF 01 Dresden vs SG Klotzsche (4109)
UID:5c4bdea5-59fe-46ea-b0bf-349b83fef7b9
STATUS:CONFIRMED
LAST-MODIFIED:20190318T102927Z
DESCRIPTION:Verbandsliga Frauen Staffel Ost\nBegegnungs-Nr: 4109\nHeim: SF 01 Dresden\nGast: SG Klotzsche\nHalle: SH Marie-Curie-Gymnasium Dresden (33128)\nAdresse: Zirkusstraße 7\, 01069 Dresden\n
LOCATION:SH Marie-Curie-Gymnasium Dresden (33128): Zirkusstraße 7\, 01069 Dresden
CATEGORIES:Saison 2018/19
END:VEVENT
BEGIN:VEVENT
DTSTAMP:20260423T181339Z
DTSTART;TZID=Europe/Berlin:20181028T160000
DTEND;TZID=Europe/Berlin:20181028T173000
SUMMARY:Verbandsliga Staffel Ost (VLFO) SF 01 Dresden vs Stahl Rietschen (4036)
UID:3cc79649-4435-4343-8cd8-00f90379aa81
STATUS:CONFIRMED
LAST-MODIFIED:20181030T144201Z
DESCRIPTION:Verbandsliga Frauen Staffel Ost\nBegegnungs-Nr: 4036\nHeim: SF 01 Dresden\nGast: Stahl Rietschen\nHalle: SH 117. Grundschule Dresden (33132)\nAdresse: Reichenbachstr. 12\, 01069 Dresden\n
LOCATION:SH 117. Grundschule Dresden (33132): Reichenbachstr. 12\, 01069 Dresden
CATEGORIES:Saison 2018/19
END:VEVENT
BEGIN:VEVENT
DTSTAMP:20260423T181339Z
DTSTART;TZID=Europe/Berlin:20181111T180000
DTEND;TZID=Europe/Berlin:20181111T193000
SUMMARY:Verbandsliga Staffel Ost (VLFO) SF 01 Dresden vs HC Elbflorenz 2006 (4047)
UID:17825b73-96de-4676-a673-36681638ac19
STATUS:CONFIRMED
LAST-MODIFIED:20181112T155755Z
DESCRIPTION:Verbandsliga Frauen Staffel Ost\nBegegnungs-Nr: 4047\nHeim: SF 01 Dresden\nGast: HC Elbflorenz 2006\nHalle: SH 117. Grundschule Dresden (33132)\nAdresse: Reichenbachstr. 12\, 01069 Dresden\n
LOCATION:SH 117. Grundschule Dresden (33132): Reichenbachstr. 12\, 01069 Dresden
CATEGORIES:Saison 2018/19
END:VEVENT
BEGIN:VEVENT
DTSTAMP:20260423T181339Z
DTSTART;TZID=Europe/Berlin:20190217T160000
DTEND;TZID=Europe/Berlin:20190217T173000
SUMMARY:Verbandsliga Staffel Ost (VLFO) SF 01 Dresden vs VfL Meißen (4095)
UID:ec4a0822-ce29-46e3-92ff-943844b4c873
STATUS:CONFIRMED
LAST-MODIFIED:20190219T141851Z
DESCRIPTION:Verbandsliga Frauen Staffel Ost\nBegegnungs-Nr: 4095\nHeim: SF 01 Dresden\nGast: VfL Meißen\nHalle: SH Bertolt-Brecht-Gymnasium Dresden (33129)\nAdresse: Thomaestraße 60\, 01307 Dresden\n
LOCATION:SH Bertolt-Brecht-Gymnasium Dresden (33129): Thomaestraße 60\, 01307 Dresden
CATEGORIES:Saison 2018/19
END:VEVENT
BEGIN:VEVENT
DTSTAMP:20260423T181339Z
DTSTART;TZID=Europe/Berlin:20190428T140000
DTEND;TZID=Europe/Berlin:20190428T153000
SUMMARY:Verbandsliga Staffel Ost (VLFO) SF 01 Dresden vs SSV Heidenau  (4127)
UID:3b35d7f7-948f-4e24-9b89-7b0442a36415
STATUS:CONFIRMED
LAST-MODIFIED:20190428T153301Z
DESCRIPTION:Verbandsliga Frauen Staffel Ost\nBegegnungs-Nr: 4127\nHeim: SF 01 Dresden\nGast: SSV Heidenau \nHalle: SH 117. Grundschule Dresden (33132)\nAdresse: Reichenbachstr. 12\, 01069 Dresden\n
LOCATION:SH 117. Grundschule Dresden (33132): Reichenbachstr. 12\, 01069 Dresden
CATEGORIES:Saison 2018/19
END:VEVENT
BEGIN:VEVENT
DTSTAMP:20260423T181339Z
DTSTART;TZID=Europe/Berlin:20180923T180000
DTEND;TZID=Europe/Berlin:20180923T193000
SUMMARY:Verbandsliga Staffel Ost (VLFO) SF 01 Dresden vs HCS Neustadt-S. (4024)
UID:49052436-7d59-4e3d-ac1b-273935cec287
STATUS:CONFIRMED
LAST-MODIFIED:20180928T141630Z
DESCRIPTION:Verbandsliga Frauen Staffel Ost\nBegegnungs-Nr: 4024\nHeim: SF 01 Dresden\nGast: HCS Neustadt-S.\nHalle: SH Erlwein-Gymnasium Dresden (33127)\nAdresse: Eibenstocker Straße 30\, 01277 Dresden\n
LOCATION:SH Erlwein-Gymnasium Dresden (33127): Eibenstocker Straße 30\, 01277 Dresden
CATEGORIES:Saison 2018/19
END:VEVENT
BEGIN:VEVENT
DTSTAMP:20260423T181339Z
DTSTART;TZID=Europe/Berlin:20180902T150000
DTEND;TZID=Europe/Berlin:20180902T163000
SUMMARY:Verbandsliga Staffel Ost (VLFO) SF 01 Dresden vs HSV Weinböhla (4005)
UID:c3d48f9d-91ba-487f-9999-719a44e96e42
STATUS:CONFIRMED
LAST-MODIFIED:20180913T134014Z
DESCRIPTION:Verbandsliga Frauen Staffel Ost\nBegegnungs-Nr: 4005\nHeim: SF 01 Dresden\nGast: HSV Weinböhla\nHalle: SH Marie-Curie-Gymnasium Dresden (33128)\nAdresse: Zirkusstraße 7\, 01069 Dresden\n
LOCATION:SH Marie-Curie-Gymnasium Dresden (33128): Zirkusstraße 7\, 01069 Dresden
CATEGORIES:Saison 2018/19
END:VEVENT
BEGIN:VEVENT
DTSTAMP:20260423T181339Z
DTSTART;TZID=Europe/Berlin:20190127T180000
DTEND;TZID=Europe/Berlin:20190127T193000
SUMMARY:Verbandsliga Staffel Ost (VLFO) SF 01 Dresden vs TBSV Neugersdorf (4078)
UID:b716d1b9-fc5b-47dc-8e20-7f09ca8ef978
STATUS:CONFIRMED
LAST-MODIFIED:20190128T153520Z
DESCRIPTION:Verbandsliga Frauen Staffel Ost\nBegegnungs-Nr: 4078\nHeim: SF 01 Dresden\nGast: TBSV Neugersdorf\nHalle: SH 117. Grundschule Dresden (33132)\nAdresse: Reichenbachstr. 12\, 01069 Dresden\n
LOCATION:SH 117. Grundschule Dresden (33132): Reichenbachstr. 12\, 01069 Dresden
CATEGORIES:Saison 2018/19
END:VEVENT
BEGIN:VEVENT
DTSTAMP:20260423T181339Z
DTSTART;TZID=Europe/Berlin:20190203T180000
DTEND;TZID=Europe/Berlin:20190203T193000
SUMMARY:Verbandsliga Staffel Ost (VLFO) SF 01 Dresden vs Koweg Görlitz II (4084)
UID:24bd73c0-d5dc-4296-9c07-5bacb5bcee6c
STATUS:CONFIRMED
LAST-MODIFIED:20190204T153259Z
DESCRIPTION:Verbandsliga Frauen Staffel Ost\nBegegnungs-Nr: 4084\nHeim: SF 01 Dresden\nGast: Koweg Görlitz II\nHalle: SH 117. Grundschule Dresden (33132)\nAdresse: Reichenbachstr. 12\, 01069 Dresden\n
LOCATION:SH 117. Grundschule Dresden (33132): Reichenbachstr. 12\, 01069 Dresden
CATEGORIES:Saison 2018/19
END:VEVENT
BEGIN:VEVENT
DTSTAMP:20260423T181339Z
DTSTART;TZID=Europe/Berlin:20181103T180000
DTEND;TZID=Europe/Berlin:20181103T193000
SUMMARY:Verbandsliga Staffel Ost (VLFO) SG Klotzsche vs SF 01 Dresden (4042)
UID:cdf52518-e775-49bf-970a-2457791e8e2c
STATUS:CONFIRMED
LAST-MODIFIED:20181104T143733Z
DESCRIPTION:Verbandsliga Frauen Staffel Ost\nBegegnungs-Nr: 4042\nHeim: SG Klotzsche\nGast: SF 01 Dresden\nHalle: SH Gymnasium Klotzsche (33126)\nAdresse: Karl-Marx-Straße 44\, 01109 Dresden\n
LOCATION:SH Gymnasium Klotzsche (33126): Karl-Marx-Straße 44\, 01109 Dresden
CATEGORIES:Saison 2018/19
END:VEVENT
BEGIN:VEVENT
DTSTAMP:20260423T181339Z
DTSTART;TZID=Europe/Berlin:20181202T150000
DTEND;TZID=Europe/Berlin:20181202T163000
SUMMARY:Verbandsliga Staffel Ost (VLFO) SSV Heidenau  vs SF 01 Dresden (4064)
UID:8edaaac6-8c0a-4bcb-abae-4181b648f31c
STATUS:CONFIRMED
LAST-MODIFIED:20181205T143012Z
DESCRIPTION:Verbandsliga Frauen Staffel Ost\nBegegnungs-Nr: 4064\nHeim: SSV Heidenau \nGast: SF 01 Dresden\nHalle: SH Pestalozzi-Gymnasium Heidenau (33306)\nAdresse: Hauptstraße 37\, 01809 Heidenau\n
LOCATION:SH Pestalozzi-Gymnasium Heidenau (33306): Hauptstraße 37\, 01809 Heidenau
CATEGORIES:Saison 2018/19
END:VEVENT
BEGIN:VEVENT
DTSTAMP:20260423T181339Z
DTSTART;TZID=Europe/Berlin:20181118T143000
DTEND;TZID=Europe/Berlin:20181118T160000
SUMMARY:Verbandsliga Staffel Ost (VLFO) HC Rödertal  III vs SF 01 Dresden (4053)
UID:9738f6f9-812c-4ef1-8f98-c0e941fb1ce0
STATUS:CONFIRMED
LAST-MODIFIED:20181121T093221Z
DESCRIPTION:Verbandsliga Frauen Staffel Ost\nBegegnungs-Nr: 4053\nHeim: HC Rödertal  III\nGast: SF 01 Dresden\nHalle: 3-Feld-Halle-GY Großröhrsdorf (34514)\nAdresse: Melanchthonstraße 21\, 01900  Großröhrsdorf\n
LOCATION:3-Feld-Halle-GY Großröhrsdorf (34514): Melanchthonstraße 21\, 01900  Großröhrsdorf
CATEGORIES:Saison 2018/19
END:VEVENT
BEGIN:VEVENT
DTSTAMP:20260423T181339Z
DTSTART;TZID=Europe/Berlin:20180908T160000
DTEND;TZID=Europe/Berlin:20180908T173000
SUMMARY:Verbandsliga Staffel Ost (VLFO) TBSV Neugersdorf vs SF 01 Dresden (4009)
UID:fc5ef44e-92ab-445f-81a4-cc93134486a9
STATUS:CONFIRMED
LAST-MODIFIED:20180928T143248Z
DESCRIPTION:Verbandsliga Frauen Staffel Ost\nBegegnungs-Nr: 4009\nHeim: TBSV Neugersdorf\nGast: SF 01 Dresden\nHalle: FSZ Oberland \"Albert Schweitzer\" (34112)\nAdresse: Friedrich-Ebert-Str.27\, 02730 Ebersbach-Neugersdorf\n
LOCATION:FSZ Oberland \"Albert Schweitzer\" (34112): Friedrich-Ebert-Str.27\, 02730 Ebersbach-Neugersdorf
CATEGORIES:Saison 2018/19
END:VEVENT
BEGIN:VEVENT
DTSTAMP:20260423T181339Z
DTSTART;TZID=Europe/Berlin:20180929T180000
DTEND;TZID=Europe/Berlin:20180929T193000
SUMMARY:Verbandsliga Staffel Ost (VLFO) VfL Meißen vs SF 01 Dresden (4029)
UID:50eecee7-dd39-40fd-af3c-c0f9eae5466d
STATUS:CONFIRMED
LAST-MODIFIED:20181003T062147Z
DESCRIPTION:Verbandsliga Frauen Staffel Ost\nBegegnungs-Nr: 4029\nHeim: VfL Meißen\nGast: SF 01 Dresden\nHalle: SH \"Heiliger Grund\" Meißen (33212)\nAdresse: Goethestraße 27\, 01662 Meißen\n
LOCATION:SH \"Heiliger Grund\" Meißen (33212): Goethestraße 27\, 01662 Meißen
CATEGORIES:Saison 2018/19
END:VEVENT
BEGIN:VEVENT
DTSTAMP:20260423T181339Z
DTSTART;TZID=Europe/Berlin:20181208T170000
DTEND;TZID=Europe/Berlin:20181208T183000
SUMMARY:Verbandsliga Staffel Ost (VLFO) HSV Weinböhla vs SF 01 Dresden (4068)
UID:4b6d51a6-72ea-4b05-8120-2a9067d8424e
STATUS:CONFIRMED
LAST-MODIFIED:20181213T101034Z
DESCRIPTION:Verbandsliga Frauen Staffel Ost\nBegegnungs-Nr: 4068\nHeim: HSV Weinböhla\nGast: SF 01 Dresden\nHalle: Nassau-SH Weinböhla (33224)\nAdresse: Meißner Str. 1\, 01689 Weinböhla\n
LOCATION:Nassau-SH Weinböhla (33224): Meißner Str. 1\, 01689 Weinböhla
CATEGORIES:Saison 2018/19
END:VEVENT
BEGIN:VEVENT
DTSTAMP:20260423T181339Z
DTSTART;TZID=Europe/Berlin:20190309T140000
DTEND;TZID=Europe/Berlin:20190309T153000
SUMMARY:Verbandsliga Staffel Ost (VLFO) Stahl Rietschen vs SF 01 Dresden (4098)
UID:9af81e7e-6ed0-4e44-aefb-b5d70c629342
STATUS:CONFIRMED
LAST-MODIFIED:20190311T151704Z
DESCRIPTION:Verbandsliga Frauen Staffel Ost\nBegegnungs-Nr: 4098\nHeim: Stahl Rietschen\nGast: SF 01 Dresden\nHalle: Oberlausitz-SH Rietschen (34403)\nAdresse: Am Festplatz 1\, 02956 Rietschen\n
LOCATION:Oberlausitz-SH Rietschen (34403): Am Festplatz 1\, 02956 Rietschen
CATEGORIES:Saison 2018/19
END:VEVENT
BEGIN:VEVENT
DTSTAMP:20260423T181339Z
DTSTART;TZID=Europe/Berlin:20190413T160000
DTEND;TZID=Europe/Berlin:20190413T173000
SUMMARY:Verbandsliga Staffel Ost (VLFO) VfB Bischofswerda vs SF 01 Dresden (4121)
UID:ae801ae5-49c1-43c1-9e6d-44e27496700e
STATUS:CONFIRMED
LAST-MODIFIED:20190418T091658Z
DESCRIPTION:Verbandsliga Frauen Staffel Ost\nBegegnungs-Nr: 4121\nHeim: VfB Bischofswerda\nGast: SF 01 Dresden\nHalle: SH Wesenitzsportpark Bischofswerda (34505)\nAdresse: Clara-Zetkin-Str. 4\, 01877  Bischofswerda\n
LOCATION:SH Wesenitzsportpark Bischofswerda (34505): Clara-Zetkin-Str. 4\, 01877  Bischofswerda
CATEGORIES:Saison 2018/19
END:VEVENT
BEGIN:VEVENT
DTSTAMP:20260423T181339Z
DTSTART;TZID=Europe/Berlin:20180916T160000
DTEND;TZID=Europe/Berlin:20180916T173000
SUMMARY:Verbandsliga Staffel Ost (VLFO) Koweg Görlitz II vs SF 01 Dresden (4017)
UID:619fc996-0586-4dce-89f7-9f9933b47c4e
STATUS:CONFIRMED
LAST-MODIFIED:20180917T150646Z
DESCRIPTION:Verbandsliga Frauen Staffel Ost\nBegegnungs-Nr: 4017\nHeim: Koweg Görlitz II\nGast: SF 01 Dresden\nHalle: SH Rauschwalde (34301)\nAdresse: Diesterwegplatz 8\, 02827 Görlitz\n
LOCATION:SH Rauschwalde (34301): Diesterwegplatz 8\, 02827 Görlitz
CATEGORIES:Saison 2018/19
END:VEVENT
BEGIN:VEVENT
DTSTAMP:20260423T181339Z
DTSTART;TZID=Europe/Berlin:20190224T180000
DTEND;TZID=Europe/Berlin:20190224T193000
SUMMARY:Verbandsliga Staffel Ost (VLFO) HC Elbflorenz 2006 vs SF 01 Dresden (4097)
UID:7362595c-d2c1-4f82-a802-e6d8b10a28dd
STATUS:CONFIRMED
LAST-MODIFIED:20190225T142710Z
DESCRIPTION:Verbandsliga Frauen Staffel Ost\nBegegnungs-Nr: 4097\nHeim: HC Elbflorenz 2006\nGast: SF 01 Dresden\nHalle: BallsportARENA Dresden (33133)\nAdresse: Weißeritzstraße 4\, 01067 Dresden\n
LOCATION:BallsportARENA Dresden (33133): Weißeritzstraße 4\, 01067 Dresden
CATEGORIES:Saison 2018/19
END:VEVENT
BEGIN:VEVENT
DTSTAMP:20260423T181339Z
DTSTART;TZID=Europe/Berlin:20190210T170000
DTEND;TZID=Europe/Berlin:20190210T183000
SUMMARY:Verbandsliga Staffel Ost (VLFO) HCS Neustadt-S. vs SF 01 Dresden (4090)
UID:620fa0c6-85d5-4c78-b76a-bf521e64c1be
STATUS:CONFIRMED
LAST-MODIFIED:20190212T140650Z
DESCRIPTION:Verbandsliga Frauen Staffel Ost\nBegegnungs-Nr: 4090\nHeim: HCS Neustadt-S.\nGast: SF 01 Dresden\nHalle: Sportforum Neustadt (33303)\nAdresse: Maxim-Gorki-Straße 10\, 01844  Neustadt\n
LOCATION:Sportforum Neustadt (33303): Maxim-Gorki-Straße 10\, 01844  Neustadt
CATEGORIES:Saison 2018/19
END:VEVENT
END:VCALENDAR
