BEGIN:VCALENDAR
PRODID:-//nuDatenautomaten//framework iCal4j //DE
VERSION:2.0
CALSCALE:GREGORIAN
BEGIN:VTIMEZONE
TZID:Europe/Berlin
LAST-MODIFIED:20260306T231828Z
TZURL:https://www.tzurl.org/zoneinfo/Europe/Berlin
X-LIC-LOCATION:Europe/Berlin
X-PROLEPTIC-TZNAME:LMT
BEGIN:STANDARD
TZNAME:CET
TZOFFSETFROM:+005328
TZOFFSETTO:+0100
DTSTART:18930401T000000
END:STANDARD
BEGIN:DAYLIGHT
TZNAME:CEST
TZOFFSETFROM:+0100
TZOFFSETTO:+0200
DTSTART:19160430T230000
RDATE:19400401T020000
RDATE:19430329T020000
RDATE:19460414T020000
RDATE:19470406T030000
RDATE:19480418T020000
RDATE:19490410T020000
RDATE:19800406T020000
END:DAYLIGHT
BEGIN:STANDARD
TZNAME:CET
TZOFFSETFROM:+0200
TZOFFSETTO:+0100
DTSTART:19161001T010000
RDATE:19421102T030000
RDATE:19431004T030000
RDATE:19441002T030000
RDATE:19451118T030000
RDATE:19461007T030000
END:STANDARD
BEGIN:DAYLIGHT
TZNAME:CEST
TZOFFSETFROM:+0100
TZOFFSETTO:+0200
DTSTART:19170416T020000
RRULE:FREQ=YEARLY;UNTIL=19180415T010000Z;BYMONTH=4;BYDAY=3MO
END:DAYLIGHT
BEGIN:STANDARD
TZNAME:CET
TZOFFSETFROM:+0200
TZOFFSETTO:+0100
DTSTART:19170917T030000
RRULE:FREQ=YEARLY;UNTIL=19180916T010000Z;BYMONTH=9;BYDAY=3MO
END:STANDARD
BEGIN:DAYLIGHT
TZNAME:CEST
TZOFFSETFROM:+0100
TZOFFSETTO:+0200
DTSTART:19440403T020000
RRULE:FREQ=YEARLY;UNTIL=19450402T010000Z;BYMONTH=4;BYDAY=1MO
END:DAYLIGHT
BEGIN:DAYLIGHT
TZNAME:CEMT
TZOFFSETFROM:+0200
TZOFFSETTO:+0300
DTSTART:19450524T020000
RDATE:19470511T030000
END:DAYLIGHT
BEGIN:DAYLIGHT
TZNAME:CEST
TZOFFSETFROM:+0300
TZOFFSETTO:+0200
DTSTART:19450924T030000
RDATE:19470629T030000
END:DAYLIGHT
BEGIN:STANDARD
TZNAME:CET
TZOFFSETFROM:+0100
TZOFFSETTO:+0100
DTSTART:19460101T000000
RDATE:19800101T000000
END:STANDARD
BEGIN:STANDARD
TZNAME:CET
TZOFFSETFROM:+0200
TZOFFSETTO:+0100
DTSTART:19471005T030000
RRULE:FREQ=YEARLY;UNTIL=19491002T010000Z;BYMONTH=10;BYDAY=1SU
END:STANDARD
BEGIN:STANDARD
TZNAME:CET
TZOFFSETFROM:+0200
TZOFFSETTO:+0100
DTSTART:19800928T030000
RRULE:FREQ=YEARLY;UNTIL=19950924T010000Z;BYMONTH=9;BYDAY=-1SU
END:STANDARD
BEGIN:DAYLIGHT
TZNAME:CEST
TZOFFSETFROM:+0100
TZOFFSETTO:+0200
DTSTART:19810329T020000
RRULE:FREQ=YEARLY;BYMONTH=3;BYDAY=-1SU
END:DAYLIGHT
BEGIN:STANDARD
TZNAME:CET
TZOFFSETFROM:+0200
TZOFFSETTO:+0100
DTSTART:19961027T030000
RRULE:FREQ=YEARLY;BYMONTH=10;BYDAY=-1SU
END:STANDARD
END:VTIMEZONE
BEGIN:VEVENT
DTSTAMP:20260423T175856Z
DTSTART;TZID=Europe/Berlin:20190106T170000
DTEND;TZID=Europe/Berlin:20190106T183000
SUMMARY:Verbandsliga Staffel Ost (VLFO) HCS Neustadt-S. vs HSV Weinböhla (4073)
UID:369fd2a8-abbf-470d-ad37-5ab80d9e3051
STATUS:CONFIRMED
LAST-MODIFIED:20190107T142936Z
DESCRIPTION:Verbandsliga Frauen Staffel Ost\nBegegnungs-Nr: 4073\nHeim: HCS Neustadt-S.\nGast: HSV Weinböhla\nHalle: Sportforum Neustadt (33303)\nAdresse: Maxim-Gorki-Straße 10\, 01844  Neustadt\n
LOCATION:Sportforum Neustadt (33303): Maxim-Gorki-Straße 10\, 01844  Neustadt
CATEGORIES:Saison 2018/19
END:VEVENT
BEGIN:VEVENT
DTSTAMP:20260423T175856Z
DTSTART;TZID=Europe/Berlin:20181014T170000
DTEND;TZID=Europe/Berlin:20181014T183000
SUMMARY:Verbandsliga Staffel Ost (VLFO) HCS Neustadt-S. vs SG Klotzsche (4031)
UID:dbac27f9-ac7c-4582-b36b-10a90ac740a3
STATUS:CONFIRMED
LAST-MODIFIED:20181015T132742Z
DESCRIPTION:Verbandsliga Frauen Staffel Ost\nBegegnungs-Nr: 4031\nHeim: HCS Neustadt-S.\nGast: SG Klotzsche\nHalle: Sportforum Neustadt (33303)\nAdresse: Maxim-Gorki-Straße 10\, 01844  Neustadt\n
LOCATION:Sportforum Neustadt (33303): Maxim-Gorki-Straße 10\, 01844  Neustadt
CATEGORIES:Saison 2018/19
END:VEVENT
BEGIN:VEVENT
DTSTAMP:20260423T175856Z
DTSTART;TZID=Europe/Berlin:20190428T140000
DTEND;TZID=Europe/Berlin:20190428T153000
SUMMARY:Verbandsliga Staffel Ost (VLFO) HCS Neustadt-S. vs VfB Bischofswerda (4129)
UID:6a94cc7b-696e-4799-b743-aec4da453e18
STATUS:CONFIRMED
LAST-MODIFIED:20190428T153602Z
DESCRIPTION:Verbandsliga Frauen Staffel Ost\nBegegnungs-Nr: 4129\nHeim: HCS Neustadt-S.\nGast: VfB Bischofswerda\nHalle: Sportforum Neustadt (33303)\nAdresse: Maxim-Gorki-Straße 10\, 01844  Neustadt\n
LOCATION:Sportforum Neustadt (33303): Maxim-Gorki-Straße 10\, 01844  Neustadt
CATEGORIES:Saison 2018/19
END:VEVENT
BEGIN:VEVENT
DTSTAMP:20260423T175856Z
DTSTART;TZID=Europe/Berlin:20180902T170000
DTEND;TZID=Europe/Berlin:20180902T183000
SUMMARY:Verbandsliga Staffel Ost (VLFO) HCS Neustadt-S. vs SSV Heidenau  (4006)
UID:d807615d-b782-4cf2-a612-ffa080e4404d
STATUS:CONFIRMED
LAST-MODIFIED:20180904T140456Z
DESCRIPTION:Verbandsliga Frauen Staffel Ost\nBegegnungs-Nr: 4006\nHeim: HCS Neustadt-S.\nGast: SSV Heidenau \nHalle: Sportforum Neustadt (33303)\nAdresse: Maxim-Gorki-Straße 10\, 01844  Neustadt\n
LOCATION:Sportforum Neustadt (33303): Maxim-Gorki-Straße 10\, 01844  Neustadt
CATEGORIES:Saison 2018/19
END:VEVENT
BEGIN:VEVENT
DTSTAMP:20260423T175856Z
DTSTART;TZID=Europe/Berlin:20180916T170000
DTEND;TZID=Europe/Berlin:20180916T183000
SUMMARY:Verbandsliga Staffel Ost (VLFO) HCS Neustadt-S. vs TBSV Neugersdorf (4018)
UID:dd03825f-6ad3-49db-9719-5cf495997239
STATUS:CONFIRMED
LAST-MODIFIED:20180917T073119Z
DESCRIPTION:Verbandsliga Frauen Staffel Ost\nBegegnungs-Nr: 4018\nHeim: HCS Neustadt-S.\nGast: TBSV Neugersdorf\nHalle: Sportforum Neustadt (33303)\nAdresse: Maxim-Gorki-Straße 10\, 01844  Neustadt\n
LOCATION:Sportforum Neustadt (33303): Maxim-Gorki-Straße 10\, 01844  Neustadt
CATEGORIES:Saison 2018/19
END:VEVENT
BEGIN:VEVENT
DTSTAMP:20260423T175856Z
DTSTART;TZID=Europe/Berlin:20181028T170000
DTEND;TZID=Europe/Berlin:20181028T183000
SUMMARY:Verbandsliga Staffel Ost (VLFO) HCS Neustadt-S. vs VfL Meißen (4037)
UID:c306a309-4f16-4b5e-aba3-24c5828bcbca
STATUS:CONFIRMED
LAST-MODIFIED:20181031T140040Z
DESCRIPTION:Verbandsliga Frauen Staffel Ost\nBegegnungs-Nr: 4037\nHeim: HCS Neustadt-S.\nGast: VfL Meißen\nHalle: Sportforum Neustadt (33303)\nAdresse: Maxim-Gorki-Straße 10\, 01844  Neustadt\n
LOCATION:Sportforum Neustadt (33303): Maxim-Gorki-Straße 10\, 01844  Neustadt
CATEGORIES:Saison 2018/19
END:VEVENT
BEGIN:VEVENT
DTSTAMP:20260423T175856Z
DTSTART;TZID=Europe/Berlin:20181125T170000
DTEND;TZID=Europe/Berlin:20181125T183000
SUMMARY:Verbandsliga Staffel Ost (VLFO) HCS Neustadt-S. vs HC Rödertal  III (4059)
UID:0b30847a-5f72-47b3-862f-07de07cb0f18
STATUS:CONFIRMED
LAST-MODIFIED:20181126T140637Z
DESCRIPTION:Verbandsliga Frauen Staffel Ost\nBegegnungs-Nr: 4059\nHeim: HCS Neustadt-S.\nGast: HC Rödertal  III\nHalle: Sportforum Neustadt (33303)\nAdresse: Maxim-Gorki-Straße 10\, 01844  Neustadt\n
LOCATION:Sportforum Neustadt (33303): Maxim-Gorki-Straße 10\, 01844  Neustadt
CATEGORIES:Saison 2018/19
END:VEVENT
BEGIN:VEVENT
DTSTAMP:20260423T175856Z
DTSTART;TZID=Europe/Berlin:20190217T170000
DTEND;TZID=Europe/Berlin:20190217T183000
SUMMARY:Verbandsliga Staffel Ost (VLFO) HCS Neustadt-S. vs Koweg Görlitz II (4096)
UID:bb9f1e02-83e8-411f-beea-cc553174657d
STATUS:CONFIRMED
LAST-MODIFIED:20190217T095633Z
DESCRIPTION:Verbandsliga Frauen Staffel Ost\nBegegnungs-Nr: 4096\nHeim: HCS Neustadt-S.\nGast: Koweg Görlitz II\nHalle: Sportforum Neustadt (33303)\nAdresse: Maxim-Gorki-Straße 10\, 01844  Neustadt\n
LOCATION:Sportforum Neustadt (33303): Maxim-Gorki-Straße 10\, 01844  Neustadt
CATEGORIES:Saison 2018/19
END:VEVENT
BEGIN:VEVENT
DTSTAMP:20260423T175856Z
DTSTART;TZID=Europe/Berlin:20190407T170000
DTEND;TZID=Europe/Berlin:20190407T183000
SUMMARY:Verbandsliga Staffel Ost (VLFO) HCS Neustadt-S. vs HC Elbflorenz 2006 (4120)
UID:813845c0-ec9b-4f4e-8f7b-ea6057531b18
STATUS:CONFIRMED
LAST-MODIFIED:20190408T130538Z
DESCRIPTION:Verbandsliga Frauen Staffel Ost\nBegegnungs-Nr: 4120\nHeim: HCS Neustadt-S.\nGast: HC Elbflorenz 2006\nHalle: Sportforum Neustadt (33303)\nAdresse: Maxim-Gorki-Straße 10\, 01844  Neustadt\n
LOCATION:Sportforum Neustadt (33303): Maxim-Gorki-Straße 10\, 01844  Neustadt
CATEGORIES:Saison 2018/19
END:VEVENT
BEGIN:VEVENT
DTSTAMP:20260423T175856Z
DTSTART;TZID=Europe/Berlin:20190210T170000
DTEND;TZID=Europe/Berlin:20190210T183000
SUMMARY:Verbandsliga Staffel Ost (VLFO) HCS Neustadt-S. vs SF 01 Dresden (4090)
UID:620fa0c6-85d5-4c78-b76a-bf521e64c1be
STATUS:CONFIRMED
LAST-MODIFIED:20190212T140650Z
DESCRIPTION:Verbandsliga Frauen Staffel Ost\nBegegnungs-Nr: 4090\nHeim: HCS Neustadt-S.\nGast: SF 01 Dresden\nHalle: Sportforum Neustadt (33303)\nAdresse: Maxim-Gorki-Straße 10\, 01844  Neustadt\n
LOCATION:Sportforum Neustadt (33303): Maxim-Gorki-Straße 10\, 01844  Neustadt
CATEGORIES:Saison 2018/19
END:VEVENT
BEGIN:VEVENT
DTSTAMP:20260423T175856Z
DTSTART;TZID=Europe/Berlin:20190317T170000
DTEND;TZID=Europe/Berlin:20190317T183000
SUMMARY:Verbandsliga Staffel Ost (VLFO) HCS Neustadt-S. vs Stahl Rietschen (4108)
UID:579ddfe7-35f9-415d-862a-cc9ffd31f8ec
STATUS:CONFIRMED
LAST-MODIFIED:20190317T181655Z
DESCRIPTION:Verbandsliga Frauen Staffel Ost\nBegegnungs-Nr: 4108\nHeim: HCS Neustadt-S.\nGast: Stahl Rietschen\nHalle: Sportforum Neustadt (33303)\nAdresse: Maxim-Gorki-Straße 10\, 01844  Neustadt\n
LOCATION:Sportforum Neustadt (33303): Maxim-Gorki-Straße 10\, 01844  Neustadt
CATEGORIES:Saison 2018/19
END:VEVENT
BEGIN:VEVENT
DTSTAMP:20260423T175856Z
DTSTART;TZID=Europe/Berlin:20181208T161500
DTEND;TZID=Europe/Berlin:20181208T174500
SUMMARY:Verbandsliga Staffel Ost (VLFO) SSV Heidenau  vs HCS Neustadt-S. (4067)
UID:d7697213-cc1b-47d7-b7e5-09bb3d59bc13
STATUS:CONFIRMED
LAST-MODIFIED:20181213T101006Z
DESCRIPTION:Verbandsliga Frauen Staffel Ost\nBegegnungs-Nr: 4067\nHeim: SSV Heidenau \nGast: HCS Neustadt-S.\nHalle: SH Pestalozzi-Gymnasium Heidenau (33306)\nAdresse: Hauptstraße 37\, 01809 Heidenau\n
LOCATION:SH Pestalozzi-Gymnasium Heidenau (33306): Hauptstraße 37\, 01809 Heidenau
CATEGORIES:Saison 2018/19
END:VEVENT
BEGIN:VEVENT
DTSTAMP:20260423T175856Z
DTSTART;TZID=Europe/Berlin:20190414T143000
DTEND;TZID=Europe/Berlin:20190414T160000
SUMMARY:Verbandsliga Staffel Ost (VLFO) HC Rödertal  III vs HCS Neustadt-S. (4125)
UID:884467b5-ea48-4943-a39d-15280b5a9dd8
STATUS:CONFIRMED
LAST-MODIFIED:20190414T145618Z
DESCRIPTION:Verbandsliga Frauen Staffel Ost\nBegegnungs-Nr: 4125\nHeim: HC Rödertal  III\nGast: HCS Neustadt-S.\nHalle: 3-Feld-Halle-GY Großröhrsdorf (34514)\nAdresse: Melanchthonstraße 21\, 01900  Großröhrsdorf\n
LOCATION:3-Feld-Halle-GY Großröhrsdorf (34514): Melanchthonstraße 21\, 01900  Großröhrsdorf
CATEGORIES:Saison 2018/19
END:VEVENT
BEGIN:VEVENT
DTSTAMP:20260423T175856Z
DTSTART;TZID=Europe/Berlin:20181117T184500
DTEND;TZID=Europe/Berlin:20181117T201500
SUMMARY:Verbandsliga Staffel Ost (VLFO) HC Elbflorenz 2006 vs HCS Neustadt-S. (4052)
UID:bf370022-914d-43b9-9837-604bf35b0788
STATUS:CONFIRMED
LAST-MODIFIED:20181121T092012Z
DESCRIPTION:Verbandsliga Frauen Staffel Ost\nBegegnungs-Nr: 4052\nHeim: HC Elbflorenz 2006\nGast: HCS Neustadt-S.\nHalle: BallsportARENA Dresden (33133)\nAdresse: Weißeritzstraße 4\, 01067 Dresden\n
LOCATION:BallsportARENA Dresden (33133): Weißeritzstraße 4\, 01067 Dresden
CATEGORIES:Saison 2018/19
END:VEVENT
BEGIN:VEVENT
DTSTAMP:20260423T175856Z
DTSTART;TZID=Europe/Berlin:20190330T150000
DTEND;TZID=Europe/Berlin:20190330T163000
SUMMARY:Verbandsliga Staffel Ost (VLFO) SG Klotzsche vs HCS Neustadt-S. (4111)
UID:add2b873-9c4f-4d52-8692-919a3aef0c56
STATUS:CONFIRMED
LAST-MODIFIED:20190331T081844Z
DESCRIPTION:Verbandsliga Frauen Staffel Ost\nBegegnungs-Nr: 4111\nHeim: SG Klotzsche\nGast: HCS Neustadt-S.\nHalle: SH Gymnasium Klotzsche (33126)\nAdresse: Karl-Marx-Straße 44\, 01109 Dresden\n
LOCATION:SH Gymnasium Klotzsche (33126): Karl-Marx-Straße 44\, 01109 Dresden
CATEGORIES:Saison 2018/19
END:VEVENT
BEGIN:VEVENT
DTSTAMP:20260423T175856Z
DTSTART;TZID=Europe/Berlin:20180908T170000
DTEND;TZID=Europe/Berlin:20180908T183000
SUMMARY:Verbandsliga Staffel Ost (VLFO) HSV Weinböhla vs HCS Neustadt-S. (4010)
UID:019b1c93-54a3-41f8-bc31-719cf45e0bf2
STATUS:CONFIRMED
LAST-MODIFIED:20180918T154037Z
DESCRIPTION:Verbandsliga Frauen Staffel Ost\nBegegnungs-Nr: 4010\nHeim: HSV Weinböhla\nGast: HCS Neustadt-S.\nHalle: Nassau-SH Weinböhla (33224)\nAdresse: Meißner Str. 1\, 01689 Weinböhla\n
LOCATION:Nassau-SH Weinböhla (33224): Meißner Str. 1\, 01689 Weinböhla
CATEGORIES:Saison 2018/19
END:VEVENT
BEGIN:VEVENT
DTSTAMP:20260423T175856Z
DTSTART;TZID=Europe/Berlin:20181103T140000
DTEND;TZID=Europe/Berlin:20181103T153000
SUMMARY:Verbandsliga Staffel Ost (VLFO) Stahl Rietschen vs HCS Neustadt-S. (4038)
UID:d932b494-2e16-4abf-baaf-c48812e62cb2
STATUS:CONFIRMED
LAST-MODIFIED:20181104T144643Z
DESCRIPTION:Verbandsliga Frauen Staffel Ost\nBegegnungs-Nr: 4038\nHeim: Stahl Rietschen\nGast: HCS Neustadt-S.\nHalle: Oberlausitz-SH Rietschen (34403)\nAdresse: Am Festplatz 1\, 02956 Rietschen\n
LOCATION:Oberlausitz-SH Rietschen (34403): Am Festplatz 1\, 02956 Rietschen
CATEGORIES:Saison 2018/19
END:VEVENT
BEGIN:VEVENT
DTSTAMP:20260423T175856Z
DTSTART;TZID=Europe/Berlin:20181201T160000
DTEND;TZID=Europe/Berlin:20181201T173000
SUMMARY:Verbandsliga Staffel Ost (VLFO) VfB Bischofswerda vs HCS Neustadt-S. (4060)
UID:ee72c178-8ba7-4a4e-921c-423af918c068
STATUS:CONFIRMED
LAST-MODIFIED:20181202T080105Z
DESCRIPTION:Verbandsliga Frauen Staffel Ost\nBegegnungs-Nr: 4060\nHeim: VfB Bischofswerda\nGast: HCS Neustadt-S.\nHalle: SH Wesenitzsportpark Bischofswerda (34505)\nAdresse: Clara-Zetkin-Str. 4\, 01877  Bischofswerda\n
LOCATION:SH Wesenitzsportpark Bischofswerda (34505): Clara-Zetkin-Str. 4\, 01877  Bischofswerda
CATEGORIES:Saison 2018/19
END:VEVENT
BEGIN:VEVENT
DTSTAMP:20260423T175856Z
DTSTART;TZID=Europe/Berlin:20180923T180000
DTEND;TZID=Europe/Berlin:20180923T193000
SUMMARY:Verbandsliga Staffel Ost (VLFO) SF 01 Dresden vs HCS Neustadt-S. (4024)
UID:49052436-7d59-4e3d-ac1b-273935cec287
STATUS:CONFIRMED
LAST-MODIFIED:20180928T141630Z
DESCRIPTION:Verbandsliga Frauen Staffel Ost\nBegegnungs-Nr: 4024\nHeim: SF 01 Dresden\nGast: HCS Neustadt-S.\nHalle: SH Erlwein-Gymnasium Dresden (33127)\nAdresse: Eibenstocker Straße 30\, 01277 Dresden\n
LOCATION:SH Erlwein-Gymnasium Dresden (33127): Eibenstocker Straße 30\, 01277 Dresden
CATEGORIES:Saison 2018/19
END:VEVENT
BEGIN:VEVENT
DTSTAMP:20260423T175856Z
DTSTART;TZID=Europe/Berlin:20180929T170000
DTEND;TZID=Europe/Berlin:20180929T183000
SUMMARY:Verbandsliga Staffel Ost (VLFO) Koweg Görlitz II vs HCS Neustadt-S. (4028)
UID:225f9608-b545-49a8-917d-25d4bf5df5c6
STATUS:CONFIRMED
LAST-MODIFIED:20181108T141222Z
DESCRIPTION:Verbandsliga Frauen Staffel Ost\nBegegnungs-Nr: 4028\nHeim: Koweg Görlitz II\nGast: HCS Neustadt-S.\nHalle: SH Rauschwalde (34301)\nAdresse: Diesterwegplatz 8\, 02827 Görlitz\n
LOCATION:SH Rauschwalde (34301): Diesterwegplatz 8\, 02827 Görlitz
CATEGORIES:Saison 2018/19
END:VEVENT
BEGIN:VEVENT
DTSTAMP:20260423T175856Z
DTSTART;TZID=Europe/Berlin:20190202T160000
DTEND;TZID=Europe/Berlin:20190202T173000
SUMMARY:Verbandsliga Staffel Ost (VLFO) TBSV Neugersdorf vs HCS Neustadt-S. (4080)
UID:0059d317-38a7-4d22-800a-edf01357d4dc
STATUS:CONFIRMED
LAST-MODIFIED:20190204T153604Z
DESCRIPTION:Verbandsliga Frauen Staffel Ost\nBegegnungs-Nr: 4080\nHeim: TBSV Neugersdorf\nGast: HCS Neustadt-S.\nHalle: FSZ Oberland \"Albert Schweitzer\" (34112)\nAdresse: Friedrich-Ebert-Str.27\, 02730 Ebersbach-Neugersdorf\n
LOCATION:FSZ Oberland \"Albert Schweitzer\" (34112): Friedrich-Ebert-Str.27\, 02730 Ebersbach-Neugersdorf
CATEGORIES:Saison 2018/19
END:VEVENT
BEGIN:VEVENT
DTSTAMP:20260423T175856Z
DTSTART;TZID=Europe/Berlin:20190309T180000
DTEND;TZID=Europe/Berlin:20190309T193000
SUMMARY:Verbandsliga Staffel Ost (VLFO) VfL Meißen vs HCS Neustadt-S. (4100)
UID:8442a5f5-c320-4eff-95f8-98b9fada2b36
STATUS:CONFIRMED
LAST-MODIFIED:20190311T151842Z
DESCRIPTION:Verbandsliga Frauen Staffel Ost\nBegegnungs-Nr: 4100\nHeim: VfL Meißen\nGast: HCS Neustadt-S.\nHalle: SH \"Heiliger Grund\" Meißen (33212)\nAdresse: Goethestraße 27\, 01662 Meißen\n
LOCATION:SH \"Heiliger Grund\" Meißen (33212): Goethestraße 27\, 01662 Meißen
CATEGORIES:Saison 2018/19
END:VEVENT
END:VCALENDAR
