BEGIN:VCALENDAR
PRODID:-//nuDatenautomaten//framework iCal4j //DE
VERSION:2.0
CALSCALE:GREGORIAN
BEGIN:VTIMEZONE
TZID:Europe/Berlin
LAST-MODIFIED:20260306T231828Z
TZURL:https://www.tzurl.org/zoneinfo/Europe/Berlin
X-LIC-LOCATION:Europe/Berlin
X-PROLEPTIC-TZNAME:LMT
BEGIN:STANDARD
TZNAME:CET
TZOFFSETFROM:+005328
TZOFFSETTO:+0100
DTSTART:18930401T000000
END:STANDARD
BEGIN:DAYLIGHT
TZNAME:CEST
TZOFFSETFROM:+0100
TZOFFSETTO:+0200
DTSTART:19160430T230000
RDATE:19400401T020000
RDATE:19430329T020000
RDATE:19460414T020000
RDATE:19470406T030000
RDATE:19480418T020000
RDATE:19490410T020000
RDATE:19800406T020000
END:DAYLIGHT
BEGIN:STANDARD
TZNAME:CET
TZOFFSETFROM:+0200
TZOFFSETTO:+0100
DTSTART:19161001T010000
RDATE:19421102T030000
RDATE:19431004T030000
RDATE:19441002T030000
RDATE:19451118T030000
RDATE:19461007T030000
END:STANDARD
BEGIN:DAYLIGHT
TZNAME:CEST
TZOFFSETFROM:+0100
TZOFFSETTO:+0200
DTSTART:19170416T020000
RRULE:FREQ=YEARLY;UNTIL=19180415T010000Z;BYMONTH=4;BYDAY=3MO
END:DAYLIGHT
BEGIN:STANDARD
TZNAME:CET
TZOFFSETFROM:+0200
TZOFFSETTO:+0100
DTSTART:19170917T030000
RRULE:FREQ=YEARLY;UNTIL=19180916T010000Z;BYMONTH=9;BYDAY=3MO
END:STANDARD
BEGIN:DAYLIGHT
TZNAME:CEST
TZOFFSETFROM:+0100
TZOFFSETTO:+0200
DTSTART:19440403T020000
RRULE:FREQ=YEARLY;UNTIL=19450402T010000Z;BYMONTH=4;BYDAY=1MO
END:DAYLIGHT
BEGIN:DAYLIGHT
TZNAME:CEMT
TZOFFSETFROM:+0200
TZOFFSETTO:+0300
DTSTART:19450524T020000
RDATE:19470511T030000
END:DAYLIGHT
BEGIN:DAYLIGHT
TZNAME:CEST
TZOFFSETFROM:+0300
TZOFFSETTO:+0200
DTSTART:19450924T030000
RDATE:19470629T030000
END:DAYLIGHT
BEGIN:STANDARD
TZNAME:CET
TZOFFSETFROM:+0100
TZOFFSETTO:+0100
DTSTART:19460101T000000
RDATE:19800101T000000
END:STANDARD
BEGIN:STANDARD
TZNAME:CET
TZOFFSETFROM:+0200
TZOFFSETTO:+0100
DTSTART:19471005T030000
RRULE:FREQ=YEARLY;UNTIL=19491002T010000Z;BYMONTH=10;BYDAY=1SU
END:STANDARD
BEGIN:STANDARD
TZNAME:CET
TZOFFSETFROM:+0200
TZOFFSETTO:+0100
DTSTART:19800928T030000
RRULE:FREQ=YEARLY;UNTIL=19950924T010000Z;BYMONTH=9;BYDAY=-1SU
END:STANDARD
BEGIN:DAYLIGHT
TZNAME:CEST
TZOFFSETFROM:+0100
TZOFFSETTO:+0200
DTSTART:19810329T020000
RRULE:FREQ=YEARLY;BYMONTH=3;BYDAY=-1SU
END:DAYLIGHT
BEGIN:STANDARD
TZNAME:CET
TZOFFSETFROM:+0200
TZOFFSETTO:+0100
DTSTART:19961027T030000
RRULE:FREQ=YEARLY;BYMONTH=10;BYDAY=-1SU
END:STANDARD
END:VTIMEZONE
BEGIN:VEVENT
DTSTAMP:20260424T042145Z
DTSTART;TZID=Europe/Berlin:20190406T160000
DTEND;TZID=Europe/Berlin:20190406T173000
SUMMARY:Verbandsliga Staffel Ost (VLFO) TBSV Neugersdorf vs VfB Bischofswerda (4115)
UID:e375e2bf-7ce9-4ba9-b600-9ddd04bb5989
STATUS:CONFIRMED
LAST-MODIFIED:20190407T072859Z
DESCRIPTION:Verbandsliga Frauen Staffel Ost\nBegegnungs-Nr: 4115\nHeim: TBSV Neugersdorf\nGast: VfB Bischofswerda\nHalle: FSZ Oberland \"Albert Schweitzer\" (34112)\nAdresse: Friedrich-Ebert-Str.27\, 02730 Ebersbach-Neugersdorf\n
LOCATION:FSZ Oberland \"Albert Schweitzer\" (34112): Friedrich-Ebert-Str.27\, 02730 Ebersbach-Neugersdorf
CATEGORIES:Saison 2018/19
END:VEVENT
BEGIN:VEVENT
DTSTAMP:20260424T042145Z
DTSTART;TZID=Europe/Berlin:20181110T160000
DTEND;TZID=Europe/Berlin:20181110T173000
SUMMARY:Verbandsliga Staffel Ost (VLFO) TBSV Neugersdorf vs HC Rödertal  III (4044)
UID:54480dcf-ff14-4dd0-855f-02678eaf51b5
STATUS:CONFIRMED
LAST-MODIFIED:20181112T153749Z
DESCRIPTION:Verbandsliga Frauen Staffel Ost\nBegegnungs-Nr: 4044\nHeim: TBSV Neugersdorf\nGast: HC Rödertal  III\nHalle: FSZ Oberland \"Albert Schweitzer\" (34112)\nAdresse: Friedrich-Ebert-Str.27\, 02730 Ebersbach-Neugersdorf\n
LOCATION:FSZ Oberland \"Albert Schweitzer\" (34112): Friedrich-Ebert-Str.27\, 02730 Ebersbach-Neugersdorf
CATEGORIES:Saison 2018/19
END:VEVENT
BEGIN:VEVENT
DTSTAMP:20260424T042145Z
DTSTART;TZID=Europe/Berlin:20190428T140000
DTEND;TZID=Europe/Berlin:20190428T153000
SUMMARY:Verbandsliga Staffel Ost (VLFO) TBSV Neugersdorf vs HSV Weinböhla (4128)
UID:d934de46-5204-498b-96c2-17cb54ed3158
STATUS:CONFIRMED
LAST-MODIFIED:20190428T153438Z
DESCRIPTION:Verbandsliga Frauen Staffel Ost\nBegegnungs-Nr: 4128\nHeim: TBSV Neugersdorf\nGast: HSV Weinböhla\nHalle: FSZ Oberland \"Albert Schweitzer\" (34112)\nAdresse: Friedrich-Ebert-Str.27\, 02730 Ebersbach-Neugersdorf\n
LOCATION:FSZ Oberland \"Albert Schweitzer\" (34112): Friedrich-Ebert-Str.27\, 02730 Ebersbach-Neugersdorf
CATEGORIES:Saison 2018/19
END:VEVENT
BEGIN:VEVENT
DTSTAMP:20260424T042145Z
DTSTART;TZID=Europe/Berlin:20180923T140000
DTEND;TZID=Europe/Berlin:20180923T153000
SUMMARY:Verbandsliga Staffel Ost (VLFO) TBSV Neugersdorf vs VfL Meißen (4023)
UID:e395d6b4-20d1-4a7a-ae83-7f11708992db
STATUS:CONFIRMED
LAST-MODIFIED:20180928T141554Z
DESCRIPTION:Verbandsliga Frauen Staffel Ost\nBegegnungs-Nr: 4023\nHeim: TBSV Neugersdorf\nGast: VfL Meißen\nHalle: FSZ Oberland \"Albert Schweitzer\" (34112)\nAdresse: Friedrich-Ebert-Str.27\, 02730 Ebersbach-Neugersdorf\n
LOCATION:FSZ Oberland \"Albert Schweitzer\" (34112): Friedrich-Ebert-Str.27\, 02730 Ebersbach-Neugersdorf
CATEGORIES:Saison 2018/19
END:VEVENT
BEGIN:VEVENT
DTSTAMP:20260424T042145Z
DTSTART;TZID=Europe/Berlin:20180908T160000
DTEND;TZID=Europe/Berlin:20180908T173000
SUMMARY:Verbandsliga Staffel Ost (VLFO) TBSV Neugersdorf vs SF 01 Dresden (4009)
UID:fc5ef44e-92ab-445f-81a4-cc93134486a9
STATUS:CONFIRMED
LAST-MODIFIED:20180928T143248Z
DESCRIPTION:Verbandsliga Frauen Staffel Ost\nBegegnungs-Nr: 4009\nHeim: TBSV Neugersdorf\nGast: SF 01 Dresden\nHalle: FSZ Oberland \"Albert Schweitzer\" (34112)\nAdresse: Friedrich-Ebert-Str.27\, 02730 Ebersbach-Neugersdorf\n
LOCATION:FSZ Oberland \"Albert Schweitzer\" (34112): Friedrich-Ebert-Str.27\, 02730 Ebersbach-Neugersdorf
CATEGORIES:Saison 2018/19
END:VEVENT
BEGIN:VEVENT
DTSTAMP:20260424T042145Z
DTSTART;TZID=Europe/Berlin:20181027T160000
DTEND;TZID=Europe/Berlin:20181027T173000
SUMMARY:Verbandsliga Staffel Ost (VLFO) TBSV Neugersdorf vs SG Klotzsche (4032)
UID:6feb810a-a874-4f9c-9784-c6eaeca708ba
STATUS:CONFIRMED
LAST-MODIFIED:20181030T143439Z
DESCRIPTION:Verbandsliga Frauen Staffel Ost\nBegegnungs-Nr: 4032\nHeim: TBSV Neugersdorf\nGast: SG Klotzsche\nHalle: FSZ Oberland \"Albert Schweitzer\" (34112)\nAdresse: Friedrich-Ebert-Str.27\, 02730 Ebersbach-Neugersdorf\n
LOCATION:FSZ Oberland \"Albert Schweitzer\" (34112): Friedrich-Ebert-Str.27\, 02730 Ebersbach-Neugersdorf
CATEGORIES:Saison 2018/19
END:VEVENT
BEGIN:VEVENT
DTSTAMP:20260424T042145Z
DTSTART;TZID=Europe/Berlin:20181124T160000
DTEND;TZID=Europe/Berlin:20181124T173000
SUMMARY:Verbandsliga Staffel Ost (VLFO) TBSV Neugersdorf vs SSV Heidenau  (4055)
UID:28163962-eb48-406a-866c-61c74cf33b1d
STATUS:CONFIRMED
LAST-MODIFIED:20181126T140958Z
DESCRIPTION:Verbandsliga Frauen Staffel Ost\nBegegnungs-Nr: 4055\nHeim: TBSV Neugersdorf\nGast: SSV Heidenau \nHalle: FSZ Oberland \"Albert Schweitzer\" (34112)\nAdresse: Friedrich-Ebert-Str.27\, 02730 Ebersbach-Neugersdorf\n
LOCATION:FSZ Oberland \"Albert Schweitzer\" (34112): Friedrich-Ebert-Str.27\, 02730 Ebersbach-Neugersdorf
CATEGORIES:Saison 2018/19
END:VEVENT
BEGIN:VEVENT
DTSTAMP:20260424T042145Z
DTSTART;TZID=Europe/Berlin:20181208T160000
DTEND;TZID=Europe/Berlin:20181208T173000
SUMMARY:Verbandsliga Staffel Ost (VLFO) TBSV Neugersdorf vs Koweg Görlitz II (4066)
UID:4188786c-e169-4884-8ac2-79c7579e6485
STATUS:CONFIRMED
LAST-MODIFIED:20181213T100903Z
DESCRIPTION:Verbandsliga Frauen Staffel Ost\nBegegnungs-Nr: 4066\nHeim: TBSV Neugersdorf\nGast: Koweg Görlitz II\nHalle: FSZ Oberland \"Albert Schweitzer\" (34112)\nAdresse: Friedrich-Ebert-Str.27\, 02730 Ebersbach-Neugersdorf\n
LOCATION:FSZ Oberland \"Albert Schweitzer\" (34112): Friedrich-Ebert-Str.27\, 02730 Ebersbach-Neugersdorf
CATEGORIES:Saison 2018/19
END:VEVENT
BEGIN:VEVENT
DTSTAMP:20260424T042145Z
DTSTART;TZID=Europe/Berlin:20190316T160000
DTEND;TZID=Europe/Berlin:20190316T173000
SUMMARY:Verbandsliga Staffel Ost (VLFO) TBSV Neugersdorf vs HC Elbflorenz 2006 (4104)
UID:a7aa6eaf-3911-4df3-9947-955ddb038a38
STATUS:CONFIRMED
LAST-MODIFIED:20190317T125134Z
DESCRIPTION:Verbandsliga Frauen Staffel Ost\nBegegnungs-Nr: 4104\nHeim: TBSV Neugersdorf\nGast: HC Elbflorenz 2006\nHalle: FSZ Oberland \"Albert Schweitzer\" (34112)\nAdresse: Friedrich-Ebert-Str.27\, 02730 Ebersbach-Neugersdorf\n
LOCATION:FSZ Oberland \"Albert Schweitzer\" (34112): Friedrich-Ebert-Str.27\, 02730 Ebersbach-Neugersdorf
CATEGORIES:Saison 2018/19
END:VEVENT
BEGIN:VEVENT
DTSTAMP:20260424T042145Z
DTSTART;TZID=Europe/Berlin:20190202T160000
DTEND;TZID=Europe/Berlin:20190202T173000
SUMMARY:Verbandsliga Staffel Ost (VLFO) TBSV Neugersdorf vs HCS Neustadt-S. (4080)
UID:0059d317-38a7-4d22-800a-edf01357d4dc
STATUS:CONFIRMED
LAST-MODIFIED:20190204T153604Z
DESCRIPTION:Verbandsliga Frauen Staffel Ost\nBegegnungs-Nr: 4080\nHeim: TBSV Neugersdorf\nGast: HCS Neustadt-S.\nHalle: FSZ Oberland \"Albert Schweitzer\" (34112)\nAdresse: Friedrich-Ebert-Str.27\, 02730 Ebersbach-Neugersdorf\n
LOCATION:FSZ Oberland \"Albert Schweitzer\" (34112): Friedrich-Ebert-Str.27\, 02730 Ebersbach-Neugersdorf
CATEGORIES:Saison 2018/19
END:VEVENT
BEGIN:VEVENT
DTSTAMP:20260424T042145Z
DTSTART;TZID=Europe/Berlin:20190216T160000
DTEND;TZID=Europe/Berlin:20190216T173000
SUMMARY:Verbandsliga Staffel Ost (VLFO) TBSV Neugersdorf vs Stahl Rietschen (4092)
UID:755b6f69-f48a-4859-991a-52c18557eeb1
STATUS:CONFIRMED
LAST-MODIFIED:20190219T141704Z
DESCRIPTION:Verbandsliga Frauen Staffel Ost\nBegegnungs-Nr: 4092\nHeim: TBSV Neugersdorf\nGast: Stahl Rietschen\nHalle: FSZ Oberland \"Albert Schweitzer\" (34112)\nAdresse: Friedrich-Ebert-Str.27\, 02730 Ebersbach-Neugersdorf\n
LOCATION:FSZ Oberland \"Albert Schweitzer\" (34112): Friedrich-Ebert-Str.27\, 02730 Ebersbach-Neugersdorf
CATEGORIES:Saison 2018/19
END:VEVENT
BEGIN:VEVENT
DTSTAMP:20260424T042145Z
DTSTART;TZID=Europe/Berlin:20181117T160000
DTEND;TZID=Europe/Berlin:20181117T173000
SUMMARY:Verbandsliga Staffel Ost (VLFO) VfB Bischofswerda vs TBSV Neugersdorf (4050)
UID:20781940-44bc-409f-b9c1-4079be6f6501
STATUS:CONFIRMED
LAST-MODIFIED:20181121T091751Z
DESCRIPTION:Verbandsliga Frauen Staffel Ost\nBegegnungs-Nr: 4050\nHeim: VfB Bischofswerda\nGast: TBSV Neugersdorf\nHalle: SH Wesenitzsportpark Bischofswerda (34505)\nAdresse: Clara-Zetkin-Str. 4\, 01877  Bischofswerda\n
LOCATION:SH Wesenitzsportpark Bischofswerda (34505): Clara-Zetkin-Str. 4\, 01877  Bischofswerda
CATEGORIES:Saison 2018/19
END:VEVENT
BEGIN:VEVENT
DTSTAMP:20260424T042145Z
DTSTART;TZID=Europe/Berlin:20190413T161500
DTEND;TZID=Europe/Berlin:20190413T174500
SUMMARY:Verbandsliga Staffel Ost (VLFO) SSV Heidenau  vs TBSV Neugersdorf (4122)
UID:3f07eaa0-84e7-4778-b32b-5b3b0229dfdc
STATUS:CONFIRMED
LAST-MODIFIED:20190414T071305Z
DESCRIPTION:Verbandsliga Frauen Staffel Ost\nBegegnungs-Nr: 4122\nHeim: SSV Heidenau \nGast: TBSV Neugersdorf\nHalle: SH Pestalozzi-Gymnasium Heidenau (33306)\nAdresse: Hauptstraße 37\, 01809 Heidenau\n
LOCATION:SH Pestalozzi-Gymnasium Heidenau (33306): Hauptstraße 37\, 01809 Heidenau
CATEGORIES:Saison 2018/19
END:VEVENT
BEGIN:VEVENT
DTSTAMP:20260424T042145Z
DTSTART;TZID=Europe/Berlin:20181103T170000
DTEND;TZID=Europe/Berlin:20181103T183000
SUMMARY:Verbandsliga Staffel Ost (VLFO) HC Elbflorenz 2006 vs TBSV Neugersdorf (4040)
UID:783ab73e-7838-4602-a78d-6f3ccf85decf
STATUS:CONFIRMED
LAST-MODIFIED:20181104T144212Z
DESCRIPTION:Verbandsliga Frauen Staffel Ost\nBegegnungs-Nr: 4040\nHeim: HC Elbflorenz 2006\nGast: TBSV Neugersdorf\nHalle: BallsportARENA Dresden (33133)\nAdresse: Weißeritzstraße 4\, 01067 Dresden\n
LOCATION:BallsportARENA Dresden (33133): Weißeritzstraße 4\, 01067 Dresden
CATEGORIES:Saison 2018/19
END:VEVENT
BEGIN:VEVENT
DTSTAMP:20260424T042145Z
DTSTART;TZID=Europe/Berlin:20190309T180000
DTEND;TZID=Europe/Berlin:20190309T193000
SUMMARY:Verbandsliga Staffel Ost (VLFO) SG Klotzsche vs TBSV Neugersdorf (4101)
UID:fe4be482-637f-458b-8ffb-5d035f6eafd6
STATUS:CONFIRMED
LAST-MODIFIED:20190318T150711Z
DESCRIPTION:Verbandsliga Frauen Staffel Ost\nBegegnungs-Nr: 4101\nHeim: SG Klotzsche\nGast: TBSV Neugersdorf\nHalle: SH Gymnasium Klotzsche (33126)\nAdresse: Karl-Marx-Straße 44\, 01109 Dresden\n
LOCATION:SH Gymnasium Klotzsche (33126): Karl-Marx-Straße 44\, 01109 Dresden
CATEGORIES:Saison 2018/19
END:VEVENT
BEGIN:VEVENT
DTSTAMP:20260424T042145Z
DTSTART;TZID=Europe/Berlin:20180901T180000
DTEND;TZID=Europe/Berlin:20180901T193000
SUMMARY:Verbandsliga Staffel Ost (VLFO) Koweg Görlitz II vs TBSV Neugersdorf (4004)
UID:8c7c0cab-9678-46cc-83c4-aee710a0efa2
STATUS:CONFIRMED
LAST-MODIFIED:20180902T130258Z
DESCRIPTION:Verbandsliga Frauen Staffel Ost\nBegegnungs-Nr: 4004\nHeim: Koweg Görlitz II\nGast: TBSV Neugersdorf\nHalle: SH Rauschwalde (34301)\nAdresse: Diesterwegplatz 8\, 02827 Görlitz\n
LOCATION:SH Rauschwalde (34301): Diesterwegplatz 8\, 02827 Görlitz
CATEGORIES:Saison 2018/19
END:VEVENT
BEGIN:VEVENT
DTSTAMP:20260424T042145Z
DTSTART;TZID=Europe/Berlin:20180916T170000
DTEND;TZID=Europe/Berlin:20180916T183000
SUMMARY:Verbandsliga Staffel Ost (VLFO) HCS Neustadt-S. vs TBSV Neugersdorf (4018)
UID:dd03825f-6ad3-49db-9719-5cf495997239
STATUS:CONFIRMED
LAST-MODIFIED:20180917T073119Z
DESCRIPTION:Verbandsliga Frauen Staffel Ost\nBegegnungs-Nr: 4018\nHeim: HCS Neustadt-S.\nGast: TBSV Neugersdorf\nHalle: Sportforum Neustadt (33303)\nAdresse: Maxim-Gorki-Straße 10\, 01844  Neustadt\n
LOCATION:Sportforum Neustadt (33303): Maxim-Gorki-Straße 10\, 01844  Neustadt
CATEGORIES:Saison 2018/19
END:VEVENT
BEGIN:VEVENT
DTSTAMP:20260424T042145Z
DTSTART;TZID=Europe/Berlin:20180929T140000
DTEND;TZID=Europe/Berlin:20180929T153000
SUMMARY:Verbandsliga Staffel Ost (VLFO) Stahl Rietschen vs TBSV Neugersdorf (4025)
UID:88913d7f-3c46-4e44-8d6d-04091dfc0691
STATUS:CONFIRMED
LAST-MODIFIED:20181003T062018Z
DESCRIPTION:Verbandsliga Frauen Staffel Ost\nBegegnungs-Nr: 4025\nHeim: Stahl Rietschen\nGast: TBSV Neugersdorf\nHalle: Oberlausitz-SH Rietschen (34403)\nAdresse: Am Festplatz 1\, 02956 Rietschen\n
LOCATION:Oberlausitz-SH Rietschen (34403): Am Festplatz 1\, 02956 Rietschen
CATEGORIES:Saison 2018/19
END:VEVENT
BEGIN:VEVENT
DTSTAMP:20260424T042145Z
DTSTART;TZID=Europe/Berlin:20190323T173000
DTEND;TZID=Europe/Berlin:20190323T190000
SUMMARY:Verbandsliga Staffel Ost (VLFO) HSV Weinböhla vs TBSV Neugersdorf (4072)
UID:a363f60a-c743-4b85-b762-c4032d00ca86
STATUS:CONFIRMED
LAST-MODIFIED:20190324T082149Z
DESCRIPTION:Verbandsliga Frauen Staffel Ost\nBegegnungs-Nr: 4072\nHeim: HSV Weinböhla\nGast: TBSV Neugersdorf\nHalle: Nassau-SH Weinböhla (33224)\nAdresse: Meißner Str. 1\, 01689 Weinböhla\n
LOCATION:Nassau-SH Weinböhla (33224): Meißner Str. 1\, 01689 Weinböhla
CATEGORIES:Saison 2018/19
END:VEVENT
BEGIN:VEVENT
DTSTAMP:20260424T042145Z
DTSTART;TZID=Europe/Berlin:20190209T180000
DTEND;TZID=Europe/Berlin:20190209T193000
SUMMARY:Verbandsliga Staffel Ost (VLFO) VfL Meißen vs TBSV Neugersdorf (4086)
UID:d8ad68b0-8570-410c-ab28-2e5efca6c381
STATUS:CONFIRMED
LAST-MODIFIED:20190212T140349Z
DESCRIPTION:Verbandsliga Frauen Staffel Ost\nBegegnungs-Nr: 4086\nHeim: VfL Meißen\nGast: TBSV Neugersdorf\nHalle: SH \"Heiliger Grund\" Meißen (33212)\nAdresse: Goethestraße 27\, 01662 Meißen\n
LOCATION:SH \"Heiliger Grund\" Meißen (33212): Goethestraße 27\, 01662 Meißen
CATEGORIES:Saison 2018/19
END:VEVENT
BEGIN:VEVENT
DTSTAMP:20260424T042145Z
DTSTART;TZID=Europe/Berlin:20190331T133000
DTEND;TZID=Europe/Berlin:20190331T150000
SUMMARY:Verbandsliga Staffel Ost (VLFO) HC Rödertal  III vs TBSV Neugersdorf (4113)
UID:8aa68f15-e456-4979-b98b-e9a8560ba75a
STATUS:CONFIRMED
LAST-MODIFIED:20190331T145324Z
DESCRIPTION:Verbandsliga Frauen Staffel Ost\nBegegnungs-Nr: 4113\nHeim: HC Rödertal  III\nGast: TBSV Neugersdorf\nHalle: 3-Feld-Halle-GY Großröhrsdorf (34514)\nAdresse: Melanchthonstraße 21\, 01900  Großröhrsdorf\n
LOCATION:3-Feld-Halle-GY Großröhrsdorf (34514): Melanchthonstraße 21\, 01900  Großröhrsdorf
CATEGORIES:Saison 2018/19
END:VEVENT
BEGIN:VEVENT
DTSTAMP:20260424T042145Z
DTSTART;TZID=Europe/Berlin:20190127T180000
DTEND;TZID=Europe/Berlin:20190127T193000
SUMMARY:Verbandsliga Staffel Ost (VLFO) SF 01 Dresden vs TBSV Neugersdorf (4078)
UID:b716d1b9-fc5b-47dc-8e20-7f09ca8ef978
STATUS:CONFIRMED
LAST-MODIFIED:20190128T153520Z
DESCRIPTION:Verbandsliga Frauen Staffel Ost\nBegegnungs-Nr: 4078\nHeim: SF 01 Dresden\nGast: TBSV Neugersdorf\nHalle: SH 117. Grundschule Dresden (33132)\nAdresse: Reichenbachstr. 12\, 01069 Dresden\n
LOCATION:SH 117. Grundschule Dresden (33132): Reichenbachstr. 12\, 01069 Dresden
CATEGORIES:Saison 2018/19
END:VEVENT
END:VCALENDAR
