BEGIN:VCALENDAR
PRODID:-//nuDatenautomaten//framework iCal4j //DE
VERSION:2.0
CALSCALE:GREGORIAN
BEGIN:VTIMEZONE
TZID:Europe/Berlin
LAST-MODIFIED:20260306T231828Z
TZURL:https://www.tzurl.org/zoneinfo/Europe/Berlin
X-LIC-LOCATION:Europe/Berlin
X-PROLEPTIC-TZNAME:LMT
BEGIN:STANDARD
TZNAME:CET
TZOFFSETFROM:+005328
TZOFFSETTO:+0100
DTSTART:18930401T000000
END:STANDARD
BEGIN:DAYLIGHT
TZNAME:CEST
TZOFFSETFROM:+0100
TZOFFSETTO:+0200
DTSTART:19160430T230000
RDATE:19400401T020000
RDATE:19430329T020000
RDATE:19460414T020000
RDATE:19470406T030000
RDATE:19480418T020000
RDATE:19490410T020000
RDATE:19800406T020000
END:DAYLIGHT
BEGIN:STANDARD
TZNAME:CET
TZOFFSETFROM:+0200
TZOFFSETTO:+0100
DTSTART:19161001T010000
RDATE:19421102T030000
RDATE:19431004T030000
RDATE:19441002T030000
RDATE:19451118T030000
RDATE:19461007T030000
END:STANDARD
BEGIN:DAYLIGHT
TZNAME:CEST
TZOFFSETFROM:+0100
TZOFFSETTO:+0200
DTSTART:19170416T020000
RRULE:FREQ=YEARLY;UNTIL=19180415T010000Z;BYMONTH=4;BYDAY=3MO
END:DAYLIGHT
BEGIN:STANDARD
TZNAME:CET
TZOFFSETFROM:+0200
TZOFFSETTO:+0100
DTSTART:19170917T030000
RRULE:FREQ=YEARLY;UNTIL=19180916T010000Z;BYMONTH=9;BYDAY=3MO
END:STANDARD
BEGIN:DAYLIGHT
TZNAME:CEST
TZOFFSETFROM:+0100
TZOFFSETTO:+0200
DTSTART:19440403T020000
RRULE:FREQ=YEARLY;UNTIL=19450402T010000Z;BYMONTH=4;BYDAY=1MO
END:DAYLIGHT
BEGIN:DAYLIGHT
TZNAME:CEMT
TZOFFSETFROM:+0200
TZOFFSETTO:+0300
DTSTART:19450524T020000
RDATE:19470511T030000
END:DAYLIGHT
BEGIN:DAYLIGHT
TZNAME:CEST
TZOFFSETFROM:+0300
TZOFFSETTO:+0200
DTSTART:19450924T030000
RDATE:19470629T030000
END:DAYLIGHT
BEGIN:STANDARD
TZNAME:CET
TZOFFSETFROM:+0100
TZOFFSETTO:+0100
DTSTART:19460101T000000
RDATE:19800101T000000
END:STANDARD
BEGIN:STANDARD
TZNAME:CET
TZOFFSETFROM:+0200
TZOFFSETTO:+0100
DTSTART:19471005T030000
RRULE:FREQ=YEARLY;UNTIL=19491002T010000Z;BYMONTH=10;BYDAY=1SU
END:STANDARD
BEGIN:STANDARD
TZNAME:CET
TZOFFSETFROM:+0200
TZOFFSETTO:+0100
DTSTART:19800928T030000
RRULE:FREQ=YEARLY;UNTIL=19950924T010000Z;BYMONTH=9;BYDAY=-1SU
END:STANDARD
BEGIN:DAYLIGHT
TZNAME:CEST
TZOFFSETFROM:+0100
TZOFFSETTO:+0200
DTSTART:19810329T020000
RRULE:FREQ=YEARLY;BYMONTH=3;BYDAY=-1SU
END:DAYLIGHT
BEGIN:STANDARD
TZNAME:CET
TZOFFSETFROM:+0200
TZOFFSETTO:+0100
DTSTART:19961027T030000
RRULE:FREQ=YEARLY;BYMONTH=10;BYDAY=-1SU
END:STANDARD
END:VTIMEZONE
BEGIN:VEVENT
DTSTAMP:20260424T132047Z
DTSTART;TZID=Europe/Berlin:20181117T160000
DTEND;TZID=Europe/Berlin:20181117T173000
SUMMARY:Sachsenliga (SLF) Rotation Weißenborn vs HV Chemnitz II (1049)
UID:a4cce4ed-4911-4a98-b0f7-37eefc3c4d9c
STATUS:CONFIRMED
LAST-MODIFIED:20190201T174420Z
DESCRIPTION:Sachsenliga Frauen\nBegegnungs-Nr: 1049\nHeim: Rotation Weißenborn\nGast: HV Chemnitz II\nHalle: SH Schoeller Weißenborn (32415)\nAdresse: Lichtenberger Straße 8\, 09600 Weißenborn\n
LOCATION:SH Schoeller Weißenborn (32415): Lichtenberger Straße 8\, 09600 Weißenborn
CATEGORIES:Saison 2018/19
END:VEVENT
BEGIN:VEVENT
DTSTAMP:20260424T132047Z
DTSTART;TZID=Europe/Berlin:20180922T160000
DTEND;TZID=Europe/Berlin:20180922T173000
SUMMARY:Sachsenliga (SLF) Rotation Weißenborn vs SC Markranstädt II (1015)
UID:3f2503a9-18ad-4a9e-97a4-0745b8f6ea3a
STATUS:CONFIRMED
LAST-MODIFIED:20190201T173448Z
DESCRIPTION:Sachsenliga Frauen\nBegegnungs-Nr: 1015\nHeim: Rotation Weißenborn\nGast: SC Markranstädt II\nHalle: SH Schoeller Weißenborn (32415)\nAdresse: Lichtenberger Straße 8\, 09600 Weißenborn\n
LOCATION:SH Schoeller Weißenborn (32415): Lichtenberger Straße 8\, 09600 Weißenborn
CATEGORIES:Saison 2018/19
END:VEVENT
BEGIN:VEVENT
DTSTAMP:20260424T132047Z
DTSTART;TZID=Europe/Berlin:20181027T160000
DTEND;TZID=Europe/Berlin:20181027T173000
SUMMARY:Sachsenliga (SLF) Rotation Weißenborn vs HC Rödertal  II (1030)
UID:2b4aa422-6e25-414b-9f63-5123342cde7c
STATUS:CONFIRMED
LAST-MODIFIED:20190201T173911Z
DESCRIPTION:Sachsenliga Frauen\nBegegnungs-Nr: 1030\nHeim: Rotation Weißenborn\nGast: HC Rödertal  II\nHalle: SH Schoeller Weißenborn (32415)\nAdresse: Lichtenberger Straße 8\, 09600 Weißenborn\n
LOCATION:SH Schoeller Weißenborn (32415): Lichtenberger Straße 8\, 09600 Weißenborn
CATEGORIES:Saison 2018/19
END:VEVENT
BEGIN:VEVENT
DTSTAMP:20260424T132047Z
DTSTART;TZID=Europe/Berlin:20181201T160000
DTEND;TZID=Europe/Berlin:20181201T173000
SUMMARY:Sachsenliga (SLF) Rotation Weißenborn vs SV Schneeberg (1060)
UID:be70d459-1da6-4da7-b234-da5b15ceee36
STATUS:CONFIRMED
LAST-MODIFIED:20190201T175308Z
DESCRIPTION:Sachsenliga Frauen\nBegegnungs-Nr: 1060\nHeim: Rotation Weißenborn\nGast: SV Schneeberg\nHalle: SH Schoeller Weißenborn (32415)\nAdresse: Lichtenberger Straße 8\, 09600 Weißenborn\n
LOCATION:SH Schoeller Weißenborn (32415): Lichtenberger Straße 8\, 09600 Weißenborn
CATEGORIES:Saison 2018/19
END:VEVENT
BEGIN:VEVENT
DTSTAMP:20260424T132047Z
DTSTART;TZID=Europe/Berlin:20190223T160000
DTEND;TZID=Europe/Berlin:20190223T173000
SUMMARY:Sachsenliga (SLF) Rotation Weißenborn vs BSV Sa. Zwickau II (1066)
UID:42194fc6-fc36-4e94-a7ad-f9966ef194a1
STATUS:CONFIRMED
LAST-MODIFIED:20190304T080432Z
DESCRIPTION:Sachsenliga Frauen\nBegegnungs-Nr: 1066\nHeim: Rotation Weißenborn\nGast: BSV Sa. Zwickau II\nHalle: SH Schoeller Weißenborn (32415)\nAdresse: Lichtenberger Straße 8\, 09600 Weißenborn\n
LOCATION:SH Schoeller Weißenborn (32415): Lichtenberger Straße 8\, 09600 Weißenborn
CATEGORIES:Saison 2018/19
END:VEVENT
BEGIN:VEVENT
DTSTAMP:20260424T132047Z
DTSTART;TZID=Europe/Berlin:20190216T160000
DTEND;TZID=Europe/Berlin:20190216T173000
SUMMARY:Sachsenliga (SLF) Rotation Weißenborn vs SV 04 Plauen-O. (1091)
UID:4a8651d6-4222-4158-8a5a-884b141ec8df
STATUS:CONFIRMED
LAST-MODIFIED:20190217T094300Z
DESCRIPTION:Sachsenliga Frauen\nBegegnungs-Nr: 1091\nHeim: Rotation Weißenborn\nGast: SV 04 Plauen-O.\nHalle: SH Schoeller Weißenborn (32415)\nAdresse: Lichtenberger Straße 8\, 09600 Weißenborn\n
LOCATION:SH Schoeller Weißenborn (32415): Lichtenberger Straße 8\, 09600 Weißenborn
CATEGORIES:Saison 2018/19
END:VEVENT
BEGIN:VEVENT
DTSTAMP:20260424T132047Z
DTSTART;TZID=Europe/Berlin:20190316T160000
DTEND;TZID=Europe/Berlin:20190316T173000
SUMMARY:Sachsenliga (SLF) Rotation Weißenborn vs Radeberger SV (1104)
UID:abb4893b-96a9-4017-82ea-5f2ed9748b13
STATUS:CONFIRMED
LAST-MODIFIED:20190328T135950Z
DESCRIPTION:Sachsenliga Frauen\nBegegnungs-Nr: 1104\nHeim: Rotation Weißenborn\nGast: Radeberger SV\nHalle: SH Schoeller Weißenborn (32415)\nAdresse: Lichtenberger Straße 8\, 09600 Weißenborn\n
LOCATION:SH Schoeller Weißenborn (32415): Lichtenberger Straße 8\, 09600 Weißenborn
CATEGORIES:Saison 2018/19
END:VEVENT
BEGIN:VEVENT
DTSTAMP:20260424T132047Z
DTSTART;TZID=Europe/Berlin:20190330T160000
DTEND;TZID=Europe/Berlin:20190330T173000
SUMMARY:Sachsenliga (SLF) Rotation Weißenborn vs HSV Marienberg (1110)
UID:d5a293c8-059a-4e53-bb7e-0d4fbc645dae
STATUS:CONFIRMED
LAST-MODIFIED:20190411T091314Z
DESCRIPTION:Sachsenliga Frauen\nBegegnungs-Nr: 1110\nHeim: Rotation Weißenborn\nGast: HSV Marienberg\nHalle: SH Schoeller Weißenborn (32415)\nAdresse: Lichtenberger Straße 8\, 09600 Weißenborn\n
LOCATION:SH Schoeller Weißenborn (32415): Lichtenberger Straße 8\, 09600 Weißenborn
CATEGORIES:Saison 2018/19
END:VEVENT
BEGIN:VEVENT
DTSTAMP:20260424T132047Z
DTSTART;TZID=Europe/Berlin:20190413T160000
DTEND;TZID=Europe/Berlin:20190413T173000
SUMMARY:Sachsenliga (SLF) Rotation Weißenborn vs HSG Neudorf/Döbeln (1123)
UID:e69f52f2-8227-4eb8-bb83-8f11eb7eccdb
STATUS:CONFIRMED
LAST-MODIFIED:20190423T063445Z
DESCRIPTION:Sachsenliga Frauen\nBegegnungs-Nr: 1123\nHeim: Rotation Weißenborn\nGast: HSG Neudorf/Döbeln\nHalle: SH Schoeller Weißenborn (32415)\nAdresse: Lichtenberger Straße 8\, 09600 Weißenborn\n
LOCATION:SH Schoeller Weißenborn (32415): Lichtenberger Straße 8\, 09600 Weißenborn
CATEGORIES:Saison 2018/19
END:VEVENT
BEGIN:VEVENT
DTSTAMP:20260424T132047Z
DTSTART;TZID=Europe/Berlin:20180908T160000
DTEND;TZID=Europe/Berlin:20180908T173000
SUMMARY:Sachsenliga (SLF) Rotation Weißenborn vs USV TU Dresden (1006)
UID:d9f470fc-d71b-42cc-b2a0-5161cbae733f
STATUS:CONFIRMED
LAST-MODIFIED:20181101T093547Z
DESCRIPTION:Sachsenliga Frauen\nBegegnungs-Nr: 1006\nHeim: Rotation Weißenborn\nGast: USV TU Dresden\nHalle: SH Schoeller Weißenborn (32415)\nAdresse: Lichtenberger Straße 8\, 09600 Weißenborn\n
LOCATION:SH Schoeller Weißenborn (32415): Lichtenberger Straße 8\, 09600 Weißenborn
CATEGORIES:Saison 2018/19
END:VEVENT
BEGIN:VEVENT
DTSTAMP:20260424T132047Z
DTSTART;TZID=Europe/Berlin:20190202T153000
DTEND;TZID=Europe/Berlin:20190202T170000
SUMMARY:Sachsenliga (SLF) Rotation Weißenborn vs HC Leipzig II (1079)
UID:ab379f7d-3983-4808-9299-0126592020c2
STATUS:CONFIRMED
LAST-MODIFIED:20190210T151253Z
DESCRIPTION:Sachsenliga Frauen\nBegegnungs-Nr: 1079\nHeim: Rotation Weißenborn\nGast: HC Leipzig II\nHalle: SH Schoeller Weißenborn (32415)\nAdresse: Lichtenberger Straße 8\, 09600 Weißenborn\n
LOCATION:SH Schoeller Weißenborn (32415): Lichtenberger Straße 8\, 09600 Weißenborn
CATEGORIES:Saison 2018/19
END:VEVENT
BEGIN:VEVENT
DTSTAMP:20260424T132047Z
DTSTART;TZID=Europe/Berlin:20181125T160000
DTEND;TZID=Europe/Berlin:20181125T173000
SUMMARY:Sachsenliga (SLF) HSG Neudorf/Döbeln vs Rotation Weißenborn (1059)
UID:1366d881-f43a-4f7a-a7c5-f70d5126d825
STATUS:CONFIRMED
LAST-MODIFIED:20190201T175147Z
DESCRIPTION:Sachsenliga Frauen\nBegegnungs-Nr: 1059\nHeim: HSG Neudorf/Döbeln\nGast: Rotation Weißenborn\nHalle: Stadt-SH Döbeln (31202)\nAdresse: Str. des Friedens 9\, 04720 Döbeln\n
LOCATION:Stadt-SH Döbeln (31202): Str. des Friedens 9\, 04720 Döbeln
CATEGORIES:Saison 2018/19
END:VEVENT
BEGIN:VEVENT
DTSTAMP:20260424T132047Z
DTSTART;TZID=Europe/Berlin:20181110T173000
DTEND;TZID=Europe/Berlin:20181110T190000
SUMMARY:Sachsenliga (SLF) HSV Marienberg vs Rotation Weißenborn (1043)
UID:3d6291b3-d707-4053-9ed9-a38d00a1fb29
STATUS:CONFIRMED
LAST-MODIFIED:20181113T151800Z
DESCRIPTION:Sachsenliga Frauen\nBegegnungs-Nr: 1043\nHeim: HSV Marienberg\nGast: Rotation Weißenborn\nHalle: SH am Goldkindstein Marienberg (32416)\nAdresse: Dr.-Wilhelm-Külz-Allee 23\, 09496 Marienberg\n
LOCATION:SH am Goldkindstein Marienberg (32416): Dr.-Wilhelm-Külz-Allee 23\, 09496 Marienberg
CATEGORIES:Saison 2018/19
END:VEVENT
BEGIN:VEVENT
DTSTAMP:20260424T132047Z
DTSTART;TZID=Europe/Berlin:20190427T160000
DTEND;TZID=Europe/Berlin:20190427T173000
SUMMARY:Sachsenliga (SLF) SV Schneeberg vs Rotation Weißenborn (1127)
UID:166dc18a-c9b8-41da-badb-95a35988b885
STATUS:CONFIRMED
LAST-MODIFIED:20190501T100919Z
DESCRIPTION:Sachsenliga Frauen\nBegegnungs-Nr: 1127\nHeim: SV Schneeberg\nGast: Rotation Weißenborn\nHalle: Silberstrom-Halle Schneeberg (32307)\nAdresse: Keilbergring 20\, 08289 Schneeberg\n
LOCATION:Silberstrom-Halle Schneeberg (32307): Keilbergring 20\, 08289 Schneeberg
CATEGORIES:Saison 2018/19
END:VEVENT
BEGIN:VEVENT
DTSTAMP:20260424T132047Z
DTSTART;TZID=Europe/Berlin:20190310T160000
DTEND;TZID=Europe/Berlin:20190310T173000
SUMMARY:Sachsenliga (SLF) HC Rödertal  II vs Rotation Weißenborn (1103)
UID:c1abeef0-9351-47f6-b3d5-c295fb82e58b
STATUS:CONFIRMED
LAST-MODIFIED:20190328T140234Z
DESCRIPTION:Sachsenliga Frauen\nBegegnungs-Nr: 1103\nHeim: HC Rödertal  II\nGast: Rotation Weißenborn\nHalle: 3-Feld-Halle-GY Großröhrsdorf (34514)\nAdresse: Melanchthonstraße 21\, 01900  Großröhrsdorf\n
LOCATION:3-Feld-Halle-GY Großröhrsdorf (34514): Melanchthonstraße 21\, 01900  Großröhrsdorf
CATEGORIES:Saison 2018/19
END:VEVENT
BEGIN:VEVENT
DTSTAMP:20260424T132047Z
DTSTART;TZID=Europe/Berlin:20181003T133000
DTEND;TZID=Europe/Berlin:20181003T150000
SUMMARY:Sachsenliga (SLF) HC Leipzig II vs Rotation Weißenborn (1027)
UID:192ec662-721e-484f-97b3-02b604626ea3
STATUS:CONFIRMED
LAST-MODIFIED:20190201T173748Z
DESCRIPTION:Sachsenliga Frauen\nBegegnungs-Nr: 1027\nHeim: HC Leipzig II\nGast: Rotation Weißenborn\nHalle: SH Sportoberschule (31132)\nAdresse: Max -Planck-Str. 53-55\, 04105 Leipzig\n
LOCATION:SH Sportoberschule (31132): Max -Planck-Str. 53-55\, 04105 Leipzig
CATEGORIES:Saison 2018/19
END:VEVENT
BEGIN:VEVENT
DTSTAMP:20260424T132047Z
DTSTART;TZID=Europe/Berlin:20181103T190000
DTEND;TZID=Europe/Berlin:20181103T203000
SUMMARY:Sachsenliga (SLF) Radeberger SV vs Rotation Weißenborn (1037)
UID:61ce1a74-d1ab-4a6c-a73d-c360c0090020
STATUS:CONFIRMED
LAST-MODIFIED:20190201T174027Z
DESCRIPTION:Sachsenliga Frauen\nBegegnungs-Nr: 1037\nHeim: Radeberger SV\nGast: Rotation Weißenborn\nHalle: 3-Feld-Halle-BSZ Radeberg (34209)\nAdresse: Robert-Blum-Weg 5\, 01454 Radeberg\n
LOCATION:3-Feld-Halle-BSZ Radeberg (34209): Robert-Blum-Weg 5\, 01454 Radeberg
CATEGORIES:Saison 2018/19
END:VEVENT
BEGIN:VEVENT
DTSTAMP:20260424T132047Z
DTSTART;TZID=Europe/Berlin:20190126T170000
DTEND;TZID=Europe/Berlin:20190126T183000
SUMMARY:Sachsenliga (SLF) USV TU Dresden vs Rotation Weißenborn (1075)
UID:4c212866-92b0-4092-b57d-ce6c81c54814
STATUS:CONFIRMED
LAST-MODIFIED:20190201T180901Z
DESCRIPTION:Sachsenliga Frauen\nBegegnungs-Nr: 1075\nHeim: USV TU Dresden\nGast: Rotation Weißenborn\nHalle: JOYNEXT Arena Dresden (Spielfeld 1) (33112a)\nAdresse: Magdeburger Straße 10\, 01067 Dresden\n
LOCATION:JOYNEXT Arena Dresden (Spielfeld 1) (33112a): Magdeburger Straße 10\, 01067 Dresden
CATEGORIES:Saison 2018/19
END:VEVENT
BEGIN:VEVENT
DTSTAMP:20260424T132047Z
DTSTART;TZID=Europe/Berlin:20190407T140000
DTEND;TZID=Europe/Berlin:20190407T153000
SUMMARY:Sachsenliga (SLF) HV Chemnitz II vs Rotation Weißenborn (1119)
UID:986a38c3-d5c2-425b-8bbe-4e30549deb92
STATUS:CONFIRMED
LAST-MODIFIED:20190411T092618Z
DESCRIPTION:Sachsenliga Frauen\nBegegnungs-Nr: 1119\nHeim: HV Chemnitz II\nGast: Rotation Weißenborn\nHalle: Sachsenhalle Chemnitz (32101)\nAdresse: Straße Usti nad Labem 275\, 09119 Chemnitz\n
LOCATION:Sachsenhalle Chemnitz (32101): Straße Usti nad Labem 275\, 09119 Chemnitz
CATEGORIES:Saison 2018/19
END:VEVENT
BEGIN:VEVENT
DTSTAMP:20260424T132047Z
DTSTART;TZID=Europe/Berlin:20180929T160000
DTEND;TZID=Europe/Berlin:20180929T173000
SUMMARY:Sachsenliga (SLF) SV 04 Plauen-O. vs Rotation Weißenborn (1021)
UID:ebd6bfd1-6435-4ed5-8001-fca8c6a3df5e
STATUS:CONFIRMED
LAST-MODIFIED:20181101T124524Z
DESCRIPTION:Sachsenliga Frauen\nBegegnungs-Nr: 1021\nHeim: SV 04 Plauen-O.\nGast: Rotation Weißenborn\nHalle: SH Kurt-Helbig Plauen (32701)\nAdresse: Comeniusstr. 15\, 08523 Plauen\n
LOCATION:SH Kurt-Helbig Plauen (32701): Comeniusstr. 15\, 08523 Plauen
CATEGORIES:Saison 2018/19
END:VEVENT
BEGIN:VEVENT
DTSTAMP:20260424T132047Z
DTSTART;TZID=Europe/Berlin:20190210T150000
DTEND;TZID=Europe/Berlin:20190210T163000
SUMMARY:Sachsenliga (SLF) SC Markranstädt II vs Rotation Weißenborn (1089)
UID:8dce8827-5c90-4629-a5c2-c367d4456b18
STATUS:CONFIRMED
LAST-MODIFIED:20190212T172704Z
DESCRIPTION:Sachsenliga Frauen\nBegegnungs-Nr: 1089\nHeim: SC Markranstädt II\nGast: Rotation Weißenborn\nHalle: Sportcenter Markranstädt (31127)\nAdresse: Leipziger Str. 47\, 04420 Markranstädt\n
LOCATION:Sportcenter Markranstädt (31127): Leipziger Str. 47\, 04420 Markranstädt
CATEGORIES:Saison 2018/19
END:VEVENT
BEGIN:VEVENT
DTSTAMP:20260424T132047Z
DTSTART;TZID=Europe/Berlin:20180901T140000
DTEND;TZID=Europe/Berlin:20180901T153000
SUMMARY:Sachsenliga (SLF) BSV Sa. Zwickau II vs Rotation Weißenborn (1001)
UID:431fb131-e2cb-412d-a47f-7fcdc22b59ca
STATUS:CONFIRMED
LAST-MODIFIED:20180911T123945Z
DESCRIPTION:Sachsenliga Frauen\nBegegnungs-Nr: 1001\nHeim: BSV Sa. Zwickau II\nGast: Rotation Weißenborn\nHalle: SH Zwickau-Neuplanitz (32501)\nAdresse: Dortmunder Str. 7a\, 08062 Zwickau\n
LOCATION:SH Zwickau-Neuplanitz (32501): Dortmunder Str. 7a\, 08062 Zwickau
CATEGORIES:Saison 2018/19
END:VEVENT
END:VCALENDAR
