BEGIN:VCALENDAR
PRODID:-//nuDatenautomaten//framework iCal4j //DE
VERSION:2.0
CALSCALE:GREGORIAN
BEGIN:VTIMEZONE
TZID:Europe/Berlin
LAST-MODIFIED:20260306T231828Z
TZURL:https://www.tzurl.org/zoneinfo/Europe/Berlin
X-LIC-LOCATION:Europe/Berlin
X-PROLEPTIC-TZNAME:LMT
BEGIN:STANDARD
TZNAME:CET
TZOFFSETFROM:+005328
TZOFFSETTO:+0100
DTSTART:18930401T000000
END:STANDARD
BEGIN:DAYLIGHT
TZNAME:CEST
TZOFFSETFROM:+0100
TZOFFSETTO:+0200
DTSTART:19160430T230000
RDATE:19400401T020000
RDATE:19430329T020000
RDATE:19460414T020000
RDATE:19470406T030000
RDATE:19480418T020000
RDATE:19490410T020000
RDATE:19800406T020000
END:DAYLIGHT
BEGIN:STANDARD
TZNAME:CET
TZOFFSETFROM:+0200
TZOFFSETTO:+0100
DTSTART:19161001T010000
RDATE:19421102T030000
RDATE:19431004T030000
RDATE:19441002T030000
RDATE:19451118T030000
RDATE:19461007T030000
END:STANDARD
BEGIN:DAYLIGHT
TZNAME:CEST
TZOFFSETFROM:+0100
TZOFFSETTO:+0200
DTSTART:19170416T020000
RRULE:FREQ=YEARLY;UNTIL=19180415T010000Z;BYMONTH=4;BYDAY=3MO
END:DAYLIGHT
BEGIN:STANDARD
TZNAME:CET
TZOFFSETFROM:+0200
TZOFFSETTO:+0100
DTSTART:19170917T030000
RRULE:FREQ=YEARLY;UNTIL=19180916T010000Z;BYMONTH=9;BYDAY=3MO
END:STANDARD
BEGIN:DAYLIGHT
TZNAME:CEST
TZOFFSETFROM:+0100
TZOFFSETTO:+0200
DTSTART:19440403T020000
RRULE:FREQ=YEARLY;UNTIL=19450402T010000Z;BYMONTH=4;BYDAY=1MO
END:DAYLIGHT
BEGIN:DAYLIGHT
TZNAME:CEMT
TZOFFSETFROM:+0200
TZOFFSETTO:+0300
DTSTART:19450524T020000
RDATE:19470511T030000
END:DAYLIGHT
BEGIN:DAYLIGHT
TZNAME:CEST
TZOFFSETFROM:+0300
TZOFFSETTO:+0200
DTSTART:19450924T030000
RDATE:19470629T030000
END:DAYLIGHT
BEGIN:STANDARD
TZNAME:CET
TZOFFSETFROM:+0100
TZOFFSETTO:+0100
DTSTART:19460101T000000
RDATE:19800101T000000
END:STANDARD
BEGIN:STANDARD
TZNAME:CET
TZOFFSETFROM:+0200
TZOFFSETTO:+0100
DTSTART:19471005T030000
RRULE:FREQ=YEARLY;UNTIL=19491002T010000Z;BYMONTH=10;BYDAY=1SU
END:STANDARD
BEGIN:STANDARD
TZNAME:CET
TZOFFSETFROM:+0200
TZOFFSETTO:+0100
DTSTART:19800928T030000
RRULE:FREQ=YEARLY;UNTIL=19950924T010000Z;BYMONTH=9;BYDAY=-1SU
END:STANDARD
BEGIN:DAYLIGHT
TZNAME:CEST
TZOFFSETFROM:+0100
TZOFFSETTO:+0200
DTSTART:19810329T020000
RRULE:FREQ=YEARLY;BYMONTH=3;BYDAY=-1SU
END:DAYLIGHT
BEGIN:STANDARD
TZNAME:CET
TZOFFSETFROM:+0200
TZOFFSETTO:+0100
DTSTART:19961027T030000
RRULE:FREQ=YEARLY;BYMONTH=10;BYDAY=-1SU
END:STANDARD
END:VTIMEZONE
BEGIN:VEVENT
DTSTAMP:20260421T160321Z
DTSTART;TZID=Europe/Berlin:20181110T173000
DTEND;TZID=Europe/Berlin:20181110T190000
SUMMARY:Sachsenliga (SLF) HSV Marienberg vs Rotation Weißenborn (1043)
UID:3d6291b3-d707-4053-9ed9-a38d00a1fb29
STATUS:CONFIRMED
LAST-MODIFIED:20181113T151800Z
DESCRIPTION:Sachsenliga Frauen\nBegegnungs-Nr: 1043\nHeim: HSV Marienberg\nGast: Rotation Weißenborn\nHalle: SH am Goldkindstein Marienberg (32416)\nAdresse: Dr.-Wilhelm-Külz-Allee 23\, 09496 Marienberg\n
LOCATION:SH am Goldkindstein Marienberg (32416): Dr.-Wilhelm-Külz-Allee 23\, 09496 Marienberg
CATEGORIES:Saison 2018/19
END:VEVENT
BEGIN:VEVENT
DTSTAMP:20260421T160321Z
DTSTART;TZID=Europe/Berlin:20190427T160000
DTEND;TZID=Europe/Berlin:20190427T173000
SUMMARY:Sachsenliga (SLF) HSV Marienberg vs SC Markranstädt II (1129)
UID:dccf1c63-b657-4ed0-9d16-652deb7e91b3
STATUS:CONFIRMED
LAST-MODIFIED:20190501T101128Z
DESCRIPTION:Sachsenliga Frauen\nBegegnungs-Nr: 1129\nHeim: HSV Marienberg\nGast: SC Markranstädt II\nHalle: SH am Goldkindstein Marienberg (32416)\nAdresse: Dr.-Wilhelm-Külz-Allee 23\, 09496 Marienberg\n
LOCATION:SH am Goldkindstein Marienberg (32416): Dr.-Wilhelm-Külz-Allee 23\, 09496 Marienberg
CATEGORIES:Saison 2018/19
END:VEVENT
BEGIN:VEVENT
DTSTAMP:20260421T160321Z
DTSTART;TZID=Europe/Berlin:20190324T170000
DTEND;TZID=Europe/Berlin:20190324T183000
SUMMARY:Sachsenliga (SLF) HSV Marienberg vs SV 04 Plauen-O. (1076)
UID:b5c393b2-1bc6-4334-a802-13991f411e7d
STATUS:CONFIRMED
LAST-MODIFIED:20190328T135525Z
DESCRIPTION:Sachsenliga Frauen\nBegegnungs-Nr: 1076\nHeim: HSV Marienberg\nGast: SV 04 Plauen-O.\nHalle: SH am Goldkindstein Marienberg (32416)\nAdresse: Dr.-Wilhelm-Külz-Allee 23\, 09496 Marienberg\n
LOCATION:SH am Goldkindstein Marienberg (32416): Dr.-Wilhelm-Külz-Allee 23\, 09496 Marienberg
CATEGORIES:Saison 2018/19
END:VEVENT
BEGIN:VEVENT
DTSTAMP:20260421T160321Z
DTSTART;TZID=Europe/Berlin:20190309T173000
DTEND;TZID=Europe/Berlin:20190309T190000
SUMMARY:Sachsenliga (SLF) HSV Marienberg vs Radeberger SV (1101)
UID:408c3ad0-9658-484b-a42a-eb99a54f9601
STATUS:CONFIRMED
LAST-MODIFIED:20190311T075928Z
DESCRIPTION:Sachsenliga Frauen\nBegegnungs-Nr: 1101\nHeim: HSV Marienberg\nGast: Radeberger SV\nHalle: SH am Goldkindstein Marienberg (32416)\nAdresse: Dr.-Wilhelm-Külz-Allee 23\, 09496 Marienberg\n
LOCATION:SH am Goldkindstein Marienberg (32416): Dr.-Wilhelm-Külz-Allee 23\, 09496 Marienberg
CATEGORIES:Saison 2018/19
END:VEVENT
BEGIN:VEVENT
DTSTAMP:20260421T160321Z
DTSTART;TZID=Europe/Berlin:20181124T173000
DTEND;TZID=Europe/Berlin:20181124T190000
SUMMARY:Sachsenliga (SLF) HSV Marienberg vs HV Chemnitz II (1056)
UID:1c44ed74-748f-4639-9858-f106da28f3c4
STATUS:CONFIRMED
LAST-MODIFIED:20190201T175048Z
DESCRIPTION:Sachsenliga Frauen\nBegegnungs-Nr: 1056\nHeim: HSV Marienberg\nGast: HV Chemnitz II\nHalle: SH am Goldkindstein Marienberg (32416)\nAdresse: Dr.-Wilhelm-Külz-Allee 23\, 09496 Marienberg\n
LOCATION:SH am Goldkindstein Marienberg (32416): Dr.-Wilhelm-Külz-Allee 23\, 09496 Marienberg
CATEGORIES:Saison 2018/19
END:VEVENT
BEGIN:VEVENT
DTSTAMP:20260421T160321Z
DTSTART;TZID=Europe/Berlin:20190209T173000
DTEND;TZID=Europe/Berlin:20190209T190000
SUMMARY:Sachsenliga (SLF) HSV Marienberg vs HC Rödertal  II (1088)
UID:49b7a28c-6e18-4661-b648-91661d53e3a4
STATUS:CONFIRMED
LAST-MODIFIED:20190304T080806Z
DESCRIPTION:Sachsenliga Frauen\nBegegnungs-Nr: 1088\nHeim: HSV Marienberg\nGast: HC Rödertal  II\nHalle: SH am Goldkindstein Marienberg (32416)\nAdresse: Dr.-Wilhelm-Külz-Allee 23\, 09496 Marienberg\n
LOCATION:SH am Goldkindstein Marienberg (32416): Dr.-Wilhelm-Külz-Allee 23\, 09496 Marienberg
CATEGORIES:Saison 2018/19
END:VEVENT
BEGIN:VEVENT
DTSTAMP:20260421T160321Z
DTSTART;TZID=Europe/Berlin:20190316T173000
DTEND;TZID=Europe/Berlin:20190316T190000
SUMMARY:Sachsenliga (SLF) HSV Marienberg vs USV TU Dresden (1105)
UID:23843880-ed90-4284-b56f-7c1a6decd0cf
STATUS:CONFIRMED
LAST-MODIFIED:20190319T191349Z
DESCRIPTION:Sachsenliga Frauen\nBegegnungs-Nr: 1105\nHeim: HSV Marienberg\nGast: USV TU Dresden\nHalle: SH am Goldkindstein Marienberg (32416)\nAdresse: Dr.-Wilhelm-Külz-Allee 23\, 09496 Marienberg\n
LOCATION:SH am Goldkindstein Marienberg (32416): Dr.-Wilhelm-Külz-Allee 23\, 09496 Marienberg
CATEGORIES:Saison 2018/19
END:VEVENT
BEGIN:VEVENT
DTSTAMP:20260421T160321Z
DTSTART;TZID=Europe/Berlin:20190406T173000
DTEND;TZID=Europe/Berlin:20190406T190000
SUMMARY:Sachsenliga (SLF) HSV Marienberg vs HC Leipzig II (1117)
UID:552f379f-bf75-4ce7-9a93-914c97ee4a33
STATUS:CONFIRMED
LAST-MODIFIED:20190411T092430Z
DESCRIPTION:Sachsenliga Frauen\nBegegnungs-Nr: 1117\nHeim: HSV Marienberg\nGast: HC Leipzig II\nHalle: SH am Goldkindstein Marienberg (32416)\nAdresse: Dr.-Wilhelm-Külz-Allee 23\, 09496 Marienberg\n
LOCATION:SH am Goldkindstein Marienberg (32416): Dr.-Wilhelm-Külz-Allee 23\, 09496 Marienberg
CATEGORIES:Saison 2018/19
END:VEVENT
BEGIN:VEVENT
DTSTAMP:20260421T160321Z
DTSTART;TZID=Europe/Berlin:20180901T173000
DTEND;TZID=Europe/Berlin:20180901T190000
SUMMARY:Sachsenliga (SLF) HSV Marienberg vs HSG Neudorf/Döbeln (1004)
UID:0609368d-eeb1-47a8-99fd-bb255c7c202d
STATUS:CONFIRMED
LAST-MODIFIED:20181101T093015Z
DESCRIPTION:Sachsenliga Frauen\nBegegnungs-Nr: 1004\nHeim: HSV Marienberg\nGast: HSG Neudorf/Döbeln\nHalle: SH am Goldkindstein Marienberg (32416)\nAdresse: Dr.-Wilhelm-Külz-Allee 23\, 09496 Marienberg\n
LOCATION:SH am Goldkindstein Marienberg (32416): Dr.-Wilhelm-Külz-Allee 23\, 09496 Marienberg
CATEGORIES:Saison 2018/19
END:VEVENT
BEGIN:VEVENT
DTSTAMP:20260421T160321Z
DTSTART;TZID=Europe/Berlin:20180930T173000
DTEND;TZID=Europe/Berlin:20180930T190000
SUMMARY:Sachsenliga (SLF) HSV Marienberg vs BSV Sa. Zwickau II (1026)
UID:7ddc846f-b4b2-4250-8b53-0201f4ffc535
STATUS:CONFIRMED
LAST-MODIFIED:20181101T125309Z
DESCRIPTION:Sachsenliga Frauen\nBegegnungs-Nr: 1026\nHeim: HSV Marienberg\nGast: BSV Sa. Zwickau II\nHalle: SH am Goldkindstein Marienberg (32416)\nAdresse: Dr.-Wilhelm-Külz-Allee 23\, 09496 Marienberg\n
LOCATION:SH am Goldkindstein Marienberg (32416): Dr.-Wilhelm-Külz-Allee 23\, 09496 Marienberg
CATEGORIES:Saison 2018/19
END:VEVENT
BEGIN:VEVENT
DTSTAMP:20260421T160321Z
DTSTART;TZID=Europe/Berlin:20180915T173000
DTEND;TZID=Europe/Berlin:20180915T190000
SUMMARY:Sachsenliga (SLF) HSV Marienberg vs SV Schneeberg (1013)
UID:f5c224cc-c38b-4986-a83e-a0b705baed12
STATUS:CONFIRMED
LAST-MODIFIED:20190201T173329Z
DESCRIPTION:Sachsenliga Frauen\nBegegnungs-Nr: 1013\nHeim: HSV Marienberg\nGast: SV Schneeberg\nHalle: SH am Goldkindstein Marienberg (32416)\nAdresse: Dr.-Wilhelm-Külz-Allee 23\, 09496 Marienberg\n
LOCATION:SH am Goldkindstein Marienberg (32416): Dr.-Wilhelm-Külz-Allee 23\, 09496 Marienberg
CATEGORIES:Saison 2018/19
END:VEVENT
BEGIN:VEVENT
DTSTAMP:20260421T160321Z
DTSTART;TZID=Europe/Berlin:20181209T160000
DTEND;TZID=Europe/Berlin:20181209T173000
SUMMARY:Sachsenliga (SLF) HSG Neudorf/Döbeln vs HSV Marienberg (1069)
UID:c24d9d17-072f-4805-b27f-39c9b63d2348
STATUS:CONFIRMED
LAST-MODIFIED:20190201T175838Z
DESCRIPTION:Sachsenliga Frauen\nBegegnungs-Nr: 1069\nHeim: HSG Neudorf/Döbeln\nGast: HSV Marienberg\nHalle: Stadt-SH Döbeln (31202)\nAdresse: Str. des Friedens 9\, 04720 Döbeln\n
LOCATION:Stadt-SH Döbeln (31202): Str. des Friedens 9\, 04720 Döbeln
CATEGORIES:Saison 2018/19
END:VEVENT
BEGIN:VEVENT
DTSTAMP:20260421T160321Z
DTSTART;TZID=Europe/Berlin:20181027T190000
DTEND;TZID=Europe/Berlin:20181027T203000
SUMMARY:Sachsenliga (SLF) Radeberger SV vs HSV Marienberg (1031)
UID:158c8dc8-54ca-4dfe-8076-e73f050aa716
STATUS:CONFIRMED
LAST-MODIFIED:20181113T150201Z
DESCRIPTION:Sachsenliga Frauen\nBegegnungs-Nr: 1031\nHeim: Radeberger SV\nGast: HSV Marienberg\nHalle: 3-Feld-Halle-BSZ Radeberg (34209)\nAdresse: Robert-Blum-Weg 5\, 01454 Radeberg\n
LOCATION:3-Feld-Halle-BSZ Radeberg (34209): Robert-Blum-Weg 5\, 01454 Radeberg
CATEGORIES:Saison 2018/19
END:VEVENT
BEGIN:VEVENT
DTSTAMP:20260421T160321Z
DTSTART;TZID=Europe/Berlin:20181117T173000
DTEND;TZID=Europe/Berlin:20181117T190000
SUMMARY:Sachsenliga (SLF) HC Leipzig II vs HSV Marienberg (1050)
UID:c5a4a1ff-f311-4cd9-80ed-5c0ee1bf0388
STATUS:CONFIRMED
LAST-MODIFIED:20190201T174706Z
DESCRIPTION:Sachsenliga Frauen\nBegegnungs-Nr: 1050\nHeim: HC Leipzig II\nGast: HSV Marienberg\nHalle: Kleine ARENA Leipzig (31117)\nAdresse: Am Sportforum 1\, 04105 Leipzig\n
LOCATION:Kleine ARENA Leipzig (31117): Am Sportforum 1\, 04105 Leipzig
CATEGORIES:Saison 2018/19
END:VEVENT
BEGIN:VEVENT
DTSTAMP:20260421T160321Z
DTSTART;TZID=Europe/Berlin:20190413T150000
DTEND;TZID=Europe/Berlin:20190413T163000
SUMMARY:Sachsenliga (SLF) HV Chemnitz II vs HSV Marienberg (1121)
UID:dbe2a8d4-160c-40ed-8bf1-ad59fe0eb1d6
STATUS:CONFIRMED
LAST-MODIFIED:20190423T060431Z
DESCRIPTION:Sachsenliga Frauen\nBegegnungs-Nr: 1121\nHeim: HV Chemnitz II\nGast: HSV Marienberg\nHalle: Sachsenhalle Chemnitz (32101)\nAdresse: Straße Usti nad Labem 275\, 09119 Chemnitz\n
LOCATION:Sachsenhalle Chemnitz (32101): Straße Usti nad Labem 275\, 09119 Chemnitz
CATEGORIES:Saison 2018/19
END:VEVENT
BEGIN:VEVENT
DTSTAMP:20260421T160321Z
DTSTART;TZID=Europe/Berlin:20180923T160000
DTEND;TZID=Europe/Berlin:20180923T173000
SUMMARY:Sachsenliga (SLF) HC Rödertal  II vs HSV Marienberg (1020)
UID:7efa1087-5bb5-4377-ba5f-6d4e8066e2c5
STATUS:CONFIRMED
LAST-MODIFIED:20190201T173618Z
DESCRIPTION:Sachsenliga Frauen\nBegegnungs-Nr: 1020\nHeim: HC Rödertal  II\nGast: HSV Marienberg\nHalle: 3-Feld-Halle-GY Großröhrsdorf (34514)\nAdresse: Melanchthonstraße 21\, 01900  Großröhrsdorf\n
LOCATION:3-Feld-Halle-GY Großröhrsdorf (34514): Melanchthonstraße 21\, 01900  Großröhrsdorf
CATEGORIES:Saison 2018/19
END:VEVENT
BEGIN:VEVENT
DTSTAMP:20260421T160321Z
DTSTART;TZID=Europe/Berlin:20181104T170000
DTEND;TZID=Europe/Berlin:20181104T183000
SUMMARY:Sachsenliga (SLF) USV TU Dresden vs HSV Marienberg (1040)
UID:81ddfcbd-1d44-4273-a620-7d08dd6f84de
STATUS:CONFIRMED
LAST-MODIFIED:20190201T174131Z
DESCRIPTION:Sachsenliga Frauen\nBegegnungs-Nr: 1040\nHeim: USV TU Dresden\nGast: HSV Marienberg\nHalle: JOYNEXT Arena Dresden (Spielfeld 1) (33112a)\nAdresse: Magdeburger Straße 10\, 01067 Dresden\n
LOCATION:JOYNEXT Arena Dresden (Spielfeld 1) (33112a): Magdeburger Straße 10\, 01067 Dresden
CATEGORIES:Saison 2018/19
END:VEVENT
BEGIN:VEVENT
DTSTAMP:20260421T160321Z
DTSTART;TZID=Europe/Berlin:20190330T160000
DTEND;TZID=Europe/Berlin:20190330T173000
SUMMARY:Sachsenliga (SLF) Rotation Weißenborn vs HSV Marienberg (1110)
UID:d5a293c8-059a-4e53-bb7e-0d4fbc645dae
STATUS:CONFIRMED
LAST-MODIFIED:20190411T091314Z
DESCRIPTION:Sachsenliga Frauen\nBegegnungs-Nr: 1110\nHeim: Rotation Weißenborn\nGast: HSV Marienberg\nHalle: SH Schoeller Weißenborn (32415)\nAdresse: Lichtenberger Straße 8\, 09600 Weißenborn\n
LOCATION:SH Schoeller Weißenborn (32415): Lichtenberger Straße 8\, 09600 Weißenborn
CATEGORIES:Saison 2018/19
END:VEVENT
BEGIN:VEVENT
DTSTAMP:20260421T160321Z
DTSTART;TZID=Europe/Berlin:20181202T150000
DTEND;TZID=Europe/Berlin:20181202T163000
SUMMARY:Sachsenliga (SLF) SC Markranstädt II vs HSV Marienberg (1064)
UID:951bbcdd-39d9-42e1-ab49-3a944b935e95
STATUS:CONFIRMED
LAST-MODIFIED:20190201T175536Z
DESCRIPTION:Sachsenliga Frauen\nBegegnungs-Nr: 1064\nHeim: SC Markranstädt II\nGast: HSV Marienberg\nHalle: Sportcenter Markranstädt (31127)\nAdresse: Leipziger Str. 47\, 04420 Markranstädt\n
LOCATION:Sportcenter Markranstädt (31127): Leipziger Str. 47\, 04420 Markranstädt
CATEGORIES:Saison 2018/19
END:VEVENT
BEGIN:VEVENT
DTSTAMP:20260421T160321Z
DTSTART;TZID=Europe/Berlin:20180908T160000
DTEND;TZID=Europe/Berlin:20180908T173000
SUMMARY:Sachsenliga (SLF) SV 04 Plauen-O. vs HSV Marienberg (1007)
UID:05f7c15a-e86e-4537-b656-e3c2d3cfc942
STATUS:CONFIRMED
LAST-MODIFIED:20190201T170103Z
DESCRIPTION:Sachsenliga Frauen\nBegegnungs-Nr: 1007\nHeim: SV 04 Plauen-O.\nGast: HSV Marienberg\nHalle: SH Kurt-Helbig Plauen (32701)\nAdresse: Comeniusstr. 15\, 08523 Plauen\n
LOCATION:SH Kurt-Helbig Plauen (32701): Comeniusstr. 15\, 08523 Plauen
CATEGORIES:Saison 2018/19
END:VEVENT
BEGIN:VEVENT
DTSTAMP:20260421T160321Z
DTSTART;TZID=Europe/Berlin:20190216T140000
DTEND;TZID=Europe/Berlin:20190216T153000
SUMMARY:Sachsenliga (SLF) BSV Sa. Zwickau II vs HSV Marienberg (1090)
UID:dc6eb053-444a-40f2-8d41-a12882e61807
STATUS:CONFIRMED
LAST-MODIFIED:20190217T094202Z
DESCRIPTION:Sachsenliga Frauen\nBegegnungs-Nr: 1090\nHeim: BSV Sa. Zwickau II\nGast: HSV Marienberg\nHalle: SH Zwickau-Neuplanitz (32501)\nAdresse: Dortmunder Str. 7a\, 08062 Zwickau\n
LOCATION:SH Zwickau-Neuplanitz (32501): Dortmunder Str. 7a\, 08062 Zwickau
CATEGORIES:Saison 2018/19
END:VEVENT
BEGIN:VEVENT
DTSTAMP:20260421T160321Z
DTSTART;TZID=Europe/Berlin:20190202T193000
DTEND;TZID=Europe/Berlin:20190202T210000
SUMMARY:Sachsenliga (SLF) SV Schneeberg vs HSV Marienberg (1081)
UID:7cad4b27-366b-430d-a9e6-551f97eb3805
STATUS:CONFIRMED
LAST-MODIFIED:20190212T170040Z
DESCRIPTION:Sachsenliga Frauen\nBegegnungs-Nr: 1081\nHeim: SV Schneeberg\nGast: HSV Marienberg\nHalle: Silberstrom-Halle Schneeberg (32307)\nAdresse: Keilbergring 20\, 08289 Schneeberg\n
LOCATION:Silberstrom-Halle Schneeberg (32307): Keilbergring 20\, 08289 Schneeberg
CATEGORIES:Saison 2018/19
END:VEVENT
END:VCALENDAR
