BEGIN:VCALENDAR
PRODID:-//nuDatenautomaten//framework iCal4j //DE
VERSION:2.0
CALSCALE:GREGORIAN
BEGIN:VTIMEZONE
TZID:Europe/Berlin
LAST-MODIFIED:20260306T231828Z
TZURL:https://www.tzurl.org/zoneinfo/Europe/Berlin
X-LIC-LOCATION:Europe/Berlin
X-PROLEPTIC-TZNAME:LMT
BEGIN:STANDARD
TZNAME:CET
TZOFFSETFROM:+005328
TZOFFSETTO:+0100
DTSTART:18930401T000000
END:STANDARD
BEGIN:DAYLIGHT
TZNAME:CEST
TZOFFSETFROM:+0100
TZOFFSETTO:+0200
DTSTART:19160430T230000
RDATE:19400401T020000
RDATE:19430329T020000
RDATE:19460414T020000
RDATE:19470406T030000
RDATE:19480418T020000
RDATE:19490410T020000
RDATE:19800406T020000
END:DAYLIGHT
BEGIN:STANDARD
TZNAME:CET
TZOFFSETFROM:+0200
TZOFFSETTO:+0100
DTSTART:19161001T010000
RDATE:19421102T030000
RDATE:19431004T030000
RDATE:19441002T030000
RDATE:19451118T030000
RDATE:19461007T030000
END:STANDARD
BEGIN:DAYLIGHT
TZNAME:CEST
TZOFFSETFROM:+0100
TZOFFSETTO:+0200
DTSTART:19170416T020000
RRULE:FREQ=YEARLY;UNTIL=19180415T010000Z;BYMONTH=4;BYDAY=3MO
END:DAYLIGHT
BEGIN:STANDARD
TZNAME:CET
TZOFFSETFROM:+0200
TZOFFSETTO:+0100
DTSTART:19170917T030000
RRULE:FREQ=YEARLY;UNTIL=19180916T010000Z;BYMONTH=9;BYDAY=3MO
END:STANDARD
BEGIN:DAYLIGHT
TZNAME:CEST
TZOFFSETFROM:+0100
TZOFFSETTO:+0200
DTSTART:19440403T020000
RRULE:FREQ=YEARLY;UNTIL=19450402T010000Z;BYMONTH=4;BYDAY=1MO
END:DAYLIGHT
BEGIN:DAYLIGHT
TZNAME:CEMT
TZOFFSETFROM:+0200
TZOFFSETTO:+0300
DTSTART:19450524T020000
RDATE:19470511T030000
END:DAYLIGHT
BEGIN:DAYLIGHT
TZNAME:CEST
TZOFFSETFROM:+0300
TZOFFSETTO:+0200
DTSTART:19450924T030000
RDATE:19470629T030000
END:DAYLIGHT
BEGIN:STANDARD
TZNAME:CET
TZOFFSETFROM:+0100
TZOFFSETTO:+0100
DTSTART:19460101T000000
RDATE:19800101T000000
END:STANDARD
BEGIN:STANDARD
TZNAME:CET
TZOFFSETFROM:+0200
TZOFFSETTO:+0100
DTSTART:19471005T030000
RRULE:FREQ=YEARLY;UNTIL=19491002T010000Z;BYMONTH=10;BYDAY=1SU
END:STANDARD
BEGIN:STANDARD
TZNAME:CET
TZOFFSETFROM:+0200
TZOFFSETTO:+0100
DTSTART:19800928T030000
RRULE:FREQ=YEARLY;UNTIL=19950924T010000Z;BYMONTH=9;BYDAY=-1SU
END:STANDARD
BEGIN:DAYLIGHT
TZNAME:CEST
TZOFFSETFROM:+0100
TZOFFSETTO:+0200
DTSTART:19810329T020000
RRULE:FREQ=YEARLY;BYMONTH=3;BYDAY=-1SU
END:DAYLIGHT
BEGIN:STANDARD
TZNAME:CET
TZOFFSETFROM:+0200
TZOFFSETTO:+0100
DTSTART:19961027T030000
RRULE:FREQ=YEARLY;BYMONTH=10;BYDAY=-1SU
END:STANDARD
END:VTIMEZONE
BEGIN:VEVENT
DTSTAMP:20260424T063229Z
DTSTART;TZID=Europe/Berlin:20181118T110000
DTEND;TZID=Europe/Berlin:20181118T120000
SUMMARY:Sachsenliga mJC NSG Oelsnitz/Oberlosa vs SC DHfK Leipzig (546)
UID:eb688cc9-79fa-4ec7-94ff-aebcd2afd91a
STATUS:CONFIRMED
DESCRIPTION:Sachsenliga männliche Jugend C\nBegegnungs-Nr: 546\nHeim: NSG Oelsnitz/Oberlosa\nGast: SC DHfK Leipzig\nHalle: SH Oelsnitz/V. (32707)\nAdresse: Adolf-Damaschke-Str. 55 a (Am Stadion)\, 08606 Oelsnitz\n
LOCATION:SH Oelsnitz/V. (32707): Adolf-Damaschke-Str. 55 a (Am Stadion)\, 08606 Oelsnitz
CATEGORIES:Saison 2018/19
END:VEVENT
BEGIN:VEVENT
DTSTAMP:20260424T063229Z
DTSTART;TZID=Europe/Berlin:20180930T100000
DTEND;TZID=Europe/Berlin:20180930T110000
SUMMARY:Sachsenliga mJC NSG Oelsnitz/Oberlosa vs HC Elbflorenz 2006 (518)
UID:6f8ee2a4-f457-44d1-a397-0c1f9cbd4502
STATUS:CONFIRMED
LAST-MODIFIED:20190128T151247Z
DESCRIPTION:Sachsenliga männliche Jugend C\nBegegnungs-Nr: 518\nHeim: NSG Oelsnitz/Oberlosa\nGast: HC Elbflorenz 2006\nHalle: SH Oelsnitz/V. (32707)\nAdresse: Adolf-Damaschke-Str. 55 a (Am Stadion)\, 08606 Oelsnitz\n
LOCATION:SH Oelsnitz/V. (32707): Adolf-Damaschke-Str. 55 a (Am Stadion)\, 08606 Oelsnitz
CATEGORIES:Saison 2018/19
END:VEVENT
BEGIN:VEVENT
DTSTAMP:20260424T063229Z
DTSTART;TZID=Europe/Berlin:20180916T100000
DTEND;TZID=Europe/Berlin:20180916T110000
SUMMARY:Sachsenliga mJC NSG Oelsnitz/Oberlosa vs NSG EHV/NH Aue (507)
UID:16f6d19c-286e-4e2a-b419-de44d59686bd
STATUS:CONFIRMED
LAST-MODIFIED:20180924T155714Z
DESCRIPTION:Sachsenliga männliche Jugend C\nBegegnungs-Nr: 507\nHeim: NSG Oelsnitz/Oberlosa\nGast: NSG EHV/NH Aue\nHalle: SH Oelsnitz/V. (32707)\nAdresse: Adolf-Damaschke-Str. 55 a (Am Stadion)\, 08606 Oelsnitz\n
LOCATION:SH Oelsnitz/V. (32707): Adolf-Damaschke-Str. 55 a (Am Stadion)\, 08606 Oelsnitz
CATEGORIES:Saison 2018/19
END:VEVENT
BEGIN:VEVENT
DTSTAMP:20260424T063229Z
DTSTART;TZID=Europe/Berlin:20181031T110000
DTEND;TZID=Europe/Berlin:20181031T120000
SUMMARY:Sachsenliga mJC NSG Oelsnitz/Oberlosa vs LHV Hoyerswerda (533)
UID:a3aa0dcd-0a37-40a6-afae-88d57a97835b
STATUS:CONFIRMED
LAST-MODIFIED:20190128T145934Z
DESCRIPTION:Sachsenliga männliche Jugend C\nBegegnungs-Nr: 533\nHeim: NSG Oelsnitz/Oberlosa\nGast: LHV Hoyerswerda\nHalle: SH Kurt-Helbig Plauen (32701)\nAdresse: Comeniusstr. 15\, 08523 Plauen\n
LOCATION:SH Kurt-Helbig Plauen (32701): Comeniusstr. 15\, 08523 Plauen
CATEGORIES:Saison 2018/19
END:VEVENT
BEGIN:VEVENT
DTSTAMP:20260424T063229Z
DTSTART;TZID=Europe/Berlin:20181104T100000
DTEND;TZID=Europe/Berlin:20181104T110000
SUMMARY:Sachsenliga mJC NSG Oelsnitz/Oberlosa vs NSG Westsachsen (536)
UID:e77d268c-63b2-4f2e-a4ab-fe974c1cac30
STATUS:CONFIRMED
LAST-MODIFIED:20190128T151735Z
DESCRIPTION:Sachsenliga männliche Jugend C\nBegegnungs-Nr: 536\nHeim: NSG Oelsnitz/Oberlosa\nGast: NSG Westsachsen\nHalle: SH Oelsnitz/V. (32707)\nAdresse: Adolf-Damaschke-Str. 55 a (Am Stadion)\, 08606 Oelsnitz\n
LOCATION:SH Oelsnitz/V. (32707): Adolf-Damaschke-Str. 55 a (Am Stadion)\, 08606 Oelsnitz
CATEGORIES:Saison 2018/19
END:VEVENT
BEGIN:VEVENT
DTSTAMP:20260424T063229Z
DTSTART;TZID=Europe/Berlin:20181125T120000
DTEND;TZID=Europe/Berlin:20181125T130000
SUMMARY:Sachsenliga mJC NSG Oelsnitz/Oberlosa vs HSG Freiberg (552)
UID:ff7c5dd2-d382-43eb-8f09-aa04c9638f12
STATUS:CONFIRMED
LAST-MODIFIED:20190128T152910Z
DESCRIPTION:Sachsenliga männliche Jugend C\nBegegnungs-Nr: 552\nHeim: NSG Oelsnitz/Oberlosa\nGast: HSG Freiberg\nHalle: SH Oelsnitz/V. (32707)\nAdresse: Adolf-Damaschke-Str. 55 a (Am Stadion)\, 08606 Oelsnitz\n
LOCATION:SH Oelsnitz/V. (32707): Adolf-Damaschke-Str. 55 a (Am Stadion)\, 08606 Oelsnitz
CATEGORIES:Saison 2018/19
END:VEVENT
BEGIN:VEVENT
DTSTAMP:20260424T063229Z
DTSTART;TZID=Europe/Berlin:20190210T110000
DTEND;TZID=Europe/Berlin:20190210T120000
SUMMARY:Sachsenliga mJC NSG Oelsnitz/Oberlosa vs Koweg Görlitz (577)
UID:1dd9359b-ffce-41d5-a573-4962695c0951
STATUS:CONFIRMED
LAST-MODIFIED:20190211T131521Z
DESCRIPTION:Sachsenliga männliche Jugend C\nBegegnungs-Nr: 577\nHeim: NSG Oelsnitz/Oberlosa\nGast: Koweg Görlitz\nHalle: Dreifelder-SH am BSZ \"Anne Frank\" (32711)\nAdresse: Wieprechtstr. 11\, 08525 Plauen\n
LOCATION:Dreifelder-SH am BSZ \"Anne Frank\" (32711): Wieprechtstr. 11\, 08525 Plauen
CATEGORIES:Saison 2018/19
END:VEVENT
BEGIN:VEVENT
DTSTAMP:20260424T063229Z
DTSTART;TZID=Europe/Berlin:20181216T120000
DTEND;TZID=Europe/Berlin:20181216T130000
SUMMARY:Sachsenliga mJC NSG Oelsnitz/Oberlosa vs HSV Dresden (564)
UID:fcc72874-b941-44f2-aa99-ee5b323de05d
STATUS:CONFIRMED
LAST-MODIFIED:20190108T114725Z
DESCRIPTION:Sachsenliga männliche Jugend C\nBegegnungs-Nr: 564\nHeim: NSG Oelsnitz/Oberlosa\nGast: HSV Dresden\nHalle: SH Oelsnitz/V. (32707)\nAdresse: Adolf-Damaschke-Str. 55 a (Am Stadion)\, 08606 Oelsnitz\n
LOCATION:SH Oelsnitz/V. (32707): Adolf-Damaschke-Str. 55 a (Am Stadion)\, 08606 Oelsnitz
CATEGORIES:Saison 2018/19
END:VEVENT
BEGIN:VEVENT
DTSTAMP:20260424T063229Z
DTSTART;TZID=Europe/Berlin:20190126T123000
DTEND;TZID=Europe/Berlin:20190126T133000
SUMMARY:Sachsenliga mJC NSG Oelsnitz/Oberlosa vs SG LVB (575)
UID:9fd3ebc7-82af-491a-9776-f73af558ff6e
STATUS:CONFIRMED
LAST-MODIFIED:20190128T145653Z
DESCRIPTION:Sachsenliga männliche Jugend C\nBegegnungs-Nr: 575\nHeim: NSG Oelsnitz/Oberlosa\nGast: SG LVB\nHalle: Dreifelder-SH am BSZ \"Anne Frank\" (32711)\nAdresse: Wieprechtstr. 11\, 08525 Plauen\n
LOCATION:Dreifelder-SH am BSZ \"Anne Frank\" (32711): Wieprechtstr. 11\, 08525 Plauen
CATEGORIES:Saison 2018/19
END:VEVENT
BEGIN:VEVENT
DTSTAMP:20260424T063229Z
DTSTART;TZID=Europe/Berlin:20180909T103000
DTEND;TZID=Europe/Berlin:20180909T113000
SUMMARY:Sachsenliga mJC SC DHfK Leipzig vs NSG Oelsnitz/Oberlosa (501)
UID:4b33f0b3-aff4-4034-a8ae-a1057f9bfe4a
STATUS:CONFIRMED
LAST-MODIFIED:20180924T155328Z
DESCRIPTION:Sachsenliga männliche Jugend C\nBegegnungs-Nr: 501\nHeim: SC DHfK Leipzig\nGast: NSG Oelsnitz/Oberlosa\nHalle: Kleine ARENA Leipzig (31117)\nAdresse: Am Sportforum 1\, 04105 Leipzig\n
LOCATION:Kleine ARENA Leipzig (31117): Am Sportforum 1\, 04105 Leipzig
CATEGORIES:Saison 2018/19
END:VEVENT
BEGIN:VEVENT
DTSTAMP:20260424T063229Z
DTSTART;TZID=Europe/Berlin:20180922T103000
DTEND;TZID=Europe/Berlin:20180922T113000
SUMMARY:Sachsenliga mJC HSV Dresden vs NSG Oelsnitz/Oberlosa (514)
UID:baefdac5-0d3a-4030-b121-facb1e03dfe4
STATUS:CONFIRMED
LAST-MODIFIED:20190108T114407Z
DESCRIPTION:Sachsenliga männliche Jugend C\nBegegnungs-Nr: 514\nHeim: HSV Dresden\nGast: NSG Oelsnitz/Oberlosa\nHalle: SH 121. Oberschule Dresden (33102)\nAdresse: Gamigstraße 28/30\, 01239 Dresden\n
LOCATION:SH 121. Oberschule Dresden (33102): Gamigstraße 28/30\, 01239 Dresden
CATEGORIES:Saison 2018/19
END:VEVENT
BEGIN:VEVENT
DTSTAMP:20260424T063229Z
DTSTART;TZID=Europe/Berlin:20190310T130000
DTEND;TZID=Europe/Berlin:20190310T140000
SUMMARY:Sachsenliga mJC LHV Hoyerswerda vs NSG Oelsnitz/Oberlosa (583)
UID:38f77aed-44ce-4916-ab2c-0deed4fc970f
STATUS:CONFIRMED
LAST-MODIFIED:20190311T165518Z
DESCRIPTION:Sachsenliga männliche Jugend C\nBegegnungs-Nr: 583\nHeim: LHV Hoyerswerda\nGast: NSG Oelsnitz/Oberlosa\nHalle: SH BSZ \"Konrad Zuse\" Hoyerswerda (34201)\nAdresse: Käthe-Kollwitz-Str. 5\, 02977 Hoyerswerda\n
LOCATION:SH BSZ \"Konrad Zuse\" Hoyerswerda (34201): Käthe-Kollwitz-Str. 5\, 02977 Hoyerswerda
CATEGORIES:Saison 2018/19
END:VEVENT
BEGIN:VEVENT
DTSTAMP:20260424T063229Z
DTSTART;TZID=Europe/Berlin:20181003T143000
DTEND;TZID=Europe/Berlin:20181003T153000
SUMMARY:Sachsenliga mJC Koweg Görlitz vs NSG Oelsnitz/Oberlosa (522)
UID:adea790f-6c46-48cc-9f3a-1e89268f36f3
STATUS:CONFIRMED
LAST-MODIFIED:20190128T150441Z
DESCRIPTION:Sachsenliga männliche Jugend C\nBegegnungs-Nr: 522\nHeim: Koweg Görlitz\nGast: NSG Oelsnitz/Oberlosa\nHalle: SH Rauschwalde (34301)\nAdresse: Diesterwegplatz 8\, 02827 Görlitz\n
LOCATION:SH Rauschwalde (34301): Diesterwegplatz 8\, 02827 Görlitz
CATEGORIES:Saison 2018/19
END:VEVENT
BEGIN:VEVENT
DTSTAMP:20260424T063229Z
DTSTART;TZID=Europe/Berlin:20181027T131500
DTEND;TZID=Europe/Berlin:20181027T141500
SUMMARY:Sachsenliga mJC SG LVB vs NSG Oelsnitz/Oberlosa (530)
UID:add72bf1-20d7-4d0d-9d5b-6328b105c4bd
STATUS:CONFIRMED
LAST-MODIFIED:20190128T151022Z
DESCRIPTION:Sachsenliga männliche Jugend C\nBegegnungs-Nr: 530\nHeim: SG LVB\nGast: NSG Oelsnitz/Oberlosa\nHalle: SH Gymnasium an der Telemannstraße  (31109)\nAdresse: Telemannstraße 9\, 04107 Leipzig\n
LOCATION:SH Gymnasium an der Telemannstraße  (31109): Telemannstraße 9\, 04107 Leipzig
CATEGORIES:Saison 2018/19
END:VEVENT
BEGIN:VEVENT
DTSTAMP:20260424T063229Z
DTSTART;TZID=Europe/Berlin:20181110T151500
DTEND;TZID=Europe/Berlin:20181110T161500
SUMMARY:Sachsenliga mJC HSG Freiberg vs NSG Oelsnitz/Oberlosa (542)
UID:daad651f-6c19-4dd9-9dc5-fae434e283dd
STATUS:CONFIRMED
LAST-MODIFIED:20190128T152203Z
DESCRIPTION:Sachsenliga männliche Jugend C\nBegegnungs-Nr: 542\nHeim: HSG Freiberg\nGast: NSG Oelsnitz/Oberlosa\nHalle: Ernst-Grube-Halle Freiberg (32401)\nAdresse: Tschaikowskistr. 2\, 09599 Freiberg\n
LOCATION:Ernst-Grube-Halle Freiberg (32401): Tschaikowskistr. 2\, 09599 Freiberg
CATEGORIES:Saison 2018/19
END:VEVENT
BEGIN:VEVENT
DTSTAMP:20260424T063229Z
DTSTART;TZID=Europe/Berlin:20181209T110000
DTEND;TZID=Europe/Berlin:20181209T120000
SUMMARY:Sachsenliga mJC NSG EHV/NH Aue vs NSG Oelsnitz/Oberlosa (557)
UID:17083cd7-9022-4814-9a6d-8c15ba0183a5
STATUS:CONFIRMED
LAST-MODIFIED:20190115T154320Z
DESCRIPTION:Sachsenliga männliche Jugend C\nBegegnungs-Nr: 557\nHeim: NSG EHV/NH Aue\nGast: NSG Oelsnitz/Oberlosa\nHalle: SH Zeller Berg Aue  (32304)\nAdresse: Agricolastr. 5\, 08280 Aue\n
LOCATION:SH Zeller Berg Aue  (32304): Agricolastr. 5\, 08280 Aue
CATEGORIES:Saison 2018/19
END:VEVENT
BEGIN:VEVENT
DTSTAMP:20260424T063229Z
DTSTART;TZID=Europe/Berlin:20190113T130000
DTEND;TZID=Europe/Berlin:20190113T140000
SUMMARY:Sachsenliga mJC HC Elbflorenz 2006 vs NSG Oelsnitz/Oberlosa (568)
UID:64d65731-05b9-46df-af2c-264cf5604cf9
STATUS:CONFIRMED
LAST-MODIFIED:20190115T114247Z
DESCRIPTION:Sachsenliga männliche Jugend C\nBegegnungs-Nr: 568\nHeim: HC Elbflorenz 2006\nGast: NSG Oelsnitz/Oberlosa\nHalle: BallsportARENA Dresden (33133)\nAdresse: Weißeritzstraße 4\, 01067 Dresden\n
LOCATION:BallsportARENA Dresden (33133): Weißeritzstraße 4\, 01067 Dresden
CATEGORIES:Saison 2018/19
END:VEVENT
BEGIN:VEVENT
DTSTAMP:20260424T063229Z
DTSTART;TZID=Europe/Berlin:20190316T120000
DTEND;TZID=Europe/Berlin:20190316T130000
SUMMARY:Sachsenliga mJC NSG Westsachsen vs NSG Oelsnitz/Oberlosa (586)
UID:81d4d84d-8359-4e62-b38f-891ec33e5898
STATUS:CONFIRMED
LAST-MODIFIED:20190320T160538Z
DESCRIPTION:Sachsenliga männliche Jugend C\nBegegnungs-Nr: 586\nHeim: NSG Westsachsen\nGast: NSG Oelsnitz/Oberlosa\nHalle: SH Werdau (32508)\nAdresse: Alexander-von-Humboldt-Str. 4\, 08412 Werdau\n
LOCATION:SH Werdau (32508): Alexander-von-Humboldt-Str. 4\, 08412 Werdau
CATEGORIES:Saison 2018/19
END:VEVENT
END:VCALENDAR
