BEGIN:VCALENDAR
PRODID:-//nuDatenautomaten//framework iCal4j //DE
VERSION:2.0
CALSCALE:GREGORIAN
BEGIN:VTIMEZONE
TZID:Europe/Berlin
LAST-MODIFIED:20260306T231828Z
TZURL:https://www.tzurl.org/zoneinfo/Europe/Berlin
X-LIC-LOCATION:Europe/Berlin
X-PROLEPTIC-TZNAME:LMT
BEGIN:STANDARD
TZNAME:CET
TZOFFSETFROM:+005328
TZOFFSETTO:+0100
DTSTART:18930401T000000
END:STANDARD
BEGIN:DAYLIGHT
TZNAME:CEST
TZOFFSETFROM:+0100
TZOFFSETTO:+0200
DTSTART:19160430T230000
RDATE:19400401T020000
RDATE:19430329T020000
RDATE:19460414T020000
RDATE:19470406T030000
RDATE:19480418T020000
RDATE:19490410T020000
RDATE:19800406T020000
END:DAYLIGHT
BEGIN:STANDARD
TZNAME:CET
TZOFFSETFROM:+0200
TZOFFSETTO:+0100
DTSTART:19161001T010000
RDATE:19421102T030000
RDATE:19431004T030000
RDATE:19441002T030000
RDATE:19451118T030000
RDATE:19461007T030000
END:STANDARD
BEGIN:DAYLIGHT
TZNAME:CEST
TZOFFSETFROM:+0100
TZOFFSETTO:+0200
DTSTART:19170416T020000
RRULE:FREQ=YEARLY;UNTIL=19180415T010000Z;BYMONTH=4;BYDAY=3MO
END:DAYLIGHT
BEGIN:STANDARD
TZNAME:CET
TZOFFSETFROM:+0200
TZOFFSETTO:+0100
DTSTART:19170917T030000
RRULE:FREQ=YEARLY;UNTIL=19180916T010000Z;BYMONTH=9;BYDAY=3MO
END:STANDARD
BEGIN:DAYLIGHT
TZNAME:CEST
TZOFFSETFROM:+0100
TZOFFSETTO:+0200
DTSTART:19440403T020000
RRULE:FREQ=YEARLY;UNTIL=19450402T010000Z;BYMONTH=4;BYDAY=1MO
END:DAYLIGHT
BEGIN:DAYLIGHT
TZNAME:CEMT
TZOFFSETFROM:+0200
TZOFFSETTO:+0300
DTSTART:19450524T020000
RDATE:19470511T030000
END:DAYLIGHT
BEGIN:DAYLIGHT
TZNAME:CEST
TZOFFSETFROM:+0300
TZOFFSETTO:+0200
DTSTART:19450924T030000
RDATE:19470629T030000
END:DAYLIGHT
BEGIN:STANDARD
TZNAME:CET
TZOFFSETFROM:+0100
TZOFFSETTO:+0100
DTSTART:19460101T000000
RDATE:19800101T000000
END:STANDARD
BEGIN:STANDARD
TZNAME:CET
TZOFFSETFROM:+0200
TZOFFSETTO:+0100
DTSTART:19471005T030000
RRULE:FREQ=YEARLY;UNTIL=19491002T010000Z;BYMONTH=10;BYDAY=1SU
END:STANDARD
BEGIN:STANDARD
TZNAME:CET
TZOFFSETFROM:+0200
TZOFFSETTO:+0100
DTSTART:19800928T030000
RRULE:FREQ=YEARLY;UNTIL=19950924T010000Z;BYMONTH=9;BYDAY=-1SU
END:STANDARD
BEGIN:DAYLIGHT
TZNAME:CEST
TZOFFSETFROM:+0100
TZOFFSETTO:+0200
DTSTART:19810329T020000
RRULE:FREQ=YEARLY;BYMONTH=3;BYDAY=-1SU
END:DAYLIGHT
BEGIN:STANDARD
TZNAME:CET
TZOFFSETFROM:+0200
TZOFFSETTO:+0100
DTSTART:19961027T030000
RRULE:FREQ=YEARLY;BYMONTH=10;BYDAY=-1SU
END:STANDARD
END:VTIMEZONE
BEGIN:VEVENT
DTSTAMP:20260423T195030Z
DTSTART;TZID=Europe/Berlin:20181124T180000
DTEND;TZID=Europe/Berlin:20181124T193000
SUMMARY:Verbandsliga Staffel Ost (VLFO) VfL Meißen vs HC Elbflorenz 2006 (4056)
UID:59debd6c-befd-42d6-81d7-02bb3f608ba7
STATUS:CONFIRMED
LAST-MODIFIED:20181126T141124Z
DESCRIPTION:Verbandsliga Frauen Staffel Ost\nBegegnungs-Nr: 4056\nHeim: VfL Meißen\nGast: HC Elbflorenz 2006\nHalle: SH \"Heiliger Grund\" Meißen (33212)\nAdresse: Goethestraße 27\, 01662 Meißen\n
LOCATION:SH \"Heiliger Grund\" Meißen (33212): Goethestraße 27\, 01662 Meißen
CATEGORIES:Saison 2018/19
END:VEVENT
BEGIN:VEVENT
DTSTAMP:20260423T195030Z
DTSTART;TZID=Europe/Berlin:20181103T180000
DTEND;TZID=Europe/Berlin:20181103T193000
SUMMARY:Verbandsliga Staffel Ost (VLFO) VfL Meißen vs Koweg Görlitz II (4041)
UID:230cd9e0-5eda-4354-b86f-b44211c78147
STATUS:CONFIRMED
LAST-MODIFIED:20181121T074459Z
DESCRIPTION:Verbandsliga Frauen Staffel Ost\nBegegnungs-Nr: 4041\nHeim: VfL Meißen\nGast: Koweg Görlitz II\nHalle: SH \"Heiliger Grund\" Meißen (33212)\nAdresse: Goethestraße 27\, 01662 Meißen\n
LOCATION:SH \"Heiliger Grund\" Meißen (33212): Goethestraße 27\, 01662 Meißen
CATEGORIES:Saison 2018/19
END:VEVENT
BEGIN:VEVENT
DTSTAMP:20260423T195030Z
DTSTART;TZID=Europe/Berlin:20190406T180000
DTEND;TZID=Europe/Berlin:20190406T193000
SUMMARY:Verbandsliga Staffel Ost (VLFO) VfL Meißen vs SG Klotzsche (4118)
UID:50fedd00-ddae-41aa-a543-79ae71bf31ed
STATUS:CONFIRMED
LAST-MODIFIED:20190407T073709Z
DESCRIPTION:Verbandsliga Frauen Staffel Ost\nBegegnungs-Nr: 4118\nHeim: VfL Meißen\nGast: SG Klotzsche\nHalle: SH \"Heiliger Grund\" Meißen (33212)\nAdresse: Goethestraße 27\, 01662 Meißen\n
LOCATION:SH \"Heiliger Grund\" Meißen (33212): Goethestraße 27\, 01662 Meißen
CATEGORIES:Saison 2018/19
END:VEVENT
BEGIN:VEVENT
DTSTAMP:20260423T195030Z
DTSTART;TZID=Europe/Berlin:20180901T180000
DTEND;TZID=Europe/Berlin:20180901T193000
SUMMARY:Verbandsliga Staffel Ost (VLFO) VfL Meißen vs VfB Bischofswerda (4003)
UID:760eb711-3ef2-4d06-ac82-248600e87032
STATUS:CONFIRMED
LAST-MODIFIED:20181113T145851Z
DESCRIPTION:Verbandsliga Frauen Staffel Ost\nBegegnungs-Nr: 4003\nHeim: VfL Meißen\nGast: VfB Bischofswerda\nHalle: SH \"Heiliger Grund\" Meißen (33212)\nAdresse: Goethestraße 27\, 01662 Meißen\n
LOCATION:SH \"Heiliger Grund\" Meißen (33212): Goethestraße 27\, 01662 Meißen
CATEGORIES:Saison 2018/19
END:VEVENT
BEGIN:VEVENT
DTSTAMP:20260423T195030Z
DTSTART;TZID=Europe/Berlin:20180929T180000
DTEND;TZID=Europe/Berlin:20180929T193000
SUMMARY:Verbandsliga Staffel Ost (VLFO) VfL Meißen vs SF 01 Dresden (4029)
UID:50eecee7-dd39-40fd-af3c-c0f9eae5466d
STATUS:CONFIRMED
LAST-MODIFIED:20181003T062147Z
DESCRIPTION:Verbandsliga Frauen Staffel Ost\nBegegnungs-Nr: 4029\nHeim: VfL Meißen\nGast: SF 01 Dresden\nHalle: SH \"Heiliger Grund\" Meißen (33212)\nAdresse: Goethestraße 27\, 01662 Meißen\n
LOCATION:SH \"Heiliger Grund\" Meißen (33212): Goethestraße 27\, 01662 Meißen
CATEGORIES:Saison 2018/19
END:VEVENT
BEGIN:VEVENT
DTSTAMP:20260423T195030Z
DTSTART;TZID=Europe/Berlin:20181215T180000
DTEND;TZID=Europe/Berlin:20181215T193000
SUMMARY:Verbandsliga Staffel Ost (VLFO) VfL Meißen vs Stahl Rietschen (4071)
UID:641cfe16-07da-4945-8157-60551a209575
STATUS:CONFIRMED
LAST-MODIFIED:20181216T083323Z
DESCRIPTION:Verbandsliga Frauen Staffel Ost\nBegegnungs-Nr: 4071\nHeim: VfL Meißen\nGast: Stahl Rietschen\nHalle: SH \"Heiliger Grund\" Meißen (33212)\nAdresse: Goethestraße 27\, 01662 Meißen\n
LOCATION:SH \"Heiliger Grund\" Meißen (33212): Goethestraße 27\, 01662 Meißen
CATEGORIES:Saison 2018/19
END:VEVENT
BEGIN:VEVENT
DTSTAMP:20260423T195030Z
DTSTART;TZID=Europe/Berlin:20190428T140000
DTEND;TZID=Europe/Berlin:20190428T153000
SUMMARY:Verbandsliga Staffel Ost (VLFO) VfL Meißen vs HC Rödertal  III (4131)
UID:bb13b4ac-f5b1-4ff8-81c7-b87de7e2c1c8
STATUS:CONFIRMED
LAST-MODIFIED:20190428T154007Z
DESCRIPTION:Verbandsliga Frauen Staffel Ost\nBegegnungs-Nr: 4131\nHeim: VfL Meißen\nGast: HC Rödertal  III\nHalle: SH \"Heiliger Grund\" Meißen (33212)\nAdresse: Goethestraße 27\, 01662 Meißen\n
LOCATION:SH \"Heiliger Grund\" Meißen (33212): Goethestraße 27\, 01662 Meißen
CATEGORIES:Saison 2018/19
END:VEVENT
BEGIN:VEVENT
DTSTAMP:20260423T195030Z
DTSTART;TZID=Europe/Berlin:20190209T180000
DTEND;TZID=Europe/Berlin:20190209T193000
SUMMARY:Verbandsliga Staffel Ost (VLFO) VfL Meißen vs TBSV Neugersdorf (4086)
UID:d8ad68b0-8570-410c-ab28-2e5efca6c381
STATUS:CONFIRMED
LAST-MODIFIED:20190212T140349Z
DESCRIPTION:Verbandsliga Frauen Staffel Ost\nBegegnungs-Nr: 4086\nHeim: VfL Meißen\nGast: TBSV Neugersdorf\nHalle: SH \"Heiliger Grund\" Meißen (33212)\nAdresse: Goethestraße 27\, 01662 Meißen\n
LOCATION:SH \"Heiliger Grund\" Meißen (33212): Goethestraße 27\, 01662 Meißen
CATEGORIES:Saison 2018/19
END:VEVENT
BEGIN:VEVENT
DTSTAMP:20260423T195030Z
DTSTART;TZID=Europe/Berlin:20180915T180000
DTEND;TZID=Europe/Berlin:20180915T193000
SUMMARY:Verbandsliga Staffel Ost (VLFO) VfL Meißen vs HSV Weinböhla (4015)
UID:166c12ca-a1e3-41ad-a29a-6bb0dbd8b09b
STATUS:CONFIRMED
LAST-MODIFIED:20180917T091909Z
DESCRIPTION:Verbandsliga Frauen Staffel Ost\nBegegnungs-Nr: 4015\nHeim: VfL Meißen\nGast: HSV Weinböhla\nHalle: SH \"Heiliger Grund\" Meißen (33212)\nAdresse: Goethestraße 27\, 01662 Meißen\n
LOCATION:SH \"Heiliger Grund\" Meißen (33212): Goethestraße 27\, 01662 Meißen
CATEGORIES:Saison 2018/19
END:VEVENT
BEGIN:VEVENT
DTSTAMP:20260423T195030Z
DTSTART;TZID=Europe/Berlin:20190309T180000
DTEND;TZID=Europe/Berlin:20190309T193000
SUMMARY:Verbandsliga Staffel Ost (VLFO) VfL Meißen vs HCS Neustadt-S. (4100)
UID:8442a5f5-c320-4eff-95f8-98b9fada2b36
STATUS:CONFIRMED
LAST-MODIFIED:20190311T151842Z
DESCRIPTION:Verbandsliga Frauen Staffel Ost\nBegegnungs-Nr: 4100\nHeim: VfL Meißen\nGast: HCS Neustadt-S.\nHalle: SH \"Heiliger Grund\" Meißen (33212)\nAdresse: Goethestraße 27\, 01662 Meißen\n
LOCATION:SH \"Heiliger Grund\" Meißen (33212): Goethestraße 27\, 01662 Meißen
CATEGORIES:Saison 2018/19
END:VEVENT
BEGIN:VEVENT
DTSTAMP:20260423T195030Z
DTSTART;TZID=Europe/Berlin:20190126T180000
DTEND;TZID=Europe/Berlin:20190126T193000
SUMMARY:Verbandsliga Staffel Ost (VLFO) VfL Meißen vs SSV Heidenau  (4076)
UID:477e635b-d82a-4464-8684-e01fa549a6a4
STATUS:CONFIRMED
LAST-MODIFIED:20190128T152337Z
DESCRIPTION:Verbandsliga Frauen Staffel Ost\nBegegnungs-Nr: 4076\nHeim: VfL Meißen\nGast: SSV Heidenau \nHalle: SH BSZ Meißen (33220)\nAdresse: Goethestraße 21\, 01662 Meißen\n
LOCATION:SH BSZ Meißen (33220): Goethestraße 21\, 01662 Meißen
CATEGORIES:Saison 2018/19
END:VEVENT
BEGIN:VEVENT
DTSTAMP:20260423T195030Z
DTSTART;TZID=Europe/Berlin:20181208T160000
DTEND;TZID=Europe/Berlin:20181208T173000
SUMMARY:Verbandsliga Staffel Ost (VLFO) VfB Bischofswerda vs VfL Meißen (4065)
UID:b0dc0c38-8c31-4346-8702-c2534a774df7
STATUS:CONFIRMED
LAST-MODIFIED:20181213T100826Z
DESCRIPTION:Verbandsliga Frauen Staffel Ost\nBegegnungs-Nr: 4065\nHeim: VfB Bischofswerda\nGast: VfL Meißen\nHalle: SH Wesenitzsportpark Bischofswerda (34505)\nAdresse: Clara-Zetkin-Str. 4\, 01877  Bischofswerda\n
LOCATION:SH Wesenitzsportpark Bischofswerda (34505): Clara-Zetkin-Str. 4\, 01877  Bischofswerda
CATEGORIES:Saison 2018/19
END:VEVENT
BEGIN:VEVENT
DTSTAMP:20260423T195030Z
DTSTART;TZID=Europe/Berlin:20181202T133000
DTEND;TZID=Europe/Berlin:20181202T150000
SUMMARY:Verbandsliga Staffel Ost (VLFO) HC Rödertal  III vs VfL Meißen (4063)
UID:645bf7be-1dae-4104-b05a-43e4e0fa39e1
STATUS:CONFIRMED
LAST-MODIFIED:20181205T142928Z
DESCRIPTION:Verbandsliga Frauen Staffel Ost\nBegegnungs-Nr: 4063\nHeim: HC Rödertal  III\nGast: VfL Meißen\nHalle: 3-Feld-Halle-GY Großröhrsdorf (34514)\nAdresse: Melanchthonstraße 21\, 01900  Großröhrsdorf\n
LOCATION:3-Feld-Halle-GY Großröhrsdorf (34514): Melanchthonstraße 21\, 01900  Großröhrsdorf
CATEGORIES:Saison 2018/19
END:VEVENT
BEGIN:VEVENT
DTSTAMP:20260423T195030Z
DTSTART;TZID=Europe/Berlin:20181117T150000
DTEND;TZID=Europe/Berlin:20181117T163000
SUMMARY:Verbandsliga Staffel Ost (VLFO) SG Klotzsche vs VfL Meißen (4049)
UID:8cf6ea30-d9a7-4b9c-85c1-08bf993b7fee
STATUS:CONFIRMED
LAST-MODIFIED:20181121T091648Z
DESCRIPTION:Verbandsliga Frauen Staffel Ost\nBegegnungs-Nr: 4049\nHeim: SG Klotzsche\nGast: VfL Meißen\nHalle: SH Gymnasium Klotzsche (33126)\nAdresse: Karl-Marx-Straße 44\, 01109 Dresden\n
LOCATION:SH Gymnasium Klotzsche (33126): Karl-Marx-Straße 44\, 01109 Dresden
CATEGORIES:Saison 2018/19
END:VEVENT
BEGIN:VEVENT
DTSTAMP:20260423T195030Z
DTSTART;TZID=Europe/Berlin:20180923T140000
DTEND;TZID=Europe/Berlin:20180923T153000
SUMMARY:Verbandsliga Staffel Ost (VLFO) TBSV Neugersdorf vs VfL Meißen (4023)
UID:e395d6b4-20d1-4a7a-ae83-7f11708992db
STATUS:CONFIRMED
LAST-MODIFIED:20180928T141554Z
DESCRIPTION:Verbandsliga Frauen Staffel Ost\nBegegnungs-Nr: 4023\nHeim: TBSV Neugersdorf\nGast: VfL Meißen\nHalle: FSZ Oberland \"Albert Schweitzer\" (34112)\nAdresse: Friedrich-Ebert-Str.27\, 02730 Ebersbach-Neugersdorf\n
LOCATION:FSZ Oberland \"Albert Schweitzer\" (34112): Friedrich-Ebert-Str.27\, 02730 Ebersbach-Neugersdorf
CATEGORIES:Saison 2018/19
END:VEVENT
BEGIN:VEVENT
DTSTAMP:20260423T195030Z
DTSTART;TZID=Europe/Berlin:20180909T150000
DTEND;TZID=Europe/Berlin:20180909T163000
SUMMARY:Verbandsliga Staffel Ost (VLFO) SSV Heidenau  vs VfL Meißen (4012)
UID:5d191884-f9fe-45e2-88ec-9e16291334d6
STATUS:CONFIRMED
LAST-MODIFIED:20180912T075121Z
DESCRIPTION:Verbandsliga Frauen Staffel Ost\nBegegnungs-Nr: 4012\nHeim: SSV Heidenau \nGast: VfL Meißen\nHalle: SH Pestalozzi-Gymnasium Heidenau (33306)\nAdresse: Hauptstraße 37\, 01809 Heidenau\n
LOCATION:SH Pestalozzi-Gymnasium Heidenau (33306): Hauptstraße 37\, 01809 Heidenau
CATEGORIES:Saison 2018/19
END:VEVENT
BEGIN:VEVENT
DTSTAMP:20260423T195030Z
DTSTART;TZID=Europe/Berlin:20181028T170000
DTEND;TZID=Europe/Berlin:20181028T183000
SUMMARY:Verbandsliga Staffel Ost (VLFO) HCS Neustadt-S. vs VfL Meißen (4037)
UID:c306a309-4f16-4b5e-aba3-24c5828bcbca
STATUS:CONFIRMED
LAST-MODIFIED:20181031T140040Z
DESCRIPTION:Verbandsliga Frauen Staffel Ost\nBegegnungs-Nr: 4037\nHeim: HCS Neustadt-S.\nGast: VfL Meißen\nHalle: Sportforum Neustadt (33303)\nAdresse: Maxim-Gorki-Straße 10\, 01844  Neustadt\n
LOCATION:Sportforum Neustadt (33303): Maxim-Gorki-Straße 10\, 01844  Neustadt
CATEGORIES:Saison 2018/19
END:VEVENT
BEGIN:VEVENT
DTSTAMP:20260423T195030Z
DTSTART;TZID=Europe/Berlin:20190202T170000
DTEND;TZID=Europe/Berlin:20190202T183000
SUMMARY:Verbandsliga Staffel Ost (VLFO) HSV Weinböhla vs VfL Meißen (4082)
UID:a8a5f79c-5883-4d63-bd7e-48cb683a2758
STATUS:CONFIRMED
LAST-MODIFIED:20190204T153447Z
DESCRIPTION:Verbandsliga Frauen Staffel Ost\nBegegnungs-Nr: 4082\nHeim: HSV Weinböhla\nGast: VfL Meißen\nHalle: Nassau-SH Weinböhla (33224)\nAdresse: Meißner Str. 1\, 01689 Weinböhla\n
LOCATION:Nassau-SH Weinböhla (33224): Meißner Str. 1\, 01689 Weinböhla
CATEGORIES:Saison 2018/19
END:VEVENT
BEGIN:VEVENT
DTSTAMP:20260423T195030Z
DTSTART;TZID=Europe/Berlin:20190217T160000
DTEND;TZID=Europe/Berlin:20190217T173000
SUMMARY:Verbandsliga Staffel Ost (VLFO) SF 01 Dresden vs VfL Meißen (4095)
UID:ec4a0822-ce29-46e3-92ff-943844b4c873
STATUS:CONFIRMED
LAST-MODIFIED:20190219T141851Z
DESCRIPTION:Verbandsliga Frauen Staffel Ost\nBegegnungs-Nr: 4095\nHeim: SF 01 Dresden\nGast: VfL Meißen\nHalle: SH Bertolt-Brecht-Gymnasium Dresden (33129)\nAdresse: Thomaestraße 60\, 01307 Dresden\n
LOCATION:SH Bertolt-Brecht-Gymnasium Dresden (33129): Thomaestraße 60\, 01307 Dresden
CATEGORIES:Saison 2018/19
END:VEVENT
BEGIN:VEVENT
DTSTAMP:20260423T195030Z
DTSTART;TZID=Europe/Berlin:20190330T140000
DTEND;TZID=Europe/Berlin:20190330T153000
SUMMARY:Verbandsliga Staffel Ost (VLFO) Stahl Rietschen vs VfL Meißen (4110)
UID:57d9e838-1b45-484e-b081-b1de75db5197
STATUS:CONFIRMED
LAST-MODIFIED:20190331T081629Z
DESCRIPTION:Verbandsliga Frauen Staffel Ost\nBegegnungs-Nr: 4110\nHeim: Stahl Rietschen\nGast: VfL Meißen\nHalle: Oberlausitz-SH Rietschen (34403)\nAdresse: Am Festplatz 1\, 02956 Rietschen\n
LOCATION:Oberlausitz-SH Rietschen (34403): Am Festplatz 1\, 02956 Rietschen
CATEGORIES:Saison 2018/19
END:VEVENT
BEGIN:VEVENT
DTSTAMP:20260423T195030Z
DTSTART;TZID=Europe/Berlin:20190414T180000
DTEND;TZID=Europe/Berlin:20190414T193000
SUMMARY:Verbandsliga Staffel Ost (VLFO) HC Elbflorenz 2006 vs VfL Meißen (4126)
UID:f1a715f2-046c-4fbe-8fd1-06c181367f41
STATUS:CONFIRMED
LAST-MODIFIED:20190414T173622Z
DESCRIPTION:Verbandsliga Frauen Staffel Ost\nBegegnungs-Nr: 4126\nHeim: HC Elbflorenz 2006\nGast: VfL Meißen\nHalle: BallsportARENA Dresden (33133)\nAdresse: Weißeritzstraße 4\, 01067 Dresden\n
LOCATION:BallsportARENA Dresden (33133): Weißeritzstraße 4\, 01067 Dresden
CATEGORIES:Saison 2018/19
END:VEVENT
BEGIN:VEVENT
DTSTAMP:20260423T195030Z
DTSTART;TZID=Europe/Berlin:20190316T180000
DTEND;TZID=Europe/Berlin:20190316T193000
SUMMARY:Verbandsliga Staffel Ost (VLFO) Koweg Görlitz II vs VfL Meißen (4107)
UID:cca8f6d6-f631-47c1-a46a-0f5a235e6aa5
STATUS:CONFIRMED
LAST-MODIFIED:20190317T084148Z
DESCRIPTION:Verbandsliga Frauen Staffel Ost\nBegegnungs-Nr: 4107\nHeim: Koweg Görlitz II\nGast: VfL Meißen\nHalle: SH Rauschwalde (34301)\nAdresse: Diesterwegplatz 8\, 02827 Görlitz\n
LOCATION:SH Rauschwalde (34301): Diesterwegplatz 8\, 02827 Görlitz
CATEGORIES:Saison 2018/19
END:VEVENT
END:VCALENDAR
