BEGIN:VCALENDAR
PRODID:-//nuDatenautomaten//framework iCal4j //DE
VERSION:2.0
CALSCALE:GREGORIAN
BEGIN:VTIMEZONE
TZID:Europe/Berlin
LAST-MODIFIED:20260306T231828Z
TZURL:https://www.tzurl.org/zoneinfo/Europe/Berlin
X-LIC-LOCATION:Europe/Berlin
X-PROLEPTIC-TZNAME:LMT
BEGIN:STANDARD
TZNAME:CET
TZOFFSETFROM:+005328
TZOFFSETTO:+0100
DTSTART:18930401T000000
END:STANDARD
BEGIN:DAYLIGHT
TZNAME:CEST
TZOFFSETFROM:+0100
TZOFFSETTO:+0200
DTSTART:19160430T230000
RDATE:19400401T020000
RDATE:19430329T020000
RDATE:19460414T020000
RDATE:19470406T030000
RDATE:19480418T020000
RDATE:19490410T020000
RDATE:19800406T020000
END:DAYLIGHT
BEGIN:STANDARD
TZNAME:CET
TZOFFSETFROM:+0200
TZOFFSETTO:+0100
DTSTART:19161001T010000
RDATE:19421102T030000
RDATE:19431004T030000
RDATE:19441002T030000
RDATE:19451118T030000
RDATE:19461007T030000
END:STANDARD
BEGIN:DAYLIGHT
TZNAME:CEST
TZOFFSETFROM:+0100
TZOFFSETTO:+0200
DTSTART:19170416T020000
RRULE:FREQ=YEARLY;UNTIL=19180415T010000Z;BYMONTH=4;BYDAY=3MO
END:DAYLIGHT
BEGIN:STANDARD
TZNAME:CET
TZOFFSETFROM:+0200
TZOFFSETTO:+0100
DTSTART:19170917T030000
RRULE:FREQ=YEARLY;UNTIL=19180916T010000Z;BYMONTH=9;BYDAY=3MO
END:STANDARD
BEGIN:DAYLIGHT
TZNAME:CEST
TZOFFSETFROM:+0100
TZOFFSETTO:+0200
DTSTART:19440403T020000
RRULE:FREQ=YEARLY;UNTIL=19450402T010000Z;BYMONTH=4;BYDAY=1MO
END:DAYLIGHT
BEGIN:DAYLIGHT
TZNAME:CEMT
TZOFFSETFROM:+0200
TZOFFSETTO:+0300
DTSTART:19450524T020000
RDATE:19470511T030000
END:DAYLIGHT
BEGIN:DAYLIGHT
TZNAME:CEST
TZOFFSETFROM:+0300
TZOFFSETTO:+0200
DTSTART:19450924T030000
RDATE:19470629T030000
END:DAYLIGHT
BEGIN:STANDARD
TZNAME:CET
TZOFFSETFROM:+0100
TZOFFSETTO:+0100
DTSTART:19460101T000000
RDATE:19800101T000000
END:STANDARD
BEGIN:STANDARD
TZNAME:CET
TZOFFSETFROM:+0200
TZOFFSETTO:+0100
DTSTART:19471005T030000
RRULE:FREQ=YEARLY;UNTIL=19491002T010000Z;BYMONTH=10;BYDAY=1SU
END:STANDARD
BEGIN:STANDARD
TZNAME:CET
TZOFFSETFROM:+0200
TZOFFSETTO:+0100
DTSTART:19800928T030000
RRULE:FREQ=YEARLY;UNTIL=19950924T010000Z;BYMONTH=9;BYDAY=-1SU
END:STANDARD
BEGIN:DAYLIGHT
TZNAME:CEST
TZOFFSETFROM:+0100
TZOFFSETTO:+0200
DTSTART:19810329T020000
RRULE:FREQ=YEARLY;BYMONTH=3;BYDAY=-1SU
END:DAYLIGHT
BEGIN:STANDARD
TZNAME:CET
TZOFFSETFROM:+0200
TZOFFSETTO:+0100
DTSTART:19961027T030000
RRULE:FREQ=YEARLY;BYMONTH=10;BYDAY=-1SU
END:STANDARD
END:VTIMEZONE
BEGIN:VEVENT
DTSTAMP:20260421T155617Z
DTSTART;TZID=Europe/Berlin:20181209T160000
DTEND;TZID=Europe/Berlin:20181209T173000
SUMMARY:Sachsenliga (SLF) HSG Neudorf/Döbeln vs HSV Marienberg (1069)
UID:c24d9d17-072f-4805-b27f-39c9b63d2348
STATUS:CONFIRMED
LAST-MODIFIED:20190201T175838Z
DESCRIPTION:Sachsenliga Frauen\nBegegnungs-Nr: 1069\nHeim: HSG Neudorf/Döbeln\nGast: HSV Marienberg\nHalle: Stadt-SH Döbeln (31202)\nAdresse: Str. des Friedens 9\, 04720 Döbeln\n
LOCATION:Stadt-SH Döbeln (31202): Str. des Friedens 9\, 04720 Döbeln
CATEGORIES:Saison 2018/19
END:VEVENT
BEGIN:VEVENT
DTSTAMP:20260421T155617Z
DTSTART;TZID=Europe/Berlin:20181125T160000
DTEND;TZID=Europe/Berlin:20181125T173000
SUMMARY:Sachsenliga (SLF) HSG Neudorf/Döbeln vs Rotation Weißenborn (1059)
UID:1366d881-f43a-4f7a-a7c5-f70d5126d825
STATUS:CONFIRMED
LAST-MODIFIED:20190201T175147Z
DESCRIPTION:Sachsenliga Frauen\nBegegnungs-Nr: 1059\nHeim: HSG Neudorf/Döbeln\nGast: Rotation Weißenborn\nHalle: Stadt-SH Döbeln (31202)\nAdresse: Str. des Friedens 9\, 04720 Döbeln\n
LOCATION:Stadt-SH Döbeln (31202): Str. des Friedens 9\, 04720 Döbeln
CATEGORIES:Saison 2018/19
END:VEVENT
BEGIN:VEVENT
DTSTAMP:20260421T155617Z
DTSTART;TZID=Europe/Berlin:20181028T160000
DTEND;TZID=Europe/Berlin:20181028T173000
SUMMARY:Sachsenliga (SLF) HSG Neudorf/Döbeln vs SC Markranstädt II (1033)
UID:3a02b2f6-eac6-40fd-b845-29273b8d517a
STATUS:CONFIRMED
LAST-MODIFIED:20181101T130556Z
DESCRIPTION:Sachsenliga Frauen\nBegegnungs-Nr: 1033\nHeim: HSG Neudorf/Döbeln\nGast: SC Markranstädt II\nHalle: Stadt-SH Döbeln (31202)\nAdresse: Str. des Friedens 9\, 04720 Döbeln\n
LOCATION:Stadt-SH Döbeln (31202): Str. des Friedens 9\, 04720 Döbeln
CATEGORIES:Saison 2018/19
END:VEVENT
BEGIN:VEVENT
DTSTAMP:20260421T155617Z
DTSTART;TZID=Europe/Berlin:20181111T160000
DTEND;TZID=Europe/Berlin:20181111T173000
SUMMARY:Sachsenliga (SLF) HSG Neudorf/Döbeln vs HC Rödertal  II (1046)
UID:5f5d7449-1b33-4ea2-9f06-f8d293c7e86d
STATUS:CONFIRMED
LAST-MODIFIED:20190201T174238Z
DESCRIPTION:Sachsenliga Frauen\nBegegnungs-Nr: 1046\nHeim: HSG Neudorf/Döbeln\nGast: HC Rödertal  II\nHalle: Stadt-SH Döbeln (31202)\nAdresse: Str. des Friedens 9\, 04720 Döbeln\n
LOCATION:Stadt-SH Döbeln (31202): Str. des Friedens 9\, 04720 Döbeln
CATEGORIES:Saison 2018/19
END:VEVENT
BEGIN:VEVENT
DTSTAMP:20260421T155617Z
DTSTART;TZID=Europe/Berlin:20190407T160000
DTEND;TZID=Europe/Berlin:20190407T173000
SUMMARY:Sachsenliga (SLF) HSG Neudorf/Döbeln vs Radeberger SV (1120)
UID:768928d4-17bd-42ed-9c75-4fa30b15264a
STATUS:CONFIRMED
LAST-MODIFIED:20190411T093333Z
DESCRIPTION:Sachsenliga Frauen\nBegegnungs-Nr: 1120\nHeim: HSG Neudorf/Döbeln\nGast: Radeberger SV\nHalle: Stadt-SH Döbeln (31202)\nAdresse: Str. des Friedens 9\, 04720 Döbeln\n
LOCATION:Stadt-SH Döbeln (31202): Str. des Friedens 9\, 04720 Döbeln
CATEGORIES:Saison 2018/19
END:VEVENT
BEGIN:VEVENT
DTSTAMP:20260421T155617Z
DTSTART;TZID=Europe/Berlin:20181021T160000
DTEND;TZID=Europe/Berlin:20181021T173000
SUMMARY:Sachsenliga (SLF) HSG Neudorf/Döbeln vs SV Schneeberg (1029)
UID:80a8e873-b604-42b9-abc8-8528ae652283
STATUS:CONFIRMED
LAST-MODIFIED:20181101T125702Z
DESCRIPTION:Sachsenliga Frauen\nBegegnungs-Nr: 1029\nHeim: HSG Neudorf/Döbeln\nGast: SV Schneeberg\nHalle: Stadt-SH Döbeln (31202)\nAdresse: Str. des Friedens 9\, 04720 Döbeln\n
LOCATION:Stadt-SH Döbeln (31202): Str. des Friedens 9\, 04720 Döbeln
CATEGORIES:Saison 2018/19
END:VEVENT
BEGIN:VEVENT
DTSTAMP:20260421T155617Z
DTSTART;TZID=Europe/Berlin:20190113T160000
DTEND;TZID=Europe/Berlin:20190113T173000
SUMMARY:Sachsenliga (SLF) HSG Neudorf/Döbeln vs USV TU Dresden (1019)
UID:a1e09b0f-cbe5-415b-9951-50ea0bd325d5
STATUS:CONFIRMED
LAST-MODIFIED:20190201T180118Z
DESCRIPTION:Sachsenliga Frauen\nBegegnungs-Nr: 1019\nHeim: HSG Neudorf/Döbeln\nGast: USV TU Dresden\nHalle: Stadt-SH Döbeln (31202)\nAdresse: Str. des Friedens 9\, 04720 Döbeln\n
LOCATION:Stadt-SH Döbeln (31202): Str. des Friedens 9\, 04720 Döbeln
CATEGORIES:Saison 2018/19
END:VEVENT
BEGIN:VEVENT
DTSTAMP:20260421T155617Z
DTSTART;TZID=Europe/Berlin:20190317T160000
DTEND;TZID=Europe/Berlin:20190317T173000
SUMMARY:Sachsenliga (SLF) HSG Neudorf/Döbeln vs SV 04 Plauen-O. (1107)
UID:2c9e94e8-d199-46de-9293-fd5f6edad2df
STATUS:CONFIRMED
LAST-MODIFIED:20190319T191546Z
DESCRIPTION:Sachsenliga Frauen\nBegegnungs-Nr: 1107\nHeim: HSG Neudorf/Döbeln\nGast: SV 04 Plauen-O.\nHalle: Stadt-SH Döbeln (31202)\nAdresse: Str. des Friedens 9\, 04720 Döbeln\n
LOCATION:Stadt-SH Döbeln (31202): Str. des Friedens 9\, 04720 Döbeln
CATEGORIES:Saison 2018/19
END:VEVENT
BEGIN:VEVENT
DTSTAMP:20260421T155617Z
DTSTART;TZID=Europe/Berlin:20190427T160000
DTEND;TZID=Europe/Berlin:20190427T173000
SUMMARY:Sachsenliga (SLF) HSG Neudorf/Döbeln vs HV Chemnitz II (1128)
UID:39dd4a6f-664f-4422-af0c-16bd2ff37979
STATUS:CONFIRMED
LAST-MODIFIED:20190501T101015Z
DESCRIPTION:Sachsenliga Frauen\nBegegnungs-Nr: 1128\nHeim: HSG Neudorf/Döbeln\nGast: HV Chemnitz II\nHalle: Stadt-SH Döbeln (31202)\nAdresse: Str. des Friedens 9\, 04720 Döbeln\n
LOCATION:Stadt-SH Döbeln (31202): Str. des Friedens 9\, 04720 Döbeln
CATEGORIES:Saison 2018/19
END:VEVENT
BEGIN:VEVENT
DTSTAMP:20260421T155617Z
DTSTART;TZID=Europe/Berlin:20190217T160000
DTEND;TZID=Europe/Berlin:20190217T173000
SUMMARY:Sachsenliga (SLF) HSG Neudorf/Döbeln vs HC Leipzig II (1094)
UID:4d28f8ad-0701-4bfe-9f04-14822e8d9b63
STATUS:CONFIRMED
LAST-MODIFIED:20190304T080703Z
DESCRIPTION:Sachsenliga Frauen\nBegegnungs-Nr: 1094\nHeim: HSG Neudorf/Döbeln\nGast: HC Leipzig II\nHalle: Stadt-SH Döbeln (31202)\nAdresse: Str. des Friedens 9\, 04720 Döbeln\n
LOCATION:Stadt-SH Döbeln (31202): Str. des Friedens 9\, 04720 Döbeln
CATEGORIES:Saison 2018/19
END:VEVENT
BEGIN:VEVENT
DTSTAMP:20260421T155617Z
DTSTART;TZID=Europe/Berlin:20190203T160000
DTEND;TZID=Europe/Berlin:20190203T173000
SUMMARY:Sachsenliga (SLF) HSG Neudorf/Döbeln vs BSV Sa. Zwickau II (1082)
UID:deb336e3-2184-4d7e-8f0e-9f27dc6665c7
STATUS:CONFIRMED
LAST-MODIFIED:20190212T170436Z
DESCRIPTION:Sachsenliga Frauen\nBegegnungs-Nr: 1082\nHeim: HSG Neudorf/Döbeln\nGast: BSV Sa. Zwickau II\nHalle: Stadt-SH Döbeln (31202)\nAdresse: Str. des Friedens 9\, 04720 Döbeln\n
LOCATION:Stadt-SH Döbeln (31202): Str. des Friedens 9\, 04720 Döbeln
CATEGORIES:Saison 2018/19
END:VEVENT
BEGIN:VEVENT
DTSTAMP:20260421T155617Z
DTSTART;TZID=Europe/Berlin:20190126T193000
DTEND;TZID=Europe/Berlin:20190126T210000
SUMMARY:Sachsenliga (SLF) SV Schneeberg vs HSG Neudorf/Döbeln (1077)
UID:2416f572-834d-4798-a9b8-efb178ea16f4
STATUS:CONFIRMED
LAST-MODIFIED:20190201T180951Z
DESCRIPTION:Sachsenliga Frauen\nBegegnungs-Nr: 1077\nHeim: SV Schneeberg\nGast: HSG Neudorf/Döbeln\nHalle: Silberstrom-Halle Schneeberg (32307)\nAdresse: Keilbergring 20\, 08289 Schneeberg\n
LOCATION:Silberstrom-Halle Schneeberg (32307): Keilbergring 20\, 08289 Schneeberg
CATEGORIES:Saison 2018/19
END:VEVENT
BEGIN:VEVENT
DTSTAMP:20260421T155617Z
DTSTART;TZID=Europe/Berlin:20181117T190000
DTEND;TZID=Europe/Berlin:20181117T203000
SUMMARY:Sachsenliga (SLF) Radeberger SV vs HSG Neudorf/Döbeln (1051)
UID:73ed6ce3-24c4-42c3-b363-275aedfac152
STATUS:CONFIRMED
LAST-MODIFIED:20190201T174736Z
DESCRIPTION:Sachsenliga Frauen\nBegegnungs-Nr: 1051\nHeim: Radeberger SV\nGast: HSG Neudorf/Döbeln\nHalle: 3-Feld-Halle-BSZ Radeberg (34209)\nAdresse: Robert-Blum-Weg 5\, 01454 Radeberg\n
LOCATION:3-Feld-Halle-BSZ Radeberg (34209): Robert-Blum-Weg 5\, 01454 Radeberg
CATEGORIES:Saison 2018/19
END:VEVENT
BEGIN:VEVENT
DTSTAMP:20260421T155617Z
DTSTART;TZID=Europe/Berlin:20180930T140000
DTEND;TZID=Europe/Berlin:20180930T153000
SUMMARY:Sachsenliga (SLF) HC Leipzig II vs HSG Neudorf/Döbeln (1023)
UID:033065fc-bbac-422d-b091-5cb18c0328f2
STATUS:CONFIRMED
LAST-MODIFIED:20181101T124710Z
DESCRIPTION:Sachsenliga Frauen\nBegegnungs-Nr: 1023\nHeim: HC Leipzig II\nGast: HSG Neudorf/Döbeln\nHalle: SH Brüderstraße Leipzig (31101)\nAdresse: Brüderstr. 15\, 04103 Leipzig\n
LOCATION:SH Brüderstraße Leipzig (31101): Brüderstr. 15\, 04103 Leipzig
CATEGORIES:Saison 2018/19
END:VEVENT
BEGIN:VEVENT
DTSTAMP:20260421T155617Z
DTSTART;TZID=Europe/Berlin:20181103T160000
DTEND;TZID=Europe/Berlin:20181103T173000
SUMMARY:Sachsenliga (SLF) SV 04 Plauen-O. vs HSG Neudorf/Döbeln (1036)
UID:6c640493-a308-4c88-aca9-368c523e8b16
STATUS:CONFIRMED
LAST-MODIFIED:20181108T140154Z
DESCRIPTION:Sachsenliga Frauen\nBegegnungs-Nr: 1036\nHeim: SV 04 Plauen-O.\nGast: HSG Neudorf/Döbeln\nHalle: SH Kurt-Helbig Plauen (32701)\nAdresse: Comeniusstr. 15\, 08523 Plauen\n
LOCATION:SH Kurt-Helbig Plauen (32701): Comeniusstr. 15\, 08523 Plauen
CATEGORIES:Saison 2018/19
END:VEVENT
BEGIN:VEVENT
DTSTAMP:20260421T155617Z
DTSTART;TZID=Europe/Berlin:20180915T140000
DTEND;TZID=Europe/Berlin:20180915T153000
SUMMARY:Sachsenliga (SLF) BSV Sa. Zwickau II vs HSG Neudorf/Döbeln (1010)
UID:4bd737e4-a02e-47e7-a778-8ff9aa027be0
STATUS:CONFIRMED
LAST-MODIFIED:20181101T093857Z
DESCRIPTION:Sachsenliga Frauen\nBegegnungs-Nr: 1010\nHeim: BSV Sa. Zwickau II\nGast: HSG Neudorf/Döbeln\nHalle: SH Zwickau-Neuplanitz (32501)\nAdresse: Dortmunder Str. 7a\, 08062 Zwickau\n
LOCATION:SH Zwickau-Neuplanitz (32501): Dortmunder Str. 7a\, 08062 Zwickau
CATEGORIES:Saison 2018/19
END:VEVENT
BEGIN:VEVENT
DTSTAMP:20260421T155617Z
DTSTART;TZID=Europe/Berlin:20190209T170000
DTEND;TZID=Europe/Berlin:20190209T183000
SUMMARY:Sachsenliga (SLF) USV TU Dresden vs HSG Neudorf/Döbeln (1087)
UID:fb5c6497-e40d-4a93-8a56-635ff54580f7
STATUS:CONFIRMED
LAST-MODIFIED:20190501T100835Z
DESCRIPTION:Sachsenliga Frauen\nBegegnungs-Nr: 1087\nHeim: USV TU Dresden\nGast: HSG Neudorf/Döbeln\nHalle: JOYNEXT Arena Dresden (Spielfeld 1) (33112a)\nAdresse: Magdeburger Straße 10\, 01067 Dresden\n
LOCATION:JOYNEXT Arena Dresden (Spielfeld 1) (33112a): Magdeburger Straße 10\, 01067 Dresden
CATEGORIES:Saison 2018/19
END:VEVENT
BEGIN:VEVENT
DTSTAMP:20260421T155617Z
DTSTART;TZID=Europe/Berlin:20190310T150000
DTEND;TZID=Europe/Berlin:20190310T163000
SUMMARY:Sachsenliga (SLF) SC Markranstädt II vs HSG Neudorf/Döbeln (1102)
UID:58cc9623-35e4-4a94-b455-afeab3ba81c6
STATUS:CONFIRMED
LAST-MODIFIED:20190311T080020Z
DESCRIPTION:Sachsenliga Frauen\nBegegnungs-Nr: 1102\nHeim: SC Markranstädt II\nGast: HSG Neudorf/Döbeln\nHalle: Sportcenter Markranstädt (31127)\nAdresse: Leipziger Str. 47\, 04420 Markranstädt\n
LOCATION:Sportcenter Markranstädt (31127): Leipziger Str. 47\, 04420 Markranstädt
CATEGORIES:Saison 2018/19
END:VEVENT
BEGIN:VEVENT
DTSTAMP:20260421T155617Z
DTSTART;TZID=Europe/Berlin:20190413T160000
DTEND;TZID=Europe/Berlin:20190413T173000
SUMMARY:Sachsenliga (SLF) Rotation Weißenborn vs HSG Neudorf/Döbeln (1123)
UID:e69f52f2-8227-4eb8-bb83-8f11eb7eccdb
STATUS:CONFIRMED
LAST-MODIFIED:20190423T063445Z
DESCRIPTION:Sachsenliga Frauen\nBegegnungs-Nr: 1123\nHeim: Rotation Weißenborn\nGast: HSG Neudorf/Döbeln\nHalle: SH Schoeller Weißenborn (32415)\nAdresse: Lichtenberger Straße 8\, 09600 Weißenborn\n
LOCATION:SH Schoeller Weißenborn (32415): Lichtenberger Straße 8\, 09600 Weißenborn
CATEGORIES:Saison 2018/19
END:VEVENT
BEGIN:VEVENT
DTSTAMP:20260421T155617Z
DTSTART;TZID=Europe/Berlin:20181202T140000
DTEND;TZID=Europe/Berlin:20181202T153000
SUMMARY:Sachsenliga (SLF) HV Chemnitz II vs HSG Neudorf/Döbeln (1063)
UID:003281a1-c0db-4b6d-8f1c-19bcf88b8c34
STATUS:CONFIRMED
LAST-MODIFIED:20190201T175509Z
DESCRIPTION:Sachsenliga Frauen\nBegegnungs-Nr: 1063\nHeim: HV Chemnitz II\nGast: HSG Neudorf/Döbeln\nHalle: Sachsenhalle Chemnitz (32101)\nAdresse: Straße Usti nad Labem 275\, 09119 Chemnitz\n
LOCATION:Sachsenhalle Chemnitz (32101): Straße Usti nad Labem 275\, 09119 Chemnitz
CATEGORIES:Saison 2018/19
END:VEVENT
BEGIN:VEVENT
DTSTAMP:20260421T155617Z
DTSTART;TZID=Europe/Berlin:20180901T173000
DTEND;TZID=Europe/Berlin:20180901T190000
SUMMARY:Sachsenliga (SLF) HSV Marienberg vs HSG Neudorf/Döbeln (1004)
UID:0609368d-eeb1-47a8-99fd-bb255c7c202d
STATUS:CONFIRMED
LAST-MODIFIED:20181101T093015Z
DESCRIPTION:Sachsenliga Frauen\nBegegnungs-Nr: 1004\nHeim: HSV Marienberg\nGast: HSG Neudorf/Döbeln\nHalle: SH am Goldkindstein Marienberg (32416)\nAdresse: Dr.-Wilhelm-Külz-Allee 23\, 09496 Marienberg\n
LOCATION:SH am Goldkindstein Marienberg (32416): Dr.-Wilhelm-Külz-Allee 23\, 09496 Marienberg
CATEGORIES:Saison 2018/19
END:VEVENT
BEGIN:VEVENT
DTSTAMP:20260421T155617Z
DTSTART;TZID=Europe/Berlin:20190331T160000
DTEND;TZID=Europe/Berlin:20190331T173000
SUMMARY:Sachsenliga (SLF) HC Rödertal  II vs HSG Neudorf/Döbeln (1113)
UID:86052003-6ae5-4ed6-afa9-59f8dcec92a8
STATUS:CONFIRMED
LAST-MODIFIED:20190411T091541Z
DESCRIPTION:Sachsenliga Frauen\nBegegnungs-Nr: 1113\nHeim: HC Rödertal  II\nGast: HSG Neudorf/Döbeln\nHalle: 3-Feld-Halle-GY Großröhrsdorf (34514)\nAdresse: Melanchthonstraße 21\, 01900  Großröhrsdorf\n
LOCATION:3-Feld-Halle-GY Großröhrsdorf (34514): Melanchthonstraße 21\, 01900  Großröhrsdorf
CATEGORIES:Saison 2018/19
END:VEVENT
END:VCALENDAR
