BEGIN:VCALENDAR
PRODID:-//nuDatenautomaten//framework iCal4j //DE
VERSION:2.0
CALSCALE:GREGORIAN
BEGIN:VTIMEZONE
TZID:Europe/Berlin
LAST-MODIFIED:20260306T231828Z
TZURL:https://www.tzurl.org/zoneinfo/Europe/Berlin
X-LIC-LOCATION:Europe/Berlin
X-PROLEPTIC-TZNAME:LMT
BEGIN:STANDARD
TZNAME:CET
TZOFFSETFROM:+005328
TZOFFSETTO:+0100
DTSTART:18930401T000000
END:STANDARD
BEGIN:DAYLIGHT
TZNAME:CEST
TZOFFSETFROM:+0100
TZOFFSETTO:+0200
DTSTART:19160430T230000
RDATE:19400401T020000
RDATE:19430329T020000
RDATE:19460414T020000
RDATE:19470406T030000
RDATE:19480418T020000
RDATE:19490410T020000
RDATE:19800406T020000
END:DAYLIGHT
BEGIN:STANDARD
TZNAME:CET
TZOFFSETFROM:+0200
TZOFFSETTO:+0100
DTSTART:19161001T010000
RDATE:19421102T030000
RDATE:19431004T030000
RDATE:19441002T030000
RDATE:19451118T030000
RDATE:19461007T030000
END:STANDARD
BEGIN:DAYLIGHT
TZNAME:CEST
TZOFFSETFROM:+0100
TZOFFSETTO:+0200
DTSTART:19170416T020000
RRULE:FREQ=YEARLY;UNTIL=19180415T010000Z;BYMONTH=4;BYDAY=3MO
END:DAYLIGHT
BEGIN:STANDARD
TZNAME:CET
TZOFFSETFROM:+0200
TZOFFSETTO:+0100
DTSTART:19170917T030000
RRULE:FREQ=YEARLY;UNTIL=19180916T010000Z;BYMONTH=9;BYDAY=3MO
END:STANDARD
BEGIN:DAYLIGHT
TZNAME:CEST
TZOFFSETFROM:+0100
TZOFFSETTO:+0200
DTSTART:19440403T020000
RRULE:FREQ=YEARLY;UNTIL=19450402T010000Z;BYMONTH=4;BYDAY=1MO
END:DAYLIGHT
BEGIN:DAYLIGHT
TZNAME:CEMT
TZOFFSETFROM:+0200
TZOFFSETTO:+0300
DTSTART:19450524T020000
RDATE:19470511T030000
END:DAYLIGHT
BEGIN:DAYLIGHT
TZNAME:CEST
TZOFFSETFROM:+0300
TZOFFSETTO:+0200
DTSTART:19450924T030000
RDATE:19470629T030000
END:DAYLIGHT
BEGIN:STANDARD
TZNAME:CET
TZOFFSETFROM:+0100
TZOFFSETTO:+0100
DTSTART:19460101T000000
RDATE:19800101T000000
END:STANDARD
BEGIN:STANDARD
TZNAME:CET
TZOFFSETFROM:+0200
TZOFFSETTO:+0100
DTSTART:19471005T030000
RRULE:FREQ=YEARLY;UNTIL=19491002T010000Z;BYMONTH=10;BYDAY=1SU
END:STANDARD
BEGIN:STANDARD
TZNAME:CET
TZOFFSETFROM:+0200
TZOFFSETTO:+0100
DTSTART:19800928T030000
RRULE:FREQ=YEARLY;UNTIL=19950924T010000Z;BYMONTH=9;BYDAY=-1SU
END:STANDARD
BEGIN:DAYLIGHT
TZNAME:CEST
TZOFFSETFROM:+0100
TZOFFSETTO:+0200
DTSTART:19810329T020000
RRULE:FREQ=YEARLY;BYMONTH=3;BYDAY=-1SU
END:DAYLIGHT
BEGIN:STANDARD
TZNAME:CET
TZOFFSETFROM:+0200
TZOFFSETTO:+0100
DTSTART:19961027T030000
RRULE:FREQ=YEARLY;BYMONTH=10;BYDAY=-1SU
END:STANDARD
END:VTIMEZONE
BEGIN:VEVENT
DTSTAMP:20260424T055810Z
DTSTART;TZID=Europe/Berlin:20181124T180000
DTEND;TZID=Europe/Berlin:20181124T193000
SUMMARY:Verbandsliga Staffel Ost (VLFO) Koweg Görlitz II vs HSV Weinböhla (4057)
UID:91ccfc99-1dc9-404d-bbc2-feeefc3480d2
STATUS:CONFIRMED
LAST-MODIFIED:20181126T141258Z
DESCRIPTION:Verbandsliga Frauen Staffel Ost\nBegegnungs-Nr: 4057\nHeim: Koweg Görlitz II\nGast: HSV Weinböhla\nHalle: SH Rauschwalde (34301)\nAdresse: Diesterwegplatz 8\, 02827 Görlitz\n
LOCATION:SH Rauschwalde (34301): Diesterwegplatz 8\, 02827 Görlitz
CATEGORIES:Saison 2018/19
END:VEVENT
BEGIN:VEVENT
DTSTAMP:20260424T055810Z
DTSTART;TZID=Europe/Berlin:20190428T140000
DTEND;TZID=Europe/Berlin:20190428T153000
SUMMARY:Verbandsliga Staffel Ost (VLFO) Koweg Görlitz II vs SG Klotzsche (4130)
UID:74998a5c-e624-43da-9b1a-0e648df7f944
STATUS:CONFIRMED
LAST-MODIFIED:20190428T153723Z
DESCRIPTION:Verbandsliga Frauen Staffel Ost\nBegegnungs-Nr: 4130\nHeim: Koweg Görlitz II\nGast: SG Klotzsche\nHalle: SH Rauschwalde (34301)\nAdresse: Diesterwegplatz 8\, 02827 Görlitz\n
LOCATION:SH Rauschwalde (34301): Diesterwegplatz 8\, 02827 Görlitz
CATEGORIES:Saison 2018/19
END:VEVENT
BEGIN:VEVENT
DTSTAMP:20260424T055810Z
DTSTART;TZID=Europe/Berlin:20190407T130000
DTEND;TZID=Europe/Berlin:20190407T143000
SUMMARY:Verbandsliga Staffel Ost (VLFO) Koweg Görlitz II vs Stahl Rietschen (4119)
UID:ab58383b-3f42-412d-8e12-4d5b4d4f9249
STATUS:CONFIRMED
LAST-MODIFIED:20190414T073459Z
DESCRIPTION:Verbandsliga Frauen Staffel Ost\nBegegnungs-Nr: 4119\nHeim: Koweg Görlitz II\nGast: Stahl Rietschen\nHalle: SH Rauschwalde (34301)\nAdresse: Diesterwegplatz 8\, 02827 Görlitz\n
LOCATION:SH Rauschwalde (34301): Diesterwegplatz 8\, 02827 Görlitz
CATEGORIES:Saison 2018/19
END:VEVENT
BEGIN:VEVENT
DTSTAMP:20260424T055810Z
DTSTART;TZID=Europe/Berlin:20181110T180000
DTEND;TZID=Europe/Berlin:20181110T193000
SUMMARY:Verbandsliga Staffel Ost (VLFO) Koweg Görlitz II vs SSV Heidenau  (4046)
UID:ebf14298-7464-41e2-845c-452aece838b3
STATUS:CONFIRMED
LAST-MODIFIED:20181112T154048Z
DESCRIPTION:Verbandsliga Frauen Staffel Ost\nBegegnungs-Nr: 4046\nHeim: Koweg Görlitz II\nGast: SSV Heidenau \nHalle: SH Rauschwalde (34301)\nAdresse: Diesterwegplatz 8\, 02827 Görlitz\n
LOCATION:SH Rauschwalde (34301): Diesterwegplatz 8\, 02827 Görlitz
CATEGORIES:Saison 2018/19
END:VEVENT
BEGIN:VEVENT
DTSTAMP:20260424T055810Z
DTSTART;TZID=Europe/Berlin:20180901T180000
DTEND;TZID=Europe/Berlin:20180901T193000
SUMMARY:Verbandsliga Staffel Ost (VLFO) Koweg Görlitz II vs TBSV Neugersdorf (4004)
UID:8c7c0cab-9678-46cc-83c4-aee710a0efa2
STATUS:CONFIRMED
LAST-MODIFIED:20180902T130258Z
DESCRIPTION:Verbandsliga Frauen Staffel Ost\nBegegnungs-Nr: 4004\nHeim: Koweg Görlitz II\nGast: TBSV Neugersdorf\nHalle: SH Rauschwalde (34301)\nAdresse: Diesterwegplatz 8\, 02827 Görlitz\n
LOCATION:SH Rauschwalde (34301): Diesterwegplatz 8\, 02827 Görlitz
CATEGORIES:Saison 2018/19
END:VEVENT
BEGIN:VEVENT
DTSTAMP:20260424T055810Z
DTSTART;TZID=Europe/Berlin:20190127T140000
DTEND;TZID=Europe/Berlin:20190127T153000
SUMMARY:Verbandsliga Staffel Ost (VLFO) Koweg Görlitz II vs HC Elbflorenz 2006 (4077)
UID:588d45f5-a83d-4020-a6c3-595a8af4d114
STATUS:CONFIRMED
LAST-MODIFIED:20190128T174310Z
DESCRIPTION:Verbandsliga Frauen Staffel Ost\nBegegnungs-Nr: 4077\nHeim: Koweg Görlitz II\nGast: HC Elbflorenz 2006\nHalle: SH Rauschwalde (34301)\nAdresse: Diesterwegplatz 8\, 02827 Görlitz\n
LOCATION:SH Rauschwalde (34301): Diesterwegplatz 8\, 02827 Görlitz
CATEGORIES:Saison 2018/19
END:VEVENT
BEGIN:VEVENT
DTSTAMP:20260424T055810Z
DTSTART;TZID=Europe/Berlin:20190310T140000
DTEND;TZID=Europe/Berlin:20190310T153000
SUMMARY:Verbandsliga Staffel Ost (VLFO) Koweg Görlitz II vs VfB Bischofswerda (4103)
UID:12f70261-58d9-4ddf-b677-d5f1130c7b61
STATUS:CONFIRMED
LAST-MODIFIED:20190311T151546Z
DESCRIPTION:Verbandsliga Frauen Staffel Ost\nBegegnungs-Nr: 4103\nHeim: Koweg Görlitz II\nGast: VfB Bischofswerda\nHalle: SH Rauschwalde (34301)\nAdresse: Diesterwegplatz 8\, 02827 Görlitz\n
LOCATION:SH Rauschwalde (34301): Diesterwegplatz 8\, 02827 Görlitz
CATEGORIES:Saison 2018/19
END:VEVENT
BEGIN:VEVENT
DTSTAMP:20260424T055810Z
DTSTART;TZID=Europe/Berlin:20180916T160000
DTEND;TZID=Europe/Berlin:20180916T173000
SUMMARY:Verbandsliga Staffel Ost (VLFO) Koweg Görlitz II vs SF 01 Dresden (4017)
UID:619fc996-0586-4dce-89f7-9f9933b47c4e
STATUS:CONFIRMED
LAST-MODIFIED:20180917T150646Z
DESCRIPTION:Verbandsliga Frauen Staffel Ost\nBegegnungs-Nr: 4017\nHeim: Koweg Görlitz II\nGast: SF 01 Dresden\nHalle: SH Rauschwalde (34301)\nAdresse: Diesterwegplatz 8\, 02827 Görlitz\n
LOCATION:SH Rauschwalde (34301): Diesterwegplatz 8\, 02827 Görlitz
CATEGORIES:Saison 2018/19
END:VEVENT
BEGIN:VEVENT
DTSTAMP:20260424T055810Z
DTSTART;TZID=Europe/Berlin:20180929T170000
DTEND;TZID=Europe/Berlin:20180929T183000
SUMMARY:Verbandsliga Staffel Ost (VLFO) Koweg Görlitz II vs HCS Neustadt-S. (4028)
UID:225f9608-b545-49a8-917d-25d4bf5df5c6
STATUS:CONFIRMED
LAST-MODIFIED:20181108T141222Z
DESCRIPTION:Verbandsliga Frauen Staffel Ost\nBegegnungs-Nr: 4028\nHeim: Koweg Görlitz II\nGast: HCS Neustadt-S.\nHalle: SH Rauschwalde (34301)\nAdresse: Diesterwegplatz 8\, 02827 Görlitz\n
LOCATION:SH Rauschwalde (34301): Diesterwegplatz 8\, 02827 Görlitz
CATEGORIES:Saison 2018/19
END:VEVENT
BEGIN:VEVENT
DTSTAMP:20260424T055810Z
DTSTART;TZID=Europe/Berlin:20190209T180000
DTEND;TZID=Europe/Berlin:20190209T193000
SUMMARY:Verbandsliga Staffel Ost (VLFO) Koweg Görlitz II vs HC Rödertal  III (4087)
UID:7262b946-c0fd-49be-bbdb-9180ef2b4090
STATUS:CONFIRMED
LAST-MODIFIED:20190213T145026Z
DESCRIPTION:Verbandsliga Frauen Staffel Ost\nBegegnungs-Nr: 4087\nHeim: Koweg Görlitz II\nGast: HC Rödertal  III\nHalle: SH Rauschwalde (34301)\nAdresse: Diesterwegplatz 8\, 02827 Görlitz\n
LOCATION:SH Rauschwalde (34301): Diesterwegplatz 8\, 02827 Görlitz
CATEGORIES:Saison 2018/19
END:VEVENT
BEGIN:VEVENT
DTSTAMP:20260424T055810Z
DTSTART;TZID=Europe/Berlin:20190316T180000
DTEND;TZID=Europe/Berlin:20190316T193000
SUMMARY:Verbandsliga Staffel Ost (VLFO) Koweg Görlitz II vs VfL Meißen (4107)
UID:cca8f6d6-f631-47c1-a46a-0f5a235e6aa5
STATUS:CONFIRMED
LAST-MODIFIED:20190317T084148Z
DESCRIPTION:Verbandsliga Frauen Staffel Ost\nBegegnungs-Nr: 4107\nHeim: Koweg Görlitz II\nGast: VfL Meißen\nHalle: SH Rauschwalde (34301)\nAdresse: Diesterwegplatz 8\, 02827 Görlitz\n
LOCATION:SH Rauschwalde (34301): Diesterwegplatz 8\, 02827 Görlitz
CATEGORIES:Saison 2018/19
END:VEVENT
BEGIN:VEVENT
DTSTAMP:20260424T055810Z
DTSTART;TZID=Europe/Berlin:20181103T180000
DTEND;TZID=Europe/Berlin:20181103T193000
SUMMARY:Verbandsliga Staffel Ost (VLFO) VfL Meißen vs Koweg Görlitz II (4041)
UID:230cd9e0-5eda-4354-b86f-b44211c78147
STATUS:CONFIRMED
LAST-MODIFIED:20181121T074459Z
DESCRIPTION:Verbandsliga Frauen Staffel Ost\nBegegnungs-Nr: 4041\nHeim: VfL Meißen\nGast: Koweg Görlitz II\nHalle: SH \"Heiliger Grund\" Meißen (33212)\nAdresse: Goethestraße 27\, 01662 Meißen\n
LOCATION:SH \"Heiliger Grund\" Meißen (33212): Goethestraße 27\, 01662 Meißen
CATEGORIES:Saison 2018/19
END:VEVENT
BEGIN:VEVENT
DTSTAMP:20260424T055810Z
DTSTART;TZID=Europe/Berlin:20181027T160000
DTEND;TZID=Europe/Berlin:20181027T173000
SUMMARY:Verbandsliga Staffel Ost (VLFO) VfB Bischofswerda vs Koweg Görlitz II (4033)
UID:4657aa85-46b9-45df-9797-757f7fa1d7b6
STATUS:CONFIRMED
LAST-MODIFIED:20181113T145713Z
DESCRIPTION:Verbandsliga Frauen Staffel Ost\nBegegnungs-Nr: 4033\nHeim: VfB Bischofswerda\nGast: Koweg Görlitz II\nHalle: SH Wesenitzsportpark Bischofswerda (34505)\nAdresse: Clara-Zetkin-Str. 4\, 01877  Bischofswerda\n
LOCATION:SH Wesenitzsportpark Bischofswerda (34505): Clara-Zetkin-Str. 4\, 01877  Bischofswerda
CATEGORIES:Saison 2018/19
END:VEVENT
BEGIN:VEVENT
DTSTAMP:20260424T055810Z
DTSTART;TZID=Europe/Berlin:20190331T150000
DTEND;TZID=Europe/Berlin:20190331T163000
SUMMARY:Verbandsliga Staffel Ost (VLFO) SSV Heidenau  vs Koweg Görlitz II (4114)
UID:0061568d-7572-4e35-bd0a-6207499223fb
STATUS:CONFIRMED
LAST-MODIFIED:20190331T145445Z
DESCRIPTION:Verbandsliga Frauen Staffel Ost\nBegegnungs-Nr: 4114\nHeim: SSV Heidenau \nGast: Koweg Görlitz II\nHalle: SH Pestalozzi-Gymnasium Heidenau (33306)\nAdresse: Hauptstraße 37\, 01809 Heidenau\n
LOCATION:SH Pestalozzi-Gymnasium Heidenau (33306): Hauptstraße 37\, 01809 Heidenau
CATEGORIES:Saison 2018/19
END:VEVENT
BEGIN:VEVENT
DTSTAMP:20260424T055810Z
DTSTART;TZID=Europe/Berlin:20180923T133000
DTEND;TZID=Europe/Berlin:20180923T150000
SUMMARY:Verbandsliga Staffel Ost (VLFO) HC Rödertal  III vs Koweg Görlitz II (4022)
UID:36e6f396-9e10-4e6b-ac55-14a61da7e434
STATUS:CONFIRMED
LAST-MODIFIED:20180928T141523Z
DESCRIPTION:Verbandsliga Frauen Staffel Ost\nBegegnungs-Nr: 4022\nHeim: HC Rödertal  III\nGast: Koweg Görlitz II\nHalle: 3-Feld-Halle-GY Großröhrsdorf (34514)\nAdresse: Melanchthonstraße 21\, 01900  Großröhrsdorf\n
LOCATION:3-Feld-Halle-GY Großröhrsdorf (34514): Melanchthonstraße 21\, 01900  Großröhrsdorf
CATEGORIES:Saison 2018/19
END:VEVENT
BEGIN:VEVENT
DTSTAMP:20260424T055810Z
DTSTART;TZID=Europe/Berlin:20181117T140000
DTEND;TZID=Europe/Berlin:20181117T153000
SUMMARY:Verbandsliga Staffel Ost (VLFO) Stahl Rietschen vs Koweg Görlitz II (4048)
UID:0162b9a9-069a-4d89-993e-6ffc07868571
STATUS:CONFIRMED
LAST-MODIFIED:20181121T091551Z
DESCRIPTION:Verbandsliga Frauen Staffel Ost\nBegegnungs-Nr: 4048\nHeim: Stahl Rietschen\nGast: Koweg Görlitz II\nHalle: Oberlausitz-SH Rietschen (34403)\nAdresse: Am Festplatz 1\, 02956 Rietschen\n
LOCATION:Oberlausitz-SH Rietschen (34403): Am Festplatz 1\, 02956 Rietschen
CATEGORIES:Saison 2018/19
END:VEVENT
BEGIN:VEVENT
DTSTAMP:20260424T055810Z
DTSTART;TZID=Europe/Berlin:20181201T170000
DTEND;TZID=Europe/Berlin:20181201T183000
SUMMARY:Verbandsliga Staffel Ost (VLFO) SG Klotzsche vs Koweg Görlitz II (4061)
UID:fb1c5da6-da32-418a-8f4f-ee78c8da1758
STATUS:CONFIRMED
LAST-MODIFIED:20181130T204822Z
DESCRIPTION:Verbandsliga Frauen Staffel Ost\nBegegnungs-Nr: 4061\nHeim: SG Klotzsche\nGast: Koweg Görlitz II\nHalle: SH Gymnasium Klotzsche (33126)\nAdresse: Karl-Marx-Straße 44\, 01109 Dresden\n
LOCATION:SH Gymnasium Klotzsche (33126): Karl-Marx-Straße 44\, 01109 Dresden
CATEGORIES:Saison 2018/19
END:VEVENT
BEGIN:VEVENT
DTSTAMP:20260424T055810Z
DTSTART;TZID=Europe/Berlin:20181208T160000
DTEND;TZID=Europe/Berlin:20181208T173000
SUMMARY:Verbandsliga Staffel Ost (VLFO) TBSV Neugersdorf vs Koweg Görlitz II (4066)
UID:4188786c-e169-4884-8ac2-79c7579e6485
STATUS:CONFIRMED
LAST-MODIFIED:20181213T100903Z
DESCRIPTION:Verbandsliga Frauen Staffel Ost\nBegegnungs-Nr: 4066\nHeim: TBSV Neugersdorf\nGast: Koweg Görlitz II\nHalle: FSZ Oberland \"Albert Schweitzer\" (34112)\nAdresse: Friedrich-Ebert-Str.27\, 02730 Ebersbach-Neugersdorf\n
LOCATION:FSZ Oberland \"Albert Schweitzer\" (34112): Friedrich-Ebert-Str.27\, 02730 Ebersbach-Neugersdorf
CATEGORIES:Saison 2018/19
END:VEVENT
BEGIN:VEVENT
DTSTAMP:20260424T055810Z
DTSTART;TZID=Europe/Berlin:20190217T170000
DTEND;TZID=Europe/Berlin:20190217T183000
SUMMARY:Verbandsliga Staffel Ost (VLFO) HCS Neustadt-S. vs Koweg Görlitz II (4096)
UID:bb9f1e02-83e8-411f-beea-cc553174657d
STATUS:CONFIRMED
LAST-MODIFIED:20190217T095633Z
DESCRIPTION:Verbandsliga Frauen Staffel Ost\nBegegnungs-Nr: 4096\nHeim: HCS Neustadt-S.\nGast: Koweg Görlitz II\nHalle: Sportforum Neustadt (33303)\nAdresse: Maxim-Gorki-Straße 10\, 01844  Neustadt\n
LOCATION:Sportforum Neustadt (33303): Maxim-Gorki-Straße 10\, 01844  Neustadt
CATEGORIES:Saison 2018/19
END:VEVENT
BEGIN:VEVENT
DTSTAMP:20260424T055810Z
DTSTART;TZID=Europe/Berlin:20190413T170000
DTEND;TZID=Europe/Berlin:20190413T183000
SUMMARY:Verbandsliga Staffel Ost (VLFO) HSV Weinböhla vs Koweg Görlitz II (4124)
UID:1a13a2ee-9542-4ee6-89e9-800859ce0dae
STATUS:CONFIRMED
LAST-MODIFIED:20190414T071604Z
DESCRIPTION:Verbandsliga Frauen Staffel Ost\nBegegnungs-Nr: 4124\nHeim: HSV Weinböhla\nGast: Koweg Görlitz II\nHalle: Nassau-SH Weinböhla (33224)\nAdresse: Meißner Str. 1\, 01689 Weinböhla\n
LOCATION:Nassau-SH Weinböhla (33224): Meißner Str. 1\, 01689 Weinböhla
CATEGORIES:Saison 2018/19
END:VEVENT
BEGIN:VEVENT
DTSTAMP:20260424T055810Z
DTSTART;TZID=Europe/Berlin:20180908T133000
DTEND;TZID=Europe/Berlin:20180908T150000
SUMMARY:Verbandsliga Staffel Ost (VLFO) HC Elbflorenz 2006 vs Koweg Görlitz II (4007)
UID:d935b0c9-a780-416c-b9b5-4112bb22dbe8
STATUS:CONFIRMED
LAST-MODIFIED:20180928T142953Z
DESCRIPTION:Verbandsliga Frauen Staffel Ost\nBegegnungs-Nr: 4007\nHeim: HC Elbflorenz 2006\nGast: Koweg Görlitz II\nHalle: BallsportARENA Dresden - 2.Spielfeld (33137)\nAdresse: Weißeritzstraße 4\, 01067 Dresden\n
LOCATION:BallsportARENA Dresden - 2.Spielfeld (33137): Weißeritzstraße 4\, 01067 Dresden
CATEGORIES:Saison 2018/19
END:VEVENT
BEGIN:VEVENT
DTSTAMP:20260424T055810Z
DTSTART;TZID=Europe/Berlin:20190203T180000
DTEND;TZID=Europe/Berlin:20190203T193000
SUMMARY:Verbandsliga Staffel Ost (VLFO) SF 01 Dresden vs Koweg Görlitz II (4084)
UID:24bd73c0-d5dc-4296-9c07-5bacb5bcee6c
STATUS:CONFIRMED
LAST-MODIFIED:20190204T153259Z
DESCRIPTION:Verbandsliga Frauen Staffel Ost\nBegegnungs-Nr: 4084\nHeim: SF 01 Dresden\nGast: Koweg Görlitz II\nHalle: SH 117. Grundschule Dresden (33132)\nAdresse: Reichenbachstr. 12\, 01069 Dresden\n
LOCATION:SH 117. Grundschule Dresden (33132): Reichenbachstr. 12\, 01069 Dresden
CATEGORIES:Saison 2018/19
END:VEVENT
END:VCALENDAR
