BEGIN:VCALENDAR
PRODID:-//nuDatenautomaten//framework iCal4j //DE
VERSION:2.0
CALSCALE:GREGORIAN
BEGIN:VTIMEZONE
TZID:Europe/Berlin
LAST-MODIFIED:20260306T231828Z
TZURL:https://www.tzurl.org/zoneinfo/Europe/Berlin
X-LIC-LOCATION:Europe/Berlin
X-PROLEPTIC-TZNAME:LMT
BEGIN:STANDARD
TZNAME:CET
TZOFFSETFROM:+005328
TZOFFSETTO:+0100
DTSTART:18930401T000000
END:STANDARD
BEGIN:DAYLIGHT
TZNAME:CEST
TZOFFSETFROM:+0100
TZOFFSETTO:+0200
DTSTART:19160430T230000
RDATE:19400401T020000
RDATE:19430329T020000
RDATE:19460414T020000
RDATE:19470406T030000
RDATE:19480418T020000
RDATE:19490410T020000
RDATE:19800406T020000
END:DAYLIGHT
BEGIN:STANDARD
TZNAME:CET
TZOFFSETFROM:+0200
TZOFFSETTO:+0100
DTSTART:19161001T010000
RDATE:19421102T030000
RDATE:19431004T030000
RDATE:19441002T030000
RDATE:19451118T030000
RDATE:19461007T030000
END:STANDARD
BEGIN:DAYLIGHT
TZNAME:CEST
TZOFFSETFROM:+0100
TZOFFSETTO:+0200
DTSTART:19170416T020000
RRULE:FREQ=YEARLY;UNTIL=19180415T010000Z;BYMONTH=4;BYDAY=3MO
END:DAYLIGHT
BEGIN:STANDARD
TZNAME:CET
TZOFFSETFROM:+0200
TZOFFSETTO:+0100
DTSTART:19170917T030000
RRULE:FREQ=YEARLY;UNTIL=19180916T010000Z;BYMONTH=9;BYDAY=3MO
END:STANDARD
BEGIN:DAYLIGHT
TZNAME:CEST
TZOFFSETFROM:+0100
TZOFFSETTO:+0200
DTSTART:19440403T020000
RRULE:FREQ=YEARLY;UNTIL=19450402T010000Z;BYMONTH=4;BYDAY=1MO
END:DAYLIGHT
BEGIN:DAYLIGHT
TZNAME:CEMT
TZOFFSETFROM:+0200
TZOFFSETTO:+0300
DTSTART:19450524T020000
RDATE:19470511T030000
END:DAYLIGHT
BEGIN:DAYLIGHT
TZNAME:CEST
TZOFFSETFROM:+0300
TZOFFSETTO:+0200
DTSTART:19450924T030000
RDATE:19470629T030000
END:DAYLIGHT
BEGIN:STANDARD
TZNAME:CET
TZOFFSETFROM:+0100
TZOFFSETTO:+0100
DTSTART:19460101T000000
RDATE:19800101T000000
END:STANDARD
BEGIN:STANDARD
TZNAME:CET
TZOFFSETFROM:+0200
TZOFFSETTO:+0100
DTSTART:19471005T030000
RRULE:FREQ=YEARLY;UNTIL=19491002T010000Z;BYMONTH=10;BYDAY=1SU
END:STANDARD
BEGIN:STANDARD
TZNAME:CET
TZOFFSETFROM:+0200
TZOFFSETTO:+0100
DTSTART:19800928T030000
RRULE:FREQ=YEARLY;UNTIL=19950924T010000Z;BYMONTH=9;BYDAY=-1SU
END:STANDARD
BEGIN:DAYLIGHT
TZNAME:CEST
TZOFFSETFROM:+0100
TZOFFSETTO:+0200
DTSTART:19810329T020000
RRULE:FREQ=YEARLY;BYMONTH=3;BYDAY=-1SU
END:DAYLIGHT
BEGIN:STANDARD
TZNAME:CET
TZOFFSETFROM:+0200
TZOFFSETTO:+0100
DTSTART:19961027T030000
RRULE:FREQ=YEARLY;BYMONTH=10;BYDAY=-1SU
END:STANDARD
END:VTIMEZONE
BEGIN:VEVENT
DTSTAMP:20260423T050101Z
DTSTART;TZID=Europe/Berlin:20181208T133000
DTEND;TZID=Europe/Berlin:20181208T143000
SUMMARY:Sachsenliga mJC HSG Freiberg vs SG LVB (560)
UID:4b90942d-870d-401c-93fa-4d8d1cbe63a1
STATUS:CONFIRMED
LAST-MODIFIED:20190128T153248Z
DESCRIPTION:Sachsenliga männliche Jugend C\nBegegnungs-Nr: 560\nHeim: HSG Freiberg\nGast: SG LVB\nHalle: Ernst-Grube-Halle Freiberg (32401)\nAdresse: Tschaikowskistr. 2\, 09599 Freiberg\n
LOCATION:Ernst-Grube-Halle Freiberg (32401): Tschaikowskistr. 2\, 09599 Freiberg
CATEGORIES:Saison 2018/19
END:VEVENT
BEGIN:VEVENT
DTSTAMP:20260423T050101Z
DTSTART;TZID=Europe/Berlin:20181103T110000
DTEND;TZID=Europe/Berlin:20181103T120000
SUMMARY:Sachsenliga mJC HSG Freiberg vs SC DHfK Leipzig (537)
UID:0cf3da89-cc9f-48d2-9315-19e13d59322c
STATUS:CONFIRMED
LAST-MODIFIED:20190128T151616Z
DESCRIPTION:Sachsenliga männliche Jugend C\nBegegnungs-Nr: 537\nHeim: HSG Freiberg\nGast: SC DHfK Leipzig\nHalle: Ernst-Grube-Halle Freiberg (32401)\nAdresse: Tschaikowskistr. 2\, 09599 Freiberg\n
LOCATION:Ernst-Grube-Halle Freiberg (32401): Tschaikowskistr. 2\, 09599 Freiberg
CATEGORIES:Saison 2018/19
END:VEVENT
BEGIN:VEVENT
DTSTAMP:20260423T050101Z
DTSTART;TZID=Europe/Berlin:20190309T150000
DTEND;TZID=Europe/Berlin:20190309T160000
SUMMARY:Sachsenliga mJC HSG Freiberg vs NSG Westsachsen (584)
UID:2e578fb4-bda4-406e-8d39-71b0fd1a9d76
STATUS:CONFIRMED
LAST-MODIFIED:20190311T165304Z
DESCRIPTION:Sachsenliga männliche Jugend C\nBegegnungs-Nr: 584\nHeim: HSG Freiberg\nGast: NSG Westsachsen\nHalle: Ernst-Grube-Halle Freiberg (32401)\nAdresse: Tschaikowskistr. 2\, 09599 Freiberg\n
LOCATION:Ernst-Grube-Halle Freiberg (32401): Tschaikowskistr. 2\, 09599 Freiberg
CATEGORIES:Saison 2018/19
END:VEVENT
BEGIN:VEVENT
DTSTAMP:20260423T050101Z
DTSTART;TZID=Europe/Berlin:20180922T131500
DTEND;TZID=Europe/Berlin:20180922T141500
SUMMARY:Sachsenliga mJC HSG Freiberg vs LHV Hoyerswerda (512)
UID:236dd6f4-cadf-4d72-9f79-80db723b9eec
STATUS:CONFIRMED
LAST-MODIFIED:20190108T114447Z
DESCRIPTION:Sachsenliga männliche Jugend C\nBegegnungs-Nr: 512\nHeim: HSG Freiberg\nGast: LHV Hoyerswerda\nHalle: Ernst-Grube-Halle Freiberg (32401)\nAdresse: Tschaikowskistr. 2\, 09599 Freiberg\n
LOCATION:Ernst-Grube-Halle Freiberg (32401): Tschaikowskistr. 2\, 09599 Freiberg
CATEGORIES:Saison 2018/19
END:VEVENT
BEGIN:VEVENT
DTSTAMP:20260423T050101Z
DTSTART;TZID=Europe/Berlin:20181003T100000
DTEND;TZID=Europe/Berlin:20181003T110000
SUMMARY:Sachsenliga mJC HSG Freiberg vs HSV Dresden (524)
UID:d2380316-7345-4f0f-a78a-f558856f0361
STATUS:CONFIRMED
LAST-MODIFIED:20190118T175857Z
DESCRIPTION:Sachsenliga männliche Jugend C\nBegegnungs-Nr: 524\nHeim: HSG Freiberg\nGast: HSV Dresden\nHalle: Ernst-Grube-Halle Freiberg (32401)\nAdresse: Tschaikowskistr. 2\, 09599 Freiberg\n
LOCATION:Ernst-Grube-Halle Freiberg (32401): Tschaikowskistr. 2\, 09599 Freiberg
CATEGORIES:Saison 2018/19
END:VEVENT
BEGIN:VEVENT
DTSTAMP:20260423T050101Z
DTSTART;TZID=Europe/Berlin:20181027T131500
DTEND;TZID=Europe/Berlin:20181027T141500
SUMMARY:Sachsenliga mJC HSG Freiberg vs NSG EHV/NH Aue (527)
UID:9d2a35c3-4914-479a-88ad-e29f84789f86
STATUS:CONFIRMED
LAST-MODIFIED:20190128T150946Z
DESCRIPTION:Sachsenliga männliche Jugend C\nBegegnungs-Nr: 527\nHeim: HSG Freiberg\nGast: NSG EHV/NH Aue\nHalle: Ernst-Grube-Halle Freiberg (32401)\nAdresse: Tschaikowskistr. 2\, 09599 Freiberg\n
LOCATION:Ernst-Grube-Halle Freiberg (32401): Tschaikowskistr. 2\, 09599 Freiberg
CATEGORIES:Saison 2018/19
END:VEVENT
BEGIN:VEVENT
DTSTAMP:20260423T050101Z
DTSTART;TZID=Europe/Berlin:20181110T151500
DTEND;TZID=Europe/Berlin:20181110T161500
SUMMARY:Sachsenliga mJC HSG Freiberg vs NSG Oelsnitz/Oberlosa (542)
UID:daad651f-6c19-4dd9-9dc5-fae434e283dd
STATUS:CONFIRMED
LAST-MODIFIED:20190128T152203Z
DESCRIPTION:Sachsenliga männliche Jugend C\nBegegnungs-Nr: 542\nHeim: HSG Freiberg\nGast: NSG Oelsnitz/Oberlosa\nHalle: Ernst-Grube-Halle Freiberg (32401)\nAdresse: Tschaikowskistr. 2\, 09599 Freiberg\n
LOCATION:Ernst-Grube-Halle Freiberg (32401): Tschaikowskistr. 2\, 09599 Freiberg
CATEGORIES:Saison 2018/19
END:VEVENT
BEGIN:VEVENT
DTSTAMP:20260423T050101Z
DTSTART;TZID=Europe/Berlin:20190330T150000
DTEND;TZID=Europe/Berlin:20190330T160000
SUMMARY:Sachsenliga mJC HSG Freiberg vs Koweg Görlitz (567)
UID:719a5554-e702-4f0e-af0b-53445176d519
STATUS:CONFIRMED
LAST-MODIFIED:20190121T214038Z
DESCRIPTION:Sachsenliga männliche Jugend C\nBegegnungs-Nr: 567\nHeim: HSG Freiberg\nGast: Koweg Görlitz\nHalle: Ernst-Grube-Halle Freiberg (32401)\nAdresse: Tschaikowskistr. 2\, 09599 Freiberg\n
LOCATION:Ernst-Grube-Halle Freiberg (32401): Tschaikowskistr. 2\, 09599 Freiberg
CATEGORIES:Saison 2018/19
END:VEVENT
BEGIN:VEVENT
DTSTAMP:20260423T050101Z
DTSTART;TZID=Europe/Berlin:20181216T110000
DTEND;TZID=Europe/Berlin:20181216T120000
SUMMARY:Sachsenliga mJC HSG Freiberg vs HC Elbflorenz 2006 (502)
UID:5e8716f3-d459-403f-ada3-7d4e0173a6a4
STATUS:CONFIRMED
LAST-MODIFIED:20190108T114946Z
DESCRIPTION:Sachsenliga männliche Jugend C\nBegegnungs-Nr: 502\nHeim: HSG Freiberg\nGast: HC Elbflorenz 2006\nHalle: Ernst-Grube-Halle Freiberg (32401)\nAdresse: Tschaikowskistr. 2\, 09599 Freiberg\n
LOCATION:Ernst-Grube-Halle Freiberg (32401): Tschaikowskistr. 2\, 09599 Freiberg
CATEGORIES:Saison 2018/19
END:VEVENT
BEGIN:VEVENT
DTSTAMP:20260423T050101Z
DTSTART;TZID=Europe/Berlin:20181117T143000
DTEND;TZID=Europe/Berlin:20181117T153000
SUMMARY:Sachsenliga mJC HC Elbflorenz 2006 vs HSG Freiberg (547)
UID:11bcb8f7-e0dd-4733-863f-89b27fd17a42
STATUS:CONFIRMED
DESCRIPTION:Sachsenliga männliche Jugend C\nBegegnungs-Nr: 547\nHeim: HC Elbflorenz 2006\nGast: HSG Freiberg\nHalle: BallsportARENA Dresden (33133)\nAdresse: Weißeritzstraße 4\, 01067 Dresden\n
LOCATION:BallsportARENA Dresden (33133): Weißeritzstraße 4\, 01067 Dresden
CATEGORIES:Saison 2018/19
END:VEVENT
BEGIN:VEVENT
DTSTAMP:20260423T050101Z
DTSTART;TZID=Europe/Berlin:20181031T113000
DTEND;TZID=Europe/Berlin:20181031T123000
SUMMARY:Sachsenliga mJC NSG Westsachsen vs HSG Freiberg (534)
UID:840d047c-29a3-44a1-9c64-d1d0b008e0e1
STATUS:CONFIRMED
LAST-MODIFIED:20190128T151341Z
DESCRIPTION:Sachsenliga männliche Jugend C\nBegegnungs-Nr: 534\nHeim: NSG Westsachsen\nGast: HSG Freiberg\nHalle: SH Zwickau-Neuplanitz (32501)\nAdresse: Dortmunder Str. 7a\, 08062 Zwickau\n
LOCATION:SH Zwickau-Neuplanitz (32501): Dortmunder Str. 7a\, 08062 Zwickau
CATEGORIES:Saison 2018/19
END:VEVENT
BEGIN:VEVENT
DTSTAMP:20260423T050101Z
DTSTART;TZID=Europe/Berlin:20190317T103000
DTEND;TZID=Europe/Berlin:20190317T113000
SUMMARY:Sachsenliga mJC SC DHfK Leipzig vs HSG Freiberg (587)
UID:173a6edf-b0e7-41ec-ba1d-ac0a03bedcad
STATUS:CONFIRMED
LAST-MODIFIED:20190320T160746Z
DESCRIPTION:Sachsenliga männliche Jugend C\nBegegnungs-Nr: 587\nHeim: SC DHfK Leipzig\nGast: HSG Freiberg\nHalle: Kleine ARENA Leipzig (31117)\nAdresse: Am Sportforum 1\, 04105 Leipzig\n
LOCATION:Kleine ARENA Leipzig (31117): Am Sportforum 1\, 04105 Leipzig
CATEGORIES:Saison 2018/19
END:VEVENT
BEGIN:VEVENT
DTSTAMP:20260423T050101Z
DTSTART;TZID=Europe/Berlin:20180915T111500
DTEND;TZID=Europe/Berlin:20180915T121500
SUMMARY:Sachsenliga mJC SG LVB vs HSG Freiberg (510)
UID:92ab2aff-3b32-4093-acc1-6428f0cad5fb
STATUS:CONFIRMED
LAST-MODIFIED:20180924T155532Z
DESCRIPTION:Sachsenliga männliche Jugend C\nBegegnungs-Nr: 510\nHeim: SG LVB\nGast: HSG Freiberg\nHalle: SH Gymnasium an der Telemannstraße  (31109)\nAdresse: Telemannstraße 9\, 04107 Leipzig\n
LOCATION:SH Gymnasium an der Telemannstraße  (31109): Telemannstraße 9\, 04107 Leipzig
CATEGORIES:Saison 2018/19
END:VEVENT
BEGIN:VEVENT
DTSTAMP:20260423T050101Z
DTSTART;TZID=Europe/Berlin:20180930T121500
DTEND;TZID=Europe/Berlin:20180930T131500
SUMMARY:Sachsenliga mJC Koweg Görlitz vs HSG Freiberg (517)
UID:1256e2af-ec42-4c0e-921c-d47db6b60130
STATUS:CONFIRMED
LAST-MODIFIED:20190118T175531Z
DESCRIPTION:Sachsenliga männliche Jugend C\nBegegnungs-Nr: 517\nHeim: Koweg Görlitz\nGast: HSG Freiberg\nHalle: SH Rauschwalde (34301)\nAdresse: Diesterwegplatz 8\, 02827 Görlitz\n
LOCATION:SH Rauschwalde (34301): Diesterwegplatz 8\, 02827 Görlitz
CATEGORIES:Saison 2018/19
END:VEVENT
BEGIN:VEVENT
DTSTAMP:20260423T050101Z
DTSTART;TZID=Europe/Berlin:20181125T120000
DTEND;TZID=Europe/Berlin:20181125T130000
SUMMARY:Sachsenliga mJC NSG Oelsnitz/Oberlosa vs HSG Freiberg (552)
UID:ff7c5dd2-d382-43eb-8f09-aa04c9638f12
STATUS:CONFIRMED
LAST-MODIFIED:20190128T152910Z
DESCRIPTION:Sachsenliga männliche Jugend C\nBegegnungs-Nr: 552\nHeim: NSG Oelsnitz/Oberlosa\nGast: HSG Freiberg\nHalle: SH Oelsnitz/V. (32707)\nAdresse: Adolf-Damaschke-Str. 55 a (Am Stadion)\, 08606 Oelsnitz\n
LOCATION:SH Oelsnitz/V. (32707): Adolf-Damaschke-Str. 55 a (Am Stadion)\, 08606 Oelsnitz
CATEGORIES:Saison 2018/19
END:VEVENT
BEGIN:VEVENT
DTSTAMP:20260423T050101Z
DTSTART;TZID=Europe/Berlin:20181215T150000
DTEND;TZID=Europe/Berlin:20181215T160000
SUMMARY:Sachsenliga mJC LHV Hoyerswerda vs HSG Freiberg (562)
UID:6ea5b5c0-653e-46a1-af6b-f5e182a13f08
STATUS:CONFIRMED
LAST-MODIFIED:20190115T153257Z
DESCRIPTION:Sachsenliga männliche Jugend C\nBegegnungs-Nr: 562\nHeim: LHV Hoyerswerda\nGast: HSG Freiberg\nHalle: SH BSZ \"Konrad Zuse\" Hoyerswerda (34201)\nAdresse: Käthe-Kollwitz-Str. 5\, 02977 Hoyerswerda\n
LOCATION:SH BSZ \"Konrad Zuse\" Hoyerswerda (34201): Käthe-Kollwitz-Str. 5\, 02977 Hoyerswerda
CATEGORIES:Saison 2018/19
END:VEVENT
BEGIN:VEVENT
DTSTAMP:20260423T050101Z
DTSTART;TZID=Europe/Berlin:20190210T150000
DTEND;TZID=Europe/Berlin:20190210T160000
SUMMARY:Sachsenliga mJC HSV Dresden vs HSG Freiberg (579)
UID:f49f73c2-f861-4e79-a73e-b50999c8972b
STATUS:CONFIRMED
LAST-MODIFIED:20190211T170042Z
DESCRIPTION:Sachsenliga männliche Jugend C\nBegegnungs-Nr: 579\nHeim: HSV Dresden\nGast: HSG Freiberg\nHalle: SH 121. Oberschule Dresden (33102)\nAdresse: Gamigstraße 28/30\, 01239 Dresden\n
LOCATION:SH 121. Oberschule Dresden (33102): Gamigstraße 28/30\, 01239 Dresden
CATEGORIES:Saison 2018/19
END:VEVENT
BEGIN:VEVENT
DTSTAMP:20260423T050101Z
DTSTART;TZID=Europe/Berlin:20190126T110000
DTEND;TZID=Europe/Berlin:20190126T120000
SUMMARY:Sachsenliga mJC NSG EHV/NH Aue vs HSG Freiberg (572)
UID:03eea2bb-85a3-4d75-b062-400362ef1bcd
STATUS:CONFIRMED
LAST-MODIFIED:20190128T145529Z
DESCRIPTION:Sachsenliga männliche Jugend C\nBegegnungs-Nr: 572\nHeim: NSG EHV/NH Aue\nGast: HSG Freiberg\nHalle: SH Zeller Berg Aue  (32304)\nAdresse: Agricolastr. 5\, 08280 Aue\n
LOCATION:SH Zeller Berg Aue  (32304): Agricolastr. 5\, 08280 Aue
CATEGORIES:Saison 2018/19
END:VEVENT
END:VCALENDAR
