BEGIN:VCALENDAR
PRODID:-//nuDatenautomaten//framework iCal4j //DE
VERSION:2.0
CALSCALE:GREGORIAN
BEGIN:VTIMEZONE
TZID:Europe/Berlin
LAST-MODIFIED:20260306T231828Z
TZURL:https://www.tzurl.org/zoneinfo/Europe/Berlin
X-LIC-LOCATION:Europe/Berlin
X-PROLEPTIC-TZNAME:LMT
BEGIN:STANDARD
TZNAME:CET
TZOFFSETFROM:+005328
TZOFFSETTO:+0100
DTSTART:18930401T000000
END:STANDARD
BEGIN:DAYLIGHT
TZNAME:CEST
TZOFFSETFROM:+0100
TZOFFSETTO:+0200
DTSTART:19160430T230000
RDATE:19400401T020000
RDATE:19430329T020000
RDATE:19460414T020000
RDATE:19470406T030000
RDATE:19480418T020000
RDATE:19490410T020000
RDATE:19800406T020000
END:DAYLIGHT
BEGIN:STANDARD
TZNAME:CET
TZOFFSETFROM:+0200
TZOFFSETTO:+0100
DTSTART:19161001T010000
RDATE:19421102T030000
RDATE:19431004T030000
RDATE:19441002T030000
RDATE:19451118T030000
RDATE:19461007T030000
END:STANDARD
BEGIN:DAYLIGHT
TZNAME:CEST
TZOFFSETFROM:+0100
TZOFFSETTO:+0200
DTSTART:19170416T020000
RRULE:FREQ=YEARLY;UNTIL=19180415T010000Z;BYMONTH=4;BYDAY=3MO
END:DAYLIGHT
BEGIN:STANDARD
TZNAME:CET
TZOFFSETFROM:+0200
TZOFFSETTO:+0100
DTSTART:19170917T030000
RRULE:FREQ=YEARLY;UNTIL=19180916T010000Z;BYMONTH=9;BYDAY=3MO
END:STANDARD
BEGIN:DAYLIGHT
TZNAME:CEST
TZOFFSETFROM:+0100
TZOFFSETTO:+0200
DTSTART:19440403T020000
RRULE:FREQ=YEARLY;UNTIL=19450402T010000Z;BYMONTH=4;BYDAY=1MO
END:DAYLIGHT
BEGIN:DAYLIGHT
TZNAME:CEMT
TZOFFSETFROM:+0200
TZOFFSETTO:+0300
DTSTART:19450524T020000
RDATE:19470511T030000
END:DAYLIGHT
BEGIN:DAYLIGHT
TZNAME:CEST
TZOFFSETFROM:+0300
TZOFFSETTO:+0200
DTSTART:19450924T030000
RDATE:19470629T030000
END:DAYLIGHT
BEGIN:STANDARD
TZNAME:CET
TZOFFSETFROM:+0100
TZOFFSETTO:+0100
DTSTART:19460101T000000
RDATE:19800101T000000
END:STANDARD
BEGIN:STANDARD
TZNAME:CET
TZOFFSETFROM:+0200
TZOFFSETTO:+0100
DTSTART:19471005T030000
RRULE:FREQ=YEARLY;UNTIL=19491002T010000Z;BYMONTH=10;BYDAY=1SU
END:STANDARD
BEGIN:STANDARD
TZNAME:CET
TZOFFSETFROM:+0200
TZOFFSETTO:+0100
DTSTART:19800928T030000
RRULE:FREQ=YEARLY;UNTIL=19950924T010000Z;BYMONTH=9;BYDAY=-1SU
END:STANDARD
BEGIN:DAYLIGHT
TZNAME:CEST
TZOFFSETFROM:+0100
TZOFFSETTO:+0200
DTSTART:19810329T020000
RRULE:FREQ=YEARLY;BYMONTH=3;BYDAY=-1SU
END:DAYLIGHT
BEGIN:STANDARD
TZNAME:CET
TZOFFSETFROM:+0200
TZOFFSETTO:+0100
DTSTART:19961027T030000
RRULE:FREQ=YEARLY;BYMONTH=10;BYDAY=-1SU
END:STANDARD
END:VTIMEZONE
BEGIN:VEVENT
DTSTAMP:20260422T020556Z
DTSTART;TZID=Europe/Berlin:20180909T103000
DTEND;TZID=Europe/Berlin:20180909T113000
SUMMARY:Sachsenliga mJC SC DHfK Leipzig vs NSG Oelsnitz/Oberlosa (501)
UID:4b33f0b3-aff4-4034-a8ae-a1057f9bfe4a
STATUS:CONFIRMED
LAST-MODIFIED:20180924T155328Z
DESCRIPTION:Sachsenliga männliche Jugend C\nBegegnungs-Nr: 501\nHeim: SC DHfK Leipzig\nGast: NSG Oelsnitz/Oberlosa\nHalle: Kleine ARENA Leipzig (31117)\nAdresse: Am Sportforum 1\, 04105 Leipzig\n
LOCATION:Kleine ARENA Leipzig (31117): Am Sportforum 1\, 04105 Leipzig
CATEGORIES:Saison 2018/19
END:VEVENT
BEGIN:VEVENT
DTSTAMP:20260422T020556Z
DTSTART;TZID=Europe/Berlin:20181209T130000
DTEND;TZID=Europe/Berlin:20181209T140000
SUMMARY:Sachsenliga mJC SC DHfK Leipzig vs Koweg Görlitz (556)
UID:dce32413-b619-47b0-b33e-ba846a590322
STATUS:CONFIRMED
LAST-MODIFIED:20190115T153350Z
DESCRIPTION:Sachsenliga männliche Jugend C\nBegegnungs-Nr: 556\nHeim: SC DHfK Leipzig\nGast: Koweg Görlitz\nHalle: SH Sportoberschule (31132)\nAdresse: Max -Planck-Str. 53-55\, 04105 Leipzig\n
LOCATION:SH Sportoberschule (31132): Max -Planck-Str. 53-55\, 04105 Leipzig
CATEGORIES:Saison 2018/19
END:VEVENT
BEGIN:VEVENT
DTSTAMP:20260422T020556Z
DTSTART;TZID=Europe/Berlin:20181124T120000
DTEND;TZID=Europe/Berlin:20181124T130000
SUMMARY:Sachsenliga mJC SC DHfK Leipzig vs SG LVB (555)
UID:b47e2eb4-b69e-4b8b-9555-46e5285f7671
STATUS:CONFIRMED
LAST-MODIFIED:20190128T152838Z
DESCRIPTION:Sachsenliga männliche Jugend C\nBegegnungs-Nr: 555\nHeim: SC DHfK Leipzig\nGast: SG LVB\nHalle: SH Sportoberschule (31132)\nAdresse: Max -Planck-Str. 53-55\, 04105 Leipzig\n
LOCATION:SH Sportoberschule (31132): Max -Planck-Str. 53-55\, 04105 Leipzig
CATEGORIES:Saison 2018/19
END:VEVENT
BEGIN:VEVENT
DTSTAMP:20260422T020556Z
DTSTART;TZID=Europe/Berlin:20190113T120000
DTEND;TZID=Europe/Berlin:20190113T130000
SUMMARY:Sachsenliga mJC SC DHfK Leipzig vs LHV Hoyerswerda (566)
UID:4e66065d-e728-4e9c-a025-c66dd68ba322
STATUS:CONFIRMED
LAST-MODIFIED:20190115T114409Z
DESCRIPTION:Sachsenliga männliche Jugend C\nBegegnungs-Nr: 566\nHeim: SC DHfK Leipzig\nGast: LHV Hoyerswerda\nHalle: SH Sportoberschule (31132)\nAdresse: Max -Planck-Str. 53-55\, 04105 Leipzig\n
LOCATION:SH Sportoberschule (31132): Max -Planck-Str. 53-55\, 04105 Leipzig
CATEGORIES:Saison 2018/19
END:VEVENT
BEGIN:VEVENT
DTSTAMP:20260422T020556Z
DTSTART;TZID=Europe/Berlin:20190407T150000
DTEND;TZID=Europe/Berlin:20190407T160000
SUMMARY:OLmJC - Vorrunde 1 SC DHfK Leipzig vs SCM (5003)
UID:5c3f04be-de33-45cc-a42c-eeab6a1abdac
STATUS:CONFIRMED
LAST-MODIFIED:20190407T173626Z
DESCRIPTION:Oberliga männl. Jugend C - Vorrunde 1\nBegegnungs-Nr: 5003\nHeim: SC DHfK Leipzig\nGast: SCM\nHalle: Hermann-Gieseler-Halle Magdeburg (1095)\nAdresse: Klaus-Miesner-Platz 2\, 39108 Magdeburg\n
LOCATION:Hermann-Gieseler-Halle Magdeburg (1095): Klaus-Miesner-Platz 2\, 39108 Magdeburg
CATEGORIES:Saison 2018/19
END:VEVENT
BEGIN:VEVENT
DTSTAMP:20260422T020556Z
DTSTART;TZID=Europe/Berlin:20180923T130000
DTEND;TZID=Europe/Berlin:20180923T140000
SUMMARY:Sachsenliga mJC SC DHfK Leipzig vs NSG Westsachsen (513)
UID:bbf01149-bfe3-46ef-b2a6-7b916197c748
STATUS:CONFIRMED
LAST-MODIFIED:20190108T114612Z
DESCRIPTION:Sachsenliga männliche Jugend C\nBegegnungs-Nr: 513\nHeim: SC DHfK Leipzig\nGast: NSG Westsachsen\nHalle: SH Sportoberschule (31132)\nAdresse: Max -Planck-Str. 53-55\, 04105 Leipzig\n
LOCATION:SH Sportoberschule (31132): Max -Planck-Str. 53-55\, 04105 Leipzig
CATEGORIES:Saison 2018/19
END:VEVENT
BEGIN:VEVENT
DTSTAMP:20260422T020556Z
DTSTART;TZID=Europe/Berlin:20190317T103000
DTEND;TZID=Europe/Berlin:20190317T113000
SUMMARY:Sachsenliga mJC SC DHfK Leipzig vs HSG Freiberg (587)
UID:173a6edf-b0e7-41ec-ba1d-ac0a03bedcad
STATUS:CONFIRMED
LAST-MODIFIED:20190320T160746Z
DESCRIPTION:Sachsenliga männliche Jugend C\nBegegnungs-Nr: 587\nHeim: SC DHfK Leipzig\nGast: HSG Freiberg\nHalle: Kleine ARENA Leipzig (31117)\nAdresse: Am Sportforum 1\, 04105 Leipzig\n
LOCATION:Kleine ARENA Leipzig (31117): Am Sportforum 1\, 04105 Leipzig
CATEGORIES:Saison 2018/19
END:VEVENT
BEGIN:VEVENT
DTSTAMP:20260422T020556Z
DTSTART;TZID=Europe/Berlin:20190303T120000
DTEND;TZID=Europe/Berlin:20190303T130000
SUMMARY:Sachsenliga mJC SC DHfK Leipzig vs HSV Dresden (574)
UID:cdc525a8-3bac-4e5c-8aaf-5113701b3137
STATUS:CONFIRMED
LAST-MODIFIED:20190305T113558Z
DESCRIPTION:Sachsenliga männliche Jugend C\nBegegnungs-Nr: 574\nHeim: SC DHfK Leipzig\nGast: HSV Dresden\nHalle: SH Sportoberschule (31132)\nAdresse: Max -Planck-Str. 53-55\, 04105 Leipzig\n
LOCATION:SH Sportoberschule (31132): Max -Planck-Str. 53-55\, 04105 Leipzig
CATEGORIES:Saison 2018/19
END:VEVENT
BEGIN:VEVENT
DTSTAMP:20260422T020556Z
DTSTART;TZID=Europe/Berlin:20181031T110000
DTEND;TZID=Europe/Berlin:20181031T120000
SUMMARY:Sachsenliga mJC SC DHfK Leipzig vs HC Elbflorenz 2006 (531)
UID:89fcfa30-0782-466d-9364-57f5969eff96
STATUS:CONFIRMED
LAST-MODIFIED:20190128T151201Z
DESCRIPTION:Sachsenliga männliche Jugend C\nBegegnungs-Nr: 531\nHeim: SC DHfK Leipzig\nGast: HC Elbflorenz 2006\nHalle: SH Sportoberschule (31132)\nAdresse: Max -Planck-Str. 53-55\, 04105 Leipzig\n
LOCATION:SH Sportoberschule (31132): Max -Planck-Str. 53-55\, 04105 Leipzig
CATEGORIES:Saison 2018/19
END:VEVENT
BEGIN:VEVENT
DTSTAMP:20260422T020556Z
DTSTART;TZID=Europe/Berlin:20190210T123000
DTEND;TZID=Europe/Berlin:20190210T133000
SUMMARY:Sachsenliga mJC SC DHfK Leipzig vs NSG EHV/NH Aue (576)
UID:d55feac7-d885-4dd0-8cfe-b14314ce14c7
STATUS:CONFIRMED
LAST-MODIFIED:20190211T170216Z
DESCRIPTION:Sachsenliga männliche Jugend C\nBegegnungs-Nr: 576\nHeim: SC DHfK Leipzig\nGast: NSG EHV/NH Aue\nHalle: Kleine ARENA Leipzig (31117)\nAdresse: Am Sportforum 1\, 04105 Leipzig\n
LOCATION:Kleine ARENA Leipzig (31117): Am Sportforum 1\, 04105 Leipzig
CATEGORIES:Saison 2018/19
END:VEVENT
BEGIN:VEVENT
DTSTAMP:20260422T020556Z
DTSTART;TZID=Europe/Berlin:20181118T110000
DTEND;TZID=Europe/Berlin:20181118T120000
SUMMARY:Sachsenliga mJC NSG Oelsnitz/Oberlosa vs SC DHfK Leipzig (546)
UID:eb688cc9-79fa-4ec7-94ff-aebcd2afd91a
STATUS:CONFIRMED
DESCRIPTION:Sachsenliga männliche Jugend C\nBegegnungs-Nr: 546\nHeim: NSG Oelsnitz/Oberlosa\nGast: SC DHfK Leipzig\nHalle: SH Oelsnitz/V. (32707)\nAdresse: Adolf-Damaschke-Str. 55 a (Am Stadion)\, 08606 Oelsnitz\n
LOCATION:SH Oelsnitz/V. (32707): Adolf-Damaschke-Str. 55 a (Am Stadion)\, 08606 Oelsnitz
CATEGORIES:Saison 2018/19
END:VEVENT
BEGIN:VEVENT
DTSTAMP:20260422T020556Z
DTSTART;TZID=Europe/Berlin:20181103T110000
DTEND;TZID=Europe/Berlin:20181103T120000
SUMMARY:Sachsenliga mJC HSG Freiberg vs SC DHfK Leipzig (537)
UID:0cf3da89-cc9f-48d2-9315-19e13d59322c
STATUS:CONFIRMED
LAST-MODIFIED:20190128T151616Z
DESCRIPTION:Sachsenliga männliche Jugend C\nBegegnungs-Nr: 537\nHeim: HSG Freiberg\nGast: SC DHfK Leipzig\nHalle: Ernst-Grube-Halle Freiberg (32401)\nAdresse: Tschaikowskistr. 2\, 09599 Freiberg\n
LOCATION:Ernst-Grube-Halle Freiberg (32401): Tschaikowskistr. 2\, 09599 Freiberg
CATEGORIES:Saison 2018/19
END:VEVENT
BEGIN:VEVENT
DTSTAMP:20260422T020556Z
DTSTART;TZID=Europe/Berlin:20180916T121500
DTEND;TZID=Europe/Berlin:20180916T131500
SUMMARY:Sachsenliga mJC Koweg Görlitz vs SC DHfK Leipzig (506)
UID:312db590-3466-4949-b150-110c072000b2
STATUS:CONFIRMED
LAST-MODIFIED:20180924T155800Z
DESCRIPTION:Sachsenliga männliche Jugend C\nBegegnungs-Nr: 506\nHeim: Koweg Görlitz\nGast: SC DHfK Leipzig\nHalle: SH Rauschwalde (34301)\nAdresse: Diesterwegplatz 8\, 02827 Görlitz\n
LOCATION:SH Rauschwalde (34301): Diesterwegplatz 8\, 02827 Görlitz
CATEGORIES:Saison 2018/19
END:VEVENT
BEGIN:VEVENT
DTSTAMP:20260422T020556Z
DTSTART;TZID=Europe/Berlin:20181110T111500
DTEND;TZID=Europe/Berlin:20181110T121500
SUMMARY:Sachsenliga mJC SG LVB vs SC DHfK Leipzig (545)
UID:1635afa8-3dde-43e2-9764-a19907d6cdd4
STATUS:CONFIRMED
LAST-MODIFIED:20190128T152101Z
DESCRIPTION:Sachsenliga männliche Jugend C\nBegegnungs-Nr: 545\nHeim: SG LVB\nGast: SC DHfK Leipzig\nHalle: SH Gymnasium an der Telemannstraße  (31109)\nAdresse: Telemannstraße 9\, 04107 Leipzig\n
LOCATION:SH Gymnasium an der Telemannstraße  (31109): Telemannstraße 9\, 04107 Leipzig
CATEGORIES:Saison 2018/19
END:VEVENT
BEGIN:VEVENT
DTSTAMP:20260422T020556Z
DTSTART;TZID=Europe/Berlin:20190309T114500
DTEND;TZID=Europe/Berlin:20190309T124500
SUMMARY:Sachsenliga mJC HC Elbflorenz 2006 vs SC DHfK Leipzig (581)
UID:871afd0a-88bb-4ad6-b52d-f52231b9f4f3
STATUS:CONFIRMED
LAST-MODIFIED:20190311T165219Z
DESCRIPTION:Sachsenliga männliche Jugend C\nBegegnungs-Nr: 581\nHeim: HC Elbflorenz 2006\nGast: SC DHfK Leipzig\nHalle: BallsportARENA Dresden - 2.Spielfeld (33137)\nAdresse: Weißeritzstraße 4\, 01067 Dresden\n
LOCATION:BallsportARENA Dresden - 2.Spielfeld (33137): Weißeritzstraße 4\, 01067 Dresden
CATEGORIES:Saison 2018/19
END:VEVENT
BEGIN:VEVENT
DTSTAMP:20260422T020556Z
DTSTART;TZID=Europe/Berlin:20190323T151500
DTEND;TZID=Europe/Berlin:20190323T161500
SUMMARY:QMHVmJC HC Elbflorenz 2006 vs SC DHfK Leipzig (2)
UID:1b0f1d19-8222-4052-8813-1748a6e85856
STATUS:CONFIRMED
LAST-MODIFIED:20190324T104543Z
DESCRIPTION:Qualifikation MHV-Meisterschaft\nBegegnungs-Nr: 2\nHeim: HC Elbflorenz 2006\nGast: SC DHfK Leipzig\nHalle: BallsportARENA Dresden (33133)\nAdresse: Weißeritzstraße 4\, 01067 Dresden\n
LOCATION:BallsportARENA Dresden (33133): Weißeritzstraße 4\, 01067 Dresden
CATEGORIES:Saison 2018/19
END:VEVENT
BEGIN:VEVENT
DTSTAMP:20260422T020556Z
DTSTART;TZID=Europe/Berlin:20190323T134500
DTEND;TZID=Europe/Berlin:20190323T144500
SUMMARY:QMHVmJC NSG EHV/NH Aue vs SC DHfK Leipzig (1)
UID:7f3ad46d-206f-48e8-82c2-e797145e09bc
STATUS:CONFIRMED
LAST-MODIFIED:20190324T104436Z
DESCRIPTION:Qualifikation MHV-Meisterschaft\nBegegnungs-Nr: 1\nHeim: NSG EHV/NH Aue\nGast: SC DHfK Leipzig\nHalle: BallsportARENA Dresden (33133)\nAdresse: Weißeritzstraße 4\, 01067 Dresden\n
LOCATION:BallsportARENA Dresden (33133): Weißeritzstraße 4\, 01067 Dresden
CATEGORIES:Saison 2018/19
END:VEVENT
BEGIN:VEVENT
DTSTAMP:20260422T020556Z
DTSTART;TZID=Europe/Berlin:20181003T130000
DTEND;TZID=Europe/Berlin:20181003T140000
SUMMARY:Sachsenliga mJC NSG EHV/NH Aue vs SC DHfK Leipzig (521)
UID:c98e09fa-ce96-4cff-9da3-ce827e98b431
STATUS:CONFIRMED
LAST-MODIFIED:20190118T180025Z
DESCRIPTION:Sachsenliga männliche Jugend C\nBegegnungs-Nr: 521\nHeim: NSG EHV/NH Aue\nGast: SC DHfK Leipzig\nHalle: SH Zeller Berg Aue  (32304)\nAdresse: Agricolastr. 5\, 08280 Aue\n
LOCATION:SH Zeller Berg Aue  (32304): Agricolastr. 5\, 08280 Aue
CATEGORIES:Saison 2018/19
END:VEVENT
BEGIN:VEVENT
DTSTAMP:20260422T020556Z
DTSTART;TZID=Europe/Berlin:20181027T123000
DTEND;TZID=Europe/Berlin:20181027T133000
SUMMARY:Sachsenliga mJC HSV Dresden vs SC DHfK Leipzig (529)
UID:7ca17491-dee6-4f83-a440-ed1a502623a4
STATUS:CONFIRMED
DESCRIPTION:Sachsenliga männliche Jugend C\nBegegnungs-Nr: 529\nHeim: HSV Dresden\nGast: SC DHfK Leipzig\nHalle: SH Erlwein-Gymnasium Dresden (33127)\nAdresse: Eibenstocker Straße 30\, 01277 Dresden\n
LOCATION:SH Erlwein-Gymnasium Dresden (33127): Eibenstocker Straße 30\, 01277 Dresden
CATEGORIES:Saison 2018/19
END:VEVENT
BEGIN:VEVENT
DTSTAMP:20260422T020556Z
DTSTART;TZID=Europe/Berlin:20181216T120000
DTEND;TZID=Europe/Berlin:20181216T130000
SUMMARY:Sachsenliga mJC NSG Westsachsen vs SC DHfK Leipzig (563)
UID:7b4a9731-d7d0-47ae-99bb-6e48b73f267b
STATUS:CONFIRMED
LAST-MODIFIED:20190108T114809Z
DESCRIPTION:Sachsenliga männliche Jugend C\nBegegnungs-Nr: 563\nHeim: NSG Westsachsen\nGast: SC DHfK Leipzig\nHalle: SH Zwickau-Neuplanitz (32501)\nAdresse: Dortmunder Str. 7a\, 08062 Zwickau\n
LOCATION:SH Zwickau-Neuplanitz (32501): Dortmunder Str. 7a\, 08062 Zwickau
CATEGORIES:Saison 2018/19
END:VEVENT
BEGIN:VEVENT
DTSTAMP:20260422T020556Z
DTSTART;TZID=Europe/Berlin:20190407T130000
DTEND;TZID=Europe/Berlin:20190407T140000
SUMMARY:OLmJC - Vorrunde 1 HBV Jena 90 vs SC DHfK Leipzig (5002)
UID:274363c1-7f06-4c2e-abba-d52db0086edf
STATUS:CONFIRMED
LAST-MODIFIED:20190407T165107Z
DESCRIPTION:Oberliga männl. Jugend C - Vorrunde 1\nBegegnungs-Nr: 5002\nHeim: HBV Jena 90\nGast: SC DHfK Leipzig\nHalle: Hermann-Gieseler-Halle Magdeburg (1095)\nAdresse: Klaus-Miesner-Platz 2\, 39108 Magdeburg\n
LOCATION:Hermann-Gieseler-Halle Magdeburg (1095): Klaus-Miesner-Platz 2\, 39108 Magdeburg
CATEGORIES:Saison 2018/19
END:VEVENT
BEGIN:VEVENT
DTSTAMP:20260422T020556Z
DTSTART;TZID=Europe/Berlin:20190414T120000
DTEND;TZID=Europe/Berlin:20190414T130000
SUMMARY:OLmJC - Final Four HC Elbflorenz 2006 vs SC DHfK Leipzig (5008)
UID:4bca9f4c-6c42-482b-ba98-b3700e617f7b
STATUS:CONFIRMED
LAST-MODIFIED:20190415T120113Z
DESCRIPTION:Oberliga männl. Jugend C - Final Four\nBegegnungs-Nr: 5008\nHeim: HC Elbflorenz 2006\nGast: SC DHfK Leipzig\nHalle: SH Sportoberschule (31132)\nAdresse: Max -Planck-Str. 53-55\, 04105 Leipzig\n
LOCATION:SH Sportoberschule (31132): Max -Planck-Str. 53-55\, 04105 Leipzig
CATEGORIES:Saison 2018/19
END:VEVENT
BEGIN:VEVENT
DTSTAMP:20260422T020556Z
DTSTART;TZID=Europe/Berlin:20190414T153000
DTEND;TZID=Europe/Berlin:20190414T163000
SUMMARY:OLmJC - Final Four SCM vs SC DHfK Leipzig (5010)
UID:32c1e433-bf2b-442a-bd71-ac3325a76e9c
STATUS:CONFIRMED
LAST-MODIFIED:20190415T120722Z
DESCRIPTION:Oberliga männl. Jugend C - Final Four\nBegegnungs-Nr: 5010\nHeim: SCM\nGast: SC DHfK Leipzig\nHalle: SH Sportoberschule (31132)\nAdresse: Max -Planck-Str. 53-55\, 04105 Leipzig\n
LOCATION:SH Sportoberschule (31132): Max -Planck-Str. 53-55\, 04105 Leipzig
CATEGORIES:Saison 2018/19
END:VEVENT
BEGIN:VEVENT
DTSTAMP:20260422T020556Z
DTSTART;TZID=Europe/Berlin:20180929T110000
DTEND;TZID=Europe/Berlin:20180929T120000
SUMMARY:Sachsenliga mJC LHV Hoyerswerda vs SC DHfK Leipzig (516)
UID:f7c47481-ed32-4dff-8fd8-c03df315312a
STATUS:CONFIRMED
LAST-MODIFIED:20190108T115658Z
DESCRIPTION:Sachsenliga männliche Jugend C\nBegegnungs-Nr: 516\nHeim: LHV Hoyerswerda\nGast: SC DHfK Leipzig\nHalle: SH BSZ \"Konrad Zuse\" Hoyerswerda (34201)\nAdresse: Käthe-Kollwitz-Str. 5\, 02977 Hoyerswerda\n
LOCATION:SH BSZ \"Konrad Zuse\" Hoyerswerda (34201): Käthe-Kollwitz-Str. 5\, 02977 Hoyerswerda
CATEGORIES:Saison 2018/19
END:VEVENT
END:VCALENDAR
