BEGIN:VCALENDAR
PRODID:-//nuDatenautomaten//framework iCal4j //DE
VERSION:2.0
CALSCALE:GREGORIAN
BEGIN:VTIMEZONE
TZID:Europe/Berlin
LAST-MODIFIED:20260306T231828Z
TZURL:https://www.tzurl.org/zoneinfo/Europe/Berlin
X-LIC-LOCATION:Europe/Berlin
X-PROLEPTIC-TZNAME:LMT
BEGIN:STANDARD
TZNAME:CET
TZOFFSETFROM:+005328
TZOFFSETTO:+0100
DTSTART:18930401T000000
END:STANDARD
BEGIN:DAYLIGHT
TZNAME:CEST
TZOFFSETFROM:+0100
TZOFFSETTO:+0200
DTSTART:19160430T230000
RDATE:19400401T020000
RDATE:19430329T020000
RDATE:19460414T020000
RDATE:19470406T030000
RDATE:19480418T020000
RDATE:19490410T020000
RDATE:19800406T020000
END:DAYLIGHT
BEGIN:STANDARD
TZNAME:CET
TZOFFSETFROM:+0200
TZOFFSETTO:+0100
DTSTART:19161001T010000
RDATE:19421102T030000
RDATE:19431004T030000
RDATE:19441002T030000
RDATE:19451118T030000
RDATE:19461007T030000
END:STANDARD
BEGIN:DAYLIGHT
TZNAME:CEST
TZOFFSETFROM:+0100
TZOFFSETTO:+0200
DTSTART:19170416T020000
RRULE:FREQ=YEARLY;UNTIL=19180415T010000Z;BYMONTH=4;BYDAY=3MO
END:DAYLIGHT
BEGIN:STANDARD
TZNAME:CET
TZOFFSETFROM:+0200
TZOFFSETTO:+0100
DTSTART:19170917T030000
RRULE:FREQ=YEARLY;UNTIL=19180916T010000Z;BYMONTH=9;BYDAY=3MO
END:STANDARD
BEGIN:DAYLIGHT
TZNAME:CEST
TZOFFSETFROM:+0100
TZOFFSETTO:+0200
DTSTART:19440403T020000
RRULE:FREQ=YEARLY;UNTIL=19450402T010000Z;BYMONTH=4;BYDAY=1MO
END:DAYLIGHT
BEGIN:DAYLIGHT
TZNAME:CEMT
TZOFFSETFROM:+0200
TZOFFSETTO:+0300
DTSTART:19450524T020000
RDATE:19470511T030000
END:DAYLIGHT
BEGIN:DAYLIGHT
TZNAME:CEST
TZOFFSETFROM:+0300
TZOFFSETTO:+0200
DTSTART:19450924T030000
RDATE:19470629T030000
END:DAYLIGHT
BEGIN:STANDARD
TZNAME:CET
TZOFFSETFROM:+0100
TZOFFSETTO:+0100
DTSTART:19460101T000000
RDATE:19800101T000000
END:STANDARD
BEGIN:STANDARD
TZNAME:CET
TZOFFSETFROM:+0200
TZOFFSETTO:+0100
DTSTART:19471005T030000
RRULE:FREQ=YEARLY;UNTIL=19491002T010000Z;BYMONTH=10;BYDAY=1SU
END:STANDARD
BEGIN:STANDARD
TZNAME:CET
TZOFFSETFROM:+0200
TZOFFSETTO:+0100
DTSTART:19800928T030000
RRULE:FREQ=YEARLY;UNTIL=19950924T010000Z;BYMONTH=9;BYDAY=-1SU
END:STANDARD
BEGIN:DAYLIGHT
TZNAME:CEST
TZOFFSETFROM:+0100
TZOFFSETTO:+0200
DTSTART:19810329T020000
RRULE:FREQ=YEARLY;BYMONTH=3;BYDAY=-1SU
END:DAYLIGHT
BEGIN:STANDARD
TZNAME:CET
TZOFFSETFROM:+0200
TZOFFSETTO:+0100
DTSTART:19961027T030000
RRULE:FREQ=YEARLY;BYMONTH=10;BYDAY=-1SU
END:STANDARD
END:VTIMEZONE
BEGIN:VEVENT
DTSTAMP:20260420T221335Z
DTSTART;TZID=Europe/Berlin:20180113T170000
DTEND;TZID=Europe/Berlin:20180113T183000
SUMMARY:Bezirksliga HSG Riesa/Oschatz II vs SG LVB III (11087)
UID:78ee5be5-1272-4b94-9211-c96cd253a246
STATUS:CONFIRMED
LAST-MODIFIED:20180328T215736Z
DESCRIPTION:Bezirksliga Männer\nBegegnungs-Nr: 11087\nHeim: HSG Riesa/Oschatz II\nGast: SG LVB III\nHalle: Rosental-SH Oschatz (31604)\nAdresse: Berufsschulstraße 8\, 04758 Oschatz\n
LOCATION:Rosental-SH Oschatz (31604): Berufsschulstraße 8\, 04758 Oschatz
CATEGORIES:Saison 2017/18
END:VEVENT
BEGIN:VEVENT
DTSTAMP:20260420T221335Z
DTSTART;TZID=Europe/Berlin:20171118T191500
DTEND;TZID=Europe/Berlin:20171118T204500
SUMMARY:Bezirksliga HSG Riesa/Oschatz II vs VfB Eilenburg (11064)
UID:a86b6f3d-b90d-4415-9908-94c57ce8fd46
STATUS:CONFIRMED
LAST-MODIFIED:20180328T215601Z
DESCRIPTION:Bezirksliga Männer\nBegegnungs-Nr: 11064\nHeim: HSG Riesa/Oschatz II\nGast: VfB Eilenburg\nHalle: WM-Sporthalle Riesa (33213)\nAdresse: Am Sportzentrum 1\, 01587 Riesa\n
LOCATION:WM-Sporthalle Riesa (33213): Am Sportzentrum 1\, 01587 Riesa
CATEGORIES:Saison 2017/18
END:VEVENT
BEGIN:VEVENT
DTSTAMP:20260420T221335Z
DTSTART;TZID=Europe/Berlin:20171104T191500
DTEND;TZID=Europe/Berlin:20171104T204500
SUMMARY:Bezirksliga HSG Riesa/Oschatz II vs Leipziger SV Südwest (11052)
UID:ce9045fc-1cb6-4251-a66d-a706a21f2b78
STATUS:CONFIRMED
LAST-MODIFIED:20180328T215202Z
DESCRIPTION:Bezirksliga Männer\nBegegnungs-Nr: 11052\nHeim: HSG Riesa/Oschatz II\nGast: Leipziger SV Südwest\nHalle: Rosental-SH Oschatz (31604)\nAdresse: Berufsschulstraße 8\, 04758 Oschatz\n
LOCATION:Rosental-SH Oschatz (31604): Berufsschulstraße 8\, 04758 Oschatz
CATEGORIES:Saison 2017/18
END:VEVENT
BEGIN:VEVENT
DTSTAMP:20260420T221335Z
DTSTART;TZID=Europe/Berlin:20171007T170000
DTEND;TZID=Europe/Berlin:20171007T183000
SUMMARY:Bezirksliga HSG Riesa/Oschatz II vs HV Glesien (11026)
UID:d421ffc5-961c-4288-b4cd-8670a9c9605d
STATUS:CONFIRMED
LAST-MODIFIED:20180328T214630Z
DESCRIPTION:Bezirksliga Männer\nBegegnungs-Nr: 11026\nHeim: HSG Riesa/Oschatz II\nGast: HV Glesien\nHalle: WM-Sporthalle Riesa (33213)\nAdresse: Am Sportzentrum 1\, 01587 Riesa\n
LOCATION:WM-Sporthalle Riesa (33213): Am Sportzentrum 1\, 01587 Riesa
CATEGORIES:Saison 2017/18
END:VEVENT
BEGIN:VEVENT
DTSTAMP:20260420T221335Z
DTSTART;TZID=Europe/Berlin:20170916T170000
DTEND;TZID=Europe/Berlin:20170916T183000
SUMMARY:Bezirksliga HSG Riesa/Oschatz II vs SG MoGoNo (11014)
UID:960ee454-f6a2-472f-b9fe-e1ee2fe5411a
STATUS:CONFIRMED
LAST-MODIFIED:20180501T195544Z
DESCRIPTION:Bezirksliga Männer\nBegegnungs-Nr: 11014\nHeim: HSG Riesa/Oschatz II\nGast: SG MoGoNo\nHalle: WM-Sporthalle Riesa (33213)\nAdresse: Am Sportzentrum 1\, 01587 Riesa\n
LOCATION:WM-Sporthalle Riesa (33213): Am Sportzentrum 1\, 01587 Riesa
CATEGORIES:Saison 2017/18
END:VEVENT
BEGIN:VEVENT
DTSTAMP:20260420T221335Z
DTSTART;TZID=Europe/Berlin:20170902T170000
DTEND;TZID=Europe/Berlin:20170902T183000
SUMMARY:Bezirksliga HSG Riesa/Oschatz II vs VfL Waldheim 54 II (11003)
UID:59500c89-7517-4f13-98c6-012c77059f59
STATUS:CONFIRMED
LAST-MODIFIED:20180403T090544Z
DESCRIPTION:Bezirksliga Männer\nBegegnungs-Nr: 11003\nHeim: HSG Riesa/Oschatz II\nGast: VfL Waldheim 54 II\nHalle: WM-Sporthalle Riesa (33213)\nAdresse: Am Sportzentrum 1\, 01587 Riesa\n
LOCATION:WM-Sporthalle Riesa (33213): Am Sportzentrum 1\, 01587 Riesa
CATEGORIES:Saison 2017/18
END:VEVENT
BEGIN:VEVENT
DTSTAMP:20260420T221335Z
DTSTART;TZID=Europe/Berlin:20180422T140000
DTEND;TZID=Europe/Berlin:20180422T153000
SUMMARY:Bezirksliga HSG Riesa/Oschatz II vs HSV Mölkau - Die Haie  (11155)
UID:48ff36f8-bd85-4bd9-a9f1-9a63352393e7
STATUS:CONFIRMED
LAST-MODIFIED:20180501T124323Z
DESCRIPTION:Bezirksliga Männer\nBegegnungs-Nr: 11155\nHeim: HSG Riesa/Oschatz II\nGast: HSV Mölkau - Die Haie \nHalle: WM-Sporthalle Riesa (33213)\nAdresse: Am Sportzentrum 1\, 01587 Riesa\n
LOCATION:WM-Sporthalle Riesa (33213): Am Sportzentrum 1\, 01587 Riesa
CATEGORIES:Saison 2017/18
END:VEVENT
BEGIN:VEVENT
DTSTAMP:20260420T221335Z
DTSTART;TZID=Europe/Berlin:20180317T191500
DTEND;TZID=Europe/Berlin:20180317T204500
SUMMARY:Bezirksliga HSG Riesa/Oschatz II vs SC DHfK Leipzig II (11136)
UID:e837fffa-2e55-40b4-8387-0cf0dceb81be
STATUS:CONFIRMED
LAST-MODIFIED:20180501T133945Z
DESCRIPTION:Bezirksliga Männer\nBegegnungs-Nr: 11136\nHeim: HSG Riesa/Oschatz II\nGast: SC DHfK Leipzig II\nHalle: Rosental-SH Oschatz (31604)\nAdresse: Berufsschulstraße 8\, 04758 Oschatz\n
LOCATION:Rosental-SH Oschatz (31604): Berufsschulstraße 8\, 04758 Oschatz
CATEGORIES:Saison 2017/18
END:VEVENT
BEGIN:VEVENT
DTSTAMP:20260420T221335Z
DTSTART;TZID=Europe/Berlin:20180303T190000
DTEND;TZID=Europe/Berlin:20180303T203000
SUMMARY:Bezirksliga HSG Riesa/Oschatz II vs Lok Wurzen (11125)
UID:53333dc1-8098-4df6-a2a0-6bd73a88973b
STATUS:CONFIRMED
LAST-MODIFIED:20180328T220642Z
DESCRIPTION:Bezirksliga Männer\nBegegnungs-Nr: 11125\nHeim: HSG Riesa/Oschatz II\nGast: Lok Wurzen\nHalle: WM-Sporthalle Riesa (33213)\nAdresse: Am Sportzentrum 1\, 01587 Riesa\n
LOCATION:WM-Sporthalle Riesa (33213): Am Sportzentrum 1\, 01587 Riesa
CATEGORIES:Saison 2017/18
END:VEVENT
BEGIN:VEVENT
DTSTAMP:20260420T221335Z
DTSTART;TZID=Europe/Berlin:20180224T160000
DTEND;TZID=Europe/Berlin:20180224T173000
SUMMARY:Bezirksliga HSG Riesa/Oschatz II vs SV Leisnig 90 (11115)
UID:803daa77-0c7b-4eb9-86e4-303c565b666a
STATUS:CONFIRMED
LAST-MODIFIED:20180328T220316Z
DESCRIPTION:Bezirksliga Männer\nBegegnungs-Nr: 11115\nHeim: HSG Riesa/Oschatz II\nGast: SV Leisnig 90\nHalle: WM-Sporthalle Riesa (33213)\nAdresse: Am Sportzentrum 1\, 01587 Riesa\n
LOCATION:WM-Sporthalle Riesa (33213): Am Sportzentrum 1\, 01587 Riesa
CATEGORIES:Saison 2017/18
END:VEVENT
BEGIN:VEVENT
DTSTAMP:20260420T221335Z
DTSTART;TZID=Europe/Berlin:20180210T160000
DTEND;TZID=Europe/Berlin:20180210T173000
SUMMARY:Bezirksliga HSG Riesa/Oschatz II vs VICTORIA Naunhof (11112)
UID:3a41af1b-5808-4a47-a4cd-027e9c7846fa
STATUS:CONFIRMED
LAST-MODIFIED:20180328T220316Z
DESCRIPTION:Bezirksliga Männer\nBegegnungs-Nr: 11112\nHeim: HSG Riesa/Oschatz II\nGast: VICTORIA Naunhof\nHalle: WM-Sporthalle Riesa (33213)\nAdresse: Am Sportzentrum 1\, 01587 Riesa\n
LOCATION:WM-Sporthalle Riesa (33213): Am Sportzentrum 1\, 01587 Riesa
CATEGORIES:Saison 2017/18
END:VEVENT
BEGIN:VEVENT
DTSTAMP:20260420T221335Z
DTSTART;TZID=Europe/Berlin:20180127T160000
DTEND;TZID=Europe/Berlin:20180127T173000
SUMMARY:Bezirksliga HSG Riesa/Oschatz II vs SV Lok Leipzig-M. II (11099)
UID:f52429e0-e731-42ee-871f-1078639a7758
STATUS:CONFIRMED
LAST-MODIFIED:20180328T215907Z
DESCRIPTION:Bezirksliga Männer\nBegegnungs-Nr: 11099\nHeim: HSG Riesa/Oschatz II\nGast: SV Lok Leipzig-M. II\nHalle: Döllnitz-Sporthalle Oschatz (31605)\nAdresse: Am Stadhaus 1\, 04758 Oschatz\n
LOCATION:Döllnitz-Sporthalle Oschatz (31605): Am Stadhaus 1\, 04758 Oschatz
CATEGORIES:Saison 2017/18
END:VEVENT
BEGIN:VEVENT
DTSTAMP:20260420T221335Z
DTSTART;TZID=Europe/Berlin:20180106T150000
DTEND;TZID=Europe/Berlin:20180106T163000
SUMMARY:Bezirksliga VfL Waldheim 54 II vs HSG Riesa/Oschatz II (11079)
UID:0584ddef-fb20-4b96-adf3-dbcb66bacfd6
STATUS:CONFIRMED
LAST-MODIFIED:20180328T215601Z
DESCRIPTION:Bezirksliga Männer\nBegegnungs-Nr: 11079\nHeim: VfL Waldheim 54 II\nGast: HSG Riesa/Oschatz II\nHalle: Stadt-SH Waldheim (31204)\nAdresse: Am Schulberg 3 (Anfahrt zum Parkplatz über die Schönberger Straße)\, 04736 Waldheim\n
LOCATION:Stadt-SH Waldheim (31204): Am Schulberg 3 (Anfahrt zum Parkplatz über die Schönberger Straße)\, 04736 Waldheim
CATEGORIES:Saison 2017/18
END:VEVENT
BEGIN:VEVENT
DTSTAMP:20260420T221335Z
DTSTART;TZID=Europe/Berlin:20171216T160000
DTEND;TZID=Europe/Berlin:20171216T173000
SUMMARY:Bezirksliga HSV Mölkau - Die Haie  vs HSG Riesa/Oschatz II (11077)
UID:334e25d4-e79d-4a2e-8142-69507f4cde27
STATUS:CONFIRMED
LAST-MODIFIED:20180328T215601Z
DESCRIPTION:Bezirksliga Männer\nBegegnungs-Nr: 11077\nHeim: HSV Mölkau - Die Haie \nGast: HSG Riesa/Oschatz II\nHalle: SH Reclam Gymnasium Leipzig-Mitte (31108)\nAdresse: Tarostraße (Zugang über Rewe-Parkplatz)\, 04103 Leipzig\n
LOCATION:SH Reclam Gymnasium Leipzig-Mitte (31108): Tarostraße (Zugang über Rewe-Parkplatz)\, 04103 Leipzig
CATEGORIES:Saison 2017/18
END:VEVENT
BEGIN:VEVENT
DTSTAMP:20260420T221335Z
DTSTART;TZID=Europe/Berlin:20171112T153000
DTEND;TZID=Europe/Berlin:20171112T170000
SUMMARY:Bezirksliga SC DHfK Leipzig II vs HSG Riesa/Oschatz II (11059)
UID:cc087309-a8f2-4f88-ac2b-e0651ea7c57b
STATUS:CONFIRMED
LAST-MODIFIED:20180328T215301Z
DESCRIPTION:Bezirksliga Männer\nBegegnungs-Nr: 11059\nHeim: SC DHfK Leipzig II\nGast: HSG Riesa/Oschatz II\nHalle: SH Rabet Leipzig (31130)\nAdresse: Konradstraße 30\, 04315 Leipzig\n
LOCATION:SH Rabet Leipzig (31130): Konradstraße 30\, 04315 Leipzig
CATEGORIES:Saison 2017/18
END:VEVENT
BEGIN:VEVENT
DTSTAMP:20260420T221335Z
DTSTART;TZID=Europe/Berlin:20171029T183000
DTEND;TZID=Europe/Berlin:20171029T200000
SUMMARY:Bezirksliga Lok Wurzen vs HSG Riesa/Oschatz II (11048)
UID:436fa90a-c562-4841-9a0e-0a40c79d243c
STATUS:CONFIRMED
LAST-MODIFIED:20180328T215202Z
DESCRIPTION:Bezirksliga Männer\nBegegnungs-Nr: 11048\nHeim: Lok Wurzen\nGast: HSG Riesa/Oschatz II\nHalle: Stadt-SH Wurzen (31502)\nAdresse: Friedrich-Ebert-Str. 2 c\, 04808 Wurzen\n
LOCATION:Stadt-SH Wurzen (31502): Friedrich-Ebert-Str. 2 c\, 04808 Wurzen
CATEGORIES:Saison 2017/18
END:VEVENT
BEGIN:VEVENT
DTSTAMP:20260420T221335Z
DTSTART;TZID=Europe/Berlin:20180203T170000
DTEND;TZID=Europe/Berlin:20180203T183000
SUMMARY:Bezirksliga HV Glesien vs HSG Riesa/Oschatz II (11107)
UID:6bd6ec6f-57b0-4180-96b0-86012c541d1d
STATUS:CONFIRMED
LAST-MODIFIED:20180328T220132Z
DESCRIPTION:Bezirksliga Männer\nBegegnungs-Nr: 11107\nHeim: HV Glesien\nGast: HSG Riesa/Oschatz II\nHalle: Sport- und Festhalle Radefeld (31301)\nAdresse: Landsberger Str. 5\, 04435 Schkeuditz / OT Radefeld\n
LOCATION:Sport- und Festhalle Radefeld (31301): Landsberger Str. 5\, 04435 Schkeuditz / OT Radefeld
CATEGORIES:Saison 2017/18
END:VEVENT
BEGIN:VEVENT
DTSTAMP:20260420T221335Z
DTSTART;TZID=Europe/Berlin:20171021T170000
DTEND;TZID=Europe/Berlin:20171021T183000
SUMMARY:Bezirksliga SV Leisnig 90 vs HSG Riesa/Oschatz II (11038)
UID:0c06482a-337c-4ff7-b1bf-479063c408fb
STATUS:CONFIRMED
LAST-MODIFIED:20180328T214843Z
DESCRIPTION:Bezirksliga Männer\nBegegnungs-Nr: 11038\nHeim: SV Leisnig 90\nGast: HSG Riesa/Oschatz II\nHalle: SH Leisnig (31205)\nAdresse: Chemnitzer Str. 101\, 04703 Leisnig\n
LOCATION:SH Leisnig (31205): Chemnitzer Str. 101\, 04703 Leisnig
CATEGORIES:Saison 2017/18
END:VEVENT
BEGIN:VEVENT
DTSTAMP:20260420T221335Z
DTSTART;TZID=Europe/Berlin:20171014T170000
DTEND;TZID=Europe/Berlin:20171014T183000
SUMMARY:Bezirksliga VICTORIA Naunhof vs HSG Riesa/Oschatz II (11033)
UID:149b8a74-f677-4ab0-8c4d-8e4372084092
STATUS:CONFIRMED
LAST-MODIFIED:20180328T214754Z
DESCRIPTION:Bezirksliga Männer\nBegegnungs-Nr: 11033\nHeim: VICTORIA Naunhof\nGast: HSG Riesa/Oschatz II\nHalle: Parthelandhalle Naunhof (31120)\nAdresse: Wiesenstraße 34\, 04683 Naunhof\n
LOCATION:Parthelandhalle Naunhof (31120): Wiesenstraße 34\, 04683 Naunhof
CATEGORIES:Saison 2017/18
END:VEVENT
BEGIN:VEVENT
DTSTAMP:20260420T221335Z
DTSTART;TZID=Europe/Berlin:20170923T173000
DTEND;TZID=Europe/Berlin:20170923T190000
SUMMARY:Bezirksliga SV Lok Leipzig-M. II vs HSG Riesa/Oschatz II (11024)
UID:8e613d25-aa9e-4180-8674-d40a696c4201
STATUS:CONFIRMED
LAST-MODIFIED:20180328T221203Z
DESCRIPTION:Bezirksliga Männer\nBegegnungs-Nr: 11024\nHeim: SV Lok Leipzig-M. II\nGast: HSG Riesa/Oschatz II\nHalle: SH Astrid Lindgren Grundschule Leipzig (31104)\nAdresse: Löbauer Str. 46\, 04347 Leipzig\n
LOCATION:SH Astrid Lindgren Grundschule Leipzig (31104): Löbauer Str. 46\, 04347 Leipzig
CATEGORIES:Saison 2017/18
END:VEVENT
BEGIN:VEVENT
DTSTAMP:20260420T221335Z
DTSTART;TZID=Europe/Berlin:20170909T150000
DTEND;TZID=Europe/Berlin:20170909T163000
SUMMARY:Bezirksliga SG LVB III vs HSG Riesa/Oschatz II (11007)
UID:799f22a1-519d-454e-b155-34247b993533
STATUS:CONFIRMED
LAST-MODIFIED:20180501T181505Z
DESCRIPTION:Bezirksliga Männer\nBegegnungs-Nr: 11007\nHeim: SG LVB III\nGast: HSG Riesa/Oschatz II\nHalle: SH Gymnasium an der Telemannstraße  (31109)\nAdresse: Telemannstraße 9\, 04107 Leipzig\n
LOCATION:SH Gymnasium an der Telemannstraße  (31109): Telemannstraße 9\, 04107 Leipzig
CATEGORIES:Saison 2017/18
END:VEVENT
BEGIN:VEVENT
DTSTAMP:20260420T221335Z
DTSTART;TZID=Europe/Berlin:20180325T154500
DTEND;TZID=Europe/Berlin:20180325T171500
SUMMARY:Bezirksliga VfB Eilenburg vs HSG Riesa/Oschatz II (11144)
UID:8188acc1-3963-4cb3-895a-841c08dbad79
STATUS:CONFIRMED
LAST-MODIFIED:20180403T134821Z
DESCRIPTION:Bezirksliga Männer\nBegegnungs-Nr: 11144\nHeim: VfB Eilenburg\nGast: HSG Riesa/Oschatz II\nHalle: Belian-SH Eilenburg (31307)\nAdresse: Dr.-Belian-Str. 7\, 04838 Eilenburg\n
LOCATION:Belian-SH Eilenburg (31307): Dr.-Belian-Str. 7\, 04838 Eilenburg
CATEGORIES:Saison 2017/18
END:VEVENT
BEGIN:VEVENT
DTSTAMP:20260420T221335Z
DTSTART;TZID=Europe/Berlin:20180311T140000
DTEND;TZID=Europe/Berlin:20180311T153000
SUMMARY:Bezirksliga Leipziger SV Südwest vs HSG Riesa/Oschatz II (11132)
UID:dde20759-c6a7-441b-82e9-7099ac4078b3
STATUS:CONFIRMED
LAST-MODIFIED:20180501T163002Z
DESCRIPTION:Bezirksliga Männer\nBegegnungs-Nr: 11132\nHeim: Leipziger SV Südwest\nGast: HSG Riesa/Oschatz II\nHalle: SH An der Radrennbahn Leipzig (31128)\nAdresse: Windorfer Straße 63\, 04229 Leipzig\n
LOCATION:SH An der Radrennbahn Leipzig (31128): Windorfer Straße 63\, 04229 Leipzig
CATEGORIES:Saison 2017/18
END:VEVENT
BEGIN:VEVENT
DTSTAMP:20260420T221335Z
DTSTART;TZID=Europe/Berlin:20180120T170000
DTEND;TZID=Europe/Berlin:20180120T183000
SUMMARY:Bezirksliga SG MoGoNo vs HSG Riesa/Oschatz II (11093)
UID:bee6f875-9fb4-4133-aaca-d3e3dec15b21
STATUS:CONFIRMED
LAST-MODIFIED:20180328T215907Z
DESCRIPTION:Bezirksliga Männer\nBegegnungs-Nr: 11093\nHeim: SG MoGoNo\nGast: HSG Riesa/Oschatz II\nHalle: SH Kästner-Grundschule Leipzig (31131)\nAdresse: Erfurter Str\, 04155 Leipzig\n
LOCATION:SH Kästner-Grundschule Leipzig (31131): Erfurter Str\, 04155 Leipzig
CATEGORIES:Saison 2017/18
END:VEVENT
END:VCALENDAR
