BEGIN:VCALENDAR
PRODID:-//nuDatenautomaten//framework iCal4j //DE
VERSION:2.0
CALSCALE:GREGORIAN
BEGIN:VTIMEZONE
TZID:Europe/Berlin
LAST-MODIFIED:20260306T231828Z
TZURL:https://www.tzurl.org/zoneinfo/Europe/Berlin
X-LIC-LOCATION:Europe/Berlin
X-PROLEPTIC-TZNAME:LMT
BEGIN:STANDARD
TZNAME:CET
TZOFFSETFROM:+005328
TZOFFSETTO:+0100
DTSTART:18930401T000000
END:STANDARD
BEGIN:DAYLIGHT
TZNAME:CEST
TZOFFSETFROM:+0100
TZOFFSETTO:+0200
DTSTART:19160430T230000
RDATE:19400401T020000
RDATE:19430329T020000
RDATE:19460414T020000
RDATE:19470406T030000
RDATE:19480418T020000
RDATE:19490410T020000
RDATE:19800406T020000
END:DAYLIGHT
BEGIN:STANDARD
TZNAME:CET
TZOFFSETFROM:+0200
TZOFFSETTO:+0100
DTSTART:19161001T010000
RDATE:19421102T030000
RDATE:19431004T030000
RDATE:19441002T030000
RDATE:19451118T030000
RDATE:19461007T030000
END:STANDARD
BEGIN:DAYLIGHT
TZNAME:CEST
TZOFFSETFROM:+0100
TZOFFSETTO:+0200
DTSTART:19170416T020000
RRULE:FREQ=YEARLY;UNTIL=19180415T010000Z;BYMONTH=4;BYDAY=3MO
END:DAYLIGHT
BEGIN:STANDARD
TZNAME:CET
TZOFFSETFROM:+0200
TZOFFSETTO:+0100
DTSTART:19170917T030000
RRULE:FREQ=YEARLY;UNTIL=19180916T010000Z;BYMONTH=9;BYDAY=3MO
END:STANDARD
BEGIN:DAYLIGHT
TZNAME:CEST
TZOFFSETFROM:+0100
TZOFFSETTO:+0200
DTSTART:19440403T020000
RRULE:FREQ=YEARLY;UNTIL=19450402T010000Z;BYMONTH=4;BYDAY=1MO
END:DAYLIGHT
BEGIN:DAYLIGHT
TZNAME:CEMT
TZOFFSETFROM:+0200
TZOFFSETTO:+0300
DTSTART:19450524T020000
RDATE:19470511T030000
END:DAYLIGHT
BEGIN:DAYLIGHT
TZNAME:CEST
TZOFFSETFROM:+0300
TZOFFSETTO:+0200
DTSTART:19450924T030000
RDATE:19470629T030000
END:DAYLIGHT
BEGIN:STANDARD
TZNAME:CET
TZOFFSETFROM:+0100
TZOFFSETTO:+0100
DTSTART:19460101T000000
RDATE:19800101T000000
END:STANDARD
BEGIN:STANDARD
TZNAME:CET
TZOFFSETFROM:+0200
TZOFFSETTO:+0100
DTSTART:19471005T030000
RRULE:FREQ=YEARLY;UNTIL=19491002T010000Z;BYMONTH=10;BYDAY=1SU
END:STANDARD
BEGIN:STANDARD
TZNAME:CET
TZOFFSETFROM:+0200
TZOFFSETTO:+0100
DTSTART:19800928T030000
RRULE:FREQ=YEARLY;UNTIL=19950924T010000Z;BYMONTH=9;BYDAY=-1SU
END:STANDARD
BEGIN:DAYLIGHT
TZNAME:CEST
TZOFFSETFROM:+0100
TZOFFSETTO:+0200
DTSTART:19810329T020000
RRULE:FREQ=YEARLY;BYMONTH=3;BYDAY=-1SU
END:DAYLIGHT
BEGIN:STANDARD
TZNAME:CET
TZOFFSETFROM:+0200
TZOFFSETTO:+0100
DTSTART:19961027T030000
RRULE:FREQ=YEARLY;BYMONTH=10;BYDAY=-1SU
END:STANDARD
END:VTIMEZONE
BEGIN:VEVENT
DTSTAMP:20260425T034421Z
DTSTART;TZID=Europe/Berlin:20180930T100000
DTEND;TZID=Europe/Berlin:20180930T110000
SUMMARY:Vorrunde Gruppe A Leipziger SV Südwest vs Lok Wurzen (17011)
UID:fea50497-8488-46b9-a2dd-51478d1845c6
STATUS:CONFIRMED
LAST-MODIFIED:20181007T202611Z
DESCRIPTION:Bezirksliga männl. C-Jugend - Vorrunde Gruppe A\nBegegnungs-Nr: 17011\nHeim: Leipziger SV Südwest\nGast: Lok Wurzen\nHalle: SH An der Radrennbahn Leipzig (31128)\nAdresse: Windorfer Straße 63\, 04229 Leipzig\n
LOCATION:SH An der Radrennbahn Leipzig (31128): Windorfer Straße 63\, 04229 Leipzig
CATEGORIES:Saison 2018/19
END:VEVENT
BEGIN:VEVENT
DTSTAMP:20260425T034421Z
DTSTART;TZID=Europe/Berlin:20190331T100000
DTEND;TZID=Europe/Berlin:20190331T110000
SUMMARY:Hauptrunde Platz 8-12 Leipziger SV Südwest vs Lok Wurzen (17095)
UID:cc599dcc-eb66-4f35-ba3b-d7f12fdf7b99
STATUS:CONFIRMED
LAST-MODIFIED:20190402T200403Z
DESCRIPTION:Bezirksliga männl. C-Jugend - Hauptrunde Platz 8-12\nBegegnungs-Nr: 17095\nHeim: Leipziger SV Südwest\nGast: Lok Wurzen\nHalle: SH An der Radrennbahn Leipzig (31128)\nAdresse: Windorfer Straße 63\, 04229 Leipzig\n
LOCATION:SH An der Radrennbahn Leipzig (31128): Windorfer Straße 63\, 04229 Leipzig
CATEGORIES:Saison 2018/19
END:VEVENT
BEGIN:VEVENT
DTSTAMP:20260425T034421Z
DTSTART;TZID=Europe/Berlin:20190127T100000
DTEND;TZID=Europe/Berlin:20190127T110000
SUMMARY:Hauptrunde Platz 8-12 Leipziger SV Südwest vs TuS Leipzig-Mockau (17086)
UID:1ad49989-45ed-43d2-bef5-735eb8f9bd96
STATUS:CONFIRMED
LAST-MODIFIED:20190128T141735Z
DESCRIPTION:Bezirksliga männl. C-Jugend - Hauptrunde Platz 8-12\nBegegnungs-Nr: 17086\nHeim: Leipziger SV Südwest\nGast: TuS Leipzig-Mockau\nHalle: SH An der Radrennbahn Leipzig (31128)\nAdresse: Windorfer Straße 63\, 04229 Leipzig\n
LOCATION:SH An der Radrennbahn Leipzig (31128): Windorfer Straße 63\, 04229 Leipzig
CATEGORIES:Saison 2018/19
END:VEVENT
BEGIN:VEVENT
DTSTAMP:20260425T034421Z
DTSTART;TZID=Europe/Berlin:20190309T110000
DTEND;TZID=Europe/Berlin:20190309T120000
SUMMARY:Hauptrunde Platz 8-12 Leipziger SV Südwest vs Germania Zwenkau (17091)
UID:a50c6ac0-cd0a-447f-b93a-d65e3bef52db
STATUS:CONFIRMED
LAST-MODIFIED:20190310T032029Z
DESCRIPTION:Bezirksliga männl. C-Jugend - Hauptrunde Platz 8-12\nBegegnungs-Nr: 17091\nHeim: Leipziger SV Südwest\nGast: Germania Zwenkau\nHalle: SH An der Radrennbahn Leipzig (31128)\nAdresse: Windorfer Straße 63\, 04229 Leipzig\n
LOCATION:SH An der Radrennbahn Leipzig (31128): Windorfer Straße 63\, 04229 Leipzig
CATEGORIES:Saison 2018/19
END:VEVENT
BEGIN:VEVENT
DTSTAMP:20260425T034421Z
DTSTART;TZID=Europe/Berlin:20181118T120000
DTEND;TZID=Europe/Berlin:20181118T130000
SUMMARY:Hauptrunde Platz 8-12 Leipziger SV Südwest vs VICTORIA Naunhof (17079)
UID:9483835f-c7dc-4ff0-8c71-d93b756b3aa7
STATUS:CONFIRMED
LAST-MODIFIED:20181120T212552Z
DESCRIPTION:Bezirksliga männl. C-Jugend - Hauptrunde Platz 8-12\nBegegnungs-Nr: 17079\nHeim: Leipziger SV Südwest\nGast: VICTORIA Naunhof\nHalle: SH An der Radrennbahn Leipzig (31128)\nAdresse: Windorfer Straße 63\, 04229 Leipzig\n
LOCATION:SH An der Radrennbahn Leipzig (31128): Windorfer Straße 63\, 04229 Leipzig
CATEGORIES:Saison 2018/19
END:VEVENT
BEGIN:VEVENT
DTSTAMP:20260425T034421Z
DTSTART;TZID=Europe/Berlin:20180902T100000
DTEND;TZID=Europe/Berlin:20180902T110000
SUMMARY:Vorrunde Gruppe A Leipziger SV Südwest vs SG MoGoNo II (17002)
UID:04bf5871-00a4-4127-a219-23a927537984
STATUS:CONFIRMED
LAST-MODIFIED:20180904T171842Z
DESCRIPTION:Bezirksliga männl. C-Jugend - Vorrunde Gruppe A\nBegegnungs-Nr: 17002\nHeim: Leipziger SV Südwest\nGast: SG MoGoNo II\nHalle: SH An der Radrennbahn Leipzig (31128)\nAdresse: Windorfer Straße 63\, 04229 Leipzig\n
LOCATION:SH An der Radrennbahn Leipzig (31128): Windorfer Straße 63\, 04229 Leipzig
CATEGORIES:Saison 2018/19
END:VEVENT
BEGIN:VEVENT
DTSTAMP:20260425T034421Z
DTSTART;TZID=Europe/Berlin:20181027T113000
DTEND;TZID=Europe/Berlin:20181027T123000
SUMMARY:Vorrunde Gruppe A Leipziger SV Südwest vs NHV Concordia Delitzsch (17017)
UID:7da5b549-5fbb-4863-a099-c599c6b9da73
STATUS:CONFIRMED
LAST-MODIFIED:20181028T213005Z
DESCRIPTION:Bezirksliga männl. C-Jugend - Vorrunde Gruppe A\nBegegnungs-Nr: 17017\nHeim: Leipziger SV Südwest\nGast: NHV Concordia Delitzsch\nHalle: SH An der Radrennbahn Leipzig (31128)\nAdresse: Windorfer Straße 63\, 04229 Leipzig\n
LOCATION:SH An der Radrennbahn Leipzig (31128): Windorfer Straße 63\, 04229 Leipzig
CATEGORIES:Saison 2018/19
END:VEVENT
BEGIN:VEVENT
DTSTAMP:20260425T034421Z
DTSTART;TZID=Europe/Berlin:20181125T140000
DTEND;TZID=Europe/Berlin:20181125T150000
SUMMARY:Hauptrunde Platz 8-12 Germania Zwenkau vs Leipziger SV Südwest (17081)
UID:01c7a10f-aa95-4ced-987d-a010668f70b6
STATUS:CONFIRMED
LAST-MODIFIED:20181127T124318Z
DESCRIPTION:Bezirksliga männl. C-Jugend - Hauptrunde Platz 8-12\nBegegnungs-Nr: 17081\nHeim: Germania Zwenkau\nGast: Leipziger SV Südwest\nHalle: Stadthalle Zwenkau (31113)\nAdresse: Heinrich-Mann-Weg 17\, 04442 Zwenkau\n
LOCATION:Stadthalle Zwenkau (31113): Heinrich-Mann-Weg 17\, 04442 Zwenkau
CATEGORIES:Saison 2018/19
END:VEVENT
BEGIN:VEVENT
DTSTAMP:20260425T034421Z
DTSTART;TZID=Europe/Berlin:20181215T110000
DTEND;TZID=Europe/Berlin:20181215T120000
SUMMARY:Hauptrunde Platz 8-12 Lok Wurzen vs Leipziger SV Südwest (17085)
UID:25bd1558-d90d-4ed7-a53c-5ec3db869943
STATUS:CONFIRMED
LAST-MODIFIED:20181217T094913Z
DESCRIPTION:Bezirksliga männl. C-Jugend - Hauptrunde Platz 8-12\nBegegnungs-Nr: 17085\nHeim: Lok Wurzen\nGast: Leipziger SV Südwest\nHalle: Stadt-SH Wurzen (31502)\nAdresse: Friedrich-Ebert-Str. 2 c\, 04808 Wurzen\n
LOCATION:Stadt-SH Wurzen (31502): Friedrich-Ebert-Str. 2 c\, 04808 Wurzen
CATEGORIES:Saison 2018/19
END:VEVENT
BEGIN:VEVENT
DTSTAMP:20260425T034421Z
DTSTART;TZID=Europe/Berlin:20190406T094500
DTEND;TZID=Europe/Berlin:20190406T104500
SUMMARY:Hauptrunde Platz 8-12 TuS Leipzig-Mockau vs Leipziger SV Südwest (17096)
UID:08e36b51-48d4-489b-962b-6987cd4824bf
STATUS:CONFIRMED
LAST-MODIFIED:20190406T190335Z
DESCRIPTION:Bezirksliga männl. C-Jugend - Hauptrunde Platz 8-12\nBegegnungs-Nr: 17096\nHeim: TuS Leipzig-Mockau\nGast: Leipziger SV Südwest\nHalle: Rosenow-SH Leipzig (31124)\nAdresse: Rosenowstraße 60\, 04357 Leipzig\n
LOCATION:Rosenow-SH Leipzig (31124): Rosenowstraße 60\, 04357 Leipzig
CATEGORIES:Saison 2018/19
END:VEVENT
BEGIN:VEVENT
DTSTAMP:20260425T034421Z
DTSTART;TZID=Europe/Berlin:20190209T133000
DTEND;TZID=Europe/Berlin:20190209T143000
SUMMARY:Hauptrunde Platz 8-12 VICTORIA Naunhof vs Leipziger SV Südwest (17089)
UID:af59274c-8294-44d9-9e12-7fe6792f4af4
STATUS:CONFIRMED
LAST-MODIFIED:20190210T112206Z
DESCRIPTION:Bezirksliga männl. C-Jugend - Hauptrunde Platz 8-12\nBegegnungs-Nr: 17089\nHeim: VICTORIA Naunhof\nGast: Leipziger SV Südwest\nHalle: Parthelandhalle Naunhof (31120)\nAdresse: Wiesenstraße 34\, 04683 Naunhof\n
LOCATION:Parthelandhalle Naunhof (31120): Wiesenstraße 34\, 04683 Naunhof
CATEGORIES:Saison 2018/19
END:VEVENT
BEGIN:VEVENT
DTSTAMP:20260425T034421Z
DTSTART;TZID=Europe/Berlin:20180922T110000
DTEND;TZID=Europe/Berlin:20180922T120000
SUMMARY:Vorrunde Gruppe A TuS Leipzig-Mockau vs Leipziger SV Südwest (17008)
UID:afd54e40-cf79-401f-b74e-b1be7a4cfc21
STATUS:CONFIRMED
LAST-MODIFIED:20180923T071843Z
DESCRIPTION:Bezirksliga männl. C-Jugend - Vorrunde Gruppe A\nBegegnungs-Nr: 17008\nHeim: TuS Leipzig-Mockau\nGast: Leipziger SV Südwest\nHalle: Rosenow-SH Leipzig (31124)\nAdresse: Rosenowstraße 60\, 04357 Leipzig\n
LOCATION:Rosenow-SH Leipzig (31124): Rosenowstraße 60\, 04357 Leipzig
CATEGORIES:Saison 2018/19
END:VEVENT
BEGIN:VEVENT
DTSTAMP:20260425T034421Z
DTSTART;TZID=Europe/Berlin:20181103T123000
DTEND;TZID=Europe/Berlin:20181103T133000
SUMMARY:Vorrunde Gruppe A HSV Mölkau - Die Haie  vs Leipziger SV Südwest (17019)
UID:1cf99946-82ec-4748-b8ab-d990d1531f8b
STATUS:CONFIRMED
LAST-MODIFIED:20181104T213819Z
DESCRIPTION:Bezirksliga männl. C-Jugend - Vorrunde Gruppe A\nBegegnungs-Nr: 17019\nHeim: HSV Mölkau - Die Haie \nGast: Leipziger SV Südwest\nHalle: SH Oberschule Leipzig-Mölkau (31106)\nAdresse: Schulstr. 6\, 04316 Leipzig\n
LOCATION:SH Oberschule Leipzig-Mölkau (31106): Schulstr. 6\, 04316 Leipzig
CATEGORIES:Saison 2018/19
END:VEVENT
BEGIN:VEVENT
DTSTAMP:20260425T034421Z
DTSTART;TZID=Europe/Berlin:20181006T150000
DTEND;TZID=Europe/Berlin:20181006T160000
SUMMARY:Vorrunde Gruppe A VfB Torgau vs Leipziger SV Südwest (17015)
UID:3ddf40ca-1b56-4786-8f17-743b577a2fa1
STATUS:CONFIRMED
LAST-MODIFIED:20181108T143122Z
DESCRIPTION:Bezirksliga männl. C-Jugend - Vorrunde Gruppe A\nBegegnungs-Nr: 17015\nHeim: VfB Torgau\nGast: Leipziger SV Südwest\nHalle: SH Am Wasserturm Torgau (31602)\nAdresse: Dahlener Str. 11 a\, 04860 Torgau\n
LOCATION:SH Am Wasserturm Torgau (31602): Dahlener Str. 11 a\, 04860 Torgau
CATEGORIES:Saison 2018/19
END:VEVENT
END:VCALENDAR
