BEGIN:VCALENDAR
PRODID:-//nuDatenautomaten//framework iCal4j //DE
VERSION:2.0
CALSCALE:GREGORIAN
BEGIN:VTIMEZONE
TZID:Europe/Berlin
LAST-MODIFIED:20260306T231828Z
TZURL:https://www.tzurl.org/zoneinfo/Europe/Berlin
X-LIC-LOCATION:Europe/Berlin
X-PROLEPTIC-TZNAME:LMT
BEGIN:STANDARD
TZNAME:CET
TZOFFSETFROM:+005328
TZOFFSETTO:+0100
DTSTART:18930401T000000
END:STANDARD
BEGIN:DAYLIGHT
TZNAME:CEST
TZOFFSETFROM:+0100
TZOFFSETTO:+0200
DTSTART:19160430T230000
RDATE:19400401T020000
RDATE:19430329T020000
RDATE:19460414T020000
RDATE:19470406T030000
RDATE:19480418T020000
RDATE:19490410T020000
RDATE:19800406T020000
END:DAYLIGHT
BEGIN:STANDARD
TZNAME:CET
TZOFFSETFROM:+0200
TZOFFSETTO:+0100
DTSTART:19161001T010000
RDATE:19421102T030000
RDATE:19431004T030000
RDATE:19441002T030000
RDATE:19451118T030000
RDATE:19461007T030000
END:STANDARD
BEGIN:DAYLIGHT
TZNAME:CEST
TZOFFSETFROM:+0100
TZOFFSETTO:+0200
DTSTART:19170416T020000
RRULE:FREQ=YEARLY;UNTIL=19180415T010000Z;BYMONTH=4;BYDAY=3MO
END:DAYLIGHT
BEGIN:STANDARD
TZNAME:CET
TZOFFSETFROM:+0200
TZOFFSETTO:+0100
DTSTART:19170917T030000
RRULE:FREQ=YEARLY;UNTIL=19180916T010000Z;BYMONTH=9;BYDAY=3MO
END:STANDARD
BEGIN:DAYLIGHT
TZNAME:CEST
TZOFFSETFROM:+0100
TZOFFSETTO:+0200
DTSTART:19440403T020000
RRULE:FREQ=YEARLY;UNTIL=19450402T010000Z;BYMONTH=4;BYDAY=1MO
END:DAYLIGHT
BEGIN:DAYLIGHT
TZNAME:CEMT
TZOFFSETFROM:+0200
TZOFFSETTO:+0300
DTSTART:19450524T020000
RDATE:19470511T030000
END:DAYLIGHT
BEGIN:DAYLIGHT
TZNAME:CEST
TZOFFSETFROM:+0300
TZOFFSETTO:+0200
DTSTART:19450924T030000
RDATE:19470629T030000
END:DAYLIGHT
BEGIN:STANDARD
TZNAME:CET
TZOFFSETFROM:+0100
TZOFFSETTO:+0100
DTSTART:19460101T000000
RDATE:19800101T000000
END:STANDARD
BEGIN:STANDARD
TZNAME:CET
TZOFFSETFROM:+0200
TZOFFSETTO:+0100
DTSTART:19471005T030000
RRULE:FREQ=YEARLY;UNTIL=19491002T010000Z;BYMONTH=10;BYDAY=1SU
END:STANDARD
BEGIN:STANDARD
TZNAME:CET
TZOFFSETFROM:+0200
TZOFFSETTO:+0100
DTSTART:19800928T030000
RRULE:FREQ=YEARLY;UNTIL=19950924T010000Z;BYMONTH=9;BYDAY=-1SU
END:STANDARD
BEGIN:DAYLIGHT
TZNAME:CEST
TZOFFSETFROM:+0100
TZOFFSETTO:+0200
DTSTART:19810329T020000
RRULE:FREQ=YEARLY;BYMONTH=3;BYDAY=-1SU
END:DAYLIGHT
BEGIN:STANDARD
TZNAME:CET
TZOFFSETFROM:+0200
TZOFFSETTO:+0100
DTSTART:19961027T030000
RRULE:FREQ=YEARLY;BYMONTH=10;BYDAY=-1SU
END:STANDARD
END:VTIMEZONE
BEGIN:VEVENT
DTSTAMP:20260421T125733Z
DTSTART;TZID=Europe/Berlin:20181201T190000
DTEND;TZID=Europe/Berlin:20181201T203000
SUMMARY:Sachsenliga (SLF) Radeberger SV vs BSV Sa. Zwickau II (1062)
UID:f2b106f8-443d-4680-b0b0-107d2016369d
STATUS:CONFIRMED
LAST-MODIFIED:20190201T175430Z
DESCRIPTION:Sachsenliga Frauen\nBegegnungs-Nr: 1062\nHeim: Radeberger SV\nGast: BSV Sa. Zwickau II\nHalle: 3-Feld-Halle-BSZ Radeberg (34209)\nAdresse: Robert-Blum-Weg 5\, 01454 Radeberg\n
LOCATION:3-Feld-Halle-BSZ Radeberg (34209): Robert-Blum-Weg 5\, 01454 Radeberg
CATEGORIES:Saison 2018/19
END:VEVENT
BEGIN:VEVENT
DTSTAMP:20260421T125733Z
DTSTART;TZID=Europe/Berlin:20181027T190000
DTEND;TZID=Europe/Berlin:20181027T203000
SUMMARY:Sachsenliga (SLF) Radeberger SV vs HSV Marienberg (1031)
UID:158c8dc8-54ca-4dfe-8076-e73f050aa716
STATUS:CONFIRMED
LAST-MODIFIED:20181113T150201Z
DESCRIPTION:Sachsenliga Frauen\nBegegnungs-Nr: 1031\nHeim: Radeberger SV\nGast: HSV Marienberg\nHalle: 3-Feld-Halle-BSZ Radeberg (34209)\nAdresse: Robert-Blum-Weg 5\, 01454 Radeberg\n
LOCATION:3-Feld-Halle-BSZ Radeberg (34209): Robert-Blum-Weg 5\, 01454 Radeberg
CATEGORIES:Saison 2018/19
END:VEVENT
BEGIN:VEVENT
DTSTAMP:20260421T125733Z
DTSTART;TZID=Europe/Berlin:20181117T190000
DTEND;TZID=Europe/Berlin:20181117T203000
SUMMARY:Sachsenliga (SLF) Radeberger SV vs HSG Neudorf/Döbeln (1051)
UID:73ed6ce3-24c4-42c3-b363-275aedfac152
STATUS:CONFIRMED
LAST-MODIFIED:20190201T174736Z
DESCRIPTION:Sachsenliga Frauen\nBegegnungs-Nr: 1051\nHeim: Radeberger SV\nGast: HSG Neudorf/Döbeln\nHalle: 3-Feld-Halle-BSZ Radeberg (34209)\nAdresse: Robert-Blum-Weg 5\, 01454 Radeberg\n
LOCATION:3-Feld-Halle-BSZ Radeberg (34209): Robert-Blum-Weg 5\, 01454 Radeberg
CATEGORIES:Saison 2018/19
END:VEVENT
BEGIN:VEVENT
DTSTAMP:20260421T125733Z
DTSTART;TZID=Europe/Berlin:20190413T190000
DTEND;TZID=Europe/Berlin:20190413T203000
SUMMARY:Sachsenliga (SLF) Radeberger SV vs SV Schneeberg (1125)
UID:adabfe7f-404e-4837-a5f3-17aaea09b63a
STATUS:CONFIRMED
LAST-MODIFIED:20190423T063553Z
DESCRIPTION:Sachsenliga Frauen\nBegegnungs-Nr: 1125\nHeim: Radeberger SV\nGast: SV Schneeberg\nHalle: 3-Feld-Halle-BSZ Radeberg (34209)\nAdresse: Robert-Blum-Weg 5\, 01454 Radeberg\n
LOCATION:3-Feld-Halle-BSZ Radeberg (34209): Robert-Blum-Weg 5\, 01454 Radeberg
CATEGORIES:Saison 2018/19
END:VEVENT
BEGIN:VEVENT
DTSTAMP:20260421T125733Z
DTSTART;TZID=Europe/Berlin:20180922T190000
DTEND;TZID=Europe/Berlin:20180922T203000
SUMMARY:Sachsenliga (SLF) Radeberger SV vs SV 04 Plauen-O. (1016)
UID:697ab667-e605-45e4-ac71-d51878d89a43
STATUS:CONFIRMED
LAST-MODIFIED:20190201T173544Z
DESCRIPTION:Sachsenliga Frauen\nBegegnungs-Nr: 1016\nHeim: Radeberger SV\nGast: SV 04 Plauen-O.\nHalle: 3-Feld-Halle-BSZ Radeberg (34209)\nAdresse: Robert-Blum-Weg 5\, 01454 Radeberg\n
LOCATION:3-Feld-Halle-BSZ Radeberg (34209): Robert-Blum-Weg 5\, 01454 Radeberg
CATEGORIES:Saison 2018/19
END:VEVENT
BEGIN:VEVENT
DTSTAMP:20260421T125733Z
DTSTART;TZID=Europe/Berlin:20181103T190000
DTEND;TZID=Europe/Berlin:20181103T203000
SUMMARY:Sachsenliga (SLF) Radeberger SV vs Rotation Weißenborn (1037)
UID:61ce1a74-d1ab-4a6c-a73d-c360c0090020
STATUS:CONFIRMED
LAST-MODIFIED:20190201T174027Z
DESCRIPTION:Sachsenliga Frauen\nBegegnungs-Nr: 1037\nHeim: Radeberger SV\nGast: Rotation Weißenborn\nHalle: 3-Feld-Halle-BSZ Radeberg (34209)\nAdresse: Robert-Blum-Weg 5\, 01454 Radeberg\n
LOCATION:3-Feld-Halle-BSZ Radeberg (34209): Robert-Blum-Weg 5\, 01454 Radeberg
CATEGORIES:Saison 2018/19
END:VEVENT
BEGIN:VEVENT
DTSTAMP:20260421T125733Z
DTSTART;TZID=Europe/Berlin:20181208T190000
DTEND;TZID=Europe/Berlin:20181208T203000
SUMMARY:Sachsenliga (SLF) Radeberger SV vs USV TU Dresden (1068)
UID:794764cb-6cfd-4c3d-933b-53c777fd787d
STATUS:CONFIRMED
LAST-MODIFIED:20190201T175808Z
DESCRIPTION:Sachsenliga Frauen\nBegegnungs-Nr: 1068\nHeim: Radeberger SV\nGast: USV TU Dresden\nHalle: 3-Feld-Halle-BSZ Radeberg (34209)\nAdresse: Robert-Blum-Weg 5\, 01454 Radeberg\n
LOCATION:3-Feld-Halle-BSZ Radeberg (34209): Robert-Blum-Weg 5\, 01454 Radeberg
CATEGORIES:Saison 2018/19
END:VEVENT
BEGIN:VEVENT
DTSTAMP:20260421T125733Z
DTSTART;TZID=Europe/Berlin:20190330T190000
DTEND;TZID=Europe/Berlin:20190330T203000
SUMMARY:Sachsenliga (SLF) Radeberger SV vs HV Chemnitz II (1112)
UID:9acafdcd-fedf-452f-a4c0-5014245a2383
STATUS:CONFIRMED
LAST-MODIFIED:20190411T091457Z
DESCRIPTION:Sachsenliga Frauen\nBegegnungs-Nr: 1112\nHeim: Radeberger SV\nGast: HV Chemnitz II\nHalle: 3-Feld-Halle-BSZ Radeberg (34209)\nAdresse: Robert-Blum-Weg 5\, 01454 Radeberg\n
LOCATION:3-Feld-Halle-BSZ Radeberg (34209): Robert-Blum-Weg 5\, 01454 Radeberg
CATEGORIES:Saison 2018/19
END:VEVENT
BEGIN:VEVENT
DTSTAMP:20260421T125733Z
DTSTART;TZID=Europe/Berlin:20180908T190000
DTEND;TZID=Europe/Berlin:20180908T203000
SUMMARY:Sachsenliga (SLF) Radeberger SV vs HC Leipzig II (1008)
UID:5418b3a3-4418-4511-8f4b-9d62bbe58fd5
STATUS:CONFIRMED
LAST-MODIFIED:20181101T093735Z
DESCRIPTION:Sachsenliga Frauen\nBegegnungs-Nr: 1008\nHeim: Radeberger SV\nGast: HC Leipzig II\nHalle: 3-Feld-Halle-BSZ Radeberg (34209)\nAdresse: Robert-Blum-Weg 5\, 01454 Radeberg\n
LOCATION:3-Feld-Halle-BSZ Radeberg (34209): Robert-Blum-Weg 5\, 01454 Radeberg
CATEGORIES:Saison 2018/19
END:VEVENT
BEGIN:VEVENT
DTSTAMP:20260421T125733Z
DTSTART;TZID=Europe/Berlin:20190216T190000
DTEND;TZID=Europe/Berlin:20190216T203000
SUMMARY:Sachsenliga (SLF) Radeberger SV vs HC Rödertal  II (1092)
UID:2d55eed5-397a-4a21-83c9-30c3534e7cb8
STATUS:CONFIRMED
LAST-MODIFIED:20190217T094433Z
DESCRIPTION:Sachsenliga Frauen\nBegegnungs-Nr: 1092\nHeim: Radeberger SV\nGast: HC Rödertal  II\nHalle: 3-Feld-Halle-BSZ Radeberg (34209)\nAdresse: Robert-Blum-Weg 5\, 01454 Radeberg\n
LOCATION:3-Feld-Halle-BSZ Radeberg (34209): Robert-Blum-Weg 5\, 01454 Radeberg
CATEGORIES:Saison 2018/19
END:VEVENT
BEGIN:VEVENT
DTSTAMP:20260421T125733Z
DTSTART;TZID=Europe/Berlin:20190202T190000
DTEND;TZID=Europe/Berlin:20190202T203000
SUMMARY:Sachsenliga (SLF) Radeberger SV vs SC Markranstädt II (1080)
UID:eb7aeb49-3049-4489-843d-a29bbf75b4f8
STATUS:CONFIRMED
LAST-MODIFIED:20190212T165940Z
DESCRIPTION:Sachsenliga Frauen\nBegegnungs-Nr: 1080\nHeim: Radeberger SV\nGast: SC Markranstädt II\nHalle: 3-Feld-Halle-BSZ Radeberg (34209)\nAdresse: Robert-Blum-Weg 5\, 01454 Radeberg\n
LOCATION:3-Feld-Halle-BSZ Radeberg (34209): Robert-Blum-Weg 5\, 01454 Radeberg
CATEGORIES:Saison 2018/19
END:VEVENT
BEGIN:VEVENT
DTSTAMP:20260421T125733Z
DTSTART;TZID=Europe/Berlin:20181124T193000
DTEND;TZID=Europe/Berlin:20181124T210000
SUMMARY:Sachsenliga (SLF) SV Schneeberg vs Radeberger SV (1057)
UID:b149a1a6-bc51-4b11-abb3-4373d68d3999
STATUS:CONFIRMED
LAST-MODIFIED:20190201T175117Z
DESCRIPTION:Sachsenliga Frauen\nBegegnungs-Nr: 1057\nHeim: SV Schneeberg\nGast: Radeberger SV\nHalle: Silberstrom-Halle Schneeberg (32307)\nAdresse: Keilbergring 20\, 08289 Schneeberg\n
LOCATION:Silberstrom-Halle Schneeberg (32307): Keilbergring 20\, 08289 Schneeberg
CATEGORIES:Saison 2018/19
END:VEVENT
BEGIN:VEVENT
DTSTAMP:20260421T125733Z
DTSTART;TZID=Europe/Berlin:20181128T183000
DTEND;TZID=Europe/Berlin:20181128T200000
SUMMARY:Sachsenliga (SLF) SC Markranstädt II vs Radeberger SV (1014)
UID:d32f2ec1-0cb9-4a21-9093-286da7cdf592
STATUS:CONFIRMED
LAST-MODIFIED:20190201T175243Z
DESCRIPTION:Sachsenliga Frauen\nBegegnungs-Nr: 1014\nHeim: SC Markranstädt II\nGast: Radeberger SV\nHalle: Sportcenter Markranstädt (31127)\nAdresse: Leipziger Str. 47\, 04420 Markranstädt\n
LOCATION:Sportcenter Markranstädt (31127): Leipziger Str. 47\, 04420 Markranstädt
CATEGORIES:Saison 2018/19
END:VEVENT
BEGIN:VEVENT
DTSTAMP:20260421T125733Z
DTSTART;TZID=Europe/Berlin:20181111T140000
DTEND;TZID=Europe/Berlin:20181111T153000
SUMMARY:Sachsenliga (SLF) HV Chemnitz II vs Radeberger SV (1045)
UID:2aa32e05-942b-4f95-af62-59cc3c9dc9de
STATUS:CONFIRMED
LAST-MODIFIED:20190201T174211Z
DESCRIPTION:Sachsenliga Frauen\nBegegnungs-Nr: 1045\nHeim: HV Chemnitz II\nGast: Radeberger SV\nHalle: Sachsenhalle Chemnitz (32101)\nAdresse: Straße Usti nad Labem 275\, 09119 Chemnitz\n
LOCATION:Sachsenhalle Chemnitz (32101): Straße Usti nad Labem 275\, 09119 Chemnitz
CATEGORIES:Saison 2018/19
END:VEVENT
BEGIN:VEVENT
DTSTAMP:20260421T125733Z
DTSTART;TZID=Europe/Berlin:20190407T160000
DTEND;TZID=Europe/Berlin:20190407T173000
SUMMARY:Sachsenliga (SLF) HSG Neudorf/Döbeln vs Radeberger SV (1120)
UID:768928d4-17bd-42ed-9c75-4fa30b15264a
STATUS:CONFIRMED
LAST-MODIFIED:20190411T093333Z
DESCRIPTION:Sachsenliga Frauen\nBegegnungs-Nr: 1120\nHeim: HSG Neudorf/Döbeln\nGast: Radeberger SV\nHalle: Stadt-SH Döbeln (31202)\nAdresse: Str. des Friedens 9\, 04720 Döbeln\n
LOCATION:Stadt-SH Döbeln (31202): Str. des Friedens 9\, 04720 Döbeln
CATEGORIES:Saison 2018/19
END:VEVENT
BEGIN:VEVENT
DTSTAMP:20260421T125733Z
DTSTART;TZID=Europe/Berlin:20180930T160000
DTEND;TZID=Europe/Berlin:20180930T173000
SUMMARY:Sachsenliga (SLF) HC Rödertal  II vs Radeberger SV (1025)
UID:1ed839e9-b8ad-4aba-a61f-60f7abd0d951
STATUS:CONFIRMED
LAST-MODIFIED:20181101T125127Z
DESCRIPTION:Sachsenliga Frauen\nBegegnungs-Nr: 1025\nHeim: HC Rödertal  II\nGast: Radeberger SV\nHalle: 3-Feld-Halle-GY Großröhrsdorf (34514)\nAdresse: Melanchthonstraße 21\, 01900  Großröhrsdorf\n
LOCATION:3-Feld-Halle-GY Großröhrsdorf (34514): Melanchthonstraße 21\, 01900  Großröhrsdorf
CATEGORIES:Saison 2018/19
END:VEVENT
BEGIN:VEVENT
DTSTAMP:20260421T125733Z
DTSTART;TZID=Europe/Berlin:20190309T173000
DTEND;TZID=Europe/Berlin:20190309T190000
SUMMARY:Sachsenliga (SLF) HSV Marienberg vs Radeberger SV (1101)
UID:408c3ad0-9658-484b-a42a-eb99a54f9601
STATUS:CONFIRMED
LAST-MODIFIED:20190311T075928Z
DESCRIPTION:Sachsenliga Frauen\nBegegnungs-Nr: 1101\nHeim: HSV Marienberg\nGast: Radeberger SV\nHalle: SH am Goldkindstein Marienberg (32416)\nAdresse: Dr.-Wilhelm-Külz-Allee 23\, 09496 Marienberg\n
LOCATION:SH am Goldkindstein Marienberg (32416): Dr.-Wilhelm-Külz-Allee 23\, 09496 Marienberg
CATEGORIES:Saison 2018/19
END:VEVENT
BEGIN:VEVENT
DTSTAMP:20260421T125733Z
DTSTART;TZID=Europe/Berlin:20190209T140000
DTEND;TZID=Europe/Berlin:20190209T153000
SUMMARY:Sachsenliga (SLF) SV 04 Plauen-O. vs Radeberger SV (1085)
UID:ca208815-fda6-49f0-88e8-0d29f5c69ef3
STATUS:CONFIRMED
LAST-MODIFIED:20190212T171734Z
DESCRIPTION:Sachsenliga Frauen\nBegegnungs-Nr: 1085\nHeim: SV 04 Plauen-O.\nGast: Radeberger SV\nHalle: SH Kurt-Helbig Plauen (32701)\nAdresse: Comeniusstr. 15\, 08523 Plauen\n
LOCATION:SH Kurt-Helbig Plauen (32701): Comeniusstr. 15\, 08523 Plauen
CATEGORIES:Saison 2018/19
END:VEVENT
BEGIN:VEVENT
DTSTAMP:20260421T125733Z
DTSTART;TZID=Europe/Berlin:20190316T160000
DTEND;TZID=Europe/Berlin:20190316T173000
SUMMARY:Sachsenliga (SLF) Rotation Weißenborn vs Radeberger SV (1104)
UID:abb4893b-96a9-4017-82ea-5f2ed9748b13
STATUS:CONFIRMED
LAST-MODIFIED:20190328T135950Z
DESCRIPTION:Sachsenliga Frauen\nBegegnungs-Nr: 1104\nHeim: Rotation Weißenborn\nGast: Radeberger SV\nHalle: SH Schoeller Weißenborn (32415)\nAdresse: Lichtenberger Straße 8\, 09600 Weißenborn\n
LOCATION:SH Schoeller Weißenborn (32415): Lichtenberger Straße 8\, 09600 Weißenborn
CATEGORIES:Saison 2018/19
END:VEVENT
BEGIN:VEVENT
DTSTAMP:20260421T125733Z
DTSTART;TZID=Europe/Berlin:20190428T160000
DTEND;TZID=Europe/Berlin:20190428T173000
SUMMARY:Sachsenliga (SLF) BSV Sa. Zwickau II vs Radeberger SV (1132)
UID:115ce3e3-0ea7-4589-9eeb-4aeba09bd755
STATUS:CONFIRMED
LAST-MODIFIED:20190501T101541Z
DESCRIPTION:Sachsenliga Frauen\nBegegnungs-Nr: 1132\nHeim: BSV Sa. Zwickau II\nGast: Radeberger SV\nHalle: SH Zwickau-Neuplanitz (32501)\nAdresse: Dortmunder Str. 7a\, 08062 Zwickau\n
LOCATION:SH Zwickau-Neuplanitz (32501): Dortmunder Str. 7a\, 08062 Zwickau
CATEGORIES:Saison 2018/19
END:VEVENT
BEGIN:VEVENT
DTSTAMP:20260421T125733Z
DTSTART;TZID=Europe/Berlin:20180902T170000
DTEND;TZID=Europe/Berlin:20180902T183000
SUMMARY:Sachsenliga (SLF) USV TU Dresden vs Radeberger SV (1005)
UID:1e7e31f7-9d1a-4b4c-af18-824e63a82d8c
STATUS:CONFIRMED
LAST-MODIFIED:20181101T093359Z
DESCRIPTION:Sachsenliga Frauen\nBegegnungs-Nr: 1005\nHeim: USV TU Dresden\nGast: Radeberger SV\nHalle: JOYNEXT Arena Dresden (Spielfeld 1) (33112a)\nAdresse: Magdeburger Straße 10\, 01067 Dresden\n
LOCATION:JOYNEXT Arena Dresden (Spielfeld 1) (33112a): Magdeburger Straße 10\, 01067 Dresden
CATEGORIES:Saison 2018/19
END:VEVENT
BEGIN:VEVENT
DTSTAMP:20260421T125733Z
DTSTART;TZID=Europe/Berlin:20190126T153000
DTEND;TZID=Europe/Berlin:20190126T170000
SUMMARY:Sachsenliga (SLF) HC Leipzig II vs Radeberger SV (1074)
UID:97084900-54a2-4829-a4eb-1ff39ab6a5a2
STATUS:CONFIRMED
LAST-MODIFIED:20190201T180819Z
DESCRIPTION:Sachsenliga Frauen\nBegegnungs-Nr: 1074\nHeim: HC Leipzig II\nGast: Radeberger SV\nHalle: Kleine ARENA Leipzig (31117)\nAdresse: Am Sportforum 1\, 04105 Leipzig\n
LOCATION:Kleine ARENA Leipzig (31117): Am Sportforum 1\, 04105 Leipzig
CATEGORIES:Saison 2018/19
END:VEVENT
END:VCALENDAR
