BEGIN:VCALENDAR
PRODID:-//nuDatenautomaten//framework iCal4j //DE
VERSION:2.0
CALSCALE:GREGORIAN
BEGIN:VTIMEZONE
TZID:Europe/Berlin
LAST-MODIFIED:20260306T231828Z
TZURL:https://www.tzurl.org/zoneinfo/Europe/Berlin
X-LIC-LOCATION:Europe/Berlin
X-PROLEPTIC-TZNAME:LMT
BEGIN:STANDARD
TZNAME:CET
TZOFFSETFROM:+005328
TZOFFSETTO:+0100
DTSTART:18930401T000000
END:STANDARD
BEGIN:DAYLIGHT
TZNAME:CEST
TZOFFSETFROM:+0100
TZOFFSETTO:+0200
DTSTART:19160430T230000
RDATE:19400401T020000
RDATE:19430329T020000
RDATE:19460414T020000
RDATE:19470406T030000
RDATE:19480418T020000
RDATE:19490410T020000
RDATE:19800406T020000
END:DAYLIGHT
BEGIN:STANDARD
TZNAME:CET
TZOFFSETFROM:+0200
TZOFFSETTO:+0100
DTSTART:19161001T010000
RDATE:19421102T030000
RDATE:19431004T030000
RDATE:19441002T030000
RDATE:19451118T030000
RDATE:19461007T030000
END:STANDARD
BEGIN:DAYLIGHT
TZNAME:CEST
TZOFFSETFROM:+0100
TZOFFSETTO:+0200
DTSTART:19170416T020000
RRULE:FREQ=YEARLY;UNTIL=19180415T010000Z;BYMONTH=4;BYDAY=3MO
END:DAYLIGHT
BEGIN:STANDARD
TZNAME:CET
TZOFFSETFROM:+0200
TZOFFSETTO:+0100
DTSTART:19170917T030000
RRULE:FREQ=YEARLY;UNTIL=19180916T010000Z;BYMONTH=9;BYDAY=3MO
END:STANDARD
BEGIN:DAYLIGHT
TZNAME:CEST
TZOFFSETFROM:+0100
TZOFFSETTO:+0200
DTSTART:19440403T020000
RRULE:FREQ=YEARLY;UNTIL=19450402T010000Z;BYMONTH=4;BYDAY=1MO
END:DAYLIGHT
BEGIN:DAYLIGHT
TZNAME:CEMT
TZOFFSETFROM:+0200
TZOFFSETTO:+0300
DTSTART:19450524T020000
RDATE:19470511T030000
END:DAYLIGHT
BEGIN:DAYLIGHT
TZNAME:CEST
TZOFFSETFROM:+0300
TZOFFSETTO:+0200
DTSTART:19450924T030000
RDATE:19470629T030000
END:DAYLIGHT
BEGIN:STANDARD
TZNAME:CET
TZOFFSETFROM:+0100
TZOFFSETTO:+0100
DTSTART:19460101T000000
RDATE:19800101T000000
END:STANDARD
BEGIN:STANDARD
TZNAME:CET
TZOFFSETFROM:+0200
TZOFFSETTO:+0100
DTSTART:19471005T030000
RRULE:FREQ=YEARLY;UNTIL=19491002T010000Z;BYMONTH=10;BYDAY=1SU
END:STANDARD
BEGIN:STANDARD
TZNAME:CET
TZOFFSETFROM:+0200
TZOFFSETTO:+0100
DTSTART:19800928T030000
RRULE:FREQ=YEARLY;UNTIL=19950924T010000Z;BYMONTH=9;BYDAY=-1SU
END:STANDARD
BEGIN:DAYLIGHT
TZNAME:CEST
TZOFFSETFROM:+0100
TZOFFSETTO:+0200
DTSTART:19810329T020000
RRULE:FREQ=YEARLY;BYMONTH=3;BYDAY=-1SU
END:DAYLIGHT
BEGIN:STANDARD
TZNAME:CET
TZOFFSETFROM:+0200
TZOFFSETTO:+0100
DTSTART:19961027T030000
RRULE:FREQ=YEARLY;BYMONTH=10;BYDAY=-1SU
END:STANDARD
END:VTIMEZONE
BEGIN:VEVENT
DTSTAMP:20260421T125824Z
DTSTART;TZID=Europe/Berlin:20181104T160000
DTEND;TZID=Europe/Berlin:20181104T173000
SUMMARY:Sachsenliga (SLF) HC Rödertal  II vs HV Chemnitz II (1039)
UID:71c99164-cd81-4ec4-818a-f655c93e84a1
STATUS:CONFIRMED
LAST-MODIFIED:20190201T174053Z
DESCRIPTION:Sachsenliga Frauen\nBegegnungs-Nr: 1039\nHeim: HC Rödertal  II\nGast: HV Chemnitz II\nHalle: 3-Feld-Halle-GY Großröhrsdorf (34514)\nAdresse: Melanchthonstraße 21\, 01900  Großröhrsdorf\n
LOCATION:3-Feld-Halle-GY Großröhrsdorf (34514): Melanchthonstraße 21\, 01900  Großröhrsdorf
CATEGORIES:Saison 2018/19
END:VEVENT
BEGIN:VEVENT
DTSTAMP:20260421T125824Z
DTSTART;TZID=Europe/Berlin:20190414T170000
DTEND;TZID=Europe/Berlin:20190414T183000
SUMMARY:Sachsenliga (SLF) HC Rödertal  II vs BSV Sa. Zwickau II (1126)
UID:2b6059e5-2bce-4295-a26d-6e9da4b92ac1
STATUS:CONFIRMED
LAST-MODIFIED:20190423T064010Z
DESCRIPTION:Sachsenliga Frauen\nBegegnungs-Nr: 1126\nHeim: HC Rödertal  II\nGast: BSV Sa. Zwickau II\nHalle: 3-Feld-Halle-GY Großröhrsdorf (34514)\nAdresse: Melanchthonstraße 21\, 01900  Großröhrsdorf\n
LOCATION:3-Feld-Halle-GY Großröhrsdorf (34514): Melanchthonstraße 21\, 01900  Großröhrsdorf
CATEGORIES:Saison 2018/19
END:VEVENT
BEGIN:VEVENT
DTSTAMP:20260421T125824Z
DTSTART;TZID=Europe/Berlin:20180930T160000
DTEND;TZID=Europe/Berlin:20180930T173000
SUMMARY:Sachsenliga (SLF) HC Rödertal  II vs Radeberger SV (1025)
UID:1ed839e9-b8ad-4aba-a61f-60f7abd0d951
STATUS:CONFIRMED
LAST-MODIFIED:20181101T125127Z
DESCRIPTION:Sachsenliga Frauen\nBegegnungs-Nr: 1025\nHeim: HC Rödertal  II\nGast: Radeberger SV\nHalle: 3-Feld-Halle-GY Großröhrsdorf (34514)\nAdresse: Melanchthonstraße 21\, 01900  Großröhrsdorf\n
LOCATION:3-Feld-Halle-GY Großröhrsdorf (34514): Melanchthonstraße 21\, 01900  Großröhrsdorf
CATEGORIES:Saison 2018/19
END:VEVENT
BEGIN:VEVENT
DTSTAMP:20260421T125824Z
DTSTART;TZID=Europe/Berlin:20190310T160000
DTEND;TZID=Europe/Berlin:20190310T173000
SUMMARY:Sachsenliga (SLF) HC Rödertal  II vs Rotation Weißenborn (1103)
UID:c1abeef0-9351-47f6-b3d5-c295fb82e58b
STATUS:CONFIRMED
LAST-MODIFIED:20190328T140234Z
DESCRIPTION:Sachsenliga Frauen\nBegegnungs-Nr: 1103\nHeim: HC Rödertal  II\nGast: Rotation Weißenborn\nHalle: 3-Feld-Halle-GY Großröhrsdorf (34514)\nAdresse: Melanchthonstraße 21\, 01900  Großröhrsdorf\n
LOCATION:3-Feld-Halle-GY Großröhrsdorf (34514): Melanchthonstraße 21\, 01900  Großröhrsdorf
CATEGORIES:Saison 2018/19
END:VEVENT
BEGIN:VEVENT
DTSTAMP:20260421T125824Z
DTSTART;TZID=Europe/Berlin:20180923T160000
DTEND;TZID=Europe/Berlin:20180923T173000
SUMMARY:Sachsenliga (SLF) HC Rödertal  II vs HSV Marienberg (1020)
UID:7efa1087-5bb5-4377-ba5f-6d4e8066e2c5
STATUS:CONFIRMED
LAST-MODIFIED:20190201T173618Z
DESCRIPTION:Sachsenliga Frauen\nBegegnungs-Nr: 1020\nHeim: HC Rödertal  II\nGast: HSV Marienberg\nHalle: 3-Feld-Halle-GY Großröhrsdorf (34514)\nAdresse: Melanchthonstraße 21\, 01900  Großröhrsdorf\n
LOCATION:3-Feld-Halle-GY Großröhrsdorf (34514): Melanchthonstraße 21\, 01900  Großröhrsdorf
CATEGORIES:Saison 2018/19
END:VEVENT
BEGIN:VEVENT
DTSTAMP:20260421T125824Z
DTSTART;TZID=Europe/Berlin:20181118T170000
DTEND;TZID=Europe/Berlin:20181118T183000
SUMMARY:Sachsenliga (SLF) HC Rödertal  II vs SV Schneeberg (1052)
UID:1ea09949-fbc5-40bc-8360-e58983417e84
STATUS:CONFIRMED
LAST-MODIFIED:20190201T174807Z
DESCRIPTION:Sachsenliga Frauen\nBegegnungs-Nr: 1052\nHeim: HC Rödertal  II\nGast: SV Schneeberg\nHalle: 3-Feld-Halle-GY Großröhrsdorf (34514)\nAdresse: Melanchthonstraße 21\, 01900  Großröhrsdorf\n
LOCATION:3-Feld-Halle-GY Großröhrsdorf (34514): Melanchthonstraße 21\, 01900  Großröhrsdorf
CATEGORIES:Saison 2018/19
END:VEVENT
BEGIN:VEVENT
DTSTAMP:20260421T125824Z
DTSTART;TZID=Europe/Berlin:20190303T140000
DTEND;TZID=Europe/Berlin:20190303T153000
SUMMARY:Sachsenliga (SLF) HC Rödertal  II vs SV 04 Plauen-O. (1096)
UID:386ee15b-d991-4509-aa01-50abf333c5d2
STATUS:CONFIRMED
LAST-MODIFIED:20190304T080558Z
DESCRIPTION:Sachsenliga Frauen\nBegegnungs-Nr: 1096\nHeim: HC Rödertal  II\nGast: SV 04 Plauen-O.\nHalle: 3-Feld-Halle-GY Großröhrsdorf (34514)\nAdresse: Melanchthonstraße 21\, 01900  Großröhrsdorf\n
LOCATION:3-Feld-Halle-GY Großröhrsdorf (34514): Melanchthonstraße 21\, 01900  Großröhrsdorf
CATEGORIES:Saison 2018/19
END:VEVENT
BEGIN:VEVENT
DTSTAMP:20260421T125824Z
DTSTART;TZID=Europe/Berlin:20181215T170000
DTEND;TZID=Europe/Berlin:20181215T183000
SUMMARY:Sachsenliga (SLF) HC Rödertal  II vs HC Leipzig II (1071)
UID:4b81b183-31b3-4c62-b044-8a75b4b931b3
STATUS:CONFIRMED
LAST-MODIFIED:20190201T180009Z
DESCRIPTION:Sachsenliga Frauen\nBegegnungs-Nr: 1071\nHeim: HC Rödertal  II\nGast: HC Leipzig II\nHalle: 3-Feld-Halle-GY Großröhrsdorf (34514)\nAdresse: Melanchthonstraße 21\, 01900  Großröhrsdorf\n
LOCATION:3-Feld-Halle-GY Großröhrsdorf (34514): Melanchthonstraße 21\, 01900  Großröhrsdorf
CATEGORIES:Saison 2018/19
END:VEVENT
BEGIN:VEVENT
DTSTAMP:20260421T125824Z
DTSTART;TZID=Europe/Berlin:20181006T140000
DTEND;TZID=Europe/Berlin:20181006T153000
SUMMARY:Sachsenliga (SLF) HC Rödertal  II vs SC Markranstädt II (1028)
UID:f3eec075-4ca4-4b2a-8090-b0c1fc78b928
STATUS:CONFIRMED
LAST-MODIFIED:20190201T173832Z
DESCRIPTION:Sachsenliga Frauen\nBegegnungs-Nr: 1028\nHeim: HC Rödertal  II\nGast: SC Markranstädt II\nHalle: 3-Feld-Halle-GY Großröhrsdorf (34514)\nAdresse: Melanchthonstraße 21\, 01900  Großröhrsdorf\n
LOCATION:3-Feld-Halle-GY Großröhrsdorf (34514): Melanchthonstraße 21\, 01900  Großröhrsdorf
CATEGORIES:Saison 2018/19
END:VEVENT
BEGIN:VEVENT
DTSTAMP:20260421T125824Z
DTSTART;TZID=Europe/Berlin:20190331T160000
DTEND;TZID=Europe/Berlin:20190331T173000
SUMMARY:Sachsenliga (SLF) HC Rödertal  II vs HSG Neudorf/Döbeln (1113)
UID:86052003-6ae5-4ed6-afa9-59f8dcec92a8
STATUS:CONFIRMED
LAST-MODIFIED:20190411T091541Z
DESCRIPTION:Sachsenliga Frauen\nBegegnungs-Nr: 1113\nHeim: HC Rödertal  II\nGast: HSG Neudorf/Döbeln\nHalle: 3-Feld-Halle-GY Großröhrsdorf (34514)\nAdresse: Melanchthonstraße 21\, 01900  Großröhrsdorf\n
LOCATION:3-Feld-Halle-GY Großröhrsdorf (34514): Melanchthonstraße 21\, 01900  Großröhrsdorf
CATEGORIES:Saison 2018/19
END:VEVENT
BEGIN:VEVENT
DTSTAMP:20260421T125824Z
DTSTART;TZID=Europe/Berlin:20181202T160000
DTEND;TZID=Europe/Berlin:20181202T173000
SUMMARY:Sachsenliga (SLF) HC Rödertal  II vs USV TU Dresden (1065)
UID:99be59c6-4d48-4200-b081-c23ef4921cab
STATUS:CONFIRMED
LAST-MODIFIED:20190201T175621Z
DESCRIPTION:Sachsenliga Frauen\nBegegnungs-Nr: 1065\nHeim: HC Rödertal  II\nGast: USV TU Dresden\nHalle: 3-Feld-Halle-GY Großröhrsdorf (34514)\nAdresse: Melanchthonstraße 21\, 01900  Großröhrsdorf\n
LOCATION:3-Feld-Halle-GY Großröhrsdorf (34514): Melanchthonstraße 21\, 01900  Großröhrsdorf
CATEGORIES:Saison 2018/19
END:VEVENT
BEGIN:VEVENT
DTSTAMP:20260421T125824Z
DTSTART;TZID=Europe/Berlin:20190126T150000
DTEND;TZID=Europe/Berlin:20190126T163000
SUMMARY:Sachsenliga (SLF) SC Markranstädt II vs HC Rödertal  II (1078)
UID:cc41db30-fb75-484a-8f95-91637a188a40
STATUS:CONFIRMED
LAST-MODIFIED:20190201T180225Z
DESCRIPTION:Sachsenliga Frauen\nBegegnungs-Nr: 1078\nHeim: SC Markranstädt II\nGast: HC Rödertal  II\nHalle: Sportcenter Markranstädt (31127)\nAdresse: Leipziger Str. 47\, 04420 Markranstädt\n
LOCATION:Sportcenter Markranstädt (31127): Leipziger Str. 47\, 04420 Markranstädt
CATEGORIES:Saison 2018/19
END:VEVENT
BEGIN:VEVENT
DTSTAMP:20260421T125824Z
DTSTART;TZID=Europe/Berlin:20181111T160000
DTEND;TZID=Europe/Berlin:20181111T173000
SUMMARY:Sachsenliga (SLF) HSG Neudorf/Döbeln vs HC Rödertal  II (1046)
UID:5f5d7449-1b33-4ea2-9f06-f8d293c7e86d
STATUS:CONFIRMED
LAST-MODIFIED:20190201T174238Z
DESCRIPTION:Sachsenliga Frauen\nBegegnungs-Nr: 1046\nHeim: HSG Neudorf/Döbeln\nGast: HC Rödertal  II\nHalle: Stadt-SH Döbeln (31202)\nAdresse: Str. des Friedens 9\, 04720 Döbeln\n
LOCATION:Stadt-SH Döbeln (31202): Str. des Friedens 9\, 04720 Döbeln
CATEGORIES:Saison 2018/19
END:VEVENT
BEGIN:VEVENT
DTSTAMP:20260421T125824Z
DTSTART;TZID=Europe/Berlin:20190406T193000
DTEND;TZID=Europe/Berlin:20190406T210000
SUMMARY:Sachsenliga (SLF) SV Schneeberg vs HC Rödertal  II (1118)
UID:0aa93d36-7a33-40e6-b042-d34e164773ee
STATUS:CONFIRMED
LAST-MODIFIED:20190411T092500Z
DESCRIPTION:Sachsenliga Frauen\nBegegnungs-Nr: 1118\nHeim: SV Schneeberg\nGast: HC Rödertal  II\nHalle: Silberstrom-Halle Schneeberg (32307)\nAdresse: Keilbergring 20\, 08289 Schneeberg\n
LOCATION:Silberstrom-Halle Schneeberg (32307): Keilbergring 20\, 08289 Schneeberg
CATEGORIES:Saison 2018/19
END:VEVENT
BEGIN:VEVENT
DTSTAMP:20260421T125824Z
DTSTART;TZID=Europe/Berlin:20181027T160000
DTEND;TZID=Europe/Berlin:20181027T173000
SUMMARY:Sachsenliga (SLF) Rotation Weißenborn vs HC Rödertal  II (1030)
UID:2b4aa422-6e25-414b-9f63-5123342cde7c
STATUS:CONFIRMED
LAST-MODIFIED:20190201T173911Z
DESCRIPTION:Sachsenliga Frauen\nBegegnungs-Nr: 1030\nHeim: Rotation Weißenborn\nGast: HC Rödertal  II\nHalle: SH Schoeller Weißenborn (32415)\nAdresse: Lichtenberger Straße 8\, 09600 Weißenborn\n
LOCATION:SH Schoeller Weißenborn (32415): Lichtenberger Straße 8\, 09600 Weißenborn
CATEGORIES:Saison 2018/19
END:VEVENT
BEGIN:VEVENT
DTSTAMP:20260421T125824Z
DTSTART;TZID=Europe/Berlin:20181003T153000
DTEND;TZID=Europe/Berlin:20181003T170000
SUMMARY:Sachsenliga (SLF) BSV Sa. Zwickau II vs HC Rödertal  II (1054)
UID:87c18b48-3b4c-482f-bab0-16c331464a4d
STATUS:CONFIRMED
LAST-MODIFIED:20181101T125523Z
DESCRIPTION:Sachsenliga Frauen\nBegegnungs-Nr: 1054\nHeim: BSV Sa. Zwickau II\nGast: HC Rödertal  II\nHalle: SH Zwickau-Neuplanitz (32501)\nAdresse: Dortmunder Str. 7a\, 08062 Zwickau\n
LOCATION:SH Zwickau-Neuplanitz (32501): Dortmunder Str. 7a\, 08062 Zwickau
CATEGORIES:Saison 2018/19
END:VEVENT
BEGIN:VEVENT
DTSTAMP:20260421T125824Z
DTSTART;TZID=Europe/Berlin:20190209T173000
DTEND;TZID=Europe/Berlin:20190209T190000
SUMMARY:Sachsenliga (SLF) HSV Marienberg vs HC Rödertal  II (1088)
UID:49b7a28c-6e18-4661-b648-91661d53e3a4
STATUS:CONFIRMED
LAST-MODIFIED:20190304T080806Z
DESCRIPTION:Sachsenliga Frauen\nBegegnungs-Nr: 1088\nHeim: HSV Marienberg\nGast: HC Rödertal  II\nHalle: SH am Goldkindstein Marienberg (32416)\nAdresse: Dr.-Wilhelm-Külz-Allee 23\, 09496 Marienberg\n
LOCATION:SH am Goldkindstein Marienberg (32416): Dr.-Wilhelm-Külz-Allee 23\, 09496 Marienberg
CATEGORIES:Saison 2018/19
END:VEVENT
BEGIN:VEVENT
DTSTAMP:20260421T125824Z
DTSTART;TZID=Europe/Berlin:20190427T160000
DTEND;TZID=Europe/Berlin:20190427T173000
SUMMARY:Sachsenliga (SLF) USV TU Dresden vs HC Rödertal  II (1130)
UID:b43a1f67-0998-4cc6-8791-2b3882d36c90
STATUS:CONFIRMED
LAST-MODIFIED:20190501T101425Z
DESCRIPTION:Sachsenliga Frauen\nBegegnungs-Nr: 1130\nHeim: USV TU Dresden\nGast: HC Rödertal  II\nHalle: JOYNEXT Arena Dresden (Spielfeld 1) (33112a)\nAdresse: Magdeburger Straße 10\, 01067 Dresden\n
LOCATION:JOYNEXT Arena Dresden (Spielfeld 1) (33112a): Magdeburger Straße 10\, 01067 Dresden
CATEGORIES:Saison 2018/19
END:VEVENT
BEGIN:VEVENT
DTSTAMP:20260421T125824Z
DTSTART;TZID=Europe/Berlin:20180901T163000
DTEND;TZID=Europe/Berlin:20180901T180000
SUMMARY:Sachsenliga (SLF) HC Leipzig II vs HC Rödertal  II (1003)
UID:9a6cbbd7-cb1b-488d-8d40-734ca27b194f
STATUS:CONFIRMED
LAST-MODIFIED:20180911T124225Z
DESCRIPTION:Sachsenliga Frauen\nBegegnungs-Nr: 1003\nHeim: HC Leipzig II\nGast: HC Rödertal  II\nHalle: SH Sportoberschule (31132)\nAdresse: Max -Planck-Str. 53-55\, 04105 Leipzig\n
LOCATION:SH Sportoberschule (31132): Max -Planck-Str. 53-55\, 04105 Leipzig
CATEGORIES:Saison 2018/19
END:VEVENT
BEGIN:VEVENT
DTSTAMP:20260421T125824Z
DTSTART;TZID=Europe/Berlin:20180915T160000
DTEND;TZID=Europe/Berlin:20180915T173000
SUMMARY:Sachsenliga (SLF) SV 04 Plauen-O. vs HC Rödertal  II (1011)
UID:dc703939-96b1-4001-9a29-e9ab88d92731
STATUS:CONFIRMED
LAST-MODIFIED:20190201T173211Z
DESCRIPTION:Sachsenliga Frauen\nBegegnungs-Nr: 1011\nHeim: SV 04 Plauen-O.\nGast: HC Rödertal  II\nHalle: SH Kurt-Helbig Plauen (32701)\nAdresse: Comeniusstr. 15\, 08523 Plauen\n
LOCATION:SH Kurt-Helbig Plauen (32701): Comeniusstr. 15\, 08523 Plauen
CATEGORIES:Saison 2018/19
END:VEVENT
BEGIN:VEVENT
DTSTAMP:20260421T125824Z
DTSTART;TZID=Europe/Berlin:20190216T190000
DTEND;TZID=Europe/Berlin:20190216T203000
SUMMARY:Sachsenliga (SLF) Radeberger SV vs HC Rödertal  II (1092)
UID:2d55eed5-397a-4a21-83c9-30c3534e7cb8
STATUS:CONFIRMED
LAST-MODIFIED:20190217T094433Z
DESCRIPTION:Sachsenliga Frauen\nBegegnungs-Nr: 1092\nHeim: Radeberger SV\nGast: HC Rödertal  II\nHalle: 3-Feld-Halle-BSZ Radeberg (34209)\nAdresse: Robert-Blum-Weg 5\, 01454 Radeberg\n
LOCATION:3-Feld-Halle-BSZ Radeberg (34209): Robert-Blum-Weg 5\, 01454 Radeberg
CATEGORIES:Saison 2018/19
END:VEVENT
BEGIN:VEVENT
DTSTAMP:20260421T125824Z
DTSTART;TZID=Europe/Berlin:20190317T163000
DTEND;TZID=Europe/Berlin:20190317T180000
SUMMARY:Sachsenliga (SLF) HV Chemnitz II vs HC Rödertal  II (1108)
UID:98d192e9-3127-4747-9a02-907a1209e0de
STATUS:CONFIRMED
LAST-MODIFIED:20190328T135747Z
DESCRIPTION:Sachsenliga Frauen\nBegegnungs-Nr: 1108\nHeim: HV Chemnitz II\nGast: HC Rödertal  II\nHalle: Sachsenhalle Chemnitz (32101)\nAdresse: Straße Usti nad Labem 275\, 09119 Chemnitz\n
LOCATION:Sachsenhalle Chemnitz (32101): Straße Usti nad Labem 275\, 09119 Chemnitz
CATEGORIES:Saison 2018/19
END:VEVENT
END:VCALENDAR
