BEGIN:VCALENDAR
PRODID:-//nuDatenautomaten//framework iCal4j //DE
VERSION:2.0
CALSCALE:GREGORIAN
BEGIN:VTIMEZONE
TZID:Europe/Berlin
LAST-MODIFIED:20260306T231828Z
TZURL:https://www.tzurl.org/zoneinfo/Europe/Berlin
X-LIC-LOCATION:Europe/Berlin
X-PROLEPTIC-TZNAME:LMT
BEGIN:STANDARD
TZNAME:CET
TZOFFSETFROM:+005328
TZOFFSETTO:+0100
DTSTART:18930401T000000
END:STANDARD
BEGIN:DAYLIGHT
TZNAME:CEST
TZOFFSETFROM:+0100
TZOFFSETTO:+0200
DTSTART:19160430T230000
RDATE:19400401T020000
RDATE:19430329T020000
RDATE:19460414T020000
RDATE:19470406T030000
RDATE:19480418T020000
RDATE:19490410T020000
RDATE:19800406T020000
END:DAYLIGHT
BEGIN:STANDARD
TZNAME:CET
TZOFFSETFROM:+0200
TZOFFSETTO:+0100
DTSTART:19161001T010000
RDATE:19421102T030000
RDATE:19431004T030000
RDATE:19441002T030000
RDATE:19451118T030000
RDATE:19461007T030000
END:STANDARD
BEGIN:DAYLIGHT
TZNAME:CEST
TZOFFSETFROM:+0100
TZOFFSETTO:+0200
DTSTART:19170416T020000
RRULE:FREQ=YEARLY;UNTIL=19180415T010000Z;BYMONTH=4;BYDAY=3MO
END:DAYLIGHT
BEGIN:STANDARD
TZNAME:CET
TZOFFSETFROM:+0200
TZOFFSETTO:+0100
DTSTART:19170917T030000
RRULE:FREQ=YEARLY;UNTIL=19180916T010000Z;BYMONTH=9;BYDAY=3MO
END:STANDARD
BEGIN:DAYLIGHT
TZNAME:CEST
TZOFFSETFROM:+0100
TZOFFSETTO:+0200
DTSTART:19440403T020000
RRULE:FREQ=YEARLY;UNTIL=19450402T010000Z;BYMONTH=4;BYDAY=1MO
END:DAYLIGHT
BEGIN:DAYLIGHT
TZNAME:CEMT
TZOFFSETFROM:+0200
TZOFFSETTO:+0300
DTSTART:19450524T020000
RDATE:19470511T030000
END:DAYLIGHT
BEGIN:DAYLIGHT
TZNAME:CEST
TZOFFSETFROM:+0300
TZOFFSETTO:+0200
DTSTART:19450924T030000
RDATE:19470629T030000
END:DAYLIGHT
BEGIN:STANDARD
TZNAME:CET
TZOFFSETFROM:+0100
TZOFFSETTO:+0100
DTSTART:19460101T000000
RDATE:19800101T000000
END:STANDARD
BEGIN:STANDARD
TZNAME:CET
TZOFFSETFROM:+0200
TZOFFSETTO:+0100
DTSTART:19471005T030000
RRULE:FREQ=YEARLY;UNTIL=19491002T010000Z;BYMONTH=10;BYDAY=1SU
END:STANDARD
BEGIN:STANDARD
TZNAME:CET
TZOFFSETFROM:+0200
TZOFFSETTO:+0100
DTSTART:19800928T030000
RRULE:FREQ=YEARLY;UNTIL=19950924T010000Z;BYMONTH=9;BYDAY=-1SU
END:STANDARD
BEGIN:DAYLIGHT
TZNAME:CEST
TZOFFSETFROM:+0100
TZOFFSETTO:+0200
DTSTART:19810329T020000
RRULE:FREQ=YEARLY;BYMONTH=3;BYDAY=-1SU
END:DAYLIGHT
BEGIN:STANDARD
TZNAME:CET
TZOFFSETFROM:+0200
TZOFFSETTO:+0100
DTSTART:19961027T030000
RRULE:FREQ=YEARLY;BYMONTH=10;BYDAY=-1SU
END:STANDARD
END:VTIMEZONE
BEGIN:VEVENT
DTSTAMP:20260422T154002Z
DTSTART;TZID=Europe/Berlin:20181124T123000
DTEND;TZID=Europe/Berlin:20181124T133000
SUMMARY:Hauptrunde Platz 1-7 SG MoGoNo vs HSV Mölkau - Die Haie  (17042)
UID:3de14e38-176c-4bda-a078-466a2b5cbc1c
STATUS:CONFIRMED
LAST-MODIFIED:20190411T061757Z
DESCRIPTION:Bezirksliga männl. C-Jugend - Hauptrunde Platz 1-7\nBegegnungs-Nr: 17042\nHeim: SG MoGoNo\nGast: HSV Mölkau - Die Haie \nHalle: SH Kästner-Grundschule Leipzig (31131)\nAdresse: Erfurter Str\, 04155 Leipzig\n
LOCATION:SH Kästner-Grundschule Leipzig (31131): Erfurter Str\, 04155 Leipzig
CATEGORIES:Saison 2018/19
END:VEVENT
BEGIN:VEVENT
DTSTAMP:20260422T154002Z
DTSTART;TZID=Europe/Berlin:20181209T110000
DTEND;TZID=Europe/Berlin:20181209T120000
SUMMARY:Hauptrunde Platz 1-7 SG MoGoNo vs NHV Concordia Delitzsch (17046)
UID:fb4f2957-1c80-4823-92ab-10fe6033a908
STATUS:CONFIRMED
LAST-MODIFIED:20181211T175826Z
DESCRIPTION:Bezirksliga männl. C-Jugend - Hauptrunde Platz 1-7\nBegegnungs-Nr: 17046\nHeim: SG MoGoNo\nGast: NHV Concordia Delitzsch\nHalle: SH Kästner-Grundschule Leipzig (31131)\nAdresse: Erfurter Str\, 04155 Leipzig\n
LOCATION:SH Kästner-Grundschule Leipzig (31131): Erfurter Str\, 04155 Leipzig
CATEGORIES:Saison 2018/19
END:VEVENT
BEGIN:VEVENT
DTSTAMP:20260422T154002Z
DTSTART;TZID=Europe/Berlin:20180929T133000
DTEND;TZID=Europe/Berlin:20180929T143000
SUMMARY:Vorrunde Gruppe B SG MoGoNo vs SV Lok Leipzig-M. (17031)
UID:fab760cb-210d-4975-b886-f0e8af4322b0
STATUS:CONFIRMED
LAST-MODIFIED:20181007T101557Z
DESCRIPTION:Bezirksliga männl. C-Jugend - Vorrunde Gruppe B\nBegegnungs-Nr: 17031\nHeim: SG MoGoNo\nGast: SV Lok Leipzig-M.\nHalle: SH Kästner-Grundschule Leipzig (31131)\nAdresse: Erfurter Str\, 04155 Leipzig\n
LOCATION:SH Kästner-Grundschule Leipzig (31131): Erfurter Str\, 04155 Leipzig
CATEGORIES:Saison 2018/19
END:VEVENT
BEGIN:VEVENT
DTSTAMP:20260422T154002Z
DTSTART;TZID=Europe/Berlin:20181215T140000
DTEND;TZID=Europe/Berlin:20181215T150000
SUMMARY:Hauptrunde Platz 1-7 SG MoGoNo vs HSG Rückmarsdorf (17050)
UID:d430e654-c70c-43a3-80cb-bf43a5427e47
STATUS:CONFIRMED
LAST-MODIFIED:20181217T095002Z
DESCRIPTION:Bezirksliga männl. C-Jugend - Hauptrunde Platz 1-7\nBegegnungs-Nr: 17050\nHeim: SG MoGoNo\nGast: HSG Rückmarsdorf\nHalle: SH 68. Oberschule (31133)\nAdresse: Breitenfelder Straße 19\, 04155 Leipzig\n
LOCATION:SH 68. Oberschule (31133): Breitenfelder Straße 19\, 04155 Leipzig
CATEGORIES:Saison 2018/19
END:VEVENT
BEGIN:VEVENT
DTSTAMP:20260422T154002Z
DTSTART;TZID=Europe/Berlin:20190406T130000
DTEND;TZID=Europe/Berlin:20190406T140000
SUMMARY:Hauptrunde Platz 1-7 SG MoGoNo vs SV Lok Leipzig-M. (17075)
UID:4b6d48c1-12d4-4a55-abf9-9b32adf139a2
STATUS:CONFIRMED
LAST-MODIFIED:20190406T190259Z
DESCRIPTION:Bezirksliga männl. C-Jugend - Hauptrunde Platz 1-7\nBegegnungs-Nr: 17075\nHeim: SG MoGoNo\nGast: SV Lok Leipzig-M.\nHalle: SH Kästner-Grundschule Leipzig (31131)\nAdresse: Erfurter Str\, 04155 Leipzig\n
LOCATION:SH Kästner-Grundschule Leipzig (31131): Erfurter Str\, 04155 Leipzig
CATEGORIES:Saison 2018/19
END:VEVENT
BEGIN:VEVENT
DTSTAMP:20260422T154002Z
DTSTART;TZID=Europe/Berlin:20181104T130000
DTEND;TZID=Europe/Berlin:20181104T140000
SUMMARY:Vorrunde Gruppe B SG MoGoNo vs Germania Zwenkau (17036)
UID:e5cf6f85-f1ad-4fad-add0-d90727e962a6
STATUS:CONFIRMED
LAST-MODIFIED:20181104T214449Z
DESCRIPTION:Bezirksliga männl. C-Jugend - Vorrunde Gruppe B\nBegegnungs-Nr: 17036\nHeim: SG MoGoNo\nGast: Germania Zwenkau\nHalle: SH Kästner-Grundschule Leipzig (31131)\nAdresse: Erfurter Str\, 04155 Leipzig\n
LOCATION:SH Kästner-Grundschule Leipzig (31131): Erfurter Str\, 04155 Leipzig
CATEGORIES:Saison 2018/19
END:VEVENT
BEGIN:VEVENT
DTSTAMP:20260422T154002Z
DTSTART;TZID=Europe/Berlin:20190316T113000
DTEND;TZID=Europe/Berlin:20190316T123000
SUMMARY:Hauptrunde Platz 1-7 SG MoGoNo vs SG MoGoNo II (17065)
UID:eaf96949-e53f-4f9f-b368-4121b5e78c07
STATUS:CONFIRMED
LAST-MODIFIED:20190316T143128Z
DESCRIPTION:Bezirksliga männl. C-Jugend - Hauptrunde Platz 1-7\nBegegnungs-Nr: 17065\nHeim: SG MoGoNo\nGast: SG MoGoNo II\nHalle: SH Kästner-Grundschule Leipzig (31131)\nAdresse: Erfurter Str\, 04155 Leipzig\n
LOCATION:SH Kästner-Grundschule Leipzig (31131): Erfurter Str\, 04155 Leipzig
CATEGORIES:Saison 2018/19
END:VEVENT
BEGIN:VEVENT
DTSTAMP:20260422T154002Z
DTSTART;TZID=Europe/Berlin:20190511T120500
DTEND;TZID=Europe/Berlin:20190511T130500
SUMMARY:Quali SL Gruppe A SG MoGoNo vs HSG Rottluff/Lok Chemnitz (25)
UID:42cd8eb4-7af4-496a-8d96-bdfb53356c46
STATUS:CONFIRMED
LAST-MODIFIED:20190503T164119Z
DESCRIPTION:Qualifikation Sachsenliga Gruppe A\nBegegnungs-Nr: 25\nHeim: SG MoGoNo\nGast: HSG Rottluff/Lok Chemnitz\nHalle: Sachsenhalle Chemnitz (32101)\nAdresse: Straße Usti nad Labem 275\, 09119 Chemnitz\n
LOCATION:Sachsenhalle Chemnitz (32101): Straße Usti nad Labem 275\, 09119 Chemnitz
CATEGORIES:Saison 2018/19
END:VEVENT
BEGIN:VEVENT
DTSTAMP:20260422T154002Z
DTSTART;TZID=Europe/Berlin:20181201T130000
DTEND;TZID=Europe/Berlin:20181201T140000
SUMMARY:Hauptrunde Platz 1-7 SG MoGoNo II vs SG MoGoNo (17044)
UID:9ba66135-7aa0-429d-8dde-5078336060c3
STATUS:CONFIRMED
LAST-MODIFIED:20181202T214754Z
DESCRIPTION:Bezirksliga männl. C-Jugend - Hauptrunde Platz 1-7\nBegegnungs-Nr: 17044\nHeim: SG MoGoNo II\nGast: SG MoGoNo\nHalle: SH Wilhelm-Hauff-Grundschule Leipzig-Möckern (31102)\nAdresse: Slevogtstr. \, 04159 Leipzig\n
LOCATION:SH Wilhelm-Hauff-Grundschule Leipzig-Möckern (31102): Slevogtstr. \, 04159 Leipzig
CATEGORIES:Saison 2018/19
END:VEVENT
BEGIN:VEVENT
DTSTAMP:20260422T154002Z
DTSTART;TZID=Europe/Berlin:20190127T090000
DTEND;TZID=Europe/Berlin:20190127T100000
SUMMARY:Hauptrunde Platz 1-7 SV Lok Leipzig-M. vs SG MoGoNo (17054)
UID:89818c85-dc8a-4164-95f2-1e480837c15f
STATUS:CONFIRMED
LAST-MODIFIED:20190128T141628Z
DESCRIPTION:Bezirksliga männl. C-Jugend - Hauptrunde Platz 1-7\nBegegnungs-Nr: 17054\nHeim: SV Lok Leipzig-M.\nGast: SG MoGoNo\nHalle: SH Astrid Lindgren Grundschule Leipzig (31104)\nAdresse: Löbauer Str. 46\, 04347 Leipzig\n
LOCATION:SH Astrid Lindgren Grundschule Leipzig (31104): Löbauer Str. 46\, 04347 Leipzig
CATEGORIES:Saison 2018/19
END:VEVENT
BEGIN:VEVENT
DTSTAMP:20260422T154002Z
DTSTART;TZID=Europe/Berlin:20190310T100000
DTEND;TZID=Europe/Berlin:20190310T110000
SUMMARY:Hauptrunde Platz 1-7 HSV Mölkau - Die Haie  vs SG MoGoNo (17063)
UID:e657cdbd-bd70-4111-a2b7-c9c5da4ce926
STATUS:CONFIRMED
LAST-MODIFIED:20190411T061757Z
DESCRIPTION:Bezirksliga männl. C-Jugend - Hauptrunde Platz 1-7\nBegegnungs-Nr: 17063\nHeim: HSV Mölkau - Die Haie \nGast: SG MoGoNo\nHalle: SH Wilhelm-Hauff-Grundschule Leipzig-Möckern (31102)\nAdresse: Slevogtstr. \, 04159 Leipzig\n
LOCATION:SH Wilhelm-Hauff-Grundschule Leipzig-Möckern (31102): Slevogtstr. \, 04159 Leipzig
CATEGORIES:Saison 2018/19
END:VEVENT
BEGIN:VEVENT
DTSTAMP:20260422T154002Z
DTSTART;TZID=Europe/Berlin:20190331T123000
DTEND;TZID=Europe/Berlin:20190331T133000
SUMMARY:Hauptrunde Platz 1-7 HSG Rückmarsdorf vs SG MoGoNo (17071)
UID:78eceace-df29-4dd0-a032-3cfbce76b1b0
STATUS:CONFIRMED
LAST-MODIFIED:20190402T200215Z
DESCRIPTION:Bezirksliga männl. C-Jugend - Hauptrunde Platz 1-7\nBegegnungs-Nr: 17071\nHeim: HSG Rückmarsdorf\nGast: SG MoGoNo\nHalle: SH An der Radrennbahn Leipzig (31128)\nAdresse: Windorfer Straße 63\, 04229 Leipzig\n
LOCATION:SH An der Radrennbahn Leipzig (31128): Windorfer Straße 63\, 04229 Leipzig
CATEGORIES:Saison 2018/19
END:VEVENT
BEGIN:VEVENT
DTSTAMP:20260422T154002Z
DTSTART;TZID=Europe/Berlin:20190413T110000
DTEND;TZID=Europe/Berlin:20190413T120000
SUMMARY:Hauptrunde Platz 1-7 Turbine Leipzig vs SG MoGoNo (17077)
UID:b4755cbc-a646-4e82-acab-59afa480d464
STATUS:CONFIRMED
LAST-MODIFIED:20190414T164655Z
DESCRIPTION:Bezirksliga männl. C-Jugend - Hauptrunde Platz 1-7\nBegegnungs-Nr: 17077\nHeim: Turbine Leipzig\nGast: SG MoGoNo\nHalle: SH Ostwald Gymnasium Leipzig-Lößnig (31105)\nAdresse: Willi-Bredel-Str. 13\, 04279 Leipzig\n
LOCATION:SH Ostwald Gymnasium Leipzig-Lößnig (31105): Willi-Bredel-Str. 13\, 04279 Leipzig
CATEGORIES:Saison 2018/19
END:VEVENT
BEGIN:VEVENT
DTSTAMP:20260422T154002Z
DTSTART;TZID=Europe/Berlin:20190511T105000
DTEND;TZID=Europe/Berlin:20190511T115000
SUMMARY:Quali SL Gruppe A NSG Westsachsen vs SG MoGoNo (24)
UID:30992dba-d5c4-42d8-8db8-761a7e5d9735
STATUS:CONFIRMED
LAST-MODIFIED:20190503T164119Z
DESCRIPTION:Qualifikation Sachsenliga Gruppe A\nBegegnungs-Nr: 24\nHeim: NSG Westsachsen\nGast: SG MoGoNo\nHalle: Sachsenhalle Chemnitz (32101)\nAdresse: Straße Usti nad Labem 275\, 09119 Chemnitz\n
LOCATION:Sachsenhalle Chemnitz (32101): Straße Usti nad Labem 275\, 09119 Chemnitz
CATEGORIES:Saison 2018/19
END:VEVENT
BEGIN:VEVENT
DTSTAMP:20260422T154002Z
DTSTART;TZID=Europe/Berlin:20190323T140000
DTEND;TZID=Europe/Berlin:20190323T150000
SUMMARY:Hauptrunde Platz 1-7 NHV Concordia Delitzsch vs SG MoGoNo (17067)
UID:ad59b1a0-9f1d-4bbe-bb79-2c8d6c7e7580
STATUS:CONFIRMED
LAST-MODIFIED:20190402T195850Z
DESCRIPTION:Bezirksliga männl. C-Jugend - Hauptrunde Platz 1-7\nBegegnungs-Nr: 17067\nHeim: NHV Concordia Delitzsch\nGast: SG MoGoNo\nHalle: Mehrzweckhalle Delitzsch  (31304)\nAdresse: Karl-Marx-Str. 1\, 04509 Delitzsch\n
LOCATION:Mehrzweckhalle Delitzsch  (31304): Karl-Marx-Str. 1\, 04509 Delitzsch
CATEGORIES:Saison 2018/19
END:VEVENT
BEGIN:VEVENT
DTSTAMP:20260422T154002Z
DTSTART;TZID=Europe/Berlin:20180922T111000
DTEND;TZID=Europe/Berlin:20180922T121000
SUMMARY:Vorrunde Gruppe B HSG Rückmarsdorf vs SG MoGoNo (17028)
UID:4b9ba613-16fb-4e5d-8f68-166fe8af47c1
STATUS:CONFIRMED
LAST-MODIFIED:20180925T120847Z
DESCRIPTION:Bezirksliga männl. C-Jugend - Vorrunde Gruppe B\nBegegnungs-Nr: 17028\nHeim: HSG Rückmarsdorf\nGast: SG MoGoNo\nHalle: SH An der Radrennbahn Leipzig (31128)\nAdresse: Windorfer Straße 63\, 04229 Leipzig\n
LOCATION:SH An der Radrennbahn Leipzig (31128): Windorfer Straße 63\, 04229 Leipzig
CATEGORIES:Saison 2018/19
END:VEVENT
BEGIN:VEVENT
DTSTAMP:20260422T154002Z
DTSTART;TZID=Europe/Berlin:20180915T143000
DTEND;TZID=Europe/Berlin:20180915T153000
SUMMARY:Vorrunde Gruppe B VICTORIA Naunhof vs SG MoGoNo (17026)
UID:2c89e0dd-7f98-4a6c-8a87-3f72a3a0b6d1
STATUS:CONFIRMED
LAST-MODIFIED:20180915T185455Z
DESCRIPTION:Bezirksliga männl. C-Jugend - Vorrunde Gruppe B\nBegegnungs-Nr: 17026\nHeim: VICTORIA Naunhof\nGast: SG MoGoNo\nHalle: SH Oberschule Naunhof (31114)\nAdresse: Wurzener Straße 38\, 04683 Naunhof\n
LOCATION:SH Oberschule Naunhof (31114): Wurzener Straße 38\, 04683 Naunhof
CATEGORIES:Saison 2018/19
END:VEVENT
BEGIN:VEVENT
DTSTAMP:20260422T154002Z
DTSTART;TZID=Europe/Berlin:20181028T130000
DTEND;TZID=Europe/Berlin:20181028T140000
SUMMARY:Vorrunde Gruppe B Turbine Leipzig vs SG MoGoNo (17033)
UID:65063dda-8bc8-4458-9a8f-d926dbab6007
STATUS:CONFIRMED
LAST-MODIFIED:20181028T213355Z
DESCRIPTION:Bezirksliga männl. C-Jugend - Vorrunde Gruppe B\nBegegnungs-Nr: 17033\nHeim: Turbine Leipzig\nGast: SG MoGoNo\nHalle: SH Ostwald Gymnasium Leipzig-Lößnig (31105)\nAdresse: Willi-Bredel-Str. 13\, 04279 Leipzig\n
LOCATION:SH Ostwald Gymnasium Leipzig-Lößnig (31105): Willi-Bredel-Str. 13\, 04279 Leipzig
CATEGORIES:Saison 2018/19
END:VEVENT
BEGIN:VEVENT
DTSTAMP:20260422T154002Z
DTSTART;TZID=Europe/Berlin:20190511T155000
DTEND;TZID=Europe/Berlin:20190511T165000
SUMMARY:Quali SL Gruppe A LHV Hoyerswerda vs SG MoGoNo (28)
UID:d42497ff-55ae-45ed-88ad-243530b04faa
STATUS:CONFIRMED
LAST-MODIFIED:20190503T164119Z
DESCRIPTION:Qualifikation Sachsenliga Gruppe A\nBegegnungs-Nr: 28\nHeim: LHV Hoyerswerda\nGast: SG MoGoNo\nHalle: Sachsenhalle Chemnitz (32101)\nAdresse: Straße Usti nad Labem 275\, 09119 Chemnitz\n
LOCATION:Sachsenhalle Chemnitz (32101): Straße Usti nad Labem 275\, 09119 Chemnitz
CATEGORIES:Saison 2018/19
END:VEVENT
END:VCALENDAR
