BEGIN:VCALENDAR
PRODID:-//nuDatenautomaten//framework iCal4j //DE
VERSION:2.0
CALSCALE:GREGORIAN
BEGIN:VTIMEZONE
TZID:Europe/Berlin
LAST-MODIFIED:20260306T231828Z
TZURL:https://www.tzurl.org/zoneinfo/Europe/Berlin
X-LIC-LOCATION:Europe/Berlin
X-PROLEPTIC-TZNAME:LMT
BEGIN:STANDARD
TZNAME:CET
TZOFFSETFROM:+005328
TZOFFSETTO:+0100
DTSTART:18930401T000000
END:STANDARD
BEGIN:DAYLIGHT
TZNAME:CEST
TZOFFSETFROM:+0100
TZOFFSETTO:+0200
DTSTART:19160430T230000
RDATE:19400401T020000
RDATE:19430329T020000
RDATE:19460414T020000
RDATE:19470406T030000
RDATE:19480418T020000
RDATE:19490410T020000
RDATE:19800406T020000
END:DAYLIGHT
BEGIN:STANDARD
TZNAME:CET
TZOFFSETFROM:+0200
TZOFFSETTO:+0100
DTSTART:19161001T010000
RDATE:19421102T030000
RDATE:19431004T030000
RDATE:19441002T030000
RDATE:19451118T030000
RDATE:19461007T030000
END:STANDARD
BEGIN:DAYLIGHT
TZNAME:CEST
TZOFFSETFROM:+0100
TZOFFSETTO:+0200
DTSTART:19170416T020000
RRULE:FREQ=YEARLY;UNTIL=19180415T010000Z;BYMONTH=4;BYDAY=3MO
END:DAYLIGHT
BEGIN:STANDARD
TZNAME:CET
TZOFFSETFROM:+0200
TZOFFSETTO:+0100
DTSTART:19170917T030000
RRULE:FREQ=YEARLY;UNTIL=19180916T010000Z;BYMONTH=9;BYDAY=3MO
END:STANDARD
BEGIN:DAYLIGHT
TZNAME:CEST
TZOFFSETFROM:+0100
TZOFFSETTO:+0200
DTSTART:19440403T020000
RRULE:FREQ=YEARLY;UNTIL=19450402T010000Z;BYMONTH=4;BYDAY=1MO
END:DAYLIGHT
BEGIN:DAYLIGHT
TZNAME:CEMT
TZOFFSETFROM:+0200
TZOFFSETTO:+0300
DTSTART:19450524T020000
RDATE:19470511T030000
END:DAYLIGHT
BEGIN:DAYLIGHT
TZNAME:CEST
TZOFFSETFROM:+0300
TZOFFSETTO:+0200
DTSTART:19450924T030000
RDATE:19470629T030000
END:DAYLIGHT
BEGIN:STANDARD
TZNAME:CET
TZOFFSETFROM:+0100
TZOFFSETTO:+0100
DTSTART:19460101T000000
RDATE:19800101T000000
END:STANDARD
BEGIN:STANDARD
TZNAME:CET
TZOFFSETFROM:+0200
TZOFFSETTO:+0100
DTSTART:19471005T030000
RRULE:FREQ=YEARLY;UNTIL=19491002T010000Z;BYMONTH=10;BYDAY=1SU
END:STANDARD
BEGIN:STANDARD
TZNAME:CET
TZOFFSETFROM:+0200
TZOFFSETTO:+0100
DTSTART:19800928T030000
RRULE:FREQ=YEARLY;UNTIL=19950924T010000Z;BYMONTH=9;BYDAY=-1SU
END:STANDARD
BEGIN:DAYLIGHT
TZNAME:CEST
TZOFFSETFROM:+0100
TZOFFSETTO:+0200
DTSTART:19810329T020000
RRULE:FREQ=YEARLY;BYMONTH=3;BYDAY=-1SU
END:DAYLIGHT
BEGIN:STANDARD
TZNAME:CET
TZOFFSETFROM:+0200
TZOFFSETTO:+0100
DTSTART:19961027T030000
RRULE:FREQ=YEARLY;BYMONTH=10;BYDAY=-1SU
END:STANDARD
END:VTIMEZONE
BEGIN:VEVENT
DTSTAMP:20260421T125824Z
DTSTART;TZID=Europe/Berlin:20190616T121000
DTEND;TZID=Europe/Berlin:20190616T131000
SUMMARY:HVS Pokal Endrunde HSG Rottluff/Lok Chemnitz vs HC Elbflorenz 2006 (215)
UID:517df219-fd6e-4941-ac53-e50c6208336a
STATUS:CONFIRMED
DESCRIPTION:HVS-Pokal mJC - Endrunde\nBegegnungs-Nr: 215\nHeim: HSG Rottluff/Lok Chemnitz\nGast: HC Elbflorenz 2006\nHalle: SH Kästner-Grundschule Leipzig (31131)\nAdresse: Erfurter Str\, 04155 Leipzig\n
LOCATION:SH Kästner-Grundschule Leipzig (31131): Erfurter Str\, 04155 Leipzig
CATEGORIES:Saison Pokal 2018/19
END:VEVENT
BEGIN:VEVENT
DTSTAMP:20260421T125824Z
DTSTART;TZID=Europe/Berlin:20190616T132000
DTEND;TZID=Europe/Berlin:20190616T142000
SUMMARY:HVS Pokal Endrunde HSG Rottluff/Lok Chemnitz vs SG MoGoNo Leipzig (217)
UID:5618dd68-2b85-46b7-92ea-9a39c82721e1
STATUS:CONFIRMED
DESCRIPTION:HVS-Pokal mJC - Endrunde\nBegegnungs-Nr: 217\nHeim: HSG Rottluff/Lok Chemnitz\nGast: SG MoGoNo Leipzig\nHalle: SH Kästner-Grundschule Leipzig (31131)\nAdresse: Erfurter Str\, 04155 Leipzig\n
LOCATION:SH Kästner-Grundschule Leipzig (31131): Erfurter Str\, 04155 Leipzig
CATEGORIES:Saison Pokal 2018/19
END:VEVENT
BEGIN:VEVENT
DTSTAMP:20260421T125824Z
DTSTART;TZID=Europe/Berlin:20180825T170000
DTEND;TZID=Europe/Berlin:20180825T180000
SUMMARY:Bez.-Pokal mJC HSG Rottluff/Lok Chemnitz vs NSG Westsachsen (29)
UID:647d4512-b78c-4212-841b-6a1066ebaddc
STATUS:CONFIRMED
LAST-MODIFIED:20181014T110522Z
DESCRIPTION:Bezirkspokal m. Jugend C\nBegegnungs-Nr: 29\nHeim: HSG Rottluff/Lok Chemnitz\nGast: NSG Westsachsen\nHalle: Sachsenhalle Chemnitz (32101)\nAdresse: Straße Usti nad Labem 275\, 09119 Chemnitz\n
LOCATION:Sachsenhalle Chemnitz (32101): Straße Usti nad Labem 275\, 09119 Chemnitz
CATEGORIES:Saison Pokal 2018/19
END:VEVENT
BEGIN:VEVENT
DTSTAMP:20260421T125824Z
DTSTART;TZID=Europe/Berlin:20190504T110000
DTEND;TZID=Europe/Berlin:20190504T120000
SUMMARY:HVS Pokal Vorrunde Gr. A HSG Rottluff/Lok Chemnitz vs HC Elbflorenz 2006 (201)
UID:c1124bb3-8292-4190-bc24-fbc1071ab2fe
STATUS:CONFIRMED
DESCRIPTION:HVS-Pokal mJC - Vorrunde Gruppe A\nBegegnungs-Nr: 201\nHeim: HSG Rottluff/Lok Chemnitz\nGast: HC Elbflorenz 2006\nHalle: SH Jahnbaude Chemnitz (32113)\nAdresse: Fürstenstr. 87\, 09130 Chemnitz\n
LOCATION:SH Jahnbaude Chemnitz (32113): Fürstenstr. 87\, 09130 Chemnitz
CATEGORIES:Saison Pokal 2018/19
END:VEVENT
BEGIN:VEVENT
DTSTAMP:20260421T125824Z
DTSTART;TZID=Europe/Berlin:20190504T130000
DTEND;TZID=Europe/Berlin:20190504T140000
SUMMARY:HVS Pokal Vorrunde Gr. A OSV Zittau vs HSG Rottluff/Lok Chemnitz (204)
UID:0d2ee098-f5b3-4f99-bed9-4d1b6a70d071
STATUS:CONFIRMED
DESCRIPTION:HVS-Pokal mJC - Vorrunde Gruppe A\nBegegnungs-Nr: 204\nHeim: OSV Zittau\nGast: HSG Rottluff/Lok Chemnitz\nHalle: SH Jahnbaude Chemnitz (32113)\nAdresse: Fürstenstr. 87\, 09130 Chemnitz\n
LOCATION:SH Jahnbaude Chemnitz (32113): Fürstenstr. 87\, 09130 Chemnitz
CATEGORIES:Saison Pokal 2018/19
END:VEVENT
BEGIN:VEVENT
DTSTAMP:20260421T125824Z
DTSTART;TZID=Europe/Berlin:20190616T113500
DTEND;TZID=Europe/Berlin:20190616T123500
SUMMARY:HVS Pokal Endrunde SG MoGoNo Leipzig vs HSG Rottluff/Lok Chemnitz (214)
UID:da77ff87-d86a-4a82-8e99-036bec78db0b
STATUS:CONFIRMED
DESCRIPTION:HVS-Pokal mJC - Endrunde\nBegegnungs-Nr: 214\nHeim: SG MoGoNo Leipzig\nGast: HSG Rottluff/Lok Chemnitz\nHalle: SH Kästner-Grundschule Leipzig (31131)\nAdresse: Erfurter Str\, 04155 Leipzig\n
LOCATION:SH Kästner-Grundschule Leipzig (31131): Erfurter Str\, 04155 Leipzig
CATEGORIES:Saison Pokal 2018/19
END:VEVENT
BEGIN:VEVENT
DTSTAMP:20260421T125824Z
DTSTART;TZID=Europe/Berlin:20190504T142000
DTEND;TZID=Europe/Berlin:20190504T152000
SUMMARY:HVS Pokal Vorrunde Gr. A SG Pirna/Heidenau vs HSG Rottluff/Lok Chemnitz (206)
UID:78d56751-0519-4a78-b379-2e11c26a45ae
STATUS:CONFIRMED
DESCRIPTION:HVS-Pokal mJC - Vorrunde Gruppe A\nBegegnungs-Nr: 206\nHeim: SG Pirna/Heidenau\nGast: HSG Rottluff/Lok Chemnitz\nHalle: SH Jahnbaude Chemnitz (32113)\nAdresse: Fürstenstr. 87\, 09130 Chemnitz\n
LOCATION:SH Jahnbaude Chemnitz (32113): Fürstenstr. 87\, 09130 Chemnitz
CATEGORIES:Saison Pokal 2018/19
END:VEVENT
BEGIN:VEVENT
DTSTAMP:20260421T125824Z
DTSTART;TZID=Europe/Berlin:20190616T135500
DTEND;TZID=Europe/Berlin:20190616T145500
SUMMARY:HVS Pokal Endrunde HC Elbflorenz 2006 vs HSG Rottluff/Lok Chemnitz (218)
UID:b0008765-38cb-435b-ad50-1c8ae21f8ca6
STATUS:CONFIRMED
DESCRIPTION:HVS-Pokal mJC - Endrunde\nBegegnungs-Nr: 218\nHeim: HC Elbflorenz 2006\nGast: HSG Rottluff/Lok Chemnitz\nHalle: SH Kästner-Grundschule Leipzig (31131)\nAdresse: Erfurter Str\, 04155 Leipzig\n
LOCATION:SH Kästner-Grundschule Leipzig (31131): Erfurter Str\, 04155 Leipzig
CATEGORIES:Saison Pokal 2018/19
END:VEVENT
END:VCALENDAR
