BEGIN:VCALENDAR
PRODID:-//nuDatenautomaten//framework iCal4j //DE
VERSION:2.0
CALSCALE:GREGORIAN
BEGIN:VTIMEZONE
TZID:Europe/Berlin
LAST-MODIFIED:20260306T231828Z
TZURL:https://www.tzurl.org/zoneinfo/Europe/Berlin
X-LIC-LOCATION:Europe/Berlin
X-PROLEPTIC-TZNAME:LMT
BEGIN:STANDARD
TZNAME:CET
TZOFFSETFROM:+005328
TZOFFSETTO:+0100
DTSTART:18930401T000000
END:STANDARD
BEGIN:DAYLIGHT
TZNAME:CEST
TZOFFSETFROM:+0100
TZOFFSETTO:+0200
DTSTART:19160430T230000
RDATE:19400401T020000
RDATE:19430329T020000
RDATE:19460414T020000
RDATE:19470406T030000
RDATE:19480418T020000
RDATE:19490410T020000
RDATE:19800406T020000
END:DAYLIGHT
BEGIN:STANDARD
TZNAME:CET
TZOFFSETFROM:+0200
TZOFFSETTO:+0100
DTSTART:19161001T010000
RDATE:19421102T030000
RDATE:19431004T030000
RDATE:19441002T030000
RDATE:19451118T030000
RDATE:19461007T030000
END:STANDARD
BEGIN:DAYLIGHT
TZNAME:CEST
TZOFFSETFROM:+0100
TZOFFSETTO:+0200
DTSTART:19170416T020000
RRULE:FREQ=YEARLY;UNTIL=19180415T010000Z;BYMONTH=4;BYDAY=3MO
END:DAYLIGHT
BEGIN:STANDARD
TZNAME:CET
TZOFFSETFROM:+0200
TZOFFSETTO:+0100
DTSTART:19170917T030000
RRULE:FREQ=YEARLY;UNTIL=19180916T010000Z;BYMONTH=9;BYDAY=3MO
END:STANDARD
BEGIN:DAYLIGHT
TZNAME:CEST
TZOFFSETFROM:+0100
TZOFFSETTO:+0200
DTSTART:19440403T020000
RRULE:FREQ=YEARLY;UNTIL=19450402T010000Z;BYMONTH=4;BYDAY=1MO
END:DAYLIGHT
BEGIN:DAYLIGHT
TZNAME:CEMT
TZOFFSETFROM:+0200
TZOFFSETTO:+0300
DTSTART:19450524T020000
RDATE:19470511T030000
END:DAYLIGHT
BEGIN:DAYLIGHT
TZNAME:CEST
TZOFFSETFROM:+0300
TZOFFSETTO:+0200
DTSTART:19450924T030000
RDATE:19470629T030000
END:DAYLIGHT
BEGIN:STANDARD
TZNAME:CET
TZOFFSETFROM:+0100
TZOFFSETTO:+0100
DTSTART:19460101T000000
RDATE:19800101T000000
END:STANDARD
BEGIN:STANDARD
TZNAME:CET
TZOFFSETFROM:+0200
TZOFFSETTO:+0100
DTSTART:19471005T030000
RRULE:FREQ=YEARLY;UNTIL=19491002T010000Z;BYMONTH=10;BYDAY=1SU
END:STANDARD
BEGIN:STANDARD
TZNAME:CET
TZOFFSETFROM:+0200
TZOFFSETTO:+0100
DTSTART:19800928T030000
RRULE:FREQ=YEARLY;UNTIL=19950924T010000Z;BYMONTH=9;BYDAY=-1SU
END:STANDARD
BEGIN:DAYLIGHT
TZNAME:CEST
TZOFFSETFROM:+0100
TZOFFSETTO:+0200
DTSTART:19810329T020000
RRULE:FREQ=YEARLY;BYMONTH=3;BYDAY=-1SU
END:DAYLIGHT
BEGIN:STANDARD
TZNAME:CET
TZOFFSETFROM:+0200
TZOFFSETTO:+0100
DTSTART:19961027T030000
RRULE:FREQ=YEARLY;BYMONTH=10;BYDAY=-1SU
END:STANDARD
END:VTIMEZONE
BEGIN:VEVENT
DTSTAMP:20260422T051950Z
DTSTART;TZID=Europe/Berlin:20181201T104500
DTEND;TZID=Europe/Berlin:20181201T114500
SUMMARY:Hauptrunde Platz 8-12 TuS Leipzig-Mockau vs VICTORIA Naunhof (17082)
UID:949a8145-d39a-47b2-9c5b-160dd6ca9b46
STATUS:CONFIRMED
LAST-MODIFIED:20181202T214919Z
DESCRIPTION:Bezirksliga männl. C-Jugend - Hauptrunde Platz 8-12\nBegegnungs-Nr: 17082\nHeim: TuS Leipzig-Mockau\nGast: VICTORIA Naunhof\nHalle: Rosenow-SH Leipzig (31124)\nAdresse: Rosenowstraße 60\, 04357 Leipzig\n
LOCATION:Rosenow-SH Leipzig (31124): Rosenowstraße 60\, 04357 Leipzig
CATEGORIES:Saison 2018/19
END:VEVENT
BEGIN:VEVENT
DTSTAMP:20260422T051950Z
DTSTART;TZID=Europe/Berlin:20190202T104500
DTEND;TZID=Europe/Berlin:20190202T114500
SUMMARY:Hauptrunde Platz 8-12 TuS Leipzig-Mockau vs Lok Wurzen (17087)
UID:5e645278-68a1-40e6-b660-7ccbda282ef9
STATUS:CONFIRMED
LAST-MODIFIED:20190204T084156Z
DESCRIPTION:Bezirksliga männl. C-Jugend - Hauptrunde Platz 8-12\nBegegnungs-Nr: 17087\nHeim: TuS Leipzig-Mockau\nGast: Lok Wurzen\nHalle: Rosenow-SH Leipzig (31124)\nAdresse: Rosenowstraße 60\, 04357 Leipzig\n
LOCATION:Rosenow-SH Leipzig (31124): Rosenowstraße 60\, 04357 Leipzig
CATEGORIES:Saison 2018/19
END:VEVENT
BEGIN:VEVENT
DTSTAMP:20260422T051950Z
DTSTART;TZID=Europe/Berlin:20190406T094500
DTEND;TZID=Europe/Berlin:20190406T104500
SUMMARY:Hauptrunde Platz 8-12 TuS Leipzig-Mockau vs Leipziger SV Südwest (17096)
UID:08e36b51-48d4-489b-962b-6987cd4824bf
STATUS:CONFIRMED
LAST-MODIFIED:20190406T190335Z
DESCRIPTION:Bezirksliga männl. C-Jugend - Hauptrunde Platz 8-12\nBegegnungs-Nr: 17096\nHeim: TuS Leipzig-Mockau\nGast: Leipziger SV Südwest\nHalle: Rosenow-SH Leipzig (31124)\nAdresse: Rosenowstraße 60\, 04357 Leipzig\n
LOCATION:Rosenow-SH Leipzig (31124): Rosenowstraße 60\, 04357 Leipzig
CATEGORIES:Saison 2018/19
END:VEVENT
BEGIN:VEVENT
DTSTAMP:20260422T051950Z
DTSTART;TZID=Europe/Berlin:20190323T160000
DTEND;TZID=Europe/Berlin:20190323T170000
SUMMARY:Hauptrunde Platz 8-12 TuS Leipzig-Mockau vs Germania Zwenkau (17094)
UID:03399651-68ef-4c2a-8300-25b377ab2913
STATUS:CONFIRMED
LAST-MODIFIED:20190402T200252Z
DESCRIPTION:Bezirksliga männl. C-Jugend - Hauptrunde Platz 8-12\nBegegnungs-Nr: 17094\nHeim: TuS Leipzig-Mockau\nGast: Germania Zwenkau\nHalle: Rosenow-SH Leipzig (31124)\nAdresse: Rosenowstraße 60\, 04357 Leipzig\n
LOCATION:Rosenow-SH Leipzig (31124): Rosenowstraße 60\, 04357 Leipzig
CATEGORIES:Saison 2018/19
END:VEVENT
BEGIN:VEVENT
DTSTAMP:20260422T051950Z
DTSTART;TZID=Europe/Berlin:20180922T110000
DTEND;TZID=Europe/Berlin:20180922T120000
SUMMARY:Vorrunde Gruppe A TuS Leipzig-Mockau vs Leipziger SV Südwest (17008)
UID:afd54e40-cf79-401f-b74e-b1be7a4cfc21
STATUS:CONFIRMED
LAST-MODIFIED:20180923T071843Z
DESCRIPTION:Bezirksliga männl. C-Jugend - Vorrunde Gruppe A\nBegegnungs-Nr: 17008\nHeim: TuS Leipzig-Mockau\nGast: Leipziger SV Südwest\nHalle: Rosenow-SH Leipzig (31124)\nAdresse: Rosenowstraße 60\, 04357 Leipzig\n
LOCATION:Rosenow-SH Leipzig (31124): Rosenowstraße 60\, 04357 Leipzig
CATEGORIES:Saison 2018/19
END:VEVENT
BEGIN:VEVENT
DTSTAMP:20260422T051950Z
DTSTART;TZID=Europe/Berlin:20181027T113000
DTEND;TZID=Europe/Berlin:20181027T123000
SUMMARY:Vorrunde Gruppe A TuS Leipzig-Mockau vs SG MoGoNo II (17016)
UID:209f46d1-6411-48c0-ae15-af973493d604
STATUS:CONFIRMED
LAST-MODIFIED:20181028T212910Z
DESCRIPTION:Bezirksliga männl. C-Jugend - Vorrunde Gruppe A\nBegegnungs-Nr: 17016\nHeim: TuS Leipzig-Mockau\nGast: SG MoGoNo II\nHalle: Rosenow-SH Leipzig (31124)\nAdresse: Rosenowstraße 60\, 04357 Leipzig\n
LOCATION:Rosenow-SH Leipzig (31124): Rosenowstraße 60\, 04357 Leipzig
CATEGORIES:Saison 2018/19
END:VEVENT
BEGIN:VEVENT
DTSTAMP:20260422T051950Z
DTSTART;TZID=Europe/Berlin:20180908T104500
DTEND;TZID=Europe/Berlin:20180908T114500
SUMMARY:Vorrunde Gruppe A TuS Leipzig-Mockau vs NHV Concordia Delitzsch (17003)
UID:c4d7aa3f-0b8e-4b99-89a2-93353af8ce78
STATUS:CONFIRMED
LAST-MODIFIED:20180908T212254Z
DESCRIPTION:Bezirksliga männl. C-Jugend - Vorrunde Gruppe A\nBegegnungs-Nr: 17003\nHeim: TuS Leipzig-Mockau\nGast: NHV Concordia Delitzsch\nHalle: Rosenow-SH Leipzig (31124)\nAdresse: Rosenowstraße 60\, 04357 Leipzig\n
LOCATION:Rosenow-SH Leipzig (31124): Rosenowstraße 60\, 04357 Leipzig
CATEGORIES:Saison 2018/19
END:VEVENT
BEGIN:VEVENT
DTSTAMP:20260422T051950Z
DTSTART;TZID=Europe/Berlin:20190413T090000
DTEND;TZID=Europe/Berlin:20190413T100000
SUMMARY:Hauptrunde Platz 8-12 Lok Wurzen vs TuS Leipzig-Mockau (17097)
UID:d1123775-4a36-4104-81f3-ccb4fccbab98
STATUS:CONFIRMED
LAST-MODIFIED:20190414T181906Z
DESCRIPTION:Bezirksliga männl. C-Jugend - Hauptrunde Platz 8-12\nBegegnungs-Nr: 17097\nHeim: Lok Wurzen\nGast: TuS Leipzig-Mockau\nHalle: Stadt-SH Wurzen (31502)\nAdresse: Friedrich-Ebert-Str. 2 c\, 04808 Wurzen\n
LOCATION:Stadt-SH Wurzen (31502): Friedrich-Ebert-Str. 2 c\, 04808 Wurzen
CATEGORIES:Saison 2018/19
END:VEVENT
BEGIN:VEVENT
DTSTAMP:20260422T051950Z
DTSTART;TZID=Europe/Berlin:20190127T100000
DTEND;TZID=Europe/Berlin:20190127T110000
SUMMARY:Hauptrunde Platz 8-12 Leipziger SV Südwest vs TuS Leipzig-Mockau (17086)
UID:1ad49989-45ed-43d2-bef5-735eb8f9bd96
STATUS:CONFIRMED
LAST-MODIFIED:20190128T141735Z
DESCRIPTION:Bezirksliga männl. C-Jugend - Hauptrunde Platz 8-12\nBegegnungs-Nr: 17086\nHeim: Leipziger SV Südwest\nGast: TuS Leipzig-Mockau\nHalle: SH An der Radrennbahn Leipzig (31128)\nAdresse: Windorfer Straße 63\, 04229 Leipzig\n
LOCATION:SH An der Radrennbahn Leipzig (31128): Windorfer Straße 63\, 04229 Leipzig
CATEGORIES:Saison 2018/19
END:VEVENT
BEGIN:VEVENT
DTSTAMP:20260422T051950Z
DTSTART;TZID=Europe/Berlin:20190316T153000
DTEND;TZID=Europe/Berlin:20190316T163000
SUMMARY:Hauptrunde Platz 8-12 VICTORIA Naunhof vs TuS Leipzig-Mockau (17092)
UID:f82abcc2-61cd-4c2e-8139-d5c1d2b3578d
STATUS:CONFIRMED
LAST-MODIFIED:20190317T193454Z
DESCRIPTION:Bezirksliga männl. C-Jugend - Hauptrunde Platz 8-12\nBegegnungs-Nr: 17092\nHeim: VICTORIA Naunhof\nGast: TuS Leipzig-Mockau\nHalle: Parthelandhalle Naunhof (31120)\nAdresse: Wiesenstraße 34\, 04683 Naunhof\n
LOCATION:Parthelandhalle Naunhof (31120): Wiesenstraße 34\, 04683 Naunhof
CATEGORIES:Saison 2018/19
END:VEVENT
BEGIN:VEVENT
DTSTAMP:20260422T051950Z
DTSTART;TZID=Europe/Berlin:20181209T110000
DTEND;TZID=Europe/Berlin:20181209T120000
SUMMARY:Hauptrunde Platz 8-12 Germania Zwenkau vs TuS Leipzig-Mockau (17084)
UID:e66f9967-5f1c-48f5-aac5-c965b03508b5
STATUS:CONFIRMED
LAST-MODIFIED:20181211T175916Z
DESCRIPTION:Bezirksliga männl. C-Jugend - Hauptrunde Platz 8-12\nBegegnungs-Nr: 17084\nHeim: Germania Zwenkau\nGast: TuS Leipzig-Mockau\nHalle: Stadthalle Zwenkau (31113)\nAdresse: Heinrich-Mann-Weg 17\, 04442 Zwenkau\n
LOCATION:Stadthalle Zwenkau (31113): Heinrich-Mann-Weg 17\, 04442 Zwenkau
CATEGORIES:Saison 2018/19
END:VEVENT
BEGIN:VEVENT
DTSTAMP:20260422T051950Z
DTSTART;TZID=Europe/Berlin:20180930T100000
DTEND;TZID=Europe/Berlin:20180930T110000
SUMMARY:Vorrunde Gruppe A HSV Mölkau - Die Haie  vs TuS Leipzig-Mockau (17012)
UID:b35e0b52-9917-4eaa-84a7-96801e042f97
STATUS:CONFIRMED
LAST-MODIFIED:20181007T100734Z
DESCRIPTION:Bezirksliga männl. C-Jugend - Vorrunde Gruppe A\nBegegnungs-Nr: 17012\nHeim: HSV Mölkau - Die Haie \nGast: TuS Leipzig-Mockau\nHalle: SH Oberschule Leipzig-Mölkau (31106)\nAdresse: Schulstr. 6\, 04316 Leipzig\n
LOCATION:SH Oberschule Leipzig-Mölkau (31106): Schulstr. 6\, 04316 Leipzig
CATEGORIES:Saison 2018/19
END:VEVENT
BEGIN:VEVENT
DTSTAMP:20260422T051950Z
DTSTART;TZID=Europe/Berlin:20181103T150000
DTEND;TZID=Europe/Berlin:20181103T160000
SUMMARY:Vorrunde Gruppe A spielfrei vs TuS Leipzig-Mockau (17020)
UID:40b3b4d6-2606-41a1-aa1d-d51907bf30f3
STATUS:CONFIRMED
LAST-MODIFIED:20181108T104028Z
DESCRIPTION:Bezirksliga männl. C-Jugend - Vorrunde Gruppe A\nBegegnungs-Nr: 17020\nHeim: spielfrei\nGast: TuS Leipzig-Mockau\nHalle: SH J.-Walter Gymnasium Torgau (31601)\nAdresse: Schloßstr. 7-9\, 04860 Torgau\n
LOCATION:SH J.-Walter Gymnasium Torgau (31601): Schloßstr. 7-9\, 04860 Torgau
CATEGORIES:Saison 2018/19
END:VEVENT
BEGIN:VEVENT
DTSTAMP:20260422T051950Z
DTSTART;TZID=Europe/Berlin:20180915T140000
DTEND;TZID=Europe/Berlin:20180915T150000
SUMMARY:Vorrunde Gruppe A Lok Wurzen vs TuS Leipzig-Mockau (17005)
UID:59c23f7e-062d-4683-98da-55ef81b59a09
STATUS:CONFIRMED
LAST-MODIFIED:20180915T185159Z
DESCRIPTION:Bezirksliga männl. C-Jugend - Vorrunde Gruppe A\nBegegnungs-Nr: 17005\nHeim: Lok Wurzen\nGast: TuS Leipzig-Mockau\nHalle: Stadt-SH Wurzen (31502)\nAdresse: Friedrich-Ebert-Str. 2 c\, 04808 Wurzen\n
LOCATION:Stadt-SH Wurzen (31502): Friedrich-Ebert-Str. 2 c\, 04808 Wurzen
CATEGORIES:Saison 2018/19
END:VEVENT
END:VCALENDAR
