BEGIN:VCALENDAR
PRODID:-//nuDatenautomaten//framework iCal4j //DE
VERSION:2.0
CALSCALE:GREGORIAN
BEGIN:VTIMEZONE
TZID:Europe/Berlin
LAST-MODIFIED:20260306T231828Z
TZURL:https://www.tzurl.org/zoneinfo/Europe/Berlin
X-LIC-LOCATION:Europe/Berlin
X-PROLEPTIC-TZNAME:LMT
BEGIN:STANDARD
TZNAME:CET
TZOFFSETFROM:+005328
TZOFFSETTO:+0100
DTSTART:18930401T000000
END:STANDARD
BEGIN:DAYLIGHT
TZNAME:CEST
TZOFFSETFROM:+0100
TZOFFSETTO:+0200
DTSTART:19160430T230000
RDATE:19400401T020000
RDATE:19430329T020000
RDATE:19460414T020000
RDATE:19470406T030000
RDATE:19480418T020000
RDATE:19490410T020000
RDATE:19800406T020000
END:DAYLIGHT
BEGIN:STANDARD
TZNAME:CET
TZOFFSETFROM:+0200
TZOFFSETTO:+0100
DTSTART:19161001T010000
RDATE:19421102T030000
RDATE:19431004T030000
RDATE:19441002T030000
RDATE:19451118T030000
RDATE:19461007T030000
END:STANDARD
BEGIN:DAYLIGHT
TZNAME:CEST
TZOFFSETFROM:+0100
TZOFFSETTO:+0200
DTSTART:19170416T020000
RRULE:FREQ=YEARLY;UNTIL=19180415T010000Z;BYMONTH=4;BYDAY=3MO
END:DAYLIGHT
BEGIN:STANDARD
TZNAME:CET
TZOFFSETFROM:+0200
TZOFFSETTO:+0100
DTSTART:19170917T030000
RRULE:FREQ=YEARLY;UNTIL=19180916T010000Z;BYMONTH=9;BYDAY=3MO
END:STANDARD
BEGIN:DAYLIGHT
TZNAME:CEST
TZOFFSETFROM:+0100
TZOFFSETTO:+0200
DTSTART:19440403T020000
RRULE:FREQ=YEARLY;UNTIL=19450402T010000Z;BYMONTH=4;BYDAY=1MO
END:DAYLIGHT
BEGIN:DAYLIGHT
TZNAME:CEMT
TZOFFSETFROM:+0200
TZOFFSETTO:+0300
DTSTART:19450524T020000
RDATE:19470511T030000
END:DAYLIGHT
BEGIN:DAYLIGHT
TZNAME:CEST
TZOFFSETFROM:+0300
TZOFFSETTO:+0200
DTSTART:19450924T030000
RDATE:19470629T030000
END:DAYLIGHT
BEGIN:STANDARD
TZNAME:CET
TZOFFSETFROM:+0100
TZOFFSETTO:+0100
DTSTART:19460101T000000
RDATE:19800101T000000
END:STANDARD
BEGIN:STANDARD
TZNAME:CET
TZOFFSETFROM:+0200
TZOFFSETTO:+0100
DTSTART:19471005T030000
RRULE:FREQ=YEARLY;UNTIL=19491002T010000Z;BYMONTH=10;BYDAY=1SU
END:STANDARD
BEGIN:STANDARD
TZNAME:CET
TZOFFSETFROM:+0200
TZOFFSETTO:+0100
DTSTART:19800928T030000
RRULE:FREQ=YEARLY;UNTIL=19950924T010000Z;BYMONTH=9;BYDAY=-1SU
END:STANDARD
BEGIN:DAYLIGHT
TZNAME:CEST
TZOFFSETFROM:+0100
TZOFFSETTO:+0200
DTSTART:19810329T020000
RRULE:FREQ=YEARLY;BYMONTH=3;BYDAY=-1SU
END:DAYLIGHT
BEGIN:STANDARD
TZNAME:CET
TZOFFSETFROM:+0200
TZOFFSETTO:+0100
DTSTART:19961027T030000
RRULE:FREQ=YEARLY;BYMONTH=10;BYDAY=-1SU
END:STANDARD
END:VTIMEZONE
BEGIN:VEVENT
DTSTAMP:20260423T133111Z
DTSTART;TZID=Europe/Berlin:20181117T123000
DTEND;TZID=Europe/Berlin:20181117T133000
SUMMARY:Hauptrunde Platz 1-7 HSV Mölkau - Die Haie  vs Turbine Leipzig (17039)
UID:a97ea7e3-1574-43eb-a210-6fca31b11f8f
STATUS:CONFIRMED
LAST-MODIFIED:20190411T061757Z
DESCRIPTION:Bezirksliga männl. C-Jugend - Hauptrunde Platz 1-7\nBegegnungs-Nr: 17039\nHeim: HSV Mölkau - Die Haie \nGast: Turbine Leipzig\nHalle: SH Oberschule Leipzig-Mölkau (31106)\nAdresse: Schulstr. 6\, 04316 Leipzig\n
LOCATION:SH Oberschule Leipzig-Mölkau (31106): Schulstr. 6\, 04316 Leipzig
CATEGORIES:Saison 2018/19
END:VEVENT
BEGIN:VEVENT
DTSTAMP:20260423T133111Z
DTSTART;TZID=Europe/Berlin:20181202T120000
DTEND;TZID=Europe/Berlin:20181202T130000
SUMMARY:Hauptrunde Platz 1-7 HSV Mölkau - Die Haie  vs HSG Rückmarsdorf (17045)
UID:6903fefd-fa69-4c27-8096-99a94a38ee64
STATUS:CONFIRMED
LAST-MODIFIED:20190411T061757Z
DESCRIPTION:Bezirksliga männl. C-Jugend - Hauptrunde Platz 1-7\nBegegnungs-Nr: 17045\nHeim: HSV Mölkau - Die Haie \nGast: HSG Rückmarsdorf\nHalle: SH Gymnasium an der Telemannstraße  (31109)\nAdresse: Telemannstraße 9\, 04107 Leipzig\n
LOCATION:SH Gymnasium an der Telemannstraße  (31109): Telemannstraße 9\, 04107 Leipzig
CATEGORIES:Saison 2018/19
END:VEVENT
BEGIN:VEVENT
DTSTAMP:20260423T133111Z
DTSTART;TZID=Europe/Berlin:20190310T100000
DTEND;TZID=Europe/Berlin:20190310T110000
SUMMARY:Hauptrunde Platz 1-7 HSV Mölkau - Die Haie  vs SG MoGoNo (17063)
UID:e657cdbd-bd70-4111-a2b7-c9c5da4ce926
STATUS:CONFIRMED
LAST-MODIFIED:20190411T061757Z
DESCRIPTION:Bezirksliga männl. C-Jugend - Hauptrunde Platz 1-7\nBegegnungs-Nr: 17063\nHeim: HSV Mölkau - Die Haie \nGast: SG MoGoNo\nHalle: SH Wilhelm-Hauff-Grundschule Leipzig-Möckern (31102)\nAdresse: Slevogtstr. \, 04159 Leipzig\n
LOCATION:SH Wilhelm-Hauff-Grundschule Leipzig-Möckern (31102): Slevogtstr. \, 04159 Leipzig
CATEGORIES:Saison 2018/19
END:VEVENT
BEGIN:VEVENT
DTSTAMP:20260423T133111Z
DTSTART;TZID=Europe/Berlin:20190324T133000
DTEND;TZID=Europe/Berlin:20190324T143000
SUMMARY:Hauptrunde Platz 1-7 HSV Mölkau - Die Haie  vs SV Lok Leipzig-M. (17069)
UID:a7457d2a-696c-4eb4-a55c-e4d104ea023e
STATUS:CONFIRMED
LAST-MODIFIED:20190411T061757Z
DESCRIPTION:Bezirksliga männl. C-Jugend - Hauptrunde Platz 1-7\nBegegnungs-Nr: 17069\nHeim: HSV Mölkau - Die Haie \nGast: SV Lok Leipzig-M.\nHalle: SH Oberschule Leipzig-Mölkau (31106)\nAdresse: Schulstr. 6\, 04316 Leipzig\n
LOCATION:SH Oberschule Leipzig-Mölkau (31106): Schulstr. 6\, 04316 Leipzig
CATEGORIES:Saison 2018/19
END:VEVENT
BEGIN:VEVENT
DTSTAMP:20260423T133111Z
DTSTART;TZID=Europe/Berlin:20190330T110000
DTEND;TZID=Europe/Berlin:20190330T120000
SUMMARY:Hauptrunde Platz 1-7 HSV Mölkau - Die Haie  vs SG MoGoNo II (17070)
UID:08b1aac3-8a0d-480b-98ff-3c993a13af7b
STATUS:CONFIRMED
LAST-MODIFIED:20190411T061757Z
DESCRIPTION:Bezirksliga männl. C-Jugend - Hauptrunde Platz 1-7\nBegegnungs-Nr: 17070\nHeim: HSV Mölkau - Die Haie \nGast: SG MoGoNo II\nHalle: SH Oberschule Leipzig-Mölkau (31106)\nAdresse: Schulstr. 6\, 04316 Leipzig\n
LOCATION:SH Oberschule Leipzig-Mölkau (31106): Schulstr. 6\, 04316 Leipzig
CATEGORIES:Saison 2018/19
END:VEVENT
BEGIN:VEVENT
DTSTAMP:20260423T133111Z
DTSTART;TZID=Europe/Berlin:20180930T100000
DTEND;TZID=Europe/Berlin:20180930T110000
SUMMARY:Vorrunde Gruppe A HSV Mölkau - Die Haie  vs TuS Leipzig-Mockau (17012)
UID:b35e0b52-9917-4eaa-84a7-96801e042f97
STATUS:CONFIRMED
LAST-MODIFIED:20181007T100734Z
DESCRIPTION:Bezirksliga männl. C-Jugend - Vorrunde Gruppe A\nBegegnungs-Nr: 17012\nHeim: HSV Mölkau - Die Haie \nGast: TuS Leipzig-Mockau\nHalle: SH Oberschule Leipzig-Mölkau (31106)\nAdresse: Schulstr. 6\, 04316 Leipzig\n
LOCATION:SH Oberschule Leipzig-Mölkau (31106): Schulstr. 6\, 04316 Leipzig
CATEGORIES:Saison 2018/19
END:VEVENT
BEGIN:VEVENT
DTSTAMP:20260423T133111Z
DTSTART;TZID=Europe/Berlin:20180916T100000
DTEND;TZID=Europe/Berlin:20180916T110000
SUMMARY:Vorrunde Gruppe A HSV Mölkau - Die Haie  vs VfB Torgau (17007)
UID:4bacff76-677e-4904-b616-08fd0ceaad93
STATUS:CONFIRMED
LAST-MODIFIED:20181108T104028Z
DESCRIPTION:Bezirksliga männl. C-Jugend - Vorrunde Gruppe A\nBegegnungs-Nr: 17007\nHeim: HSV Mölkau - Die Haie \nGast: VfB Torgau\nHalle: SH Oberschule Leipzig-Mölkau (31106)\nAdresse: Schulstr. 6\, 04316 Leipzig\n
LOCATION:SH Oberschule Leipzig-Mölkau (31106): Schulstr. 6\, 04316 Leipzig
CATEGORIES:Saison 2018/19
END:VEVENT
BEGIN:VEVENT
DTSTAMP:20260423T133111Z
DTSTART;TZID=Europe/Berlin:20181103T123000
DTEND;TZID=Europe/Berlin:20181103T133000
SUMMARY:Vorrunde Gruppe A HSV Mölkau - Die Haie  vs Leipziger SV Südwest (17019)
UID:1cf99946-82ec-4748-b8ab-d990d1531f8b
STATUS:CONFIRMED
LAST-MODIFIED:20181104T213819Z
DESCRIPTION:Bezirksliga männl. C-Jugend - Vorrunde Gruppe A\nBegegnungs-Nr: 17019\nHeim: HSV Mölkau - Die Haie \nGast: Leipziger SV Südwest\nHalle: SH Oberschule Leipzig-Mölkau (31106)\nAdresse: Schulstr. 6\, 04316 Leipzig\n
LOCATION:SH Oberschule Leipzig-Mölkau (31106): Schulstr. 6\, 04316 Leipzig
CATEGORIES:Saison 2018/19
END:VEVENT
BEGIN:VEVENT
DTSTAMP:20260423T133111Z
DTSTART;TZID=Europe/Berlin:20190126T123000
DTEND;TZID=Europe/Berlin:20190126T133000
SUMMARY:Hauptrunde Platz 1-7 HSV Mölkau - Die Haie  vs NHV Concordia Delitzsch (17052)
UID:487317f9-ba56-4089-8ca7-80ad53253aea
STATUS:CONFIRMED
LAST-MODIFIED:20190411T061757Z
DESCRIPTION:Bezirksliga männl. C-Jugend - Hauptrunde Platz 1-7\nBegegnungs-Nr: 17052\nHeim: HSV Mölkau - Die Haie \nGast: NHV Concordia Delitzsch\nHalle: SH Gymnasium an der Telemannstraße  (31109)\nAdresse: Telemannstraße 9\, 04107 Leipzig\n
LOCATION:SH Gymnasium an der Telemannstraße  (31109): Telemannstraße 9\, 04107 Leipzig
CATEGORIES:Saison 2018/19
END:VEVENT
BEGIN:VEVENT
DTSTAMP:20260423T133111Z
DTSTART;TZID=Europe/Berlin:20181124T123000
DTEND;TZID=Europe/Berlin:20181124T133000
SUMMARY:Hauptrunde Platz 1-7 SG MoGoNo vs HSV Mölkau - Die Haie  (17042)
UID:3de14e38-176c-4bda-a078-466a2b5cbc1c
STATUS:CONFIRMED
LAST-MODIFIED:20190411T061757Z
DESCRIPTION:Bezirksliga männl. C-Jugend - Hauptrunde Platz 1-7\nBegegnungs-Nr: 17042\nHeim: SG MoGoNo\nGast: HSV Mölkau - Die Haie \nHalle: SH Kästner-Grundschule Leipzig (31131)\nAdresse: Erfurter Str\, 04155 Leipzig\n
LOCATION:SH Kästner-Grundschule Leipzig (31131): Erfurter Str\, 04155 Leipzig
CATEGORIES:Saison 2018/19
END:VEVENT
BEGIN:VEVENT
DTSTAMP:20260423T133111Z
DTSTART;TZID=Europe/Berlin:20181028T123000
DTEND;TZID=Europe/Berlin:20181028T133000
SUMMARY:Vorrunde Gruppe A Lok Wurzen vs HSV Mölkau - Die Haie  (17018)
UID:bc75149d-d8df-41bf-ab85-5b5455d57946
STATUS:CONFIRMED
LAST-MODIFIED:20181028T213053Z
DESCRIPTION:Bezirksliga männl. C-Jugend - Vorrunde Gruppe A\nBegegnungs-Nr: 17018\nHeim: Lok Wurzen\nGast: HSV Mölkau - Die Haie \nHalle: Stadt-SH Wurzen (31502)\nAdresse: Friedrich-Ebert-Str. 2 c\, 04808 Wurzen\n
LOCATION:Stadt-SH Wurzen (31502): Friedrich-Ebert-Str. 2 c\, 04808 Wurzen
CATEGORIES:Saison 2018/19
END:VEVENT
BEGIN:VEVENT
DTSTAMP:20260423T133111Z
DTSTART;TZID=Europe/Berlin:20181208T153000
DTEND;TZID=Europe/Berlin:20181208T163000
SUMMARY:Hauptrunde Platz 1-7 SV Lok Leipzig-M. vs HSV Mölkau - Die Haie  (17048)
UID:a8cbf042-b6cd-4fed-9d61-3d155a14d815
STATUS:CONFIRMED
LAST-MODIFIED:20190411T061757Z
DESCRIPTION:Bezirksliga männl. C-Jugend - Hauptrunde Platz 1-7\nBegegnungs-Nr: 17048\nHeim: SV Lok Leipzig-M.\nGast: HSV Mölkau - Die Haie \nHalle: SH Astrid Lindgren Grundschule Leipzig (31104)\nAdresse: Löbauer Str. 46\, 04347 Leipzig\n
LOCATION:SH Astrid Lindgren Grundschule Leipzig (31104): Löbauer Str. 46\, 04347 Leipzig
CATEGORIES:Saison 2018/19
END:VEVENT
BEGIN:VEVENT
DTSTAMP:20260423T133111Z
DTSTART;TZID=Europe/Berlin:20181215T123000
DTEND;TZID=Europe/Berlin:20181215T133000
SUMMARY:Hauptrunde Platz 1-7 SG MoGoNo II vs HSV Mölkau - Die Haie  (17049)
UID:1da0cd13-ffca-402e-a9ec-419d91232da8
STATUS:CONFIRMED
LAST-MODIFIED:20190411T061757Z
DESCRIPTION:Bezirksliga männl. C-Jugend - Hauptrunde Platz 1-7\nBegegnungs-Nr: 17049\nHeim: SG MoGoNo II\nGast: HSV Mölkau - Die Haie \nHalle: SH 68. Oberschule (31133)\nAdresse: Breitenfelder Straße 19\, 04155 Leipzig\n
LOCATION:SH 68. Oberschule (31133): Breitenfelder Straße 19\, 04155 Leipzig
CATEGORIES:Saison 2018/19
END:VEVENT
BEGIN:VEVENT
DTSTAMP:20260423T133111Z
DTSTART;TZID=Europe/Berlin:20190316T094000
DTEND;TZID=Europe/Berlin:20190316T104000
SUMMARY:Hauptrunde Platz 1-7 HSG Rückmarsdorf vs HSV Mölkau - Die Haie  (17066)
UID:2963af7f-963d-4746-b84d-f16a2f1c8da2
STATUS:CONFIRMED
LAST-MODIFIED:20190411T061757Z
DESCRIPTION:Bezirksliga männl. C-Jugend - Hauptrunde Platz 1-7\nBegegnungs-Nr: 17066\nHeim: HSG Rückmarsdorf\nGast: HSV Mölkau - Die Haie \nHalle: SH An der Radrennbahn Leipzig (31128)\nAdresse: Windorfer Straße 63\, 04229 Leipzig\n
LOCATION:SH An der Radrennbahn Leipzig (31128): Windorfer Straße 63\, 04229 Leipzig
CATEGORIES:Saison 2018/19
END:VEVENT
BEGIN:VEVENT
DTSTAMP:20260423T133111Z
DTSTART;TZID=Europe/Berlin:20190406T140000
DTEND;TZID=Europe/Berlin:20190406T150000
SUMMARY:Hauptrunde Platz 1-7 NHV Concordia Delitzsch vs HSV Mölkau - Die Haie  (17073)
UID:6ee3f281-5e88-491b-b1b7-545dbab16d1d
STATUS:CONFIRMED
LAST-MODIFIED:20190411T061757Z
DESCRIPTION:Bezirksliga männl. C-Jugend - Hauptrunde Platz 1-7\nBegegnungs-Nr: 17073\nHeim: NHV Concordia Delitzsch\nGast: HSV Mölkau - Die Haie \nHalle: Mehrzweckhalle Delitzsch  (31304)\nAdresse: Karl-Marx-Str. 1\, 04509 Delitzsch\n
LOCATION:Mehrzweckhalle Delitzsch  (31304): Karl-Marx-Str. 1\, 04509 Delitzsch
CATEGORIES:Saison 2018/19
END:VEVENT
BEGIN:VEVENT
DTSTAMP:20260423T133111Z
DTSTART;TZID=Europe/Berlin:20180908T113000
DTEND;TZID=Europe/Berlin:20180908T123000
SUMMARY:Vorrunde Gruppe A SG MoGoNo II vs HSV Mölkau - Die Haie  (17004)
UID:5bf2be12-9160-4acb-8c8e-feebd4909233
STATUS:CONFIRMED
LAST-MODIFIED:20180908T212410Z
DESCRIPTION:Bezirksliga männl. C-Jugend - Vorrunde Gruppe A\nBegegnungs-Nr: 17004\nHeim: SG MoGoNo II\nGast: HSV Mölkau - Die Haie \nHalle: SH Kästner-Grundschule Leipzig (31131)\nAdresse: Erfurter Str\, 04155 Leipzig\n
LOCATION:SH Kästner-Grundschule Leipzig (31131): Erfurter Str\, 04155 Leipzig
CATEGORIES:Saison 2018/19
END:VEVENT
BEGIN:VEVENT
DTSTAMP:20260423T133111Z
DTSTART;TZID=Europe/Berlin:20181006T140000
DTEND;TZID=Europe/Berlin:20181006T150000
SUMMARY:Vorrunde Gruppe A NHV Concordia Delitzsch vs HSV Mölkau - Die Haie  (17014)
UID:881a9cbf-f185-4014-9bf3-4490dbdbb2f7
STATUS:CONFIRMED
LAST-MODIFIED:20181007T101225Z
DESCRIPTION:Bezirksliga männl. C-Jugend - Vorrunde Gruppe A\nBegegnungs-Nr: 17014\nHeim: NHV Concordia Delitzsch\nGast: HSV Mölkau - Die Haie \nHalle: Mehrzweckhalle Delitzsch  (31304)\nAdresse: Karl-Marx-Str. 1\, 04509 Delitzsch\n
LOCATION:Mehrzweckhalle Delitzsch  (31304): Karl-Marx-Str. 1\, 04509 Delitzsch
CATEGORIES:Saison 2018/19
END:VEVENT
BEGIN:VEVENT
DTSTAMP:20260423T133111Z
DTSTART;TZID=Europe/Berlin:20190209T120000
DTEND;TZID=Europe/Berlin:20190209T130000
SUMMARY:Hauptrunde Platz 1-7 Turbine Leipzig vs HSV Mölkau - Die Haie  (17060)
UID:53cc6809-38fc-4c29-b6cd-b44eb4cfe119
STATUS:CONFIRMED
LAST-MODIFIED:20190411T061757Z
DESCRIPTION:Bezirksliga männl. C-Jugend - Hauptrunde Platz 1-7\nBegegnungs-Nr: 17060\nHeim: Turbine Leipzig\nGast: HSV Mölkau - Die Haie \nHalle: SH Ostwald Gymnasium Leipzig-Lößnig (31105)\nAdresse: Willi-Bredel-Str. 13\, 04279 Leipzig\n
LOCATION:SH Ostwald Gymnasium Leipzig-Lößnig (31105): Willi-Bredel-Str. 13\, 04279 Leipzig
CATEGORIES:Saison 2018/19
END:VEVENT
END:VCALENDAR
