BEGIN:VCALENDAR
PRODID:-//nuDatenautomaten//framework iCal4j //DE
VERSION:2.0
CALSCALE:GREGORIAN
BEGIN:VTIMEZONE
TZID:Europe/Berlin
LAST-MODIFIED:20260306T231828Z
TZURL:https://www.tzurl.org/zoneinfo/Europe/Berlin
X-LIC-LOCATION:Europe/Berlin
X-PROLEPTIC-TZNAME:LMT
BEGIN:STANDARD
TZNAME:CET
TZOFFSETFROM:+005328
TZOFFSETTO:+0100
DTSTART:18930401T000000
END:STANDARD
BEGIN:DAYLIGHT
TZNAME:CEST
TZOFFSETFROM:+0100
TZOFFSETTO:+0200
DTSTART:19160430T230000
RDATE:19400401T020000
RDATE:19430329T020000
RDATE:19460414T020000
RDATE:19470406T030000
RDATE:19480418T020000
RDATE:19490410T020000
RDATE:19800406T020000
END:DAYLIGHT
BEGIN:STANDARD
TZNAME:CET
TZOFFSETFROM:+0200
TZOFFSETTO:+0100
DTSTART:19161001T010000
RDATE:19421102T030000
RDATE:19431004T030000
RDATE:19441002T030000
RDATE:19451118T030000
RDATE:19461007T030000
END:STANDARD
BEGIN:DAYLIGHT
TZNAME:CEST
TZOFFSETFROM:+0100
TZOFFSETTO:+0200
DTSTART:19170416T020000
RRULE:FREQ=YEARLY;UNTIL=19180415T010000Z;BYMONTH=4;BYDAY=3MO
END:DAYLIGHT
BEGIN:STANDARD
TZNAME:CET
TZOFFSETFROM:+0200
TZOFFSETTO:+0100
DTSTART:19170917T030000
RRULE:FREQ=YEARLY;UNTIL=19180916T010000Z;BYMONTH=9;BYDAY=3MO
END:STANDARD
BEGIN:DAYLIGHT
TZNAME:CEST
TZOFFSETFROM:+0100
TZOFFSETTO:+0200
DTSTART:19440403T020000
RRULE:FREQ=YEARLY;UNTIL=19450402T010000Z;BYMONTH=4;BYDAY=1MO
END:DAYLIGHT
BEGIN:DAYLIGHT
TZNAME:CEMT
TZOFFSETFROM:+0200
TZOFFSETTO:+0300
DTSTART:19450524T020000
RDATE:19470511T030000
END:DAYLIGHT
BEGIN:DAYLIGHT
TZNAME:CEST
TZOFFSETFROM:+0300
TZOFFSETTO:+0200
DTSTART:19450924T030000
RDATE:19470629T030000
END:DAYLIGHT
BEGIN:STANDARD
TZNAME:CET
TZOFFSETFROM:+0100
TZOFFSETTO:+0100
DTSTART:19460101T000000
RDATE:19800101T000000
END:STANDARD
BEGIN:STANDARD
TZNAME:CET
TZOFFSETFROM:+0200
TZOFFSETTO:+0100
DTSTART:19471005T030000
RRULE:FREQ=YEARLY;UNTIL=19491002T010000Z;BYMONTH=10;BYDAY=1SU
END:STANDARD
BEGIN:STANDARD
TZNAME:CET
TZOFFSETFROM:+0200
TZOFFSETTO:+0100
DTSTART:19800928T030000
RRULE:FREQ=YEARLY;UNTIL=19950924T010000Z;BYMONTH=9;BYDAY=-1SU
END:STANDARD
BEGIN:DAYLIGHT
TZNAME:CEST
TZOFFSETFROM:+0100
TZOFFSETTO:+0200
DTSTART:19810329T020000
RRULE:FREQ=YEARLY;BYMONTH=3;BYDAY=-1SU
END:DAYLIGHT
BEGIN:STANDARD
TZNAME:CET
TZOFFSETFROM:+0200
TZOFFSETTO:+0100
DTSTART:19961027T030000
RRULE:FREQ=YEARLY;BYMONTH=10;BYDAY=-1SU
END:STANDARD
END:VTIMEZONE
BEGIN:VEVENT
DTSTAMP:20260422T043840Z
DTSTART;TZID=Europe/Berlin:20181208T140000
DTEND;TZID=Europe/Berlin:20181208T150000
SUMMARY:Hauptrunde Platz 1-7 HSG Rückmarsdorf vs SG MoGoNo II (17047)
UID:a0e7f6e1-627d-4aa3-9ba9-d5018b00e2ff
STATUS:CONFIRMED
LAST-MODIFIED:20181211T175003Z
DESCRIPTION:Bezirksliga männl. C-Jugend - Hauptrunde Platz 1-7\nBegegnungs-Nr: 17047\nHeim: HSG Rückmarsdorf\nGast: SG MoGoNo II\nHalle: SH An der Radrennbahn Leipzig (31128)\nAdresse: Windorfer Straße 63\, 04229 Leipzig\n
LOCATION:SH An der Radrennbahn Leipzig (31128): Windorfer Straße 63\, 04229 Leipzig
CATEGORIES:Saison 2018/19
END:VEVENT
BEGIN:VEVENT
DTSTAMP:20260422T043840Z
DTSTART;TZID=Europe/Berlin:20190126T120000
DTEND;TZID=Europe/Berlin:20190126T130000
SUMMARY:Hauptrunde Platz 1-7 HSG Rückmarsdorf vs Turbine Leipzig (17053)
UID:973b6da0-24fd-4dc3-ae24-979f07a44884
STATUS:CONFIRMED
LAST-MODIFIED:20190128T140304Z
DESCRIPTION:Bezirksliga männl. C-Jugend - Hauptrunde Platz 1-7\nBegegnungs-Nr: 17053\nHeim: HSG Rückmarsdorf\nGast: Turbine Leipzig\nHalle: SH An der Radrennbahn Leipzig (31128)\nAdresse: Windorfer Straße 63\, 04229 Leipzig\n
LOCATION:SH An der Radrennbahn Leipzig (31128): Windorfer Straße 63\, 04229 Leipzig
CATEGORIES:Saison 2018/19
END:VEVENT
BEGIN:VEVENT
DTSTAMP:20260422T043840Z
DTSTART;TZID=Europe/Berlin:20190209T093000
DTEND;TZID=Europe/Berlin:20190209T103000
SUMMARY:Hauptrunde Platz 1-7 HSG Rückmarsdorf vs NHV Concordia Delitzsch (17058)
UID:6477d166-6f58-41b3-b688-d73f480c0b96
STATUS:CONFIRMED
LAST-MODIFIED:20190210T111554Z
DESCRIPTION:Bezirksliga männl. C-Jugend - Hauptrunde Platz 1-7\nBegegnungs-Nr: 17058\nHeim: HSG Rückmarsdorf\nGast: NHV Concordia Delitzsch\nHalle: SH An der Radrennbahn Leipzig (31128)\nAdresse: Windorfer Straße 63\, 04229 Leipzig\n
LOCATION:SH An der Radrennbahn Leipzig (31128): Windorfer Straße 63\, 04229 Leipzig
CATEGORIES:Saison 2018/19
END:VEVENT
BEGIN:VEVENT
DTSTAMP:20260422T043840Z
DTSTART;TZID=Europe/Berlin:20190413T090000
DTEND;TZID=Europe/Berlin:20190413T100000
SUMMARY:Hauptrunde Platz 1-7 HSG Rückmarsdorf vs SV Lok Leipzig-M. (17078)
UID:3fef2998-9606-482b-acc5-abfac1500d29
STATUS:CONFIRMED
LAST-MODIFIED:20190414T164303Z
DESCRIPTION:Bezirksliga männl. C-Jugend - Hauptrunde Platz 1-7\nBegegnungs-Nr: 17078\nHeim: HSG Rückmarsdorf\nGast: SV Lok Leipzig-M.\nHalle: SH An der Radrennbahn Leipzig (31128)\nAdresse: Windorfer Straße 63\, 04229 Leipzig\n
LOCATION:SH An der Radrennbahn Leipzig (31128): Windorfer Straße 63\, 04229 Leipzig
CATEGORIES:Saison 2018/19
END:VEVENT
BEGIN:VEVENT
DTSTAMP:20260422T043840Z
DTSTART;TZID=Europe/Berlin:20190316T094000
DTEND;TZID=Europe/Berlin:20190316T104000
SUMMARY:Hauptrunde Platz 1-7 HSG Rückmarsdorf vs HSV Mölkau - Die Haie  (17066)
UID:2963af7f-963d-4746-b84d-f16a2f1c8da2
STATUS:CONFIRMED
LAST-MODIFIED:20190411T061757Z
DESCRIPTION:Bezirksliga männl. C-Jugend - Hauptrunde Platz 1-7\nBegegnungs-Nr: 17066\nHeim: HSG Rückmarsdorf\nGast: HSV Mölkau - Die Haie \nHalle: SH An der Radrennbahn Leipzig (31128)\nAdresse: Windorfer Straße 63\, 04229 Leipzig\n
LOCATION:SH An der Radrennbahn Leipzig (31128): Windorfer Straße 63\, 04229 Leipzig
CATEGORIES:Saison 2018/19
END:VEVENT
BEGIN:VEVENT
DTSTAMP:20260422T043840Z
DTSTART;TZID=Europe/Berlin:20190331T123000
DTEND;TZID=Europe/Berlin:20190331T133000
SUMMARY:Hauptrunde Platz 1-7 HSG Rückmarsdorf vs SG MoGoNo (17071)
UID:78eceace-df29-4dd0-a032-3cfbce76b1b0
STATUS:CONFIRMED
LAST-MODIFIED:20190402T200215Z
DESCRIPTION:Bezirksliga männl. C-Jugend - Hauptrunde Platz 1-7\nBegegnungs-Nr: 17071\nHeim: HSG Rückmarsdorf\nGast: SG MoGoNo\nHalle: SH An der Radrennbahn Leipzig (31128)\nAdresse: Windorfer Straße 63\, 04229 Leipzig\n
LOCATION:SH An der Radrennbahn Leipzig (31128): Windorfer Straße 63\, 04229 Leipzig
CATEGORIES:Saison 2018/19
END:VEVENT
BEGIN:VEVENT
DTSTAMP:20260422T043840Z
DTSTART;TZID=Europe/Berlin:20180922T111000
DTEND;TZID=Europe/Berlin:20180922T121000
SUMMARY:Vorrunde Gruppe B HSG Rückmarsdorf vs SG MoGoNo (17028)
UID:4b9ba613-16fb-4e5d-8f68-166fe8af47c1
STATUS:CONFIRMED
LAST-MODIFIED:20180925T120847Z
DESCRIPTION:Bezirksliga männl. C-Jugend - Vorrunde Gruppe B\nBegegnungs-Nr: 17028\nHeim: HSG Rückmarsdorf\nGast: SG MoGoNo\nHalle: SH An der Radrennbahn Leipzig (31128)\nAdresse: Windorfer Straße 63\, 04229 Leipzig\n
LOCATION:SH An der Radrennbahn Leipzig (31128): Windorfer Straße 63\, 04229 Leipzig
CATEGORIES:Saison 2018/19
END:VEVENT
BEGIN:VEVENT
DTSTAMP:20260422T043840Z
DTSTART;TZID=Europe/Berlin:20181103T143000
DTEND;TZID=Europe/Berlin:20181103T153000
SUMMARY:Vorrunde Gruppe B HSG Rückmarsdorf vs Turbine Leipzig (17034)
UID:174423d8-44b1-4019-8020-0c67193420ba
STATUS:CONFIRMED
LAST-MODIFIED:20181108T144346Z
DESCRIPTION:Bezirksliga männl. C-Jugend - Vorrunde Gruppe B\nBegegnungs-Nr: 17034\nHeim: HSG Rückmarsdorf\nGast: Turbine Leipzig\nHalle: SH An der Radrennbahn Leipzig (31128)\nAdresse: Windorfer Straße 63\, 04229 Leipzig\n
LOCATION:SH An der Radrennbahn Leipzig (31128): Windorfer Straße 63\, 04229 Leipzig
CATEGORIES:Saison 2018/19
END:VEVENT
BEGIN:VEVENT
DTSTAMP:20260422T043840Z
DTSTART;TZID=Europe/Berlin:20190324T110000
DTEND;TZID=Europe/Berlin:20190324T120000
SUMMARY:Hauptrunde Platz 1-7 SG MoGoNo II vs HSG Rückmarsdorf (17068)
UID:db6048ce-b56d-4a26-8dc9-8f39f308b14a
STATUS:CONFIRMED
LAST-MODIFIED:20190402T195939Z
DESCRIPTION:Bezirksliga männl. C-Jugend - Hauptrunde Platz 1-7\nBegegnungs-Nr: 17068\nHeim: SG MoGoNo II\nGast: HSG Rückmarsdorf\nHalle: SH Kästner-Grundschule Leipzig (31131)\nAdresse: Erfurter Str\, 04155 Leipzig\n
LOCATION:SH Kästner-Grundschule Leipzig (31131): Erfurter Str\, 04155 Leipzig
CATEGORIES:Saison 2018/19
END:VEVENT
BEGIN:VEVENT
DTSTAMP:20260422T043840Z
DTSTART;TZID=Europe/Berlin:20181215T140000
DTEND;TZID=Europe/Berlin:20181215T150000
SUMMARY:Hauptrunde Platz 1-7 SG MoGoNo vs HSG Rückmarsdorf (17050)
UID:d430e654-c70c-43a3-80cb-bf43a5427e47
STATUS:CONFIRMED
LAST-MODIFIED:20181217T095002Z
DESCRIPTION:Bezirksliga männl. C-Jugend - Hauptrunde Platz 1-7\nBegegnungs-Nr: 17050\nHeim: SG MoGoNo\nGast: HSG Rückmarsdorf\nHalle: SH 68. Oberschule (31133)\nAdresse: Breitenfelder Straße 19\, 04155 Leipzig\n
LOCATION:SH 68. Oberschule (31133): Breitenfelder Straße 19\, 04155 Leipzig
CATEGORIES:Saison 2018/19
END:VEVENT
BEGIN:VEVENT
DTSTAMP:20260422T043840Z
DTSTART;TZID=Europe/Berlin:20181202T120000
DTEND;TZID=Europe/Berlin:20181202T130000
SUMMARY:Hauptrunde Platz 1-7 HSV Mölkau - Die Haie  vs HSG Rückmarsdorf (17045)
UID:6903fefd-fa69-4c27-8096-99a94a38ee64
STATUS:CONFIRMED
LAST-MODIFIED:20190411T061757Z
DESCRIPTION:Bezirksliga männl. C-Jugend - Hauptrunde Platz 1-7\nBegegnungs-Nr: 17045\nHeim: HSV Mölkau - Die Haie \nGast: HSG Rückmarsdorf\nHalle: SH Gymnasium an der Telemannstraße  (31109)\nAdresse: Telemannstraße 9\, 04107 Leipzig\n
LOCATION:SH Gymnasium an der Telemannstraße  (31109): Telemannstraße 9\, 04107 Leipzig
CATEGORIES:Saison 2018/19
END:VEVENT
BEGIN:VEVENT
DTSTAMP:20260422T043840Z
DTSTART;TZID=Europe/Berlin:20190203T150000
DTEND;TZID=Europe/Berlin:20190203T160000
SUMMARY:Hauptrunde Platz 1-7 SV Lok Leipzig-M. vs HSG Rückmarsdorf (17057)
UID:63de4330-643f-4f0a-80f5-6c8434401929
STATUS:CONFIRMED
LAST-MODIFIED:20190204T084108Z
DESCRIPTION:Bezirksliga männl. C-Jugend - Hauptrunde Platz 1-7\nBegegnungs-Nr: 17057\nHeim: SV Lok Leipzig-M.\nGast: HSG Rückmarsdorf\nHalle: SH Astrid Lindgren Grundschule Leipzig (31104)\nAdresse: Löbauer Str. 46\, 04347 Leipzig\n
LOCATION:SH Astrid Lindgren Grundschule Leipzig (31104): Löbauer Str. 46\, 04347 Leipzig
CATEGORIES:Saison 2018/19
END:VEVENT
BEGIN:VEVENT
DTSTAMP:20260422T043840Z
DTSTART;TZID=Europe/Berlin:20190406T103000
DTEND;TZID=Europe/Berlin:20190406T113000
SUMMARY:Hauptrunde Platz 1-7 Turbine Leipzig vs HSG Rückmarsdorf (17074)
UID:408c359b-9911-4d3c-b9ee-c57f99dde0e4
STATUS:CONFIRMED
LAST-MODIFIED:20190406T190207Z
DESCRIPTION:Bezirksliga männl. C-Jugend - Hauptrunde Platz 1-7\nBegegnungs-Nr: 17074\nHeim: Turbine Leipzig\nGast: HSG Rückmarsdorf\nHalle: SH Ostwald Gymnasium Leipzig-Lößnig (31105)\nAdresse: Willi-Bredel-Str. 13\, 04279 Leipzig\n
LOCATION:SH Ostwald Gymnasium Leipzig-Lößnig (31105): Willi-Bredel-Str. 13\, 04279 Leipzig
CATEGORIES:Saison 2018/19
END:VEVENT
BEGIN:VEVENT
DTSTAMP:20260422T043840Z
DTSTART;TZID=Europe/Berlin:20181118T100000
DTEND;TZID=Europe/Berlin:20181118T110000
SUMMARY:Hauptrunde Platz 1-7 NHV Concordia Delitzsch vs HSG Rückmarsdorf (17037)
UID:8e6e9c92-2568-4742-8311-756b559a3cdd
STATUS:CONFIRMED
LAST-MODIFIED:20181119T101623Z
DESCRIPTION:Bezirksliga männl. C-Jugend - Hauptrunde Platz 1-7\nBegegnungs-Nr: 17037\nHeim: NHV Concordia Delitzsch\nGast: HSG Rückmarsdorf\nHalle: Mehrzweckhalle Delitzsch  (31304)\nAdresse: Karl-Marx-Str. 1\, 04509 Delitzsch\n
LOCATION:Mehrzweckhalle Delitzsch  (31304): Karl-Marx-Str. 1\, 04509 Delitzsch
CATEGORIES:Saison 2018/19
END:VEVENT
BEGIN:VEVENT
DTSTAMP:20260422T043840Z
DTSTART;TZID=Europe/Berlin:20181028T130000
DTEND;TZID=Europe/Berlin:20181028T140000
SUMMARY:Vorrunde Gruppe B SV Lok Leipzig-M. vs HSG Rückmarsdorf (17032)
UID:0be38493-c99d-4ed8-a11c-3a80ea30f9a4
STATUS:CONFIRMED
LAST-MODIFIED:20181108T164611Z
DESCRIPTION:Bezirksliga männl. C-Jugend - Vorrunde Gruppe B\nBegegnungs-Nr: 17032\nHeim: SV Lok Leipzig-M.\nGast: HSG Rückmarsdorf\nHalle: SH Astrid Lindgren Grundschule Leipzig (31104)\nAdresse: Löbauer Str. 46\, 04347 Leipzig\n
LOCATION:SH Astrid Lindgren Grundschule Leipzig (31104): Löbauer Str. 46\, 04347 Leipzig
CATEGORIES:Saison 2018/19
END:VEVENT
BEGIN:VEVENT
DTSTAMP:20260422T043840Z
DTSTART;TZID=Europe/Berlin:20180929T123000
DTEND;TZID=Europe/Berlin:20180929T133000
SUMMARY:Vorrunde Gruppe B VICTORIA Naunhof vs HSG Rückmarsdorf (17030)
UID:655736ba-e05a-452d-a968-87fd316dd952
STATUS:CONFIRMED
LAST-MODIFIED:20181007T101507Z
DESCRIPTION:Bezirksliga männl. C-Jugend - Vorrunde Gruppe B\nBegegnungs-Nr: 17030\nHeim: VICTORIA Naunhof\nGast: HSG Rückmarsdorf\nHalle: SH Oberschule Naunhof (31114)\nAdresse: Wurzener Straße 38\, 04683 Naunhof\n
LOCATION:SH Oberschule Naunhof (31114): Wurzener Straße 38\, 04683 Naunhof
CATEGORIES:Saison 2018/19
END:VEVENT
BEGIN:VEVENT
DTSTAMP:20260422T043840Z
DTSTART;TZID=Europe/Berlin:20180902T150000
DTEND;TZID=Europe/Berlin:20180902T160000
SUMMARY:Vorrunde Gruppe B Germania Zwenkau vs HSG Rückmarsdorf (17023)
UID:282e035c-e2b9-4d57-8470-4cbea4c4d1de
STATUS:CONFIRMED
LAST-MODIFIED:20180907T073040Z
DESCRIPTION:Bezirksliga männl. C-Jugend - Vorrunde Gruppe B\nBegegnungs-Nr: 17023\nHeim: Germania Zwenkau\nGast: HSG Rückmarsdorf\nHalle: Stadthalle Zwenkau (31113)\nAdresse: Heinrich-Mann-Weg 17\, 04442 Zwenkau\n
LOCATION:Stadthalle Zwenkau (31113): Heinrich-Mann-Weg 17\, 04442 Zwenkau
CATEGORIES:Saison 2018/19
END:VEVENT
END:VCALENDAR
