BEGIN:VCALENDAR
PRODID:-//nuDatenautomaten//framework iCal4j //DE
VERSION:2.0
CALSCALE:GREGORIAN
BEGIN:VTIMEZONE
TZID:Europe/Berlin
LAST-MODIFIED:20260306T231828Z
TZURL:https://www.tzurl.org/zoneinfo/Europe/Berlin
X-LIC-LOCATION:Europe/Berlin
X-PROLEPTIC-TZNAME:LMT
BEGIN:STANDARD
TZNAME:CET
TZOFFSETFROM:+005328
TZOFFSETTO:+0100
DTSTART:18930401T000000
END:STANDARD
BEGIN:DAYLIGHT
TZNAME:CEST
TZOFFSETFROM:+0100
TZOFFSETTO:+0200
DTSTART:19160430T230000
RDATE:19400401T020000
RDATE:19430329T020000
RDATE:19460414T020000
RDATE:19470406T030000
RDATE:19480418T020000
RDATE:19490410T020000
RDATE:19800406T020000
END:DAYLIGHT
BEGIN:STANDARD
TZNAME:CET
TZOFFSETFROM:+0200
TZOFFSETTO:+0100
DTSTART:19161001T010000
RDATE:19421102T030000
RDATE:19431004T030000
RDATE:19441002T030000
RDATE:19451118T030000
RDATE:19461007T030000
END:STANDARD
BEGIN:DAYLIGHT
TZNAME:CEST
TZOFFSETFROM:+0100
TZOFFSETTO:+0200
DTSTART:19170416T020000
RRULE:FREQ=YEARLY;UNTIL=19180415T010000Z;BYMONTH=4;BYDAY=3MO
END:DAYLIGHT
BEGIN:STANDARD
TZNAME:CET
TZOFFSETFROM:+0200
TZOFFSETTO:+0100
DTSTART:19170917T030000
RRULE:FREQ=YEARLY;UNTIL=19180916T010000Z;BYMONTH=9;BYDAY=3MO
END:STANDARD
BEGIN:DAYLIGHT
TZNAME:CEST
TZOFFSETFROM:+0100
TZOFFSETTO:+0200
DTSTART:19440403T020000
RRULE:FREQ=YEARLY;UNTIL=19450402T010000Z;BYMONTH=4;BYDAY=1MO
END:DAYLIGHT
BEGIN:DAYLIGHT
TZNAME:CEMT
TZOFFSETFROM:+0200
TZOFFSETTO:+0300
DTSTART:19450524T020000
RDATE:19470511T030000
END:DAYLIGHT
BEGIN:DAYLIGHT
TZNAME:CEST
TZOFFSETFROM:+0300
TZOFFSETTO:+0200
DTSTART:19450924T030000
RDATE:19470629T030000
END:DAYLIGHT
BEGIN:STANDARD
TZNAME:CET
TZOFFSETFROM:+0100
TZOFFSETTO:+0100
DTSTART:19460101T000000
RDATE:19800101T000000
END:STANDARD
BEGIN:STANDARD
TZNAME:CET
TZOFFSETFROM:+0200
TZOFFSETTO:+0100
DTSTART:19471005T030000
RRULE:FREQ=YEARLY;UNTIL=19491002T010000Z;BYMONTH=10;BYDAY=1SU
END:STANDARD
BEGIN:STANDARD
TZNAME:CET
TZOFFSETFROM:+0200
TZOFFSETTO:+0100
DTSTART:19800928T030000
RRULE:FREQ=YEARLY;UNTIL=19950924T010000Z;BYMONTH=9;BYDAY=-1SU
END:STANDARD
BEGIN:DAYLIGHT
TZNAME:CEST
TZOFFSETFROM:+0100
TZOFFSETTO:+0200
DTSTART:19810329T020000
RRULE:FREQ=YEARLY;BYMONTH=3;BYDAY=-1SU
END:DAYLIGHT
BEGIN:STANDARD
TZNAME:CET
TZOFFSETFROM:+0200
TZOFFSETTO:+0100
DTSTART:19961027T030000
RRULE:FREQ=YEARLY;BYMONTH=10;BYDAY=-1SU
END:STANDARD
END:VTIMEZONE
BEGIN:VEVENT
DTSTAMP:20260422T221843Z
DTSTART;TZID=Europe/Berlin:20181125T123000
DTEND;TZID=Europe/Berlin:20181125T133000
SUMMARY:Hauptrunde Platz 1-7 Turbine Leipzig vs SG MoGoNo II (17041)
UID:511fb608-1cd1-41b5-95cf-8f4336c0f921
STATUS:CONFIRMED
LAST-MODIFIED:20181125T210313Z
DESCRIPTION:Bezirksliga männl. C-Jugend - Hauptrunde Platz 1-7\nBegegnungs-Nr: 17041\nHeim: Turbine Leipzig\nGast: SG MoGoNo II\nHalle: SH Ostwald Gymnasium Leipzig-Lößnig (31105)\nAdresse: Willi-Bredel-Str. 13\, 04279 Leipzig\n
LOCATION:SH Ostwald Gymnasium Leipzig-Lößnig (31105): Willi-Bredel-Str. 13\, 04279 Leipzig
CATEGORIES:Saison 2018/19
END:VEVENT
BEGIN:VEVENT
DTSTAMP:20260422T221843Z
DTSTART;TZID=Europe/Berlin:20181216T103000
DTEND;TZID=Europe/Berlin:20181216T113000
SUMMARY:Hauptrunde Platz 1-7 Turbine Leipzig vs SV Lok Leipzig-M. (17051)
UID:0b23b0f2-ddfa-4743-b141-9104c8693a74
STATUS:CONFIRMED
LAST-MODIFIED:20181217T095045Z
DESCRIPTION:Bezirksliga männl. C-Jugend - Hauptrunde Platz 1-7\nBegegnungs-Nr: 17051\nHeim: Turbine Leipzig\nGast: SV Lok Leipzig-M.\nHalle: SH Ostwald Gymnasium Leipzig-Lößnig (31105)\nAdresse: Willi-Bredel-Str. 13\, 04279 Leipzig\n
LOCATION:SH Ostwald Gymnasium Leipzig-Lößnig (31105): Willi-Bredel-Str. 13\, 04279 Leipzig
CATEGORIES:Saison 2018/19
END:VEVENT
BEGIN:VEVENT
DTSTAMP:20260422T221843Z
DTSTART;TZID=Europe/Berlin:20190316T130000
DTEND;TZID=Europe/Berlin:20190316T140000
SUMMARY:Hauptrunde Platz 1-7 Turbine Leipzig vs NHV Concordia Delitzsch (17064)
UID:47535b29-a79a-4e1a-9407-b9375358ed7e
STATUS:CONFIRMED
LAST-MODIFIED:20190316T143314Z
DESCRIPTION:Bezirksliga männl. C-Jugend - Hauptrunde Platz 1-7\nBegegnungs-Nr: 17064\nHeim: Turbine Leipzig\nGast: NHV Concordia Delitzsch\nHalle: SH Ostwald Gymnasium Leipzig-Lößnig (31105)\nAdresse: Willi-Bredel-Str. 13\, 04279 Leipzig\n
LOCATION:SH Ostwald Gymnasium Leipzig-Lößnig (31105): Willi-Bredel-Str. 13\, 04279 Leipzig
CATEGORIES:Saison 2018/19
END:VEVENT
BEGIN:VEVENT
DTSTAMP:20260422T221843Z
DTSTART;TZID=Europe/Berlin:20190406T103000
DTEND;TZID=Europe/Berlin:20190406T113000
SUMMARY:Hauptrunde Platz 1-7 Turbine Leipzig vs HSG Rückmarsdorf (17074)
UID:408c359b-9911-4d3c-b9ee-c57f99dde0e4
STATUS:CONFIRMED
LAST-MODIFIED:20190406T190207Z
DESCRIPTION:Bezirksliga männl. C-Jugend - Hauptrunde Platz 1-7\nBegegnungs-Nr: 17074\nHeim: Turbine Leipzig\nGast: HSG Rückmarsdorf\nHalle: SH Ostwald Gymnasium Leipzig-Lößnig (31105)\nAdresse: Willi-Bredel-Str. 13\, 04279 Leipzig\n
LOCATION:SH Ostwald Gymnasium Leipzig-Lößnig (31105): Willi-Bredel-Str. 13\, 04279 Leipzig
CATEGORIES:Saison 2018/19
END:VEVENT
BEGIN:VEVENT
DTSTAMP:20260422T221843Z
DTSTART;TZID=Europe/Berlin:20190413T110000
DTEND;TZID=Europe/Berlin:20190413T120000
SUMMARY:Hauptrunde Platz 1-7 Turbine Leipzig vs SG MoGoNo (17077)
UID:b4755cbc-a646-4e82-acab-59afa480d464
STATUS:CONFIRMED
LAST-MODIFIED:20190414T164655Z
DESCRIPTION:Bezirksliga männl. C-Jugend - Hauptrunde Platz 1-7\nBegegnungs-Nr: 17077\nHeim: Turbine Leipzig\nGast: SG MoGoNo\nHalle: SH Ostwald Gymnasium Leipzig-Lößnig (31105)\nAdresse: Willi-Bredel-Str. 13\, 04279 Leipzig\n
LOCATION:SH Ostwald Gymnasium Leipzig-Lößnig (31105): Willi-Bredel-Str. 13\, 04279 Leipzig
CATEGORIES:Saison 2018/19
END:VEVENT
BEGIN:VEVENT
DTSTAMP:20260422T221843Z
DTSTART;TZID=Europe/Berlin:20180902T113000
DTEND;TZID=Europe/Berlin:20180902T123000
SUMMARY:Vorrunde Gruppe B Turbine Leipzig vs SV Lok Leipzig-M. (17022)
UID:75f1a5ff-7883-435d-ba8f-cc9efa08c87c
STATUS:CONFIRMED
LAST-MODIFIED:20180904T172523Z
DESCRIPTION:Bezirksliga männl. C-Jugend - Vorrunde Gruppe B\nBegegnungs-Nr: 17022\nHeim: Turbine Leipzig\nGast: SV Lok Leipzig-M.\nHalle: SH Ostwald Gymnasium Leipzig-Lößnig (31105)\nAdresse: Willi-Bredel-Str. 13\, 04279 Leipzig\n
LOCATION:SH Ostwald Gymnasium Leipzig-Lößnig (31105): Willi-Bredel-Str. 13\, 04279 Leipzig
CATEGORIES:Saison 2018/19
END:VEVENT
BEGIN:VEVENT
DTSTAMP:20260422T221843Z
DTSTART;TZID=Europe/Berlin:20181028T130000
DTEND;TZID=Europe/Berlin:20181028T140000
SUMMARY:Vorrunde Gruppe B Turbine Leipzig vs SG MoGoNo (17033)
UID:65063dda-8bc8-4458-9a8f-d926dbab6007
STATUS:CONFIRMED
LAST-MODIFIED:20181028T213355Z
DESCRIPTION:Bezirksliga männl. C-Jugend - Vorrunde Gruppe B\nBegegnungs-Nr: 17033\nHeim: Turbine Leipzig\nGast: SG MoGoNo\nHalle: SH Ostwald Gymnasium Leipzig-Lößnig (31105)\nAdresse: Willi-Bredel-Str. 13\, 04279 Leipzig\n
LOCATION:SH Ostwald Gymnasium Leipzig-Lößnig (31105): Willi-Bredel-Str. 13\, 04279 Leipzig
CATEGORIES:Saison 2018/19
END:VEVENT
BEGIN:VEVENT
DTSTAMP:20260422T221843Z
DTSTART;TZID=Europe/Berlin:20180909T130000
DTEND;TZID=Europe/Berlin:20180909T140000
SUMMARY:Vorrunde Gruppe B Turbine Leipzig vs VICTORIA Naunhof (17025)
UID:30ea5d10-97df-4493-8829-49345379a556
STATUS:CONFIRMED
LAST-MODIFIED:20180909T143529Z
DESCRIPTION:Bezirksliga männl. C-Jugend - Vorrunde Gruppe B\nBegegnungs-Nr: 17025\nHeim: Turbine Leipzig\nGast: VICTORIA Naunhof\nHalle: SH Ostwald Gymnasium Leipzig-Lößnig (31105)\nAdresse: Willi-Bredel-Str. 13\, 04279 Leipzig\n
LOCATION:SH Ostwald Gymnasium Leipzig-Lößnig (31105): Willi-Bredel-Str. 13\, 04279 Leipzig
CATEGORIES:Saison 2018/19
END:VEVENT
BEGIN:VEVENT
DTSTAMP:20260422T221843Z
DTSTART;TZID=Europe/Berlin:20190209T120000
DTEND;TZID=Europe/Berlin:20190209T130000
SUMMARY:Hauptrunde Platz 1-7 Turbine Leipzig vs HSV Mölkau - Die Haie  (17060)
UID:53cc6809-38fc-4c29-b6cd-b44eb4cfe119
STATUS:CONFIRMED
LAST-MODIFIED:20190411T061757Z
DESCRIPTION:Bezirksliga männl. C-Jugend - Hauptrunde Platz 1-7\nBegegnungs-Nr: 17060\nHeim: Turbine Leipzig\nGast: HSV Mölkau - Die Haie \nHalle: SH Ostwald Gymnasium Leipzig-Lößnig (31105)\nAdresse: Willi-Bredel-Str. 13\, 04279 Leipzig\n
LOCATION:SH Ostwald Gymnasium Leipzig-Lößnig (31105): Willi-Bredel-Str. 13\, 04279 Leipzig
CATEGORIES:Saison 2018/19
END:VEVENT
BEGIN:VEVENT
DTSTAMP:20260422T221843Z
DTSTART;TZID=Europe/Berlin:20181117T123000
DTEND;TZID=Europe/Berlin:20181117T133000
SUMMARY:Hauptrunde Platz 1-7 HSV Mölkau - Die Haie  vs Turbine Leipzig (17039)
UID:a97ea7e3-1574-43eb-a210-6fca31b11f8f
STATUS:CONFIRMED
LAST-MODIFIED:20190411T061757Z
DESCRIPTION:Bezirksliga männl. C-Jugend - Hauptrunde Platz 1-7\nBegegnungs-Nr: 17039\nHeim: HSV Mölkau - Die Haie \nGast: Turbine Leipzig\nHalle: SH Oberschule Leipzig-Mölkau (31106)\nAdresse: Schulstr. 6\, 04316 Leipzig\n
LOCATION:SH Oberschule Leipzig-Mölkau (31106): Schulstr. 6\, 04316 Leipzig
CATEGORIES:Saison 2018/19
END:VEVENT
BEGIN:VEVENT
DTSTAMP:20260422T221843Z
DTSTART;TZID=Europe/Berlin:20181202T100000
DTEND;TZID=Europe/Berlin:20181202T110000
SUMMARY:Hauptrunde Platz 1-7 NHV Concordia Delitzsch vs Turbine Leipzig (17043)
UID:0c2a05f9-ca9a-454a-a412-c81fd4ac31a5
STATUS:CONFIRMED
LAST-MODIFIED:20181202T214846Z
DESCRIPTION:Bezirksliga männl. C-Jugend - Hauptrunde Platz 1-7\nBegegnungs-Nr: 17043\nHeim: NHV Concordia Delitzsch\nGast: Turbine Leipzig\nHalle: Mehrzweckhalle Delitzsch  (31304)\nAdresse: Karl-Marx-Str. 1\, 04509 Delitzsch\n
LOCATION:Mehrzweckhalle Delitzsch  (31304): Karl-Marx-Str. 1\, 04509 Delitzsch
CATEGORIES:Saison 2018/19
END:VEVENT
BEGIN:VEVENT
DTSTAMP:20260422T221843Z
DTSTART;TZID=Europe/Berlin:20190126T120000
DTEND;TZID=Europe/Berlin:20190126T130000
SUMMARY:Hauptrunde Platz 1-7 HSG Rückmarsdorf vs Turbine Leipzig (17053)
UID:973b6da0-24fd-4dc3-ae24-979f07a44884
STATUS:CONFIRMED
LAST-MODIFIED:20190128T140304Z
DESCRIPTION:Bezirksliga männl. C-Jugend - Hauptrunde Platz 1-7\nBegegnungs-Nr: 17053\nHeim: HSG Rückmarsdorf\nGast: Turbine Leipzig\nHalle: SH An der Radrennbahn Leipzig (31128)\nAdresse: Windorfer Straße 63\, 04229 Leipzig\n
LOCATION:SH An der Radrennbahn Leipzig (31128): Windorfer Straße 63\, 04229 Leipzig
CATEGORIES:Saison 2018/19
END:VEVENT
BEGIN:VEVENT
DTSTAMP:20260422T221843Z
DTSTART;TZID=Europe/Berlin:20190330T160000
DTEND;TZID=Europe/Berlin:20190330T170000
SUMMARY:Hauptrunde Platz 1-7 SV Lok Leipzig-M. vs Turbine Leipzig (17072)
UID:64e870d5-2cf1-4914-afb1-fdd3af42f4af
STATUS:CONFIRMED
LAST-MODIFIED:20190402T200136Z
DESCRIPTION:Bezirksliga männl. C-Jugend - Hauptrunde Platz 1-7\nBegegnungs-Nr: 17072\nHeim: SV Lok Leipzig-M.\nGast: Turbine Leipzig\nHalle: SH Astrid Lindgren Grundschule Leipzig (31104)\nAdresse: Löbauer Str. 46\, 04347 Leipzig\n
LOCATION:SH Astrid Lindgren Grundschule Leipzig (31104): Löbauer Str. 46\, 04347 Leipzig
CATEGORIES:Saison 2018/19
END:VEVENT
BEGIN:VEVENT
DTSTAMP:20260422T221843Z
DTSTART;TZID=Europe/Berlin:20190309T130000
DTEND;TZID=Europe/Berlin:20190309T140000
SUMMARY:Hauptrunde Platz 1-7 SG MoGoNo II vs Turbine Leipzig (17062)
UID:2b362ddd-8654-422e-95aa-85e2b64cd22b
STATUS:CONFIRMED
LAST-MODIFIED:20190310T031949Z
DESCRIPTION:Bezirksliga männl. C-Jugend - Hauptrunde Platz 1-7\nBegegnungs-Nr: 17062\nHeim: SG MoGoNo II\nGast: Turbine Leipzig\nHalle: SH Kästner-Grundschule Leipzig (31131)\nAdresse: Erfurter Str\, 04155 Leipzig\n
LOCATION:SH Kästner-Grundschule Leipzig (31131): Erfurter Str\, 04155 Leipzig
CATEGORIES:Saison 2018/19
END:VEVENT
BEGIN:VEVENT
DTSTAMP:20260422T221843Z
DTSTART;TZID=Europe/Berlin:20181103T143000
DTEND;TZID=Europe/Berlin:20181103T153000
SUMMARY:Vorrunde Gruppe B HSG Rückmarsdorf vs Turbine Leipzig (17034)
UID:174423d8-44b1-4019-8020-0c67193420ba
STATUS:CONFIRMED
LAST-MODIFIED:20181108T144346Z
DESCRIPTION:Bezirksliga männl. C-Jugend - Vorrunde Gruppe B\nBegegnungs-Nr: 17034\nHeim: HSG Rückmarsdorf\nGast: Turbine Leipzig\nHalle: SH An der Radrennbahn Leipzig (31128)\nAdresse: Windorfer Straße 63\, 04229 Leipzig\n
LOCATION:SH An der Radrennbahn Leipzig (31128): Windorfer Straße 63\, 04229 Leipzig
CATEGORIES:Saison 2018/19
END:VEVENT
BEGIN:VEVENT
DTSTAMP:20260422T221843Z
DTSTART;TZID=Europe/Berlin:20180916T153000
DTEND;TZID=Europe/Berlin:20180916T163000
SUMMARY:Vorrunde Gruppe B Germania Zwenkau vs Turbine Leipzig (17027)
UID:992d1d2f-d1ec-4640-9e00-20d3ebd58469
STATUS:CONFIRMED
LAST-MODIFIED:20180918T115135Z
DESCRIPTION:Bezirksliga männl. C-Jugend - Vorrunde Gruppe B\nBegegnungs-Nr: 17027\nHeim: Germania Zwenkau\nGast: Turbine Leipzig\nHalle: Stadthalle Zwenkau (31113)\nAdresse: Heinrich-Mann-Weg 17\, 04442 Zwenkau\n
LOCATION:Stadthalle Zwenkau (31113): Heinrich-Mann-Weg 17\, 04442 Zwenkau
CATEGORIES:Saison 2018/19
END:VEVENT
END:VCALENDAR
