BEGIN:VCALENDAR
PRODID:-//nuDatenautomaten//framework iCal4j //DE
VERSION:2.0
CALSCALE:GREGORIAN
BEGIN:VTIMEZONE
TZID:Europe/Berlin
LAST-MODIFIED:20260306T231828Z
TZURL:https://www.tzurl.org/zoneinfo/Europe/Berlin
X-LIC-LOCATION:Europe/Berlin
X-PROLEPTIC-TZNAME:LMT
BEGIN:STANDARD
TZNAME:CET
TZOFFSETFROM:+005328
TZOFFSETTO:+0100
DTSTART:18930401T000000
END:STANDARD
BEGIN:DAYLIGHT
TZNAME:CEST
TZOFFSETFROM:+0100
TZOFFSETTO:+0200
DTSTART:19160430T230000
RDATE:19400401T020000
RDATE:19430329T020000
RDATE:19460414T020000
RDATE:19470406T030000
RDATE:19480418T020000
RDATE:19490410T020000
RDATE:19800406T020000
END:DAYLIGHT
BEGIN:STANDARD
TZNAME:CET
TZOFFSETFROM:+0200
TZOFFSETTO:+0100
DTSTART:19161001T010000
RDATE:19421102T030000
RDATE:19431004T030000
RDATE:19441002T030000
RDATE:19451118T030000
RDATE:19461007T030000
END:STANDARD
BEGIN:DAYLIGHT
TZNAME:CEST
TZOFFSETFROM:+0100
TZOFFSETTO:+0200
DTSTART:19170416T020000
RRULE:FREQ=YEARLY;UNTIL=19180415T010000Z;BYMONTH=4;BYDAY=3MO
END:DAYLIGHT
BEGIN:STANDARD
TZNAME:CET
TZOFFSETFROM:+0200
TZOFFSETTO:+0100
DTSTART:19170917T030000
RRULE:FREQ=YEARLY;UNTIL=19180916T010000Z;BYMONTH=9;BYDAY=3MO
END:STANDARD
BEGIN:DAYLIGHT
TZNAME:CEST
TZOFFSETFROM:+0100
TZOFFSETTO:+0200
DTSTART:19440403T020000
RRULE:FREQ=YEARLY;UNTIL=19450402T010000Z;BYMONTH=4;BYDAY=1MO
END:DAYLIGHT
BEGIN:DAYLIGHT
TZNAME:CEMT
TZOFFSETFROM:+0200
TZOFFSETTO:+0300
DTSTART:19450524T020000
RDATE:19470511T030000
END:DAYLIGHT
BEGIN:DAYLIGHT
TZNAME:CEST
TZOFFSETFROM:+0300
TZOFFSETTO:+0200
DTSTART:19450924T030000
RDATE:19470629T030000
END:DAYLIGHT
BEGIN:STANDARD
TZNAME:CET
TZOFFSETFROM:+0100
TZOFFSETTO:+0100
DTSTART:19460101T000000
RDATE:19800101T000000
END:STANDARD
BEGIN:STANDARD
TZNAME:CET
TZOFFSETFROM:+0200
TZOFFSETTO:+0100
DTSTART:19471005T030000
RRULE:FREQ=YEARLY;UNTIL=19491002T010000Z;BYMONTH=10;BYDAY=1SU
END:STANDARD
BEGIN:STANDARD
TZNAME:CET
TZOFFSETFROM:+0200
TZOFFSETTO:+0100
DTSTART:19800928T030000
RRULE:FREQ=YEARLY;UNTIL=19950924T010000Z;BYMONTH=9;BYDAY=-1SU
END:STANDARD
BEGIN:DAYLIGHT
TZNAME:CEST
TZOFFSETFROM:+0100
TZOFFSETTO:+0200
DTSTART:19810329T020000
RRULE:FREQ=YEARLY;BYMONTH=3;BYDAY=-1SU
END:DAYLIGHT
BEGIN:STANDARD
TZNAME:CET
TZOFFSETFROM:+0200
TZOFFSETTO:+0100
DTSTART:19961027T030000
RRULE:FREQ=YEARLY;BYMONTH=10;BYDAY=-1SU
END:STANDARD
END:VTIMEZONE
BEGIN:VEVENT
DTSTAMP:20260424T130332Z
DTSTART;TZID=Europe/Berlin:20200425T000000
DTEND;TZID=Europe/Berlin:20200425T013000
SUMMARY:BLM SSV Lommatzsch vs spielfrei (124)
UID:78841547-d251-42fb-b8b0-02c989567551
STATUS:CONFIRMED
DESCRIPTION:BezLiga S-M Männer\nBegegnungs-Nr: 124\nHeim: SSV Lommatzsch\nGast: spielfrei\n
LOCATION:
CATEGORIES:Saison 2019/20
END:VEVENT
BEGIN:VEVENT
DTSTAMP:20260424T130332Z
DTSTART;TZID=Europe/Berlin:20190928T180000
DTEND;TZID=Europe/Berlin:20190928T193000
SUMMARY:BLM SSV Lommatzsch vs TSV 1862 Radeburg (23)
UID:3d1d5f70-c43f-4011-87df-1a53380e1304
STATUS:CONFIRMED
LAST-MODIFIED:20191003T102513Z
DESCRIPTION:BezLiga S-M Männer\nBegegnungs-Nr: 23\nHeim: SSV Lommatzsch\nGast: TSV 1862 Radeburg\nHalle: Lothar-Krauße-SH Lommatzsch (33211)\nAdresse: Domselwitzer Str. 21\, 01623 Lommatzsch\n
LOCATION:Lothar-Krauße-SH Lommatzsch (33211): Domselwitzer Str. 21\, 01623 Lommatzsch
CATEGORIES:Saison 2019/20
END:VEVENT
BEGIN:VEVENT
DTSTAMP:20260424T130332Z
DTSTART;TZID=Europe/Berlin:20200328T180000
DTEND;TZID=Europe/Berlin:20200328T193000
SUMMARY:BLM SSV Lommatzsch vs HSG Riesa/Oschatz II (113)
UID:6cbf45a1-ddbf-4bae-9bc7-b2c2b74442eb
STATUS:CONFIRMED
DESCRIPTION:BezLiga S-M Männer\nBegegnungs-Nr: 113\nHeim: SSV Lommatzsch\nGast: HSG Riesa/Oschatz II\nHalle: Lothar-Krauße-SH Lommatzsch (33211)\nAdresse: Domselwitzer Str. 21\, 01623 Lommatzsch\n
LOCATION:Lothar-Krauße-SH Lommatzsch (33211): Domselwitzer Str. 21\, 01623 Lommatzsch
CATEGORIES:Saison 2019/20
END:VEVENT
BEGIN:VEVENT
DTSTAMP:20260424T130332Z
DTSTART;TZID=Europe/Berlin:20191207T180000
DTEND;TZID=Europe/Berlin:20191207T193000
SUMMARY:BLM SSV Lommatzsch vs SF 01 Dresden II (63)
UID:aaea0308-3f87-4799-933d-986d9b6e4150
STATUS:CONFIRMED
LAST-MODIFIED:20191208T065019Z
DESCRIPTION:BezLiga S-M Männer\nBegegnungs-Nr: 63\nHeim: SSV Lommatzsch\nGast: SF 01 Dresden II\nHalle: Lothar-Krauße-SH Lommatzsch (33211)\nAdresse: Domselwitzer Str. 21\, 01623 Lommatzsch\n
LOCATION:Lothar-Krauße-SH Lommatzsch (33211): Domselwitzer Str. 21\, 01623 Lommatzsch
CATEGORIES:Saison 2019/20
END:VEVENT
BEGIN:VEVENT
DTSTAMP:20260424T130332Z
DTSTART;TZID=Europe/Berlin:20191123T180000
DTEND;TZID=Europe/Berlin:20191123T193000
SUMMARY:BLM SSV Lommatzsch vs SG Klotzsche (50)
UID:357431d2-0fcc-4e64-977b-56049c78bf5c
STATUS:CONFIRMED
LAST-MODIFIED:20191125T185827Z
DESCRIPTION:BezLiga S-M Männer\nBegegnungs-Nr: 50\nHeim: SSV Lommatzsch\nGast: SG Klotzsche\nHalle: Lothar-Krauße-SH Lommatzsch (33211)\nAdresse: Domselwitzer Str. 21\, 01623 Lommatzsch\n
LOCATION:Lothar-Krauße-SH Lommatzsch (33211): Domselwitzer Str. 21\, 01623 Lommatzsch
CATEGORIES:Saison 2019/20
END:VEVENT
BEGIN:VEVENT
DTSTAMP:20260424T130332Z
DTSTART;TZID=Europe/Berlin:20190914T180000
DTEND;TZID=Europe/Berlin:20190914T193000
SUMMARY:BLM SSV Lommatzsch vs HSV Dresden II (10)
UID:d03a51ca-84e6-44d9-961e-88579bf745f2
STATUS:CONFIRMED
LAST-MODIFIED:20191201T054116Z
DESCRIPTION:BezLiga S-M Männer\nBegegnungs-Nr: 10\nHeim: SSV Lommatzsch\nGast: HSV Dresden II\nHalle: Lothar-Krauße-SH Lommatzsch (33211)\nAdresse: Domselwitzer Str. 21\, 01623 Lommatzsch\n
LOCATION:Lothar-Krauße-SH Lommatzsch (33211): Domselwitzer Str. 21\, 01623 Lommatzsch
CATEGORIES:Saison 2019/20
END:VEVENT
BEGIN:VEVENT
DTSTAMP:20260424T130332Z
DTSTART;TZID=Europe/Berlin:20200125T180000
DTEND;TZID=Europe/Berlin:20200125T193000
SUMMARY:BLM SSV Lommatzsch vs HCS Neustadt-S. (80)
UID:e8fdd43e-def0-4a61-9899-04caf9a5d849
STATUS:CONFIRMED
LAST-MODIFIED:20200126T061711Z
DESCRIPTION:BezLiga S-M Männer\nBegegnungs-Nr: 80\nHeim: SSV Lommatzsch\nGast: HCS Neustadt-S.\nHalle: Lothar-Krauße-SH Lommatzsch (33211)\nAdresse: Domselwitzer Str. 21\, 01623 Lommatzsch\n
LOCATION:Lothar-Krauße-SH Lommatzsch (33211): Domselwitzer Str. 21\, 01623 Lommatzsch
CATEGORIES:Saison 2019/20
END:VEVENT
BEGIN:VEVENT
DTSTAMP:20260424T130332Z
DTSTART;TZID=Europe/Berlin:20200111T180000
DTEND;TZID=Europe/Berlin:20200111T193000
SUMMARY:BLM SSV Lommatzsch vs USV TU Dresden (69)
UID:659c91e5-07ed-422e-a7e3-b05502bf96da
STATUS:CONFIRMED
LAST-MODIFIED:20200115T191137Z
DESCRIPTION:BezLiga S-M Männer\nBegegnungs-Nr: 69\nHeim: SSV Lommatzsch\nGast: USV TU Dresden\nHalle: Lothar-Krauße-SH Lommatzsch (33211)\nAdresse: Domselwitzer Str. 21\, 01623 Lommatzsch\n
LOCATION:Lothar-Krauße-SH Lommatzsch (33211): Domselwitzer Str. 21\, 01623 Lommatzsch
CATEGORIES:Saison 2019/20
END:VEVENT
BEGIN:VEVENT
DTSTAMP:20260424T130332Z
DTSTART;TZID=Europe/Berlin:20191102T180000
DTEND;TZID=Europe/Berlin:20191102T193000
SUMMARY:BLM SSV Lommatzsch vs Radebeuler HV II (36)
UID:4775b758-2170-4cde-8c23-7951e438ca2b
STATUS:CONFIRMED
LAST-MODIFIED:20191201T054945Z
DESCRIPTION:BezLiga S-M Männer\nBegegnungs-Nr: 36\nHeim: SSV Lommatzsch\nGast: Radebeuler HV II\nHalle: Lothar-Krauße-SH Lommatzsch (33211)\nAdresse: Domselwitzer Str. 21\, 01623 Lommatzsch\n
LOCATION:Lothar-Krauße-SH Lommatzsch (33211): Domselwitzer Str. 21\, 01623 Lommatzsch
CATEGORIES:Saison 2019/20
END:VEVENT
BEGIN:VEVENT
DTSTAMP:20260424T130332Z
DTSTART;TZID=Europe/Berlin:20191109T180000
DTEND;TZID=Europe/Berlin:20191109T193000
SUMMARY:BLM SSV Lommatzsch vs SG Pirna/Heidenau II (37)
UID:7cf7fefc-0d77-4020-a4ca-05b377da93cd
STATUS:CONFIRMED
LAST-MODIFIED:20191201T055023Z
DESCRIPTION:BezLiga S-M Männer\nBegegnungs-Nr: 37\nHeim: SSV Lommatzsch\nGast: SG Pirna/Heidenau II\nHalle: Lothar-Krauße-SH Lommatzsch (33211)\nAdresse: Domselwitzer Str. 21\, 01623 Lommatzsch\n
LOCATION:Lothar-Krauße-SH Lommatzsch (33211): Domselwitzer Str. 21\, 01623 Lommatzsch
CATEGORIES:Saison 2019/20
END:VEVENT
BEGIN:VEVENT
DTSTAMP:20260424T130332Z
DTSTART;TZID=Europe/Berlin:20200229T180000
DTEND;TZID=Europe/Berlin:20200229T193000
SUMMARY:BLM SSV Lommatzsch vs ESV Dresden II (91)
UID:3d3af8ed-9289-4624-8a19-64b53b77e73f
STATUS:CONFIRMED
LAST-MODIFIED:20200301T185829Z
DESCRIPTION:BezLiga S-M Männer\nBegegnungs-Nr: 91\nHeim: SSV Lommatzsch\nGast: ESV Dresden II\nHalle: Lothar-Krauße-SH Lommatzsch (33211)\nAdresse: Domselwitzer Str. 21\, 01623 Lommatzsch\n
LOCATION:Lothar-Krauße-SH Lommatzsch (33211): Domselwitzer Str. 21\, 01623 Lommatzsch
CATEGORIES:Saison 2019/20
END:VEVENT
BEGIN:VEVENT
DTSTAMP:20260424T130332Z
DTSTART;TZID=Europe/Berlin:20191020T140000
DTEND;TZID=Europe/Berlin:20191020T153000
SUMMARY:BLM USV TU Dresden vs SSV Lommatzsch (3)
UID:2bbd679a-57e6-4786-9a6c-86334b951a9e
STATUS:CONFIRMED
LAST-MODIFIED:20191102T143713Z
DESCRIPTION:BezLiga S-M Männer\nBegegnungs-Nr: 3\nHeim: USV TU Dresden\nGast: SSV Lommatzsch\nHalle: JOYNEXT Arena Dresden (Spielfeld 2) (33112b)\nAdresse: Magdeburger Straße 10\, 01067 Dresden\n
LOCATION:JOYNEXT Arena Dresden (Spielfeld 2) (33112b): Magdeburger Straße 10\, 01067 Dresden
CATEGORIES:Saison 2019/20
END:VEVENT
BEGIN:VEVENT
DTSTAMP:20260424T130332Z
DTSTART;TZID=Europe/Berlin:20200502T140000
DTEND;TZID=Europe/Berlin:20200502T153000
SUMMARY:BLM SF 01 Dresden II vs SSV Lommatzsch (129)
UID:b5dfae82-934d-401a-9cb6-25abcfc02f62
STATUS:CONFIRMED
DESCRIPTION:BezLiga S-M Männer\nBegegnungs-Nr: 129\nHeim: SF 01 Dresden II\nGast: SSV Lommatzsch\nHalle: SH 117. Grundschule Dresden (33132)\nAdresse: Reichenbachstr. 12\, 01069 Dresden\n
LOCATION:SH 117. Grundschule Dresden (33132): Reichenbachstr. 12\, 01069 Dresden
CATEGORIES:Saison 2019/20
END:VEVENT
BEGIN:VEVENT
DTSTAMP:20260424T130332Z
DTSTART;TZID=Europe/Berlin:20191005T150000
DTEND;TZID=Europe/Berlin:20191005T163000
SUMMARY:BLM ESV Dresden II vs SSV Lommatzsch (25)
UID:8dd4d271-ed03-4661-ae05-d06b046c3263
STATUS:CONFIRMED
LAST-MODIFIED:20191201T054358Z
DESCRIPTION:BezLiga S-M Männer\nBegegnungs-Nr: 25\nHeim: ESV Dresden II\nGast: SSV Lommatzsch\nHalle: Lok-SH Dresden (33106)\nAdresse: Emmerich-Ambros-Ufer 74\, 01159 Dresden\n
LOCATION:Lok-SH Dresden (33106): Emmerich-Ambros-Ufer 74\, 01159 Dresden
CATEGORIES:Saison 2019/20
END:VEVENT
BEGIN:VEVENT
DTSTAMP:20260424T130332Z
DTSTART;TZID=Europe/Berlin:20190922T144500
DTEND;TZID=Europe/Berlin:20190922T161500
SUMMARY:BLM HCS Neustadt-S. vs SSV Lommatzsch (14)
UID:060bdb59-e10b-41de-8c06-12e903b9e77d
STATUS:CONFIRMED
LAST-MODIFIED:20191003T101852Z
DESCRIPTION:BezLiga S-M Männer\nBegegnungs-Nr: 14\nHeim: HCS Neustadt-S.\nGast: SSV Lommatzsch\nHalle: Sportforum Neustadt (33303)\nAdresse: Maxim-Gorki-Straße 10\, 01844  Neustadt\n
LOCATION:Sportforum Neustadt (33303): Maxim-Gorki-Straße 10\, 01844  Neustadt
CATEGORIES:Saison 2019/20
END:VEVENT
BEGIN:VEVENT
DTSTAMP:20260424T130332Z
DTSTART;TZID=Europe/Berlin:20200426T140000
DTEND;TZID=Europe/Berlin:20200426T153000
SUMMARY:BLM SG Klotzsche vs SSV Lommatzsch (116)
UID:28ea4d73-de95-4056-8e08-37cf436af71a
STATUS:CONFIRMED
LAST-MODIFIED:20200217T195305Z
DESCRIPTION:BezLiga S-M Männer\nBegegnungs-Nr: 116\nHeim: SG Klotzsche\nGast: SSV Lommatzsch\nHalle: SH Gymnasium Klotzsche (33126)\nAdresse: Karl-Marx-Straße 44\, 01109 Dresden\n
LOCATION:SH Gymnasium Klotzsche (33126): Karl-Marx-Straße 44\, 01109 Dresden
CATEGORIES:Saison 2019/20
END:VEVENT
BEGIN:VEVENT
DTSTAMP:20260424T130332Z
DTSTART;TZID=Europe/Berlin:20200314T181500
DTEND;TZID=Europe/Berlin:20200314T194500
SUMMARY:BLM SG Pirna/Heidenau II vs SSV Lommatzsch (103)
UID:46a19c64-08e7-41b7-8712-08d98da53d18
STATUS:CONFIRMED
DESCRIPTION:BezLiga S-M Männer\nBegegnungs-Nr: 103\nHeim: SG Pirna/Heidenau II\nGast: SSV Lommatzsch\nHalle: SH Pestalozzi-Gymnasium Heidenau (33306)\nAdresse: Hauptstraße 37\, 01809 Heidenau\n
LOCATION:SH Pestalozzi-Gymnasium Heidenau (33306): Hauptstraße 37\, 01809 Heidenau
CATEGORIES:Saison 2019/20
END:VEVENT
BEGIN:VEVENT
DTSTAMP:20260424T130332Z
DTSTART;TZID=Europe/Berlin:20191130T000000
DTEND;TZID=Europe/Berlin:20191130T013000
SUMMARY:BLM spielfrei vs SSV Lommatzsch (58)
UID:235ee1f6-175d-4c6a-9ab6-22f63f6eb50e
STATUS:CONFIRMED
DESCRIPTION:BezLiga S-M Männer\nBegegnungs-Nr: 58\nHeim: spielfrei\nGast: SSV Lommatzsch\n
LOCATION:
CATEGORIES:Saison 2019/20
END:VEVENT
BEGIN:VEVENT
DTSTAMP:20260424T130332Z
DTSTART;TZID=Europe/Berlin:20200118T170000
DTEND;TZID=Europe/Berlin:20200118T183000
SUMMARY:BLM HSV Dresden II vs SSV Lommatzsch (76)
UID:a436c182-3283-477c-a902-afa6d6533067
STATUS:CONFIRMED
LAST-MODIFIED:20200119T062727Z
DESCRIPTION:BezLiga S-M Männer\nBegegnungs-Nr: 76\nHeim: HSV Dresden II\nGast: SSV Lommatzsch\nHalle: SH 121. Oberschule Dresden (33102)\nAdresse: Gamigstraße 28/30\, 01239 Dresden\n
LOCATION:SH 121. Oberschule Dresden (33102): Gamigstraße 28/30\, 01239 Dresden
CATEGORIES:Saison 2019/20
END:VEVENT
BEGIN:VEVENT
DTSTAMP:20260424T130332Z
DTSTART;TZID=Europe/Berlin:20191116T191500
DTEND;TZID=Europe/Berlin:20191116T204500
SUMMARY:BLM HSG Riesa/Oschatz II vs SSV Lommatzsch (47)
UID:5bbbd6d3-8ae8-41d8-9afb-6e57e55d5187
STATUS:CONFIRMED
LAST-MODIFIED:20191118T173435Z
DESCRIPTION:BezLiga S-M Männer\nBegegnungs-Nr: 47\nHeim: HSG Riesa/Oschatz II\nGast: SSV Lommatzsch\nHalle: WM-Sporthalle Riesa (33213)\nAdresse: Am Sportzentrum 1\, 01587 Riesa\n
LOCATION:WM-Sporthalle Riesa (33213): Am Sportzentrum 1\, 01587 Riesa
CATEGORIES:Saison 2019/20
END:VEVENT
BEGIN:VEVENT
DTSTAMP:20260424T130332Z
DTSTART;TZID=Europe/Berlin:20200201T180000
DTEND;TZID=Europe/Berlin:20200201T193000
SUMMARY:BLM TSV 1862 Radeburg vs SSV Lommatzsch (89)
UID:2ba00608-9afe-44d3-bce0-f7ef6644858e
STATUS:CONFIRMED
LAST-MODIFIED:20200202T143515Z
DESCRIPTION:BezLiga S-M Männer\nBegegnungs-Nr: 89\nHeim: TSV 1862 Radeburg\nGast: SSV Lommatzsch\nHalle: Paul-Tiedemann-SH Radeburg (33214)\nAdresse: Meißner Berg 83c\, 01471 Radeburg\n
LOCATION:Paul-Tiedemann-SH Radeburg (33214): Meißner Berg 83c\, 01471 Radeburg
CATEGORIES:Saison 2019/20
END:VEVENT
BEGIN:VEVENT
DTSTAMP:20260424T130332Z
DTSTART;TZID=Europe/Berlin:20200307T140000
DTEND;TZID=Europe/Berlin:20200307T153000
SUMMARY:BLM Radebeuler HV II vs SSV Lommatzsch (102)
UID:331f6975-e75b-45a1-8ae2-1b6035db0ebe
STATUS:CONFIRMED
LAST-MODIFIED:20200307T202852Z
DESCRIPTION:BezLiga S-M Männer\nBegegnungs-Nr: 102\nHeim: Radebeuler HV II\nGast: SSV Lommatzsch\nHalle: Lößnitz-SH Radebeul (33204)\nAdresse: Steinbachstr. 13\, 01445 Radebeul\n
LOCATION:Lößnitz-SH Radebeul (33204): Steinbachstr. 13\, 01445 Radebeul
CATEGORIES:Saison 2019/20
END:VEVENT
END:VCALENDAR
