BEGIN:VCALENDAR
PRODID:-//nuDatenautomaten//framework iCal4j //DE
VERSION:2.0
CALSCALE:GREGORIAN
BEGIN:VTIMEZONE
TZID:Europe/Berlin
LAST-MODIFIED:20260306T231828Z
TZURL:https://www.tzurl.org/zoneinfo/Europe/Berlin
X-LIC-LOCATION:Europe/Berlin
X-PROLEPTIC-TZNAME:LMT
BEGIN:STANDARD
TZNAME:CET
TZOFFSETFROM:+005328
TZOFFSETTO:+0100
DTSTART:18930401T000000
END:STANDARD
BEGIN:DAYLIGHT
TZNAME:CEST
TZOFFSETFROM:+0100
TZOFFSETTO:+0200
DTSTART:19160430T230000
RDATE:19400401T020000
RDATE:19430329T020000
RDATE:19460414T020000
RDATE:19470406T030000
RDATE:19480418T020000
RDATE:19490410T020000
RDATE:19800406T020000
END:DAYLIGHT
BEGIN:STANDARD
TZNAME:CET
TZOFFSETFROM:+0200
TZOFFSETTO:+0100
DTSTART:19161001T010000
RDATE:19421102T030000
RDATE:19431004T030000
RDATE:19441002T030000
RDATE:19451118T030000
RDATE:19461007T030000
END:STANDARD
BEGIN:DAYLIGHT
TZNAME:CEST
TZOFFSETFROM:+0100
TZOFFSETTO:+0200
DTSTART:19170416T020000
RRULE:FREQ=YEARLY;UNTIL=19180415T010000Z;BYMONTH=4;BYDAY=3MO
END:DAYLIGHT
BEGIN:STANDARD
TZNAME:CET
TZOFFSETFROM:+0200
TZOFFSETTO:+0100
DTSTART:19170917T030000
RRULE:FREQ=YEARLY;UNTIL=19180916T010000Z;BYMONTH=9;BYDAY=3MO
END:STANDARD
BEGIN:DAYLIGHT
TZNAME:CEST
TZOFFSETFROM:+0100
TZOFFSETTO:+0200
DTSTART:19440403T020000
RRULE:FREQ=YEARLY;UNTIL=19450402T010000Z;BYMONTH=4;BYDAY=1MO
END:DAYLIGHT
BEGIN:DAYLIGHT
TZNAME:CEMT
TZOFFSETFROM:+0200
TZOFFSETTO:+0300
DTSTART:19450524T020000
RDATE:19470511T030000
END:DAYLIGHT
BEGIN:DAYLIGHT
TZNAME:CEST
TZOFFSETFROM:+0300
TZOFFSETTO:+0200
DTSTART:19450924T030000
RDATE:19470629T030000
END:DAYLIGHT
BEGIN:STANDARD
TZNAME:CET
TZOFFSETFROM:+0100
TZOFFSETTO:+0100
DTSTART:19460101T000000
RDATE:19800101T000000
END:STANDARD
BEGIN:STANDARD
TZNAME:CET
TZOFFSETFROM:+0200
TZOFFSETTO:+0100
DTSTART:19471005T030000
RRULE:FREQ=YEARLY;UNTIL=19491002T010000Z;BYMONTH=10;BYDAY=1SU
END:STANDARD
BEGIN:STANDARD
TZNAME:CET
TZOFFSETFROM:+0200
TZOFFSETTO:+0100
DTSTART:19800928T030000
RRULE:FREQ=YEARLY;UNTIL=19950924T010000Z;BYMONTH=9;BYDAY=-1SU
END:STANDARD
BEGIN:DAYLIGHT
TZNAME:CEST
TZOFFSETFROM:+0100
TZOFFSETTO:+0200
DTSTART:19810329T020000
RRULE:FREQ=YEARLY;BYMONTH=3;BYDAY=-1SU
END:DAYLIGHT
BEGIN:STANDARD
TZNAME:CET
TZOFFSETFROM:+0200
TZOFFSETTO:+0100
DTSTART:19961027T030000
RRULE:FREQ=YEARLY;BYMONTH=10;BYDAY=-1SU
END:STANDARD
END:VTIMEZONE
BEGIN:VEVENT
DTSTAMP:20260420T092435Z
DTSTART;TZID=Europe/Berlin:20191110T100000
DTEND;TZID=Europe/Berlin:20191110T110000
SUMMARY:Sachsenliga wJB BSV Sa. Zwickau vs SC Markranstädt (725)
UID:e1f435ed-a5f4-41c6-9a8f-2ea6dc2f4902
STATUS:CONFIRMED
LAST-MODIFIED:20191110T141543Z
DESCRIPTION:Sachsenliga weibliche Jugend B\nBegegnungs-Nr: 725\nHeim: BSV Sa. Zwickau\nGast: SC Markranstädt\nHalle: SH Zwickau-Neuplanitz (32501)\nAdresse: Dortmunder Str. 7a\, 08062 Zwickau\n
LOCATION:SH Zwickau-Neuplanitz (32501): Dortmunder Str. 7a\, 08062 Zwickau
CATEGORIES:Saison 2019/20
END:VEVENT
BEGIN:VEVENT
DTSTAMP:20260420T092435Z
DTSTART;TZID=Europe/Berlin:20200126T121500
DTEND;TZID=Europe/Berlin:20200126T131500
SUMMARY:Quali MHV Bestenermittlung BSV Sa. Zwickau vs HC Leipzig (2)
UID:5b2c68a4-1480-46d5-a8c1-0d2dc0a7509c
STATUS:CONFIRMED
LAST-MODIFIED:20200126T140724Z
DESCRIPTION:Qualifikation MHV Bestenermittlung\nBegegnungs-Nr: 2\nHeim: BSV Sa. Zwickau\nGast: HC Leipzig\nHalle: 3-Feld-Halle-GY Großröhrsdorf (34514)\nAdresse: Melanchthonstraße 21\, 01900  Großröhrsdorf\n
LOCATION:3-Feld-Halle-GY Großröhrsdorf (34514): Melanchthonstraße 21\, 01900  Großröhrsdorf
CATEGORIES:Saison 2019/20
END:VEVENT
BEGIN:VEVENT
DTSTAMP:20260420T092435Z
DTSTART;TZID=Europe/Berlin:20190914T120000
DTEND;TZID=Europe/Berlin:20190914T130000
SUMMARY:Sachsenliga wJB BSV Sa. Zwickau vs SG Zschorlau/Schneeberg (709)
UID:4f8f428c-7056-41a3-9fd5-34f7affa6678
STATUS:CONFIRMED
LAST-MODIFIED:20190914T145312Z
DESCRIPTION:Sachsenliga weibliche Jugend B\nBegegnungs-Nr: 709\nHeim: BSV Sa. Zwickau\nGast: SG Zschorlau/Schneeberg\nHalle: SH Zwickau-Neuplanitz (32501)\nAdresse: Dortmunder Str. 7a\, 08062 Zwickau\n
LOCATION:SH Zwickau-Neuplanitz (32501): Dortmunder Str. 7a\, 08062 Zwickau
CATEGORIES:Saison 2019/20
END:VEVENT
BEGIN:VEVENT
DTSTAMP:20260420T092435Z
DTSTART;TZID=Europe/Berlin:20200425T120000
DTEND;TZID=Europe/Berlin:20200425T130000
SUMMARY:Sachsenliga wJB BSV Sa. Zwickau vs HC Leipzig (781)
UID:5e2d5af5-ad38-4172-aabe-07c64fb9912c
STATUS:CONFIRMED
DESCRIPTION:Sachsenliga weibliche Jugend B\nBegegnungs-Nr: 781\nHeim: BSV Sa. Zwickau\nGast: HC Leipzig\nHalle: SH Zwickau-Neuplanitz (32501)\nAdresse: Dortmunder Str. 7a\, 08062 Zwickau\n
LOCATION:SH Zwickau-Neuplanitz (32501): Dortmunder Str. 7a\, 08062 Zwickau
CATEGORIES:Saison 2019/20
END:VEVENT
BEGIN:VEVENT
DTSTAMP:20260420T092435Z
DTSTART;TZID=Europe/Berlin:20200118T140000
DTEND;TZID=Europe/Berlin:20200118T150000
SUMMARY:Sachsenliga wJB BSV Sa. Zwickau vs SC Hoyerswerda  (746)
UID:52425446-aabe-466e-962f-5844609f6195
STATUS:CONFIRMED
LAST-MODIFIED:20200118T233925Z
DESCRIPTION:Sachsenliga weibliche Jugend B\nBegegnungs-Nr: 746\nHeim: BSV Sa. Zwickau\nGast: SC Hoyerswerda \nHalle: SH Zwickau-Neuplanitz (32501)\nAdresse: Dortmunder Str. 7a\, 08062 Zwickau\n
LOCATION:SH Zwickau-Neuplanitz (32501): Dortmunder Str. 7a\, 08062 Zwickau
CATEGORIES:Saison 2019/20
END:VEVENT
BEGIN:VEVENT
DTSTAMP:20260420T092435Z
DTSTART;TZID=Europe/Berlin:20191214T143000
DTEND;TZID=Europe/Berlin:20191214T153000
SUMMARY:Sachsenliga wJB BSV Sa. Zwickau vs Koweg Görlitz (745)
UID:6255804c-4676-45cf-b56a-96af028496ae
STATUS:CONFIRMED
LAST-MODIFIED:20200202T190451Z
DESCRIPTION:Sachsenliga weibliche Jugend B\nBegegnungs-Nr: 745\nHeim: BSV Sa. Zwickau\nGast: Koweg Görlitz\nHalle: SH Zwickau-Neuplanitz (32501)\nAdresse: Dortmunder Str. 7a\, 08062 Zwickau\n
LOCATION:SH Zwickau-Neuplanitz (32501): Dortmunder Str. 7a\, 08062 Zwickau
CATEGORIES:Saison 2019/20
END:VEVENT
BEGIN:VEVENT
DTSTAMP:20260420T092435Z
DTSTART;TZID=Europe/Berlin:20191123T121500
DTEND;TZID=Europe/Berlin:20191123T131500
SUMMARY:Sachsenliga wJB BSV Sa. Zwickau vs HSG Riesa/Oschatz (735)
UID:6729a89d-07cf-4143-9540-987e7612b7c5
STATUS:CONFIRMED
LAST-MODIFIED:20191123T164117Z
DESCRIPTION:Sachsenliga weibliche Jugend B\nBegegnungs-Nr: 735\nHeim: BSV Sa. Zwickau\nGast: HSG Riesa/Oschatz\nHalle: SH Zwickau-Neuplanitz (32501)\nAdresse: Dortmunder Str. 7a\, 08062 Zwickau\n
LOCATION:SH Zwickau-Neuplanitz (32501): Dortmunder Str. 7a\, 08062 Zwickau
CATEGORIES:Saison 2019/20
END:VEVENT
BEGIN:VEVENT
DTSTAMP:20260420T092435Z
DTSTART;TZID=Europe/Berlin:20190921T160000
DTEND;TZID=Europe/Berlin:20190921T170000
SUMMARY:Sachsenliga wJB BSV Sa. Zwickau vs SG Rödertal/Radeberg (715)
UID:e8819729-22a4-4c47-a7ae-7aab4f5e4eef
STATUS:CONFIRMED
LAST-MODIFIED:20190922T104405Z
DESCRIPTION:Sachsenliga weibliche Jugend B\nBegegnungs-Nr: 715\nHeim: BSV Sa. Zwickau\nGast: SG Rödertal/Radeberg\nHalle: SH Zwickau-Neuplanitz (32501)\nAdresse: Dortmunder Str. 7a\, 08062 Zwickau\n
LOCATION:SH Zwickau-Neuplanitz (32501): Dortmunder Str. 7a\, 08062 Zwickau
CATEGORIES:Saison 2019/20
END:VEVENT
BEGIN:VEVENT
DTSTAMP:20260420T092435Z
DTSTART;TZID=Europe/Berlin:20190928T150000
DTEND;TZID=Europe/Berlin:20190928T160000
SUMMARY:Sachsenliga wJB VfL Meißen vs BSV Sa. Zwickau (718)
UID:ba06bf52-0842-44b6-8e16-56fe3fe387d3
STATUS:CONFIRMED
LAST-MODIFIED:20190928T171140Z
DESCRIPTION:Sachsenliga weibliche Jugend B\nBegegnungs-Nr: 718\nHeim: VfL Meißen\nGast: BSV Sa. Zwickau\nHalle: SH \"Heiliger Grund\" Meißen (33212)\nAdresse: Goethestraße 27\, 01662 Meißen\n
LOCATION:SH \"Heiliger Grund\" Meißen (33212): Goethestraße 27\, 01662 Meißen
CATEGORIES:Saison 2019/20
END:VEVENT
BEGIN:VEVENT
DTSTAMP:20260420T092435Z
DTSTART;TZID=Europe/Berlin:20200502T140000
DTEND;TZID=Europe/Berlin:20200502T150000
SUMMARY:Sachsenliga wJB Koweg Görlitz vs BSV Sa. Zwickau (790)
UID:826f648e-73db-49a1-964c-7da818b74d00
STATUS:CONFIRMED
DESCRIPTION:Sachsenliga weibliche Jugend B\nBegegnungs-Nr: 790\nHeim: Koweg Görlitz\nGast: BSV Sa. Zwickau\nHalle: SH Rauschwalde (34301)\nAdresse: Diesterwegplatz 8\, 02827 Görlitz\n
LOCATION:SH Rauschwalde (34301): Diesterwegplatz 8\, 02827 Görlitz
CATEGORIES:Saison 2019/20
END:VEVENT
BEGIN:VEVENT
DTSTAMP:20260420T092435Z
DTSTART;TZID=Europe/Berlin:20200201T123000
DTEND;TZID=Europe/Berlin:20200201T133000
SUMMARY:Sachsenliga wJB SG Zschorlau/Schneeberg vs BSV Sa. Zwickau (755)
UID:1c4d52eb-6389-4a41-9793-d0e5bceb2db6
STATUS:CONFIRMED
LAST-MODIFIED:20200202T103850Z
DESCRIPTION:Sachsenliga weibliche Jugend B\nBegegnungs-Nr: 755\nHeim: SG Zschorlau/Schneeberg\nGast: BSV Sa. Zwickau\nHalle: Silberstrom-Halle Schneeberg (32307)\nAdresse: Keilbergring 20\, 08289 Schneeberg\n
LOCATION:Silberstrom-Halle Schneeberg (32307): Keilbergring 20\, 08289 Schneeberg
CATEGORIES:Saison 2019/20
END:VEVENT
BEGIN:VEVENT
DTSTAMP:20260420T092435Z
DTSTART;TZID=Europe/Berlin:20191208T124500
DTEND;TZID=Europe/Berlin:20191208T134500
SUMMARY:Sachsenliga wJB HC Leipzig vs BSV Sa. Zwickau (737)
UID:a3c69183-ce1d-4e1e-a69d-150d1697b818
STATUS:CONFIRMED
LAST-MODIFIED:20191208T151326Z
DESCRIPTION:Sachsenliga weibliche Jugend B\nBegegnungs-Nr: 737\nHeim: HC Leipzig\nGast: BSV Sa. Zwickau\nHalle: SH Brüderstraße Leipzig (31101)\nAdresse: Brüderstr. 15\, 04103 Leipzig\n
LOCATION:SH Brüderstraße Leipzig (31101): Brüderstr. 15\, 04103 Leipzig
CATEGORIES:Saison 2019/20
END:VEVENT
BEGIN:VEVENT
DTSTAMP:20260420T092435Z
DTSTART;TZID=Europe/Berlin:20191116T160000
DTEND;TZID=Europe/Berlin:20191116T170000
SUMMARY:Sachsenliga wJB HC Großenhain  vs BSV Sa. Zwickau (727)
UID:ccccd1fd-406e-4c93-8aa3-883e78e179c2
STATUS:CONFIRMED
LAST-MODIFIED:20191116T181311Z
DESCRIPTION:Sachsenliga weibliche Jugend B\nBegegnungs-Nr: 727\nHeim: HC Großenhain \nGast: BSV Sa. Zwickau\nHalle: Rödertal-SH (33205)\nAdresse: Am Marstall 4\, 01558 Großenhain\n
LOCATION:Rödertal-SH (33205): Am Marstall 4\, 01558 Großenhain
CATEGORIES:Saison 2019/20
END:VEVENT
BEGIN:VEVENT
DTSTAMP:20260420T092435Z
DTSTART;TZID=Europe/Berlin:20190907T110000
DTEND;TZID=Europe/Berlin:20190907T120000
SUMMARY:Sachsenliga wJB SC Hoyerswerda  vs BSV Sa. Zwickau (701)
UID:97959446-71ac-4123-9145-3ac4f74f9167
STATUS:CONFIRMED
LAST-MODIFIED:20190907T163021Z
DESCRIPTION:Sachsenliga weibliche Jugend B\nBegegnungs-Nr: 701\nHeim: SC Hoyerswerda \nGast: BSV Sa. Zwickau\nHalle: VBH Arena Hoyerswerda (34202)\nAdresse: Lieselotte-Herrmann-Str. 11\, 02977 Hoyerswerda\n
LOCATION:VBH Arena Hoyerswerda (34202): Lieselotte-Herrmann-Str. 11\, 02977 Hoyerswerda
CATEGORIES:Saison 2019/20
END:VEVENT
BEGIN:VEVENT
DTSTAMP:20260420T092435Z
DTSTART;TZID=Europe/Berlin:20200126T103000
DTEND;TZID=Europe/Berlin:20200126T113000
SUMMARY:Quali MHV Bestenermittlung SG Rödertal/Radeberg vs BSV Sa. Zwickau (1)
UID:16bb7c30-cc76-4bf2-bef2-cb6e632fb24c
STATUS:CONFIRMED
LAST-MODIFIED:20200126T140628Z
DESCRIPTION:Qualifikation MHV Bestenermittlung\nBegegnungs-Nr: 1\nHeim: SG Rödertal/Radeberg\nGast: BSV Sa. Zwickau\nHalle: 3-Feld-Halle-GY Großröhrsdorf (34514)\nAdresse: Melanchthonstraße 21\, 01900  Großröhrsdorf\n
LOCATION:3-Feld-Halle-GY Großröhrsdorf (34514): Melanchthonstraße 21\, 01900  Großröhrsdorf
CATEGORIES:Saison 2019/20
END:VEVENT
BEGIN:VEVENT
DTSTAMP:20260420T092435Z
DTSTART;TZID=Europe/Berlin:20200229T103000
DTEND;TZID=Europe/Berlin:20200229T113000
SUMMARY:Sachsenliga wJB SG Rödertal/Radeberg vs BSV Sa. Zwickau (760)
UID:fdbf0601-94f0-44bf-93e1-8c8dbff4a335
STATUS:CONFIRMED
LAST-MODIFIED:20200301T035204Z
DESCRIPTION:Sachsenliga weibliche Jugend B\nBegegnungs-Nr: 760\nHeim: SG Rödertal/Radeberg\nGast: BSV Sa. Zwickau\nHalle: 3-Feld-Halle-GY Großröhrsdorf (34514)\nAdresse: Melanchthonstraße 21\, 01900  Großröhrsdorf\n
LOCATION:3-Feld-Halle-GY Großröhrsdorf (34514): Melanchthonstraße 21\, 01900  Großröhrsdorf
CATEGORIES:Saison 2019/20
END:VEVENT
END:VCALENDAR
