BEGIN:VCALENDAR
PRODID:-//nuDatenautomaten//framework iCal4j //DE
VERSION:2.0
CALSCALE:GREGORIAN
BEGIN:VTIMEZONE
TZID:Europe/Berlin
LAST-MODIFIED:20260306T231828Z
TZURL:https://www.tzurl.org/zoneinfo/Europe/Berlin
X-LIC-LOCATION:Europe/Berlin
X-PROLEPTIC-TZNAME:LMT
BEGIN:STANDARD
TZNAME:CET
TZOFFSETFROM:+005328
TZOFFSETTO:+0100
DTSTART:18930401T000000
END:STANDARD
BEGIN:DAYLIGHT
TZNAME:CEST
TZOFFSETFROM:+0100
TZOFFSETTO:+0200
DTSTART:19160430T230000
RDATE:19400401T020000
RDATE:19430329T020000
RDATE:19460414T020000
RDATE:19470406T030000
RDATE:19480418T020000
RDATE:19490410T020000
RDATE:19800406T020000
END:DAYLIGHT
BEGIN:STANDARD
TZNAME:CET
TZOFFSETFROM:+0200
TZOFFSETTO:+0100
DTSTART:19161001T010000
RDATE:19421102T030000
RDATE:19431004T030000
RDATE:19441002T030000
RDATE:19451118T030000
RDATE:19461007T030000
END:STANDARD
BEGIN:DAYLIGHT
TZNAME:CEST
TZOFFSETFROM:+0100
TZOFFSETTO:+0200
DTSTART:19170416T020000
RRULE:FREQ=YEARLY;UNTIL=19180415T010000Z;BYMONTH=4;BYDAY=3MO
END:DAYLIGHT
BEGIN:STANDARD
TZNAME:CET
TZOFFSETFROM:+0200
TZOFFSETTO:+0100
DTSTART:19170917T030000
RRULE:FREQ=YEARLY;UNTIL=19180916T010000Z;BYMONTH=9;BYDAY=3MO
END:STANDARD
BEGIN:DAYLIGHT
TZNAME:CEST
TZOFFSETFROM:+0100
TZOFFSETTO:+0200
DTSTART:19440403T020000
RRULE:FREQ=YEARLY;UNTIL=19450402T010000Z;BYMONTH=4;BYDAY=1MO
END:DAYLIGHT
BEGIN:DAYLIGHT
TZNAME:CEMT
TZOFFSETFROM:+0200
TZOFFSETTO:+0300
DTSTART:19450524T020000
RDATE:19470511T030000
END:DAYLIGHT
BEGIN:DAYLIGHT
TZNAME:CEST
TZOFFSETFROM:+0300
TZOFFSETTO:+0200
DTSTART:19450924T030000
RDATE:19470629T030000
END:DAYLIGHT
BEGIN:STANDARD
TZNAME:CET
TZOFFSETFROM:+0100
TZOFFSETTO:+0100
DTSTART:19460101T000000
RDATE:19800101T000000
END:STANDARD
BEGIN:STANDARD
TZNAME:CET
TZOFFSETFROM:+0200
TZOFFSETTO:+0100
DTSTART:19471005T030000
RRULE:FREQ=YEARLY;UNTIL=19491002T010000Z;BYMONTH=10;BYDAY=1SU
END:STANDARD
BEGIN:STANDARD
TZNAME:CET
TZOFFSETFROM:+0200
TZOFFSETTO:+0100
DTSTART:19800928T030000
RRULE:FREQ=YEARLY;UNTIL=19950924T010000Z;BYMONTH=9;BYDAY=-1SU
END:STANDARD
BEGIN:DAYLIGHT
TZNAME:CEST
TZOFFSETFROM:+0100
TZOFFSETTO:+0200
DTSTART:19810329T020000
RRULE:FREQ=YEARLY;BYMONTH=3;BYDAY=-1SU
END:DAYLIGHT
BEGIN:STANDARD
TZNAME:CET
TZOFFSETFROM:+0200
TZOFFSETTO:+0100
DTSTART:19961027T030000
RRULE:FREQ=YEARLY;BYMONTH=10;BYDAY=-1SU
END:STANDARD
END:VTIMEZONE
BEGIN:VEVENT
DTSTAMP:20260420T004839Z
DTSTART;TZID=Europe/Berlin:20190908T170000
DTEND;TZID=Europe/Berlin:20190908T183000
SUMMARY:Verbandsliga Staffel Ost (VLFO) HCS Neustadt-S. vs ESV Dresden (4005)
UID:93cd091c-b540-446b-9f22-347e06f1863e
STATUS:CONFIRMED
LAST-MODIFIED:20190921T070951Z
DESCRIPTION:Verbandsliga Frauen Staffel Ost\nBegegnungs-Nr: 4005\nHeim: HCS Neustadt-S.\nGast: ESV Dresden\nHalle: Sportforum Neustadt (33303)\nAdresse: Maxim-Gorki-Straße 10\, 01844  Neustadt\n
LOCATION:Sportforum Neustadt (33303): Maxim-Gorki-Straße 10\, 01844  Neustadt
CATEGORIES:Saison 2019/20
END:VEVENT
BEGIN:VEVENT
DTSTAMP:20260420T004839Z
DTSTART;TZID=Europe/Berlin:20190922T170000
DTEND;TZID=Europe/Berlin:20190922T183000
SUMMARY:Verbandsliga Staffel Ost (VLFO) HCS Neustadt-S. vs SSV Heidenau  (4015)
UID:ebd628b8-aaff-401f-8f55-0d4aa32de4bf
STATUS:CONFIRMED
LAST-MODIFIED:20190923T132127Z
DESCRIPTION:Verbandsliga Frauen Staffel Ost\nBegegnungs-Nr: 4015\nHeim: HCS Neustadt-S.\nGast: SSV Heidenau \nHalle: Sportforum Neustadt (33303)\nAdresse: Maxim-Gorki-Straße 10\, 01844  Neustadt\n
LOCATION:Sportforum Neustadt (33303): Maxim-Gorki-Straße 10\, 01844  Neustadt
CATEGORIES:Saison 2019/20
END:VEVENT
BEGIN:VEVENT
DTSTAMP:20260420T004839Z
DTSTART;TZID=Europe/Berlin:20191201T170000
DTEND;TZID=Europe/Berlin:20191201T183000
SUMMARY:Verbandsliga Staffel Ost (VLFO) HCS Neustadt-S. vs HSV Weinböhla (4049)
UID:c25ee12b-efa8-4731-9ac4-3a8844b8073d
STATUS:CONFIRMED
LAST-MODIFIED:20191202T093109Z
DESCRIPTION:Verbandsliga Frauen Staffel Ost\nBegegnungs-Nr: 4049\nHeim: HCS Neustadt-S.\nGast: HSV Weinböhla\nHalle: Sportforum Neustadt (33303)\nAdresse: Maxim-Gorki-Straße 10\, 01844  Neustadt\n
LOCATION:Sportforum Neustadt (33303): Maxim-Gorki-Straße 10\, 01844  Neustadt
CATEGORIES:Saison 2019/20
END:VEVENT
BEGIN:VEVENT
DTSTAMP:20260420T004839Z
DTSTART;TZID=Europe/Berlin:20200223T170000
DTEND;TZID=Europe/Berlin:20200223T183000
SUMMARY:Verbandsliga Staffel Ost (VLFO) HCS Neustadt-S. vs TBSV Neugersdorf (4073)
UID:16efcb07-0d29-48a1-893c-5d7337f0720a
STATUS:CONFIRMED
LAST-MODIFIED:20200223T184912Z
DESCRIPTION:Verbandsliga Frauen Staffel Ost\nBegegnungs-Nr: 4073\nHeim: HCS Neustadt-S.\nGast: TBSV Neugersdorf\nHalle: Sportforum Neustadt (33303)\nAdresse: Maxim-Gorki-Straße 10\, 01844  Neustadt\n
LOCATION:Sportforum Neustadt (33303): Maxim-Gorki-Straße 10\, 01844  Neustadt
CATEGORIES:Saison 2019/20
END:VEVENT
BEGIN:VEVENT
DTSTAMP:20260420T004839Z
DTSTART;TZID=Europe/Berlin:20200308T170000
DTEND;TZID=Europe/Berlin:20200308T183000
SUMMARY:Verbandsliga Staffel Ost (VLFO) HCS Neustadt-S. vs Koweg Görlitz II (4085)
UID:fabca613-6f62-4f6d-9779-c2aa84de370d
STATUS:CONFIRMED
LAST-MODIFIED:20200309T141427Z
DESCRIPTION:Verbandsliga Frauen Staffel Ost\nBegegnungs-Nr: 4085\nHeim: HCS Neustadt-S.\nGast: Koweg Görlitz II\nHalle: Sportforum Neustadt (33303)\nAdresse: Maxim-Gorki-Straße 10\, 01844  Neustadt\n
LOCATION:Sportforum Neustadt (33303): Maxim-Gorki-Straße 10\, 01844  Neustadt
CATEGORIES:Saison 2019/20
END:VEVENT
BEGIN:VEVENT
DTSTAMP:20260420T004839Z
DTSTART;TZID=Europe/Berlin:20200119T170000
DTEND;TZID=Europe/Berlin:20200119T183000
SUMMARY:Verbandsliga Staffel Ost (VLFO) HCS Neustadt-S. vs VfL Meißen (4065)
UID:128843ab-df28-4ae6-b7d4-7b56d03dff2b
STATUS:CONFIRMED
LAST-MODIFIED:20200123T151502Z
DESCRIPTION:Verbandsliga Frauen Staffel Ost\nBegegnungs-Nr: 4065\nHeim: HCS Neustadt-S.\nGast: VfL Meißen\nHalle: Sportforum Neustadt (33303)\nAdresse: Maxim-Gorki-Straße 10\, 01844  Neustadt\n
LOCATION:Sportforum Neustadt (33303): Maxim-Gorki-Straße 10\, 01844  Neustadt
CATEGORIES:Saison 2019/20
END:VEVENT
BEGIN:VEVENT
DTSTAMP:20260420T004839Z
DTSTART;TZID=Europe/Berlin:20191214T170000
DTEND;TZID=Europe/Berlin:20191214T183000
SUMMARY:Verbandsliga Staffel Ost (VLFO) HCS Neustadt-S. vs SG Klotzsche (4025)
UID:87006ed7-cc5a-487b-83ba-71b437908dd6
STATUS:CONFIRMED
LAST-MODIFIED:20191216T143334Z
DESCRIPTION:Verbandsliga Frauen Staffel Ost\nBegegnungs-Nr: 4025\nHeim: HCS Neustadt-S.\nGast: SG Klotzsche\nHalle: Sportforum Neustadt (33303)\nAdresse: Maxim-Gorki-Straße 10\, 01844  Neustadt\n
LOCATION:Sportforum Neustadt (33303): Maxim-Gorki-Straße 10\, 01844  Neustadt
CATEGORIES:Saison 2019/20
END:VEVENT
BEGIN:VEVENT
DTSTAMP:20260420T004839Z
DTSTART;TZID=Europe/Berlin:20191124T170000
DTEND;TZID=Europe/Berlin:20191124T183000
SUMMARY:Verbandsliga Staffel Ost (VLFO) HCS Neustadt-S. vs HC Rödertal  III (4044)
UID:82730886-4b15-47ba-8f94-5db8f8988bf9
STATUS:CONFIRMED
LAST-MODIFIED:20191124T183432Z
DESCRIPTION:Verbandsliga Frauen Staffel Ost\nBegegnungs-Nr: 4044\nHeim: HCS Neustadt-S.\nGast: HC Rödertal  III\nHalle: Sportforum Neustadt (33303)\nAdresse: Maxim-Gorki-Straße 10\, 01844  Neustadt\n
LOCATION:Sportforum Neustadt (33303): Maxim-Gorki-Straße 10\, 01844  Neustadt
CATEGORIES:Saison 2019/20
END:VEVENT
BEGIN:VEVENT
DTSTAMP:20260420T004839Z
DTSTART;TZID=Europe/Berlin:20191110T170000
DTEND;TZID=Europe/Berlin:20191110T183000
SUMMARY:Verbandsliga Staffel Ost (VLFO) HCS Neustadt-S. vs SF 01 Dresden (4034)
UID:c3c079dc-cfef-4698-9eae-4c9b08bd9845
STATUS:CONFIRMED
LAST-MODIFIED:20191111T141045Z
DESCRIPTION:Verbandsliga Frauen Staffel Ost\nBegegnungs-Nr: 4034\nHeim: HCS Neustadt-S.\nGast: SF 01 Dresden\nHalle: Sportforum Neustadt (33303)\nAdresse: Maxim-Gorki-Straße 10\, 01844  Neustadt\n
LOCATION:Sportforum Neustadt (33303): Maxim-Gorki-Straße 10\, 01844  Neustadt
CATEGORIES:Saison 2019/20
END:VEVENT
BEGIN:VEVENT
DTSTAMP:20260420T004839Z
DTSTART;TZID=Europe/Berlin:20200425T170000
DTEND;TZID=Europe/Berlin:20200425T183000
SUMMARY:Verbandsliga Staffel Ost (VLFO) HSV Weinböhla vs HCS Neustadt-S. (4103)
UID:ff164959-0ddb-4b85-9d88-aade29d8a23c
STATUS:CONFIRMED
DESCRIPTION:Verbandsliga Frauen Staffel Ost\nBegegnungs-Nr: 4103\nHeim: HSV Weinböhla\nGast: HCS Neustadt-S.\nHalle: Nassau-SH Weinböhla (33224)\nAdresse: Meißner Str. 1\, 01689 Weinböhla\n
LOCATION:Nassau-SH Weinböhla (33224): Meißner Str. 1\, 01689 Weinböhla
CATEGORIES:Saison 2019/20
END:VEVENT
BEGIN:VEVENT
DTSTAMP:20260420T004839Z
DTSTART;TZID=Europe/Berlin:20191116T150000
DTEND;TZID=Europe/Berlin:20191116T163000
SUMMARY:Verbandsliga Staffel Ost (VLFO) Radeberger SV vs HCS Neustadt-S. (4035)
UID:de3300ae-d6b7-46e6-9a7d-9c0522a186b3
STATUS:CONFIRMED
LAST-MODIFIED:20191116T164734Z
DESCRIPTION:Verbandsliga Frauen Staffel Ost\nBegegnungs-Nr: 4035\nHeim: Radeberger SV\nGast: HCS Neustadt-S.\nHalle: 3-Feld-Halle-BSZ Radeberg (34209)\nAdresse: Robert-Blum-Weg 5\, 01454 Radeberg\n
LOCATION:3-Feld-Halle-BSZ Radeberg (34209): Robert-Blum-Weg 5\, 01454 Radeberg
CATEGORIES:Saison 2019/20
END:VEVENT
BEGIN:VEVENT
DTSTAMP:20260420T004839Z
DTSTART;TZID=Europe/Berlin:20200125T161500
DTEND;TZID=Europe/Berlin:20200125T174500
SUMMARY:Verbandsliga Staffel Ost (VLFO) SSV Heidenau  vs HCS Neustadt-S. (4067)
UID:2daa3d23-4fd0-4bde-9840-1f9d41a64f06
STATUS:CONFIRMED
LAST-MODIFIED:20200126T080112Z
DESCRIPTION:Verbandsliga Frauen Staffel Ost\nBegegnungs-Nr: 4067\nHeim: SSV Heidenau \nGast: HCS Neustadt-S.\nHalle: SH Pestalozzi-Gymnasium Heidenau (33306)\nAdresse: Hauptstraße 37\, 01809 Heidenau\n
LOCATION:SH Pestalozzi-Gymnasium Heidenau (33306): Hauptstraße 37\, 01809 Heidenau
CATEGORIES:Saison 2019/20
END:VEVENT
BEGIN:VEVENT
DTSTAMP:20260420T004839Z
DTSTART;TZID=Europe/Berlin:20190928T160000
DTEND;TZID=Europe/Berlin:20190928T173000
SUMMARY:Verbandsliga Staffel Ost (VLFO) TBSV Neugersdorf vs HCS Neustadt-S. (4017)
UID:4885a5b9-1eef-44be-be3c-7699d2c49fe2
STATUS:CONFIRMED
LAST-MODIFIED:20190929T074411Z
DESCRIPTION:Verbandsliga Frauen Staffel Ost\nBegegnungs-Nr: 4017\nHeim: TBSV Neugersdorf\nGast: HCS Neustadt-S.\nHalle: FSZ Oberland \"Albert Schweitzer\" (34112)\nAdresse: Friedrich-Ebert-Str.27\, 02730 Ebersbach-Neugersdorf\n
LOCATION:FSZ Oberland \"Albert Schweitzer\" (34112): Friedrich-Ebert-Str.27\, 02730 Ebersbach-Neugersdorf
CATEGORIES:Saison 2019/20
END:VEVENT
BEGIN:VEVENT
DTSTAMP:20260420T004839Z
DTSTART;TZID=Europe/Berlin:20190914T190000
DTEND;TZID=Europe/Berlin:20190914T203000
SUMMARY:Verbandsliga Staffel Ost (VLFO) VfL Meißen vs HCS Neustadt-S. (4009)
UID:49429c2d-833b-4460-a9ba-6ecab5cf6330
STATUS:CONFIRMED
LAST-MODIFIED:20190916T142050Z
DESCRIPTION:Verbandsliga Frauen Staffel Ost\nBegegnungs-Nr: 4009\nHeim: VfL Meißen\nGast: HCS Neustadt-S.\nHalle: SH \"Heiliger Grund\" Meißen (33212)\nAdresse: Goethestraße 27\, 01662 Meißen\n
LOCATION:SH \"Heiliger Grund\" Meißen (33212): Goethestraße 27\, 01662 Meißen
CATEGORIES:Saison 2019/20
END:VEVENT
BEGIN:VEVENT
DTSTAMP:20260420T004839Z
DTSTART;TZID=Europe/Berlin:20200112T160000
DTEND;TZID=Europe/Berlin:20200112T173000
SUMMARY:Verbandsliga Staffel Ost (VLFO) ESV Dresden vs HCS Neustadt-S. (4060)
UID:060e5c46-156d-4d4c-9a00-454496065079
STATUS:CONFIRMED
LAST-MODIFIED:20200113T143548Z
DESCRIPTION:Verbandsliga Frauen Staffel Ost\nBegegnungs-Nr: 4060\nHeim: ESV Dresden\nGast: HCS Neustadt-S.\nHalle: Lok-SH Dresden (33106)\nAdresse: Emmerich-Ambros-Ufer 74\, 01159 Dresden\n
LOCATION:Lok-SH Dresden (33106): Emmerich-Ambros-Ufer 74\, 01159 Dresden
CATEGORIES:Saison 2019/20
END:VEVENT
BEGIN:VEVENT
DTSTAMP:20260420T004839Z
DTSTART;TZID=Europe/Berlin:20191102T170000
DTEND;TZID=Europe/Berlin:20191102T183000
SUMMARY:Verbandsliga Staffel Ost (VLFO) Koweg Görlitz II vs HCS Neustadt-S. (4027)
UID:51c4a9f3-2a68-4372-8501-66cf53577949
STATUS:CONFIRMED
LAST-MODIFIED:20191103T172118Z
DESCRIPTION:Verbandsliga Frauen Staffel Ost\nBegegnungs-Nr: 4027\nHeim: Koweg Görlitz II\nGast: HCS Neustadt-S.\nHalle: SH Rauschwalde (34301)\nAdresse: Diesterwegplatz 8\, 02827 Görlitz\n
LOCATION:SH Rauschwalde (34301): Diesterwegplatz 8\, 02827 Görlitz
CATEGORIES:Saison 2019/20
END:VEVENT
BEGIN:VEVENT
DTSTAMP:20260420T004839Z
DTSTART;TZID=Europe/Berlin:20200229T170000
DTEND;TZID=Europe/Berlin:20200229T183000
SUMMARY:Verbandsliga Staffel Ost (VLFO) SG Klotzsche vs HCS Neustadt-S. (4080)
UID:d550853f-21f8-47ca-a032-7bb08ffe67f7
STATUS:CONFIRMED
LAST-MODIFIED:20200301T080531Z
DESCRIPTION:Verbandsliga Frauen Staffel Ost\nBegegnungs-Nr: 4080\nHeim: SG Klotzsche\nGast: HCS Neustadt-S.\nHalle: SH Gymnasium Klotzsche (33126)\nAdresse: Karl-Marx-Straße 44\, 01109 Dresden\n
LOCATION:SH Gymnasium Klotzsche (33126): Karl-Marx-Straße 44\, 01109 Dresden
CATEGORIES:Saison 2019/20
END:VEVENT
END:VCALENDAR
