BEGIN:VCALENDAR
PRODID:-//nuDatenautomaten//framework iCal4j //DE
VERSION:2.0
CALSCALE:GREGORIAN
BEGIN:VTIMEZONE
TZID:Europe/Berlin
LAST-MODIFIED:20260306T231828Z
TZURL:https://www.tzurl.org/zoneinfo/Europe/Berlin
X-LIC-LOCATION:Europe/Berlin
X-PROLEPTIC-TZNAME:LMT
BEGIN:STANDARD
TZNAME:CET
TZOFFSETFROM:+005328
TZOFFSETTO:+0100
DTSTART:18930401T000000
END:STANDARD
BEGIN:DAYLIGHT
TZNAME:CEST
TZOFFSETFROM:+0100
TZOFFSETTO:+0200
DTSTART:19160430T230000
RDATE:19400401T020000
RDATE:19430329T020000
RDATE:19460414T020000
RDATE:19470406T030000
RDATE:19480418T020000
RDATE:19490410T020000
RDATE:19800406T020000
END:DAYLIGHT
BEGIN:STANDARD
TZNAME:CET
TZOFFSETFROM:+0200
TZOFFSETTO:+0100
DTSTART:19161001T010000
RDATE:19421102T030000
RDATE:19431004T030000
RDATE:19441002T030000
RDATE:19451118T030000
RDATE:19461007T030000
END:STANDARD
BEGIN:DAYLIGHT
TZNAME:CEST
TZOFFSETFROM:+0100
TZOFFSETTO:+0200
DTSTART:19170416T020000
RRULE:FREQ=YEARLY;UNTIL=19180415T010000Z;BYMONTH=4;BYDAY=3MO
END:DAYLIGHT
BEGIN:STANDARD
TZNAME:CET
TZOFFSETFROM:+0200
TZOFFSETTO:+0100
DTSTART:19170917T030000
RRULE:FREQ=YEARLY;UNTIL=19180916T010000Z;BYMONTH=9;BYDAY=3MO
END:STANDARD
BEGIN:DAYLIGHT
TZNAME:CEST
TZOFFSETFROM:+0100
TZOFFSETTO:+0200
DTSTART:19440403T020000
RRULE:FREQ=YEARLY;UNTIL=19450402T010000Z;BYMONTH=4;BYDAY=1MO
END:DAYLIGHT
BEGIN:DAYLIGHT
TZNAME:CEMT
TZOFFSETFROM:+0200
TZOFFSETTO:+0300
DTSTART:19450524T020000
RDATE:19470511T030000
END:DAYLIGHT
BEGIN:DAYLIGHT
TZNAME:CEST
TZOFFSETFROM:+0300
TZOFFSETTO:+0200
DTSTART:19450924T030000
RDATE:19470629T030000
END:DAYLIGHT
BEGIN:STANDARD
TZNAME:CET
TZOFFSETFROM:+0100
TZOFFSETTO:+0100
DTSTART:19460101T000000
RDATE:19800101T000000
END:STANDARD
BEGIN:STANDARD
TZNAME:CET
TZOFFSETFROM:+0200
TZOFFSETTO:+0100
DTSTART:19471005T030000
RRULE:FREQ=YEARLY;UNTIL=19491002T010000Z;BYMONTH=10;BYDAY=1SU
END:STANDARD
BEGIN:STANDARD
TZNAME:CET
TZOFFSETFROM:+0200
TZOFFSETTO:+0100
DTSTART:19800928T030000
RRULE:FREQ=YEARLY;UNTIL=19950924T010000Z;BYMONTH=9;BYDAY=-1SU
END:STANDARD
BEGIN:DAYLIGHT
TZNAME:CEST
TZOFFSETFROM:+0100
TZOFFSETTO:+0200
DTSTART:19810329T020000
RRULE:FREQ=YEARLY;BYMONTH=3;BYDAY=-1SU
END:DAYLIGHT
BEGIN:STANDARD
TZNAME:CET
TZOFFSETFROM:+0200
TZOFFSETTO:+0100
DTSTART:19961027T030000
RRULE:FREQ=YEARLY;BYMONTH=10;BYDAY=-1SU
END:STANDARD
END:VTIMEZONE
BEGIN:VEVENT
DTSTAMP:20260425T030548Z
DTSTART;TZID=Europe/Berlin:20200112T133000
DTEND;TZID=Europe/Berlin:20200112T143000
SUMMARY:Sachsenliga wJC Koweg Görlitz vs SG Zschorlau/Schneeberg (859)
UID:80b0fda0-f00c-4035-9f5f-95443b048373
STATUS:CONFIRMED
LAST-MODIFIED:20200118T145125Z
DESCRIPTION:Sachsenliga weibliche Jugend C\nBegegnungs-Nr: 859\nHeim: Koweg Görlitz\nGast: SG Zschorlau/Schneeberg\nHalle: SH Rauschwalde (34301)\nAdresse: Diesterwegplatz 8\, 02827 Görlitz\n
LOCATION:SH Rauschwalde (34301): Diesterwegplatz 8\, 02827 Görlitz
CATEGORIES:Saison 2019/20
END:VEVENT
BEGIN:VEVENT
DTSTAMP:20260425T030548Z
DTSTART;TZID=Europe/Berlin:20191027T133000
DTEND;TZID=Europe/Berlin:20191027T143000
SUMMARY:Sachsenliga wJC Koweg Görlitz vs SG Rödertal/Radeberg II (821)
UID:50fe3a9c-2f80-4084-9e1a-3463cf222762
STATUS:CONFIRMED
LAST-MODIFIED:20191109T130442Z
DESCRIPTION:Sachsenliga weibliche Jugend C\nBegegnungs-Nr: 821\nHeim: Koweg Görlitz\nGast: SG Rödertal/Radeberg II\nHalle: SH Rauschwalde (34301)\nAdresse: Diesterwegplatz 8\, 02827 Görlitz\n
LOCATION:SH Rauschwalde (34301): Diesterwegplatz 8\, 02827 Görlitz
CATEGORIES:Saison 2019/20
END:VEVENT
BEGIN:VEVENT
DTSTAMP:20260425T030548Z
DTSTART;TZID=Europe/Berlin:20190908T140000
DTEND;TZID=Europe/Berlin:20190908T150000
SUMMARY:Sachsenliga wJC Koweg Görlitz vs SG Zschorlau/Schneeberg (803)
UID:b85e4ee7-8dea-4371-9124-e7bdd34fc051
STATUS:CONFIRMED
LAST-MODIFIED:20190923T172201Z
DESCRIPTION:Sachsenliga weibliche Jugend C\nBegegnungs-Nr: 803\nHeim: Koweg Görlitz\nGast: SG Zschorlau/Schneeberg\nHalle: SH Rauschwalde (34301)\nAdresse: Diesterwegplatz 8\, 02827 Görlitz\n
LOCATION:SH Rauschwalde (34301): Diesterwegplatz 8\, 02827 Görlitz
CATEGORIES:Saison 2019/20
END:VEVENT
BEGIN:VEVENT
DTSTAMP:20260425T030548Z
DTSTART;TZID=Europe/Berlin:20200105T133000
DTEND;TZID=Europe/Berlin:20200105T143000
SUMMARY:Sachsenliga wJC Koweg Görlitz vs HC Leipzig (854)
UID:83f236d7-9e84-464e-96e0-40347cb83aff
STATUS:CONFIRMED
LAST-MODIFIED:20200118T143902Z
DESCRIPTION:Sachsenliga weibliche Jugend C\nBegegnungs-Nr: 854\nHeim: Koweg Görlitz\nGast: HC Leipzig\nHalle: SH Rauschwalde (34301)\nAdresse: Diesterwegplatz 8\, 02827 Görlitz\n
LOCATION:SH Rauschwalde (34301): Diesterwegplatz 8\, 02827 Görlitz
CATEGORIES:Saison 2019/20
END:VEVENT
BEGIN:VEVENT
DTSTAMP:20260425T030548Z
DTSTART;TZID=Europe/Berlin:20190922T140000
DTEND;TZID=Europe/Berlin:20190922T150000
SUMMARY:Sachsenliga wJC Koweg Görlitz vs VfL Meißen (812)
UID:b727257a-df7e-4558-adfb-105c995d08a2
STATUS:CONFIRMED
LAST-MODIFIED:20190923T173045Z
DESCRIPTION:Sachsenliga weibliche Jugend C\nBegegnungs-Nr: 812\nHeim: Koweg Görlitz\nGast: VfL Meißen\nHalle: SH Rauschwalde (34301)\nAdresse: Diesterwegplatz 8\, 02827 Görlitz\n
LOCATION:SH Rauschwalde (34301): Diesterwegplatz 8\, 02827 Görlitz
CATEGORIES:Saison 2019/20
END:VEVENT
BEGIN:VEVENT
DTSTAMP:20260425T030548Z
DTSTART;TZID=Europe/Berlin:20191208T130000
DTEND;TZID=Europe/Berlin:20191208T140000
SUMMARY:Sachsenliga wJC Koweg Görlitz vs BSV Sa. Zwickau (844)
UID:3ea8ff27-e9cc-4a37-9812-d4dc537447aa
STATUS:CONFIRMED
LAST-MODIFIED:20200105T130833Z
DESCRIPTION:Sachsenliga weibliche Jugend C\nBegegnungs-Nr: 844\nHeim: Koweg Görlitz\nGast: BSV Sa. Zwickau\nHalle: SH Rauschwalde (34301)\nAdresse: Diesterwegplatz 8\, 02827 Görlitz\n
LOCATION:SH Rauschwalde (34301): Diesterwegplatz 8\, 02827 Görlitz
CATEGORIES:Saison 2019/20
END:VEVENT
BEGIN:VEVENT
DTSTAMP:20260425T030548Z
DTSTART;TZID=Europe/Berlin:20191214T120000
DTEND;TZID=Europe/Berlin:20191214T130000
SUMMARY:Sachsenliga wJC Koweg Görlitz vs SC Markranstädt (848)
UID:69ad56e3-861d-4326-8f5a-b364cacd60b8
STATUS:CONFIRMED
LAST-MODIFIED:20200105T131013Z
DESCRIPTION:Sachsenliga weibliche Jugend C\nBegegnungs-Nr: 848\nHeim: Koweg Görlitz\nGast: SC Markranstädt\nHalle: SH Rauschwalde (34301)\nAdresse: Diesterwegplatz 8\, 02827 Görlitz\n
LOCATION:SH Rauschwalde (34301): Diesterwegplatz 8\, 02827 Görlitz
CATEGORIES:Saison 2019/20
END:VEVENT
BEGIN:VEVENT
DTSTAMP:20260425T030548Z
DTSTART;TZID=Europe/Berlin:20191124T130000
DTEND;TZID=Europe/Berlin:20191124T140000
SUMMARY:Sachsenliga wJC Koweg Görlitz vs SG Rödertal/Radeberg (835)
UID:78a695e0-e13f-451b-804c-bce1fa14e88c
STATUS:CONFIRMED
LAST-MODIFIED:20191128T171907Z
DESCRIPTION:Sachsenliga weibliche Jugend C\nBegegnungs-Nr: 835\nHeim: Koweg Görlitz\nGast: SG Rödertal/Radeberg\nHalle: SH Rauschwalde (34301)\nAdresse: Diesterwegplatz 8\, 02827 Görlitz\n
LOCATION:SH Rauschwalde (34301): Diesterwegplatz 8\, 02827 Görlitz
CATEGORIES:Saison 2019/20
END:VEVENT
BEGIN:VEVENT
DTSTAMP:20260425T030548Z
DTSTART;TZID=Europe/Berlin:20200223T130000
DTEND;TZID=Europe/Berlin:20200223T140000
SUMMARY:Sachsenliga wJC Koweg Görlitz vs SG Rödertal/Radeberg II (877)
UID:92f593ec-9fbb-4cda-a114-b3c31bf89e10
STATUS:CONFIRMED
LAST-MODIFIED:20200225T151809Z
DESCRIPTION:Sachsenliga weibliche Jugend C\nBegegnungs-Nr: 877\nHeim: Koweg Görlitz\nGast: SG Rödertal/Radeberg II\nHalle: SH Rauschwalde (34301)\nAdresse: Diesterwegplatz 8\, 02827 Görlitz\n
LOCATION:SH Rauschwalde (34301): Diesterwegplatz 8\, 02827 Görlitz
CATEGORIES:Saison 2019/20
END:VEVENT
BEGIN:VEVENT
DTSTAMP:20260425T030548Z
DTSTART;TZID=Europe/Berlin:20200126T110000
DTEND;TZID=Europe/Berlin:20200126T120000
SUMMARY:Sachsenliga wJC Koweg Görlitz vs VfL Meißen (868)
UID:33e14ba8-2d9c-41ec-b158-0564ae993cac
STATUS:CONFIRMED
LAST-MODIFIED:20200225T151539Z
DESCRIPTION:Sachsenliga weibliche Jugend C\nBegegnungs-Nr: 868\nHeim: Koweg Görlitz\nGast: VfL Meißen\nHalle: SH Rauschwalde (34301)\nAdresse: Diesterwegplatz 8\, 02827 Görlitz\n
LOCATION:SH Rauschwalde (34301): Diesterwegplatz 8\, 02827 Görlitz
CATEGORIES:Saison 2019/20
END:VEVENT
BEGIN:VEVENT
DTSTAMP:20260425T030548Z
DTSTART;TZID=Europe/Berlin:20191218T183000
DTEND;TZID=Europe/Berlin:20191218T193000
SUMMARY:Sachsenliga wJC SG Rödertal/Radeberg II vs Koweg Görlitz (849)
UID:520ada54-24fb-476a-8e44-20ef7ac74973
STATUS:CONFIRMED
LAST-MODIFIED:20200105T131947Z
DESCRIPTION:Sachsenliga weibliche Jugend C\nBegegnungs-Nr: 849\nHeim: SG Rödertal/Radeberg II\nGast: Koweg Görlitz\nHalle: 3-Feld-Halle-BSZ Radeberg (34209)\nAdresse: Robert-Blum-Weg 5\, 01454 Radeberg\n
LOCATION:3-Feld-Halle-BSZ Radeberg (34209): Robert-Blum-Weg 5\, 01454 Radeberg
CATEGORIES:Saison 2019/20
END:VEVENT
BEGIN:VEVENT
DTSTAMP:20260425T030548Z
DTSTART;TZID=Europe/Berlin:20191005T110000
DTEND;TZID=Europe/Berlin:20191005T120000
SUMMARY:Sachsenliga wJC SC Markranstädt vs Koweg Görlitz (820)
UID:e7e871a5-1ffb-4250-afb0-8ecd8810edb7
STATUS:CONFIRMED
LAST-MODIFIED:20191109T124508Z
DESCRIPTION:Sachsenliga weibliche Jugend C\nBegegnungs-Nr: 820\nHeim: SC Markranstädt\nGast: Koweg Görlitz\nHalle: Stadthalle Markranstädt (31115)\nAdresse: Leipziger Str. 4\, 04420 Markranstädt\n
LOCATION:Stadthalle Markranstädt (31115): Leipziger Str. 4\, 04420 Markranstädt
CATEGORIES:Saison 2019/20
END:VEVENT
BEGIN:VEVENT
DTSTAMP:20260425T030548Z
DTSTART;TZID=Europe/Berlin:20190928T123000
DTEND;TZID=Europe/Berlin:20190928T133000
SUMMARY:Sachsenliga wJC BSV Sa. Zwickau vs Koweg Görlitz (816)
UID:a54ad786-e07f-4e09-ab47-0e7f970c7f86
STATUS:CONFIRMED
LAST-MODIFIED:20191018T123740Z
DESCRIPTION:Sachsenliga weibliche Jugend C\nBegegnungs-Nr: 816\nHeim: BSV Sa. Zwickau\nGast: Koweg Görlitz\nHalle: SH Zwickau-Neuplanitz (32501)\nAdresse: Dortmunder Str. 7a\, 08062 Zwickau\n
LOCATION:SH Zwickau-Neuplanitz (32501): Dortmunder Str. 7a\, 08062 Zwickau
CATEGORIES:Saison 2019/20
END:VEVENT
BEGIN:VEVENT
DTSTAMP:20260425T030548Z
DTSTART;TZID=Europe/Berlin:20200119T113000
DTEND;TZID=Europe/Berlin:20200119T123000
SUMMARY:Sachsenliga wJC SG Rödertal/Radeberg vs Koweg Görlitz (863)
UID:2ec9c849-5fac-4690-8de6-fcb941413004
STATUS:CONFIRMED
LAST-MODIFIED:20200225T151132Z
DESCRIPTION:Sachsenliga weibliche Jugend C\nBegegnungs-Nr: 863\nHeim: SG Rödertal/Radeberg\nGast: Koweg Görlitz\nHalle: 3-Feld-Halle-GY Großröhrsdorf (34514)\nAdresse: Melanchthonstraße 21\, 01900  Großröhrsdorf\n
LOCATION:3-Feld-Halle-GY Großröhrsdorf (34514): Melanchthonstraße 21\, 01900  Großröhrsdorf
CATEGORIES:Saison 2019/20
END:VEVENT
BEGIN:VEVENT
DTSTAMP:20260425T030548Z
DTSTART;TZID=Europe/Berlin:20191117T110000
DTEND;TZID=Europe/Berlin:20191117T120000
SUMMARY:Sachsenliga wJC SG Zschorlau/Schneeberg vs Koweg Görlitz (831)
UID:43aa876c-99b6-4dfb-8631-4ebd86d0aef4
STATUS:CONFIRMED
LAST-MODIFIED:20191124T110205Z
DESCRIPTION:Sachsenliga weibliche Jugend C\nBegegnungs-Nr: 831\nHeim: SG Zschorlau/Schneeberg\nGast: Koweg Görlitz\nHalle: Silberstrom-Halle Schneeberg (32307)\nAdresse: Keilbergring 20\, 08289 Schneeberg\n
LOCATION:Silberstrom-Halle Schneeberg (32307): Keilbergring 20\, 08289 Schneeberg
CATEGORIES:Saison 2019/20
END:VEVENT
BEGIN:VEVENT
DTSTAMP:20260425T030548Z
DTSTART;TZID=Europe/Berlin:20200201T103000
DTEND;TZID=Europe/Berlin:20200201T113000
SUMMARY:Sachsenliga wJC BSV Sa. Zwickau vs Koweg Görlitz (872)
UID:467fd4b3-1a6d-4a0e-a8b1-abd63f07b806
STATUS:CONFIRMED
LAST-MODIFIED:20200225T151708Z
DESCRIPTION:Sachsenliga weibliche Jugend C\nBegegnungs-Nr: 872\nHeim: BSV Sa. Zwickau\nGast: Koweg Görlitz\nHalle: SH Zwickau-Neuplanitz (32501)\nAdresse: Dortmunder Str. 7a\, 08062 Zwickau\n
LOCATION:SH Zwickau-Neuplanitz (32501): Dortmunder Str. 7a\, 08062 Zwickau
CATEGORIES:Saison 2019/20
END:VEVENT
BEGIN:VEVENT
DTSTAMP:20260425T030548Z
DTSTART;TZID=Europe/Berlin:20191130T123000
DTEND;TZID=Europe/Berlin:20191130T133000
SUMMARY:Sachsenliga wJC VfL Meißen vs Koweg Görlitz (840)
UID:438279f2-1f1a-41b7-8767-077849b66e12
STATUS:CONFIRMED
LAST-MODIFIED:20200105T130153Z
DESCRIPTION:Sachsenliga weibliche Jugend C\nBegegnungs-Nr: 840\nHeim: VfL Meißen\nGast: Koweg Görlitz\nHalle: SH \"Heiliger Grund\" Meißen (33212)\nAdresse: Goethestraße 27\, 01662 Meißen\n
LOCATION:SH \"Heiliger Grund\" Meißen (33212): Goethestraße 27\, 01662 Meißen
CATEGORIES:Saison 2019/20
END:VEVENT
BEGIN:VEVENT
DTSTAMP:20260425T030548Z
DTSTART;TZID=Europe/Berlin:20190914T130000
DTEND;TZID=Europe/Berlin:20190914T140000
SUMMARY:Sachsenliga wJC SG Rödertal/Radeberg vs Koweg Görlitz (807)
UID:e2a10035-1c5d-48e4-b38a-79f3af681eb4
STATUS:CONFIRMED
LAST-MODIFIED:20190923T172451Z
DESCRIPTION:Sachsenliga weibliche Jugend C\nBegegnungs-Nr: 807\nHeim: SG Rödertal/Radeberg\nGast: Koweg Görlitz\nHalle: 3-Feld-Halle-GY Großröhrsdorf (34514)\nAdresse: Melanchthonstraße 21\, 01900  Großröhrsdorf\n
LOCATION:3-Feld-Halle-GY Großröhrsdorf (34514): Melanchthonstraße 21\, 01900  Großröhrsdorf
CATEGORIES:Saison 2019/20
END:VEVENT
BEGIN:VEVENT
DTSTAMP:20260425T030548Z
DTSTART;TZID=Europe/Berlin:20191109T123000
DTEND;TZID=Europe/Berlin:20191109T133000
SUMMARY:Sachsenliga wJC HC Leipzig vs Koweg Görlitz (826)
UID:16a9cc9b-f87a-4ce4-a340-cc74649efd17
STATUS:CONFIRMED
LAST-MODIFIED:20191109T131039Z
DESCRIPTION:Sachsenliga weibliche Jugend C\nBegegnungs-Nr: 826\nHeim: HC Leipzig\nGast: Koweg Görlitz\nHalle: SH Sportoberschule (31132)\nAdresse: Max -Planck-Str. 53-55\, 04105 Leipzig\n
LOCATION:SH Sportoberschule (31132): Max -Planck-Str. 53-55\, 04105 Leipzig
CATEGORIES:Saison 2019/20
END:VEVENT
END:VCALENDAR
