BEGIN:VCALENDAR
PRODID:-//nuDatenautomaten//framework iCal4j //DE
VERSION:2.0
CALSCALE:GREGORIAN
BEGIN:VTIMEZONE
TZID:Europe/Berlin
LAST-MODIFIED:20260306T231828Z
TZURL:https://www.tzurl.org/zoneinfo/Europe/Berlin
X-LIC-LOCATION:Europe/Berlin
X-PROLEPTIC-TZNAME:LMT
BEGIN:STANDARD
TZNAME:CET
TZOFFSETFROM:+005328
TZOFFSETTO:+0100
DTSTART:18930401T000000
END:STANDARD
BEGIN:DAYLIGHT
TZNAME:CEST
TZOFFSETFROM:+0100
TZOFFSETTO:+0200
DTSTART:19160430T230000
RDATE:19400401T020000
RDATE:19430329T020000
RDATE:19460414T020000
RDATE:19470406T030000
RDATE:19480418T020000
RDATE:19490410T020000
RDATE:19800406T020000
END:DAYLIGHT
BEGIN:STANDARD
TZNAME:CET
TZOFFSETFROM:+0200
TZOFFSETTO:+0100
DTSTART:19161001T010000
RDATE:19421102T030000
RDATE:19431004T030000
RDATE:19441002T030000
RDATE:19451118T030000
RDATE:19461007T030000
END:STANDARD
BEGIN:DAYLIGHT
TZNAME:CEST
TZOFFSETFROM:+0100
TZOFFSETTO:+0200
DTSTART:19170416T020000
RRULE:FREQ=YEARLY;UNTIL=19180415T010000Z;BYMONTH=4;BYDAY=3MO
END:DAYLIGHT
BEGIN:STANDARD
TZNAME:CET
TZOFFSETFROM:+0200
TZOFFSETTO:+0100
DTSTART:19170917T030000
RRULE:FREQ=YEARLY;UNTIL=19180916T010000Z;BYMONTH=9;BYDAY=3MO
END:STANDARD
BEGIN:DAYLIGHT
TZNAME:CEST
TZOFFSETFROM:+0100
TZOFFSETTO:+0200
DTSTART:19440403T020000
RRULE:FREQ=YEARLY;UNTIL=19450402T010000Z;BYMONTH=4;BYDAY=1MO
END:DAYLIGHT
BEGIN:DAYLIGHT
TZNAME:CEMT
TZOFFSETFROM:+0200
TZOFFSETTO:+0300
DTSTART:19450524T020000
RDATE:19470511T030000
END:DAYLIGHT
BEGIN:DAYLIGHT
TZNAME:CEST
TZOFFSETFROM:+0300
TZOFFSETTO:+0200
DTSTART:19450924T030000
RDATE:19470629T030000
END:DAYLIGHT
BEGIN:STANDARD
TZNAME:CET
TZOFFSETFROM:+0100
TZOFFSETTO:+0100
DTSTART:19460101T000000
RDATE:19800101T000000
END:STANDARD
BEGIN:STANDARD
TZNAME:CET
TZOFFSETFROM:+0200
TZOFFSETTO:+0100
DTSTART:19471005T030000
RRULE:FREQ=YEARLY;UNTIL=19491002T010000Z;BYMONTH=10;BYDAY=1SU
END:STANDARD
BEGIN:STANDARD
TZNAME:CET
TZOFFSETFROM:+0200
TZOFFSETTO:+0100
DTSTART:19800928T030000
RRULE:FREQ=YEARLY;UNTIL=19950924T010000Z;BYMONTH=9;BYDAY=-1SU
END:STANDARD
BEGIN:DAYLIGHT
TZNAME:CEST
TZOFFSETFROM:+0100
TZOFFSETTO:+0200
DTSTART:19810329T020000
RRULE:FREQ=YEARLY;BYMONTH=3;BYDAY=-1SU
END:DAYLIGHT
BEGIN:STANDARD
TZNAME:CET
TZOFFSETFROM:+0200
TZOFFSETTO:+0100
DTSTART:19961027T030000
RRULE:FREQ=YEARLY;BYMONTH=10;BYDAY=-1SU
END:STANDARD
END:VTIMEZONE
BEGIN:VEVENT
DTSTAMP:20260424T050206Z
DTSTART;TZID=Europe/Berlin:20200425T180000
DTEND;TZID=Europe/Berlin:20200425T193000
SUMMARY:BLM TSV 1862 Radeburg vs USV TU Dresden (122)
UID:f269d56c-929a-4f44-8c32-3c42c9b6e550
STATUS:CONFIRMED
DESCRIPTION:BezLiga S-M Männer\nBegegnungs-Nr: 122\nHeim: TSV 1862 Radeburg\nGast: USV TU Dresden\nHalle: Paul-Tiedemann-SH Radeburg (33214)\nAdresse: Meißner Berg 83c\, 01471 Radeburg\n
LOCATION:Paul-Tiedemann-SH Radeburg (33214): Meißner Berg 83c\, 01471 Radeburg
CATEGORIES:Saison 2019/20
END:VEVENT
BEGIN:VEVENT
DTSTAMP:20260424T050206Z
DTSTART;TZID=Europe/Berlin:20200328T000000
DTEND;TZID=Europe/Berlin:20200328T013000
SUMMARY:BLM TSV 1862 Radeburg vs spielfrei (111)
UID:ee2eee7e-2dbe-4290-8af1-d12f24b20afa
STATUS:CONFIRMED
DESCRIPTION:BezLiga S-M Männer\nBegegnungs-Nr: 111\nHeim: TSV 1862 Radeburg\nGast: spielfrei\n
LOCATION:
CATEGORIES:Saison 2019/20
END:VEVENT
BEGIN:VEVENT
DTSTAMP:20260424T050206Z
DTSTART;TZID=Europe/Berlin:20200111T180000
DTEND;TZID=Europe/Berlin:20200111T193000
SUMMARY:BLM TSV 1862 Radeburg vs HCS Neustadt-S. (67)
UID:e0d15428-8a4f-4955-8871-d751f43496f9
STATUS:CONFIRMED
LAST-MODIFIED:20200115T191039Z
DESCRIPTION:BezLiga S-M Männer\nBegegnungs-Nr: 67\nHeim: TSV 1862 Radeburg\nGast: HCS Neustadt-S.\nHalle: Paul-Tiedemann-SH Radeburg (33214)\nAdresse: Meißner Berg 83c\, 01471 Radeburg\n
LOCATION:Paul-Tiedemann-SH Radeburg (33214): Meißner Berg 83c\, 01471 Radeburg
CATEGORIES:Saison 2019/20
END:VEVENT
BEGIN:VEVENT
DTSTAMP:20260424T050206Z
DTSTART;TZID=Europe/Berlin:20191109T180000
DTEND;TZID=Europe/Berlin:20191109T193000
SUMMARY:BLM TSV 1862 Radeburg vs SG Klotzsche (39)
UID:48709f39-7aac-4b7c-a983-3b83d9e36e0b
STATUS:CONFIRMED
LAST-MODIFIED:20191110T065946Z
DESCRIPTION:BezLiga S-M Männer\nBegegnungs-Nr: 39\nHeim: TSV 1862 Radeburg\nGast: SG Klotzsche\nHalle: Paul-Tiedemann-SH Radeburg (33214)\nAdresse: Meißner Berg 83c\, 01471 Radeburg\n
LOCATION:Paul-Tiedemann-SH Radeburg (33214): Meißner Berg 83c\, 01471 Radeburg
CATEGORIES:Saison 2019/20
END:VEVENT
BEGIN:VEVENT
DTSTAMP:20260424T050206Z
DTSTART;TZID=Europe/Berlin:20191005T180000
DTEND;TZID=Europe/Berlin:20191005T193000
SUMMARY:BLM TSV 1862 Radeburg vs SG Pirna/Heidenau II (26)
UID:52d5ee43-038a-4c4e-9f17-7efbe8a37259
STATUS:CONFIRMED
LAST-MODIFIED:20191012T215643Z
DESCRIPTION:BezLiga S-M Männer\nBegegnungs-Nr: 26\nHeim: TSV 1862 Radeburg\nGast: SG Pirna/Heidenau II\nHalle: Paul-Tiedemann-SH Radeburg (33214)\nAdresse: Meißner Berg 83c\, 01471 Radeburg\n
LOCATION:Paul-Tiedemann-SH Radeburg (33214): Meißner Berg 83c\, 01471 Radeburg
CATEGORIES:Saison 2019/20
END:VEVENT
BEGIN:VEVENT
DTSTAMP:20260424T050206Z
DTSTART;TZID=Europe/Berlin:20200307T160000
DTEND;TZID=Europe/Berlin:20200307T173000
SUMMARY:BLM TSV 1862 Radeburg vs HSG Riesa/Oschatz II (100)
UID:a36fcb61-6360-4693-b0ca-6fd31166080f
STATUS:CONFIRMED
LAST-MODIFIED:20200307T203307Z
DESCRIPTION:BezLiga S-M Männer\nBegegnungs-Nr: 100\nHeim: TSV 1862 Radeburg\nGast: HSG Riesa/Oschatz II\nHalle: Paul-Tiedemann-SH Radeburg (33214)\nAdresse: Meißner Berg 83c\, 01471 Radeburg\n
LOCATION:Paul-Tiedemann-SH Radeburg (33214): Meißner Berg 83c\, 01471 Radeburg
CATEGORIES:Saison 2019/20
END:VEVENT
BEGIN:VEVENT
DTSTAMP:20260424T050206Z
DTSTART;TZID=Europe/Berlin:20190921T180000
DTEND;TZID=Europe/Berlin:20190921T193000
SUMMARY:BLM TSV 1862 Radeburg vs ESV Dresden II (13)
UID:3254e1fb-ef29-40b1-a4a6-877d01b73c19
STATUS:CONFIRMED
LAST-MODIFIED:20190922T045103Z
DESCRIPTION:BezLiga S-M Männer\nBegegnungs-Nr: 13\nHeim: TSV 1862 Radeburg\nGast: ESV Dresden II\nHalle: Paul-Tiedemann-SH Radeburg (33214)\nAdresse: Meißner Berg 83c\, 01471 Radeburg\n
LOCATION:Paul-Tiedemann-SH Radeburg (33214): Meißner Berg 83c\, 01471 Radeburg
CATEGORIES:Saison 2019/20
END:VEVENT
BEGIN:VEVENT
DTSTAMP:20260424T050206Z
DTSTART;TZID=Europe/Berlin:20190914T180000
DTEND;TZID=Europe/Berlin:20190914T193000
SUMMARY:BLM TSV 1862 Radeburg vs Radebeuler HV II (12)
UID:a2bfba1a-64b0-4592-8d8a-60617419fe82
STATUS:CONFIRMED
LAST-MODIFIED:20191201T061751Z
DESCRIPTION:BezLiga S-M Männer\nBegegnungs-Nr: 12\nHeim: TSV 1862 Radeburg\nGast: Radebeuler HV II\nHalle: Paul-Tiedemann-SH Radeburg (33214)\nAdresse: Meißner Berg 83c\, 01471 Radeburg\n
LOCATION:Paul-Tiedemann-SH Radeburg (33214): Meißner Berg 83c\, 01471 Radeburg
CATEGORIES:Saison 2019/20
END:VEVENT
BEGIN:VEVENT
DTSTAMP:20260424T050206Z
DTSTART;TZID=Europe/Berlin:20191207T180000
DTEND;TZID=Europe/Berlin:20191207T193000
SUMMARY:BLM TSV 1862 Radeburg vs HSV Dresden II (65)
UID:744709a3-c206-4b3d-849b-184b31aac7c4
STATUS:CONFIRMED
LAST-MODIFIED:20191208T065154Z
DESCRIPTION:BezLiga S-M Männer\nBegegnungs-Nr: 65\nHeim: TSV 1862 Radeburg\nGast: HSV Dresden II\nHalle: Paul-Tiedemann-SH Radeburg (33214)\nAdresse: Meißner Berg 83c\, 01471 Radeburg\n
LOCATION:Paul-Tiedemann-SH Radeburg (33214): Meißner Berg 83c\, 01471 Radeburg
CATEGORIES:Saison 2019/20
END:VEVENT
BEGIN:VEVENT
DTSTAMP:20260424T050206Z
DTSTART;TZID=Europe/Berlin:20191123T180000
DTEND;TZID=Europe/Berlin:20191123T193000
SUMMARY:BLM TSV 1862 Radeburg vs SF 01 Dresden II (52)
UID:80eecc41-a4df-471b-89e2-89258aee8fd6
STATUS:CONFIRMED
LAST-MODIFIED:20191125T185938Z
DESCRIPTION:BezLiga S-M Männer\nBegegnungs-Nr: 52\nHeim: TSV 1862 Radeburg\nGast: SF 01 Dresden II\nHalle: Paul-Tiedemann-SH Radeburg (33214)\nAdresse: Meißner Berg 83c\, 01471 Radeburg\n
LOCATION:Paul-Tiedemann-SH Radeburg (33214): Meißner Berg 83c\, 01471 Radeburg
CATEGORIES:Saison 2019/20
END:VEVENT
BEGIN:VEVENT
DTSTAMP:20260424T050206Z
DTSTART;TZID=Europe/Berlin:20200201T180000
DTEND;TZID=Europe/Berlin:20200201T193000
SUMMARY:BLM TSV 1862 Radeburg vs SSV Lommatzsch (89)
UID:2ba00608-9afe-44d3-bce0-f7ef6644858e
STATUS:CONFIRMED
LAST-MODIFIED:20200202T143515Z
DESCRIPTION:BezLiga S-M Männer\nBegegnungs-Nr: 89\nHeim: TSV 1862 Radeburg\nGast: SSV Lommatzsch\nHalle: Paul-Tiedemann-SH Radeburg (33214)\nAdresse: Meißner Berg 83c\, 01471 Radeburg\n
LOCATION:Paul-Tiedemann-SH Radeburg (33214): Meißner Berg 83c\, 01471 Radeburg
CATEGORIES:Saison 2019/20
END:VEVENT
BEGIN:VEVENT
DTSTAMP:20260424T050206Z
DTSTART;TZID=Europe/Berlin:20200502T140000
DTEND;TZID=Europe/Berlin:20200502T153000
SUMMARY:BLM HSV Dresden II vs TSV 1862 Radeburg (131)
UID:cdd7944e-f7b6-49d6-91ae-6bc3500d0a33
STATUS:CONFIRMED
DESCRIPTION:BezLiga S-M Männer\nBegegnungs-Nr: 131\nHeim: HSV Dresden II\nGast: TSV 1862 Radeburg\nHalle: SH 121. Oberschule Dresden (33102)\nAdresse: Gamigstraße 28/30\, 01239 Dresden\n
LOCATION:SH 121. Oberschule Dresden (33102): Gamigstraße 28/30\, 01239 Dresden
CATEGORIES:Saison 2019/20
END:VEVENT
BEGIN:VEVENT
DTSTAMP:20260424T050206Z
DTSTART;TZID=Europe/Berlin:20190928T180000
DTEND;TZID=Europe/Berlin:20190928T193000
SUMMARY:BLM SSV Lommatzsch vs TSV 1862 Radeburg (23)
UID:3d1d5f70-c43f-4011-87df-1a53380e1304
STATUS:CONFIRMED
LAST-MODIFIED:20191003T102513Z
DESCRIPTION:BezLiga S-M Männer\nBegegnungs-Nr: 23\nHeim: SSV Lommatzsch\nGast: TSV 1862 Radeburg\nHalle: Lothar-Krauße-SH Lommatzsch (33211)\nAdresse: Domselwitzer Str. 21\, 01623 Lommatzsch\n
LOCATION:Lothar-Krauße-SH Lommatzsch (33211): Domselwitzer Str. 21\, 01623 Lommatzsch
CATEGORIES:Saison 2019/20
END:VEVENT
BEGIN:VEVENT
DTSTAMP:20260424T050206Z
DTSTART;TZID=Europe/Berlin:20200405T160000
DTEND;TZID=Europe/Berlin:20200405T173000
SUMMARY:BLM SF 01 Dresden II vs TSV 1862 Radeburg (118)
UID:ebe4df94-b6aa-4903-bc94-6c5258b57d1c
STATUS:CONFIRMED
DESCRIPTION:BezLiga S-M Männer\nBegegnungs-Nr: 118\nHeim: SF 01 Dresden II\nGast: TSV 1862 Radeburg\nHalle: SH 117. Grundschule Dresden (33132)\nAdresse: Reichenbachstr. 12\, 01069 Dresden\n
LOCATION:SH 117. Grundschule Dresden (33132): Reichenbachstr. 12\, 01069 Dresden
CATEGORIES:Saison 2019/20
END:VEVENT
BEGIN:VEVENT
DTSTAMP:20260424T050206Z
DTSTART;TZID=Europe/Berlin:20200314T180000
DTEND;TZID=Europe/Berlin:20200314T193000
SUMMARY:BLM SG Klotzsche vs TSV 1862 Radeburg (105)
UID:7b2ee187-5d50-4c89-acfc-937950b32f38
STATUS:CONFIRMED
DESCRIPTION:BezLiga S-M Männer\nBegegnungs-Nr: 105\nHeim: SG Klotzsche\nGast: TSV 1862 Radeburg\nHalle: SH Gymnasium Klotzsche (33126)\nAdresse: Karl-Marx-Straße 44\, 01109 Dresden\n
LOCATION:SH Gymnasium Klotzsche (33126): Karl-Marx-Straße 44\, 01109 Dresden
CATEGORIES:Saison 2019/20
END:VEVENT
BEGIN:VEVENT
DTSTAMP:20260424T050206Z
DTSTART;TZID=Europe/Berlin:20200301T151500
DTEND;TZID=Europe/Berlin:20200301T164500
SUMMARY:BLM SG Pirna/Heidenau II vs TSV 1862 Radeburg (92)
UID:24391e0e-5233-4798-b112-b369b39bd360
STATUS:CONFIRMED
LAST-MODIFIED:20200302T205206Z
DESCRIPTION:BezLiga S-M Männer\nBegegnungs-Nr: 92\nHeim: SG Pirna/Heidenau II\nGast: TSV 1862 Radeburg\nHalle: SH Pestalozzi-Gymnasium Heidenau (33306)\nAdresse: Hauptstraße 37\, 01809 Heidenau\n
LOCATION:SH Pestalozzi-Gymnasium Heidenau (33306): Hauptstraße 37\, 01809 Heidenau
CATEGORIES:Saison 2019/20
END:VEVENT
BEGIN:VEVENT
DTSTAMP:20260424T050206Z
DTSTART;TZID=Europe/Berlin:20191116T000000
DTEND;TZID=Europe/Berlin:20191116T013000
SUMMARY:BLM spielfrei vs TSV 1862 Radeburg (45)
UID:a84290ed-2ab3-41c2-b9bf-5c23c33e08a1
STATUS:CONFIRMED
DESCRIPTION:BezLiga S-M Männer\nBegegnungs-Nr: 45\nHeim: spielfrei\nGast: TSV 1862 Radeburg\n
LOCATION:
CATEGORIES:Saison 2019/20
END:VEVENT
BEGIN:VEVENT
DTSTAMP:20260424T050206Z
DTSTART;TZID=Europe/Berlin:20200118T140000
DTEND;TZID=Europe/Berlin:20200118T153000
SUMMARY:BLM Radebeuler HV II vs TSV 1862 Radeburg (78)
UID:93d192c3-a9aa-4146-9cc6-ce0151a3d5e9
STATUS:CONFIRMED
LAST-MODIFIED:20200119T062603Z
DESCRIPTION:BezLiga S-M Männer\nBegegnungs-Nr: 78\nHeim: Radebeuler HV II\nGast: TSV 1862 Radeburg\nHalle: Lößnitz-SH Radebeul (33204)\nAdresse: Steinbachstr. 13\, 01445 Radebeul\n
LOCATION:Lößnitz-SH Radebeul (33204): Steinbachstr. 13\, 01445 Radebeul
CATEGORIES:Saison 2019/20
END:VEVENT
BEGIN:VEVENT
DTSTAMP:20260424T050206Z
DTSTART;TZID=Europe/Berlin:20200125T170000
DTEND;TZID=Europe/Berlin:20200125T183000
SUMMARY:BLM ESV Dresden II vs TSV 1862 Radeburg (79)
UID:495323ee-111f-48bc-a48f-12e74e96a9b5
STATUS:CONFIRMED
LAST-MODIFIED:20200126T061450Z
DESCRIPTION:BezLiga S-M Männer\nBegegnungs-Nr: 79\nHeim: ESV Dresden II\nGast: TSV 1862 Radeburg\nHalle: Lok-SH Dresden (33106)\nAdresse: Emmerich-Ambros-Ufer 74\, 01159 Dresden\n
LOCATION:Lok-SH Dresden (33106): Emmerich-Ambros-Ufer 74\, 01159 Dresden
CATEGORIES:Saison 2019/20
END:VEVENT
BEGIN:VEVENT
DTSTAMP:20260424T050206Z
DTSTART;TZID=Europe/Berlin:20190908T144500
DTEND;TZID=Europe/Berlin:20190908T161500
SUMMARY:BLM HCS Neustadt-S. vs TSV 1862 Radeburg (1)
UID:94f448a8-68dc-48c7-aab5-d87b3b8a35f6
STATUS:CONFIRMED
LAST-MODIFIED:20191201T053149Z
DESCRIPTION:BezLiga S-M Männer\nBegegnungs-Nr: 1\nHeim: HCS Neustadt-S.\nGast: TSV 1862 Radeburg\nHalle: Sportforum Neustadt (33303)\nAdresse: Maxim-Gorki-Straße 10\, 01844  Neustadt\n
LOCATION:Sportforum Neustadt (33303): Maxim-Gorki-Straße 10\, 01844  Neustadt
CATEGORIES:Saison 2019/20
END:VEVENT
BEGIN:VEVENT
DTSTAMP:20260424T050206Z
DTSTART;TZID=Europe/Berlin:20191130T160000
DTEND;TZID=Europe/Berlin:20191130T173000
SUMMARY:BLM USV TU Dresden vs TSV 1862 Radeburg (56)
UID:771bdd8c-0924-47e8-a0ec-0f3eb4947616
STATUS:CONFIRMED
LAST-MODIFIED:20191201T052722Z
DESCRIPTION:BezLiga S-M Männer\nBegegnungs-Nr: 56\nHeim: USV TU Dresden\nGast: TSV 1862 Radeburg\nHalle: JOYNEXT Arena Dresden (Spielfeld 2) (33112b)\nAdresse: Magdeburger Straße 10\, 01067 Dresden\n
LOCATION:JOYNEXT Arena Dresden (Spielfeld 2) (33112b): Magdeburger Straße 10\, 01067 Dresden
CATEGORIES:Saison 2019/20
END:VEVENT
BEGIN:VEVENT
DTSTAMP:20260424T050206Z
DTSTART;TZID=Europe/Berlin:20191102T191500
DTEND;TZID=Europe/Berlin:20191102T204500
SUMMARY:BLM HSG Riesa/Oschatz II vs TSV 1862 Radeburg (34)
UID:9481c7e0-f585-43c0-a54b-dcf8e3590fd4
STATUS:CONFIRMED
LAST-MODIFIED:20191104T194443Z
DESCRIPTION:BezLiga S-M Männer\nBegegnungs-Nr: 34\nHeim: HSG Riesa/Oschatz II\nGast: TSV 1862 Radeburg\nHalle: WM-Sporthalle Riesa (33213)\nAdresse: Am Sportzentrum 1\, 01587 Riesa\n
LOCATION:WM-Sporthalle Riesa (33213): Am Sportzentrum 1\, 01587 Riesa
CATEGORIES:Saison 2019/20
END:VEVENT
END:VCALENDAR
