BEGIN:VCALENDAR
PRODID:-//nuDatenautomaten//framework iCal4j //DE
VERSION:2.0
CALSCALE:GREGORIAN
BEGIN:VTIMEZONE
TZID:Europe/Berlin
LAST-MODIFIED:20260306T231828Z
TZURL:https://www.tzurl.org/zoneinfo/Europe/Berlin
X-LIC-LOCATION:Europe/Berlin
X-PROLEPTIC-TZNAME:LMT
BEGIN:STANDARD
TZNAME:CET
TZOFFSETFROM:+005328
TZOFFSETTO:+0100
DTSTART:18930401T000000
END:STANDARD
BEGIN:DAYLIGHT
TZNAME:CEST
TZOFFSETFROM:+0100
TZOFFSETTO:+0200
DTSTART:19160430T230000
RDATE:19400401T020000
RDATE:19430329T020000
RDATE:19460414T020000
RDATE:19470406T030000
RDATE:19480418T020000
RDATE:19490410T020000
RDATE:19800406T020000
END:DAYLIGHT
BEGIN:STANDARD
TZNAME:CET
TZOFFSETFROM:+0200
TZOFFSETTO:+0100
DTSTART:19161001T010000
RDATE:19421102T030000
RDATE:19431004T030000
RDATE:19441002T030000
RDATE:19451118T030000
RDATE:19461007T030000
END:STANDARD
BEGIN:DAYLIGHT
TZNAME:CEST
TZOFFSETFROM:+0100
TZOFFSETTO:+0200
DTSTART:19170416T020000
RRULE:FREQ=YEARLY;UNTIL=19180415T010000Z;BYMONTH=4;BYDAY=3MO
END:DAYLIGHT
BEGIN:STANDARD
TZNAME:CET
TZOFFSETFROM:+0200
TZOFFSETTO:+0100
DTSTART:19170917T030000
RRULE:FREQ=YEARLY;UNTIL=19180916T010000Z;BYMONTH=9;BYDAY=3MO
END:STANDARD
BEGIN:DAYLIGHT
TZNAME:CEST
TZOFFSETFROM:+0100
TZOFFSETTO:+0200
DTSTART:19440403T020000
RRULE:FREQ=YEARLY;UNTIL=19450402T010000Z;BYMONTH=4;BYDAY=1MO
END:DAYLIGHT
BEGIN:DAYLIGHT
TZNAME:CEMT
TZOFFSETFROM:+0200
TZOFFSETTO:+0300
DTSTART:19450524T020000
RDATE:19470511T030000
END:DAYLIGHT
BEGIN:DAYLIGHT
TZNAME:CEST
TZOFFSETFROM:+0300
TZOFFSETTO:+0200
DTSTART:19450924T030000
RDATE:19470629T030000
END:DAYLIGHT
BEGIN:STANDARD
TZNAME:CET
TZOFFSETFROM:+0100
TZOFFSETTO:+0100
DTSTART:19460101T000000
RDATE:19800101T000000
END:STANDARD
BEGIN:STANDARD
TZNAME:CET
TZOFFSETFROM:+0200
TZOFFSETTO:+0100
DTSTART:19471005T030000
RRULE:FREQ=YEARLY;UNTIL=19491002T010000Z;BYMONTH=10;BYDAY=1SU
END:STANDARD
BEGIN:STANDARD
TZNAME:CET
TZOFFSETFROM:+0200
TZOFFSETTO:+0100
DTSTART:19800928T030000
RRULE:FREQ=YEARLY;UNTIL=19950924T010000Z;BYMONTH=9;BYDAY=-1SU
END:STANDARD
BEGIN:DAYLIGHT
TZNAME:CEST
TZOFFSETFROM:+0100
TZOFFSETTO:+0200
DTSTART:19810329T020000
RRULE:FREQ=YEARLY;BYMONTH=3;BYDAY=-1SU
END:DAYLIGHT
BEGIN:STANDARD
TZNAME:CET
TZOFFSETFROM:+0200
TZOFFSETTO:+0100
DTSTART:19961027T030000
RRULE:FREQ=YEARLY;BYMONTH=10;BYDAY=-1SU
END:STANDARD
END:VTIMEZONE
BEGIN:VEVENT
DTSTAMP:20260420T034426Z
DTSTART;TZID=Europe/Berlin:20190908T133000
DTEND;TZID=Europe/Berlin:20190908T150000
SUMMARY:Verbandsliga Staffel Ost (VLFO) HC Rödertal  III vs SG Klotzsche (4004)
UID:d7e83e94-a912-4eb1-bdca-d705ecb2c47e
STATUS:CONFIRMED
LAST-MODIFIED:20190909T095954Z
DESCRIPTION:Verbandsliga Frauen Staffel Ost\nBegegnungs-Nr: 4004\nHeim: HC Rödertal  III\nGast: SG Klotzsche\nHalle: 3-Feld-Halle-GY Großröhrsdorf (34514)\nAdresse: Melanchthonstraße 21\, 01900  Großröhrsdorf\n
LOCATION:3-Feld-Halle-GY Großröhrsdorf (34514): Melanchthonstraße 21\, 01900  Großröhrsdorf
CATEGORIES:Saison 2019/20
END:VEVENT
BEGIN:VEVENT
DTSTAMP:20260420T034426Z
DTSTART;TZID=Europe/Berlin:20200502T160000
DTEND;TZID=Europe/Berlin:20200502T173000
SUMMARY:Verbandsliga Staffel Ost (VLFO) HC Rödertal  III vs HSV Weinböhla (4109)
UID:0f69c3a8-54b6-40de-a0f7-cb07834b8868
STATUS:CONFIRMED
DESCRIPTION:Verbandsliga Frauen Staffel Ost\nBegegnungs-Nr: 4109\nHeim: HC Rödertal  III\nGast: HSV Weinböhla\nHalle: 3-Feld-Halle-GY Großröhrsdorf (34514)\nAdresse: Melanchthonstraße 21\, 01900  Großröhrsdorf\n
LOCATION:3-Feld-Halle-GY Großröhrsdorf (34514): Melanchthonstraße 21\, 01900  Großröhrsdorf
CATEGORIES:Saison 2019/20
END:VEVENT
BEGIN:VEVENT
DTSTAMP:20260420T034426Z
DTSTART;TZID=Europe/Berlin:20191006T133000
DTEND;TZID=Europe/Berlin:20191006T150000
SUMMARY:Verbandsliga Staffel Ost (VLFO) HC Rödertal  III vs SF 01 Dresden (4024)
UID:256684e0-247a-4749-8b21-bd588de72cdf
STATUS:CONFIRMED
LAST-MODIFIED:20191006T133249Z
DESCRIPTION:Verbandsliga Frauen Staffel Ost\nBegegnungs-Nr: 4024\nHeim: HC Rödertal  III\nGast: SF 01 Dresden\nHalle: 3-Feld-Halle-GY Großröhrsdorf (34514)\nAdresse: Melanchthonstraße 21\, 01900  Großröhrsdorf\n
LOCATION:3-Feld-Halle-GY Großröhrsdorf (34514): Melanchthonstraße 21\, 01900  Großröhrsdorf
CATEGORIES:Saison 2019/20
END:VEVENT
BEGIN:VEVENT
DTSTAMP:20260420T034426Z
DTSTART;TZID=Europe/Berlin:20190922T133000
DTEND;TZID=Europe/Berlin:20190922T150000
SUMMARY:Verbandsliga Staffel Ost (VLFO) HC Rödertal  III vs Koweg Görlitz II (4014)
UID:8bc9dd6f-4388-4be4-8796-e802659fef4d
STATUS:CONFIRMED
LAST-MODIFIED:20190922T153019Z
DESCRIPTION:Verbandsliga Frauen Staffel Ost\nBegegnungs-Nr: 4014\nHeim: HC Rödertal  III\nGast: Koweg Görlitz II\nHalle: 3-Feld-Halle-GY Großröhrsdorf (34514)\nAdresse: Melanchthonstraße 21\, 01900  Großröhrsdorf\n
LOCATION:3-Feld-Halle-GY Großröhrsdorf (34514): Melanchthonstraße 21\, 01900  Großröhrsdorf
CATEGORIES:Saison 2019/20
END:VEVENT
BEGIN:VEVENT
DTSTAMP:20260420T034426Z
DTSTART;TZID=Europe/Berlin:20191117T133000
DTEND;TZID=Europe/Berlin:20191117T150000
SUMMARY:Verbandsliga Staffel Ost (VLFO) HC Rödertal  III vs SSV Heidenau  (4039)
UID:585695e9-96ad-40ac-88d9-ad155da63a5c
STATUS:CONFIRMED
LAST-MODIFIED:20191119T145751Z
DESCRIPTION:Verbandsliga Frauen Staffel Ost\nBegegnungs-Nr: 4039\nHeim: HC Rödertal  III\nGast: SSV Heidenau \nHalle: 3-Feld-Halle-GY Großröhrsdorf (34514)\nAdresse: Melanchthonstraße 21\, 01900  Großröhrsdorf\n
LOCATION:3-Feld-Halle-GY Großröhrsdorf (34514): Melanchthonstraße 21\, 01900  Großröhrsdorf
CATEGORIES:Saison 2019/20
END:VEVENT
BEGIN:VEVENT
DTSTAMP:20260420T034426Z
DTSTART;TZID=Europe/Berlin:20200308T133000
DTEND;TZID=Europe/Berlin:20200308T150000
SUMMARY:Verbandsliga Staffel Ost (VLFO) HC Rödertal  III vs VfL Meißen (4084)
UID:487defa8-00ff-4eb4-9c8d-3abb1f1db1df
STATUS:CONFIRMED
LAST-MODIFIED:20200309T141300Z
DESCRIPTION:Verbandsliga Frauen Staffel Ost\nBegegnungs-Nr: 4084\nHeim: HC Rödertal  III\nGast: VfL Meißen\nHalle: 3-Feld-Halle-GY Großröhrsdorf (34514)\nAdresse: Melanchthonstraße 21\, 01900  Großröhrsdorf\n
LOCATION:3-Feld-Halle-GY Großröhrsdorf (34514): Melanchthonstraße 21\, 01900  Großröhrsdorf
CATEGORIES:Saison 2019/20
END:VEVENT
BEGIN:VEVENT
DTSTAMP:20260420T034426Z
DTSTART;TZID=Europe/Berlin:20200223T133000
DTEND;TZID=Europe/Berlin:20200223T150000
SUMMARY:Verbandsliga Staffel Ost (VLFO) HC Rödertal  III vs ESV Dresden (4074)
UID:d7b0ef06-7b37-45f2-bcbe-949476668030
STATUS:CONFIRMED
LAST-MODIFIED:20200223T143253Z
DESCRIPTION:Verbandsliga Frauen Staffel Ost\nBegegnungs-Nr: 4074\nHeim: HC Rödertal  III\nGast: ESV Dresden\nHalle: 3-Feld-Halle-GY Großröhrsdorf (34514)\nAdresse: Melanchthonstraße 21\, 01900  Großröhrsdorf\n
LOCATION:3-Feld-Halle-GY Großröhrsdorf (34514): Melanchthonstraße 21\, 01900  Großröhrsdorf
CATEGORIES:Saison 2019/20
END:VEVENT
BEGIN:VEVENT
DTSTAMP:20260420T034426Z
DTSTART;TZID=Europe/Berlin:20191109T150000
DTEND;TZID=Europe/Berlin:20191109T163000
SUMMARY:Verbandsliga Staffel Ost (VLFO) Radeberger SV vs HC Rödertal  III (4032)
UID:0c620f62-9405-48f0-939d-ffecaa7816aa
STATUS:CONFIRMED
LAST-MODIFIED:20191110T100054Z
DESCRIPTION:Verbandsliga Frauen Staffel Ost\nBegegnungs-Nr: 4032\nHeim: Radeberger SV\nGast: HC Rödertal  III\nHalle: 3-Feld-Halle-BSZ Radeberg (34209)\nAdresse: Robert-Blum-Weg 5\, 01454 Radeberg\n
LOCATION:3-Feld-Halle-BSZ Radeberg (34209): Robert-Blum-Weg 5\, 01454 Radeberg
CATEGORIES:Saison 2019/20
END:VEVENT
BEGIN:VEVENT
DTSTAMP:20260420T034426Z
DTSTART;TZID=Europe/Berlin:20200425T160000
DTEND;TZID=Europe/Berlin:20200425T173000
SUMMARY:Verbandsliga Staffel Ost (VLFO) TBSV Neugersdorf vs HC Rödertal  III (4102)
UID:5cc93ebd-92a8-4880-b0b8-6cc0b5d1bde4
STATUS:CONFIRMED
DESCRIPTION:Verbandsliga Frauen Staffel Ost\nBegegnungs-Nr: 4102\nHeim: TBSV Neugersdorf\nGast: HC Rödertal  III\nHalle: FSZ Oberland \"Albert Schweitzer\" (34112)\nAdresse: Friedrich-Ebert-Str.27\, 02730 Ebersbach-Neugersdorf\n
LOCATION:FSZ Oberland \"Albert Schweitzer\" (34112): Friedrich-Ebert-Str.27\, 02730 Ebersbach-Neugersdorf
CATEGORIES:Saison 2019/20
END:VEVENT
BEGIN:VEVENT
DTSTAMP:20260420T034426Z
DTSTART;TZID=Europe/Berlin:20191207T170000
DTEND;TZID=Europe/Berlin:20191207T183000
SUMMARY:Verbandsliga Staffel Ost (VLFO) HSV Weinböhla vs HC Rödertal  III (4054)
UID:2ecb296f-106b-420c-865b-4e9cc21f4163
STATUS:CONFIRMED
LAST-MODIFIED:20191208T075015Z
DESCRIPTION:Verbandsliga Frauen Staffel Ost\nBegegnungs-Nr: 4054\nHeim: HSV Weinböhla\nGast: HC Rödertal  III\nHalle: Nassau-SH Weinböhla (33224)\nAdresse: Meißner Str. 1\, 01689 Weinböhla\n
LOCATION:Nassau-SH Weinböhla (33224): Meißner Str. 1\, 01689 Weinböhla
CATEGORIES:Saison 2019/20
END:VEVENT
BEGIN:VEVENT
DTSTAMP:20260420T034426Z
DTSTART;TZID=Europe/Berlin:20200111T180000
DTEND;TZID=Europe/Berlin:20200111T193000
SUMMARY:Verbandsliga Staffel Ost (VLFO) SG Klotzsche vs HC Rödertal  III (4059)
UID:bdc795da-51c1-4f04-a214-37638fabdf1a
STATUS:CONFIRMED
LAST-MODIFIED:20200112T084455Z
DESCRIPTION:Verbandsliga Frauen Staffel Ost\nBegegnungs-Nr: 4059\nHeim: SG Klotzsche\nGast: HC Rödertal  III\nHalle: SH Gymnasium Klotzsche (33126)\nAdresse: Karl-Marx-Straße 44\, 01109 Dresden\n
LOCATION:SH Gymnasium Klotzsche (33126): Karl-Marx-Straße 44\, 01109 Dresden
CATEGORIES:Saison 2019/20
END:VEVENT
BEGIN:VEVENT
DTSTAMP:20260420T034426Z
DTSTART;TZID=Europe/Berlin:20200125T170000
DTEND;TZID=Europe/Berlin:20200125T183000
SUMMARY:Verbandsliga Staffel Ost (VLFO) Koweg Görlitz II vs HC Rödertal  III (4069)
UID:89707dcd-59e7-4ee7-8189-0e25fde40dc0
STATUS:CONFIRMED
LAST-MODIFIED:20200209T143744Z
DESCRIPTION:Verbandsliga Frauen Staffel Ost\nBegegnungs-Nr: 4069\nHeim: Koweg Görlitz II\nGast: HC Rödertal  III\nHalle: SH Rauschwalde (34301)\nAdresse: Diesterwegplatz 8\, 02827 Görlitz\n
LOCATION:SH Rauschwalde (34301): Diesterwegplatz 8\, 02827 Görlitz
CATEGORIES:Saison 2019/20
END:VEVENT
BEGIN:VEVENT
DTSTAMP:20260420T034426Z
DTSTART;TZID=Europe/Berlin:20190928T170000
DTEND;TZID=Europe/Berlin:20190928T183000
SUMMARY:Verbandsliga Staffel Ost (VLFO) ESV Dresden vs HC Rödertal  III (4020)
UID:6b44fcae-615a-484c-960e-e655ff7bcad0
STATUS:CONFIRMED
LAST-MODIFIED:20191002T134543Z
DESCRIPTION:Verbandsliga Frauen Staffel Ost\nBegegnungs-Nr: 4020\nHeim: ESV Dresden\nGast: HC Rödertal  III\nHalle: Lok-SH Dresden (33106)\nAdresse: Emmerich-Ambros-Ufer 74\, 01159 Dresden\n
LOCATION:Lok-SH Dresden (33106): Emmerich-Ambros-Ufer 74\, 01159 Dresden
CATEGORIES:Saison 2019/20
END:VEVENT
BEGIN:VEVENT
DTSTAMP:20260420T034426Z
DTSTART;TZID=Europe/Berlin:20191124T170000
DTEND;TZID=Europe/Berlin:20191124T183000
SUMMARY:Verbandsliga Staffel Ost (VLFO) HCS Neustadt-S. vs HC Rödertal  III (4044)
UID:82730886-4b15-47ba-8f94-5db8f8988bf9
STATUS:CONFIRMED
LAST-MODIFIED:20191124T183432Z
DESCRIPTION:Verbandsliga Frauen Staffel Ost\nBegegnungs-Nr: 4044\nHeim: HCS Neustadt-S.\nGast: HC Rödertal  III\nHalle: Sportforum Neustadt (33303)\nAdresse: Maxim-Gorki-Straße 10\, 01844  Neustadt\n
LOCATION:Sportforum Neustadt (33303): Maxim-Gorki-Straße 10\, 01844  Neustadt
CATEGORIES:Saison 2019/20
END:VEVENT
BEGIN:VEVENT
DTSTAMP:20260420T034426Z
DTSTART;TZID=Europe/Berlin:20200301T180000
DTEND;TZID=Europe/Berlin:20200301T193000
SUMMARY:Verbandsliga Staffel Ost (VLFO) SF 01 Dresden vs HC Rödertal  III (4079)
UID:643b3d69-69d5-4f72-b5f3-8f07c47d1444
STATUS:CONFIRMED
LAST-MODIFIED:20200302T135341Z
DESCRIPTION:Verbandsliga Frauen Staffel Ost\nBegegnungs-Nr: 4079\nHeim: SF 01 Dresden\nGast: HC Rödertal  III\nHalle: SH Erlwein-Gymnasium Dresden (33127)\nAdresse: Eibenstocker Straße 30\, 01277 Dresden\n
LOCATION:SH Erlwein-Gymnasium Dresden (33127): Eibenstocker Straße 30\, 01277 Dresden
CATEGORIES:Saison 2019/20
END:VEVENT
BEGIN:VEVENT
DTSTAMP:20260420T034426Z
DTSTART;TZID=Europe/Berlin:20191102T180000
DTEND;TZID=Europe/Berlin:20191102T193000
SUMMARY:Verbandsliga Staffel Ost (VLFO) VfL Meißen vs HC Rödertal  III (4029)
UID:ba39573d-5e6b-46a4-ac53-0234268fb21b
STATUS:CONFIRMED
LAST-MODIFIED:20191104T152046Z
DESCRIPTION:Verbandsliga Frauen Staffel Ost\nBegegnungs-Nr: 4029\nHeim: VfL Meißen\nGast: HC Rödertal  III\nHalle: SH \"Heiliger Grund\" Meißen (33212)\nAdresse: Goethestraße 27\, 01662 Meißen\n
LOCATION:SH \"Heiliger Grund\" Meißen (33212): Goethestraße 27\, 01662 Meißen
CATEGORIES:Saison 2019/20
END:VEVENT
END:VCALENDAR
