BEGIN:VCALENDAR
PRODID:-//nuDatenautomaten//framework iCal4j //DE
VERSION:2.0
CALSCALE:GREGORIAN
BEGIN:VTIMEZONE
TZID:Europe/Berlin
LAST-MODIFIED:20260306T231828Z
TZURL:https://www.tzurl.org/zoneinfo/Europe/Berlin
X-LIC-LOCATION:Europe/Berlin
X-PROLEPTIC-TZNAME:LMT
BEGIN:STANDARD
TZNAME:CET
TZOFFSETFROM:+005328
TZOFFSETTO:+0100
DTSTART:18930401T000000
END:STANDARD
BEGIN:DAYLIGHT
TZNAME:CEST
TZOFFSETFROM:+0100
TZOFFSETTO:+0200
DTSTART:19160430T230000
RDATE:19400401T020000
RDATE:19430329T020000
RDATE:19460414T020000
RDATE:19470406T030000
RDATE:19480418T020000
RDATE:19490410T020000
RDATE:19800406T020000
END:DAYLIGHT
BEGIN:STANDARD
TZNAME:CET
TZOFFSETFROM:+0200
TZOFFSETTO:+0100
DTSTART:19161001T010000
RDATE:19421102T030000
RDATE:19431004T030000
RDATE:19441002T030000
RDATE:19451118T030000
RDATE:19461007T030000
END:STANDARD
BEGIN:DAYLIGHT
TZNAME:CEST
TZOFFSETFROM:+0100
TZOFFSETTO:+0200
DTSTART:19170416T020000
RRULE:FREQ=YEARLY;UNTIL=19180415T010000Z;BYMONTH=4;BYDAY=3MO
END:DAYLIGHT
BEGIN:STANDARD
TZNAME:CET
TZOFFSETFROM:+0200
TZOFFSETTO:+0100
DTSTART:19170917T030000
RRULE:FREQ=YEARLY;UNTIL=19180916T010000Z;BYMONTH=9;BYDAY=3MO
END:STANDARD
BEGIN:DAYLIGHT
TZNAME:CEST
TZOFFSETFROM:+0100
TZOFFSETTO:+0200
DTSTART:19440403T020000
RRULE:FREQ=YEARLY;UNTIL=19450402T010000Z;BYMONTH=4;BYDAY=1MO
END:DAYLIGHT
BEGIN:DAYLIGHT
TZNAME:CEMT
TZOFFSETFROM:+0200
TZOFFSETTO:+0300
DTSTART:19450524T020000
RDATE:19470511T030000
END:DAYLIGHT
BEGIN:DAYLIGHT
TZNAME:CEST
TZOFFSETFROM:+0300
TZOFFSETTO:+0200
DTSTART:19450924T030000
RDATE:19470629T030000
END:DAYLIGHT
BEGIN:STANDARD
TZNAME:CET
TZOFFSETFROM:+0100
TZOFFSETTO:+0100
DTSTART:19460101T000000
RDATE:19800101T000000
END:STANDARD
BEGIN:STANDARD
TZNAME:CET
TZOFFSETFROM:+0200
TZOFFSETTO:+0100
DTSTART:19471005T030000
RRULE:FREQ=YEARLY;UNTIL=19491002T010000Z;BYMONTH=10;BYDAY=1SU
END:STANDARD
BEGIN:STANDARD
TZNAME:CET
TZOFFSETFROM:+0200
TZOFFSETTO:+0100
DTSTART:19800928T030000
RRULE:FREQ=YEARLY;UNTIL=19950924T010000Z;BYMONTH=9;BYDAY=-1SU
END:STANDARD
BEGIN:DAYLIGHT
TZNAME:CEST
TZOFFSETFROM:+0100
TZOFFSETTO:+0200
DTSTART:19810329T020000
RRULE:FREQ=YEARLY;BYMONTH=3;BYDAY=-1SU
END:DAYLIGHT
BEGIN:STANDARD
TZNAME:CET
TZOFFSETFROM:+0200
TZOFFSETTO:+0100
DTSTART:19961027T030000
RRULE:FREQ=YEARLY;BYMONTH=10;BYDAY=-1SU
END:STANDARD
END:VTIMEZONE
BEGIN:VEVENT
DTSTAMP:20260425T192814Z
DTSTART;TZID=Europe/Berlin:20191026T000000
DTEND;TZID=Europe/Berlin:20191026T013000
SUMMARY:Leipziger Handball Pokal SV Leisnig 90 vs spielfrei (1617)
UID:2a70245b-8989-454e-9fd3-be195cc2806d
STATUS:CONFIRMED
DESCRIPTION:Leipziger Handball Pokal\nBegegnungs-Nr: 1617\nHeim: SV Leisnig 90\nGast: spielfrei\n
LOCATION:
CATEGORIES:Saison Pokal 2019/20
END:VEVENT
BEGIN:VEVENT
DTSTAMP:20260425T192814Z
DTSTART;TZID=Europe/Berlin:20190831T150000
DTEND;TZID=Europe/Berlin:20190831T163000
SUMMARY:Leipziger Handball Pokal SV Leisnig 90 vs TSG 1861 Taucha (1604)
UID:dbbd5aa3-44c3-47c4-98b5-f7c73261d336
STATUS:CONFIRMED
LAST-MODIFIED:20190904T203112Z
DESCRIPTION:Leipziger Handball Pokal\nBegegnungs-Nr: 1604\nHeim: SV Leisnig 90\nGast: TSG 1861 Taucha\nHalle: SH Leisnig (31205)\nAdresse: Chemnitzer Str. 101\, 04703 Leisnig\n
LOCATION:SH Leisnig (31205): Chemnitzer Str. 101\, 04703 Leisnig
CATEGORIES:Saison Pokal 2019/20
END:VEVENT
BEGIN:VEVENT
DTSTAMP:20260425T192814Z
DTSTART;TZID=Europe/Berlin:20191214T130000
DTEND;TZID=Europe/Berlin:20191214T143000
SUMMARY:Leipziger Handball Pokal SG MoGoNo Leipzig vs SV Leisnig 90 (1617)
UID:4f5d2547-15d9-4003-8b83-87345115ed82
STATUS:CONFIRMED
LAST-MODIFIED:20191215T175018Z
DESCRIPTION:Leipziger Handball Pokal\nBegegnungs-Nr: 1617\nHeim: SG MoGoNo Leipzig\nGast: SV Leisnig 90\nHalle: SH Kästner-Grundschule Leipzig (31131)\nAdresse: Erfurter Str\, 04155 Leipzig\n
LOCATION:SH Kästner-Grundschule Leipzig (31131): Erfurter Str\, 04155 Leipzig
CATEGORIES:Saison Pokal 2019/20
END:VEVENT
END:VCALENDAR
