BEGIN:VCALENDAR
PRODID:-//nuDatenautomaten//framework iCal4j //DE
VERSION:2.0
CALSCALE:GREGORIAN
BEGIN:VTIMEZONE
TZID:Europe/Berlin
LAST-MODIFIED:20260306T231828Z
TZURL:https://www.tzurl.org/zoneinfo/Europe/Berlin
X-LIC-LOCATION:Europe/Berlin
X-PROLEPTIC-TZNAME:LMT
BEGIN:STANDARD
TZNAME:CET
TZOFFSETFROM:+005328
TZOFFSETTO:+0100
DTSTART:18930401T000000
END:STANDARD
BEGIN:DAYLIGHT
TZNAME:CEST
TZOFFSETFROM:+0100
TZOFFSETTO:+0200
DTSTART:19160430T230000
RDATE:19400401T020000
RDATE:19430329T020000
RDATE:19460414T020000
RDATE:19470406T030000
RDATE:19480418T020000
RDATE:19490410T020000
RDATE:19800406T020000
END:DAYLIGHT
BEGIN:STANDARD
TZNAME:CET
TZOFFSETFROM:+0200
TZOFFSETTO:+0100
DTSTART:19161001T010000
RDATE:19421102T030000
RDATE:19431004T030000
RDATE:19441002T030000
RDATE:19451118T030000
RDATE:19461007T030000
END:STANDARD
BEGIN:DAYLIGHT
TZNAME:CEST
TZOFFSETFROM:+0100
TZOFFSETTO:+0200
DTSTART:19170416T020000
RRULE:FREQ=YEARLY;UNTIL=19180415T010000Z;BYMONTH=4;BYDAY=3MO
END:DAYLIGHT
BEGIN:STANDARD
TZNAME:CET
TZOFFSETFROM:+0200
TZOFFSETTO:+0100
DTSTART:19170917T030000
RRULE:FREQ=YEARLY;UNTIL=19180916T010000Z;BYMONTH=9;BYDAY=3MO
END:STANDARD
BEGIN:DAYLIGHT
TZNAME:CEST
TZOFFSETFROM:+0100
TZOFFSETTO:+0200
DTSTART:19440403T020000
RRULE:FREQ=YEARLY;UNTIL=19450402T010000Z;BYMONTH=4;BYDAY=1MO
END:DAYLIGHT
BEGIN:DAYLIGHT
TZNAME:CEMT
TZOFFSETFROM:+0200
TZOFFSETTO:+0300
DTSTART:19450524T020000
RDATE:19470511T030000
END:DAYLIGHT
BEGIN:DAYLIGHT
TZNAME:CEST
TZOFFSETFROM:+0300
TZOFFSETTO:+0200
DTSTART:19450924T030000
RDATE:19470629T030000
END:DAYLIGHT
BEGIN:STANDARD
TZNAME:CET
TZOFFSETFROM:+0100
TZOFFSETTO:+0100
DTSTART:19460101T000000
RDATE:19800101T000000
END:STANDARD
BEGIN:STANDARD
TZNAME:CET
TZOFFSETFROM:+0200
TZOFFSETTO:+0100
DTSTART:19471005T030000
RRULE:FREQ=YEARLY;UNTIL=19491002T010000Z;BYMONTH=10;BYDAY=1SU
END:STANDARD
BEGIN:STANDARD
TZNAME:CET
TZOFFSETFROM:+0200
TZOFFSETTO:+0100
DTSTART:19800928T030000
RRULE:FREQ=YEARLY;UNTIL=19950924T010000Z;BYMONTH=9;BYDAY=-1SU
END:STANDARD
BEGIN:DAYLIGHT
TZNAME:CEST
TZOFFSETFROM:+0100
TZOFFSETTO:+0200
DTSTART:19810329T020000
RRULE:FREQ=YEARLY;BYMONTH=3;BYDAY=-1SU
END:DAYLIGHT
BEGIN:STANDARD
TZNAME:CET
TZOFFSETFROM:+0200
TZOFFSETTO:+0100
DTSTART:19961027T030000
RRULE:FREQ=YEARLY;BYMONTH=10;BYDAY=-1SU
END:STANDARD
END:VTIMEZONE
BEGIN:VEVENT
DTSTAMP:20260419T153551Z
DTSTART;TZID=Europe/Berlin:20191005T170000
DTEND;TZID=Europe/Berlin:20191005T183000
SUMMARY:Verbandsliga Staffel Ost (VLFO) ESV Dresden vs VfL Meißen (4022)
UID:2f69669a-13e1-4b8a-85e6-f9fc78d098e9
STATUS:CONFIRMED
LAST-MODIFIED:20191006T082110Z
DESCRIPTION:Verbandsliga Frauen Staffel Ost\nBegegnungs-Nr: 4022\nHeim: ESV Dresden\nGast: VfL Meißen\nHalle: Lok-SH Dresden (33106)\nAdresse: Emmerich-Ambros-Ufer 74\, 01159 Dresden\n
LOCATION:Lok-SH Dresden (33106): Emmerich-Ambros-Ufer 74\, 01159 Dresden
CATEGORIES:Saison 2019/20
END:VEVENT
BEGIN:VEVENT
DTSTAMP:20260419T153551Z
DTSTART;TZID=Europe/Berlin:20191214T110000
DTEND;TZID=Europe/Berlin:20191214T123000
SUMMARY:Verbandsliga Staffel Ost (VLFO) ESV Dresden vs TBSV Neugersdorf (4055)
UID:c28ceaf9-21a5-4ecb-b2bb-f9a6b6411ff6
STATUS:CONFIRMED
LAST-MODIFIED:20191214T142057Z
DESCRIPTION:Verbandsliga Frauen Staffel Ost\nBegegnungs-Nr: 4055\nHeim: ESV Dresden\nGast: TBSV Neugersdorf\nHalle: Lok-SH Dresden (33106)\nAdresse: Emmerich-Ambros-Ufer 74\, 01159 Dresden\n
LOCATION:Lok-SH Dresden (33106): Emmerich-Ambros-Ufer 74\, 01159 Dresden
CATEGORIES:Saison 2019/20
END:VEVENT
BEGIN:VEVENT
DTSTAMP:20260419T153551Z
DTSTART;TZID=Europe/Berlin:20191123T170000
DTEND;TZID=Europe/Berlin:20191123T183000
SUMMARY:Verbandsliga Staffel Ost (VLFO) ESV Dresden vs Koweg Görlitz II (4042)
UID:8f139058-adab-4162-a939-16a6ca1a5b0c
STATUS:CONFIRMED
LAST-MODIFIED:20191124T093547Z
DESCRIPTION:Verbandsliga Frauen Staffel Ost\nBegegnungs-Nr: 4042\nHeim: ESV Dresden\nGast: Koweg Görlitz II\nHalle: Lok-SH Dresden (33106)\nAdresse: Emmerich-Ambros-Ufer 74\, 01159 Dresden\n
LOCATION:Lok-SH Dresden (33106): Emmerich-Ambros-Ufer 74\, 01159 Dresden
CATEGORIES:Saison 2019/20
END:VEVENT
BEGIN:VEVENT
DTSTAMP:20260419T153551Z
DTSTART;TZID=Europe/Berlin:20200425T170000
DTEND;TZID=Europe/Berlin:20200425T183000
SUMMARY:Verbandsliga Staffel Ost (VLFO) ESV Dresden vs SF 01 Dresden (4104)
UID:39ba4912-7fa4-4b77-986c-13a49824aebf
STATUS:CONFIRMED
DESCRIPTION:Verbandsliga Frauen Staffel Ost\nBegegnungs-Nr: 4104\nHeim: ESV Dresden\nGast: SF 01 Dresden\nHalle: Lok-SH Dresden (33106)\nAdresse: Emmerich-Ambros-Ufer 74\, 01159 Dresden\n
LOCATION:Lok-SH Dresden (33106): Emmerich-Ambros-Ufer 74\, 01159 Dresden
CATEGORIES:Saison 2019/20
END:VEVENT
BEGIN:VEVENT
DTSTAMP:20260419T153551Z
DTSTART;TZID=Europe/Berlin:20190928T170000
DTEND;TZID=Europe/Berlin:20190928T183000
SUMMARY:Verbandsliga Staffel Ost (VLFO) ESV Dresden vs HC Rödertal  III (4020)
UID:6b44fcae-615a-484c-960e-e655ff7bcad0
STATUS:CONFIRMED
LAST-MODIFIED:20191002T134543Z
DESCRIPTION:Verbandsliga Frauen Staffel Ost\nBegegnungs-Nr: 4020\nHeim: ESV Dresden\nGast: HC Rödertal  III\nHalle: Lok-SH Dresden (33106)\nAdresse: Emmerich-Ambros-Ufer 74\, 01159 Dresden\n
LOCATION:Lok-SH Dresden (33106): Emmerich-Ambros-Ufer 74\, 01159 Dresden
CATEGORIES:Saison 2019/20
END:VEVENT
BEGIN:VEVENT
DTSTAMP:20260419T153551Z
DTSTART;TZID=Europe/Berlin:20200112T160000
DTEND;TZID=Europe/Berlin:20200112T173000
SUMMARY:Verbandsliga Staffel Ost (VLFO) ESV Dresden vs HCS Neustadt-S. (4060)
UID:060e5c46-156d-4d4c-9a00-454496065079
STATUS:CONFIRMED
LAST-MODIFIED:20200113T143548Z
DESCRIPTION:Verbandsliga Frauen Staffel Ost\nBegegnungs-Nr: 4060\nHeim: ESV Dresden\nGast: HCS Neustadt-S.\nHalle: Lok-SH Dresden (33106)\nAdresse: Emmerich-Ambros-Ufer 74\, 01159 Dresden\n
LOCATION:Lok-SH Dresden (33106): Emmerich-Ambros-Ufer 74\, 01159 Dresden
CATEGORIES:Saison 2019/20
END:VEVENT
BEGIN:VEVENT
DTSTAMP:20260419T153551Z
DTSTART;TZID=Europe/Berlin:20191207T170000
DTEND;TZID=Europe/Berlin:20191207T183000
SUMMARY:Verbandsliga Staffel Ost (VLFO) ESV Dresden vs Radeberger SV (4053)
UID:007a2411-6746-4da9-a9f7-9f699a91aec9
STATUS:CONFIRMED
LAST-MODIFIED:20191208T074740Z
DESCRIPTION:Verbandsliga Frauen Staffel Ost\nBegegnungs-Nr: 4053\nHeim: ESV Dresden\nGast: Radeberger SV\nHalle: Lok-SH Dresden (33106)\nAdresse: Emmerich-Ambros-Ufer 74\, 01159 Dresden\n
LOCATION:Lok-SH Dresden (33106): Emmerich-Ambros-Ufer 74\, 01159 Dresden
CATEGORIES:Saison 2019/20
END:VEVENT
BEGIN:VEVENT
DTSTAMP:20260419T153551Z
DTSTART;TZID=Europe/Berlin:20190914T190000
DTEND;TZID=Europe/Berlin:20190914T203000
SUMMARY:Verbandsliga Staffel Ost (VLFO) ESV Dresden vs HSV Weinböhla (4008)
UID:d00e2554-f19d-44f0-a910-d84089c76f9b
STATUS:CONFIRMED
LAST-MODIFIED:20190915T082039Z
DESCRIPTION:Verbandsliga Frauen Staffel Ost\nBegegnungs-Nr: 4008\nHeim: ESV Dresden\nGast: HSV Weinböhla\nHalle: Lok-SH Dresden (33106)\nAdresse: Emmerich-Ambros-Ufer 74\, 01159 Dresden\n
LOCATION:Lok-SH Dresden (33106): Emmerich-Ambros-Ufer 74\, 01159 Dresden
CATEGORIES:Saison 2019/20
END:VEVENT
BEGIN:VEVENT
DTSTAMP:20260419T153551Z
DTSTART;TZID=Europe/Berlin:20200307T170000
DTEND;TZID=Europe/Berlin:20200307T183000
SUMMARY:Verbandsliga Staffel Ost (VLFO) ESV Dresden vs SSV Heidenau  (4083)
UID:c4465dd9-6354-4599-b733-dff71bac6afe
STATUS:CONFIRMED
LAST-MODIFIED:20200308T072052Z
DESCRIPTION:Verbandsliga Frauen Staffel Ost\nBegegnungs-Nr: 4083\nHeim: ESV Dresden\nGast: SSV Heidenau \nHalle: Lok-SH Dresden (33106)\nAdresse: Emmerich-Ambros-Ufer 74\, 01159 Dresden\n
LOCATION:Lok-SH Dresden (33106): Emmerich-Ambros-Ufer 74\, 01159 Dresden
CATEGORIES:Saison 2019/20
END:VEVENT
BEGIN:VEVENT
DTSTAMP:20260419T153551Z
DTSTART;TZID=Europe/Berlin:20190908T170000
DTEND;TZID=Europe/Berlin:20190908T183000
SUMMARY:Verbandsliga Staffel Ost (VLFO) HCS Neustadt-S. vs ESV Dresden (4005)
UID:93cd091c-b540-446b-9f22-347e06f1863e
STATUS:CONFIRMED
LAST-MODIFIED:20190921T070951Z
DESCRIPTION:Verbandsliga Frauen Staffel Ost\nBegegnungs-Nr: 4005\nHeim: HCS Neustadt-S.\nGast: ESV Dresden\nHalle: Sportforum Neustadt (33303)\nAdresse: Maxim-Gorki-Straße 10\, 01844  Neustadt\n
LOCATION:Sportforum Neustadt (33303): Maxim-Gorki-Straße 10\, 01844  Neustadt
CATEGORIES:Saison 2019/20
END:VEVENT
BEGIN:VEVENT
DTSTAMP:20260419T153551Z
DTSTART;TZID=Europe/Berlin:20200502T160000
DTEND;TZID=Europe/Berlin:20200502T173000
SUMMARY:Verbandsliga Staffel Ost (VLFO) Radeberger SV vs ESV Dresden (4108)
UID:db1c53e5-69a4-4dc5-bb54-a1ee59ef1820
STATUS:CONFIRMED
DESCRIPTION:Verbandsliga Frauen Staffel Ost\nBegegnungs-Nr: 4108\nHeim: Radeberger SV\nGast: ESV Dresden\nHalle: 3-Feld-Halle-BSZ Radeberg (34209)\nAdresse: Robert-Blum-Weg 5\, 01454 Radeberg\n
LOCATION:3-Feld-Halle-BSZ Radeberg (34209): Robert-Blum-Weg 5\, 01454 Radeberg
CATEGORIES:Saison 2019/20
END:VEVENT
BEGIN:VEVENT
DTSTAMP:20260419T153551Z
DTSTART;TZID=Europe/Berlin:20200118T170000
DTEND;TZID=Europe/Berlin:20200118T183000
SUMMARY:Verbandsliga Staffel Ost (VLFO) HSV Weinböhla vs ESV Dresden (4064)
UID:e0c468b1-ad2a-440f-8070-413d1e71d51b
STATUS:CONFIRMED
LAST-MODIFIED:20200122T100234Z
DESCRIPTION:Verbandsliga Frauen Staffel Ost\nBegegnungs-Nr: 4064\nHeim: HSV Weinböhla\nGast: ESV Dresden\nHalle: Nassau-SH Weinböhla (33224)\nAdresse: Meißner Str. 1\, 01689 Weinböhla\n
LOCATION:Nassau-SH Weinböhla (33224): Meißner Str. 1\, 01689 Weinböhla
CATEGORIES:Saison 2019/20
END:VEVENT
BEGIN:VEVENT
DTSTAMP:20260419T153551Z
DTSTART;TZID=Europe/Berlin:20200301T150000
DTEND;TZID=Europe/Berlin:20200301T163000
SUMMARY:Verbandsliga Staffel Ost (VLFO) VfL Meißen vs ESV Dresden (4076)
UID:055e2b9f-8287-4604-b2f1-2bf68728a876
STATUS:CONFIRMED
LAST-MODIFIED:20200302T135157Z
DESCRIPTION:Verbandsliga Frauen Staffel Ost\nBegegnungs-Nr: 4076\nHeim: VfL Meißen\nGast: ESV Dresden\nHalle: SH \"Heiliger Grund\" Meißen (33212)\nAdresse: Goethestraße 27\, 01662 Meißen\n
LOCATION:SH \"Heiliger Grund\" Meißen (33212): Goethestraße 27\, 01662 Meißen
CATEGORIES:Saison 2019/20
END:VEVENT
BEGIN:VEVENT
DTSTAMP:20260419T153551Z
DTSTART;TZID=Europe/Berlin:20191201T150000
DTEND;TZID=Europe/Berlin:20191201T163000
SUMMARY:Verbandsliga Staffel Ost (VLFO) SF 01 Dresden vs ESV Dresden (4045)
UID:0ff5d813-4077-4fad-93d8-5c4eb7dee8ed
STATUS:CONFIRMED
LAST-MODIFIED:20191202T092844Z
DESCRIPTION:Verbandsliga Frauen Staffel Ost\nBegegnungs-Nr: 4045\nHeim: SF 01 Dresden\nGast: ESV Dresden\nHalle: SH Erlwein-Gymnasium Dresden (33127)\nAdresse: Eibenstocker Straße 30\, 01277 Dresden\n
LOCATION:SH Erlwein-Gymnasium Dresden (33127): Eibenstocker Straße 30\, 01277 Dresden
CATEGORIES:Saison 2019/20
END:VEVENT
BEGIN:VEVENT
DTSTAMP:20260419T153551Z
DTSTART;TZID=Europe/Berlin:20191116T180000
DTEND;TZID=Europe/Berlin:20191116T193000
SUMMARY:Verbandsliga Staffel Ost (VLFO) SG Klotzsche vs ESV Dresden (4038)
UID:e87857e3-03d7-4030-a217-c057d8826118
STATUS:CONFIRMED
LAST-MODIFIED:20191117T090737Z
DESCRIPTION:Verbandsliga Frauen Staffel Ost\nBegegnungs-Nr: 4038\nHeim: SG Klotzsche\nGast: ESV Dresden\nHalle: SH Gymnasium Klotzsche (33126)\nAdresse: Karl-Marx-Straße 44\, 01109 Dresden\n
LOCATION:SH Gymnasium Klotzsche (33126): Karl-Marx-Straße 44\, 01109 Dresden
CATEGORIES:Saison 2019/20
END:VEVENT
BEGIN:VEVENT
DTSTAMP:20260419T153551Z
DTSTART;TZID=Europe/Berlin:20191102T161500
DTEND;TZID=Europe/Berlin:20191102T174500
SUMMARY:Verbandsliga Staffel Ost (VLFO) SSV Heidenau  vs ESV Dresden (4028)
UID:411cd8f6-22a2-42e1-bc0f-4eaa2e9b7d48
STATUS:CONFIRMED
LAST-MODIFIED:20191104T145856Z
DESCRIPTION:Verbandsliga Frauen Staffel Ost\nBegegnungs-Nr: 4028\nHeim: SSV Heidenau \nGast: ESV Dresden\nHalle: SH Pestalozzi-Gymnasium Heidenau (33306)\nAdresse: Hauptstraße 37\, 01809 Heidenau\n
LOCATION:SH Pestalozzi-Gymnasium Heidenau (33306): Hauptstraße 37\, 01809 Heidenau
CATEGORIES:Saison 2019/20
END:VEVENT
BEGIN:VEVENT
DTSTAMP:20260419T153551Z
DTSTART;TZID=Europe/Berlin:20200223T133000
DTEND;TZID=Europe/Berlin:20200223T150000
SUMMARY:Verbandsliga Staffel Ost (VLFO) HC Rödertal  III vs ESV Dresden (4074)
UID:d7b0ef06-7b37-45f2-bcbe-949476668030
STATUS:CONFIRMED
LAST-MODIFIED:20200223T143253Z
DESCRIPTION:Verbandsliga Frauen Staffel Ost\nBegegnungs-Nr: 4074\nHeim: HC Rödertal  III\nGast: ESV Dresden\nHalle: 3-Feld-Halle-GY Großröhrsdorf (34514)\nAdresse: Melanchthonstraße 21\, 01900  Großröhrsdorf\n
LOCATION:3-Feld-Halle-GY Großröhrsdorf (34514): Melanchthonstraße 21\, 01900  Großröhrsdorf
CATEGORIES:Saison 2019/20
END:VEVENT
END:VCALENDAR
