BEGIN:VCALENDAR
PRODID:-//nuDatenautomaten//framework iCal4j //DE
VERSION:2.0
CALSCALE:GREGORIAN
BEGIN:VTIMEZONE
TZID:Europe/Berlin
LAST-MODIFIED:20260306T231828Z
TZURL:https://www.tzurl.org/zoneinfo/Europe/Berlin
X-LIC-LOCATION:Europe/Berlin
X-PROLEPTIC-TZNAME:LMT
BEGIN:STANDARD
TZNAME:CET
TZOFFSETFROM:+005328
TZOFFSETTO:+0100
DTSTART:18930401T000000
END:STANDARD
BEGIN:DAYLIGHT
TZNAME:CEST
TZOFFSETFROM:+0100
TZOFFSETTO:+0200
DTSTART:19160430T230000
RDATE:19400401T020000
RDATE:19430329T020000
RDATE:19460414T020000
RDATE:19470406T030000
RDATE:19480418T020000
RDATE:19490410T020000
RDATE:19800406T020000
END:DAYLIGHT
BEGIN:STANDARD
TZNAME:CET
TZOFFSETFROM:+0200
TZOFFSETTO:+0100
DTSTART:19161001T010000
RDATE:19421102T030000
RDATE:19431004T030000
RDATE:19441002T030000
RDATE:19451118T030000
RDATE:19461007T030000
END:STANDARD
BEGIN:DAYLIGHT
TZNAME:CEST
TZOFFSETFROM:+0100
TZOFFSETTO:+0200
DTSTART:19170416T020000
RRULE:FREQ=YEARLY;UNTIL=19180415T010000Z;BYMONTH=4;BYDAY=3MO
END:DAYLIGHT
BEGIN:STANDARD
TZNAME:CET
TZOFFSETFROM:+0200
TZOFFSETTO:+0100
DTSTART:19170917T030000
RRULE:FREQ=YEARLY;UNTIL=19180916T010000Z;BYMONTH=9;BYDAY=3MO
END:STANDARD
BEGIN:DAYLIGHT
TZNAME:CEST
TZOFFSETFROM:+0100
TZOFFSETTO:+0200
DTSTART:19440403T020000
RRULE:FREQ=YEARLY;UNTIL=19450402T010000Z;BYMONTH=4;BYDAY=1MO
END:DAYLIGHT
BEGIN:DAYLIGHT
TZNAME:CEMT
TZOFFSETFROM:+0200
TZOFFSETTO:+0300
DTSTART:19450524T020000
RDATE:19470511T030000
END:DAYLIGHT
BEGIN:DAYLIGHT
TZNAME:CEST
TZOFFSETFROM:+0300
TZOFFSETTO:+0200
DTSTART:19450924T030000
RDATE:19470629T030000
END:DAYLIGHT
BEGIN:STANDARD
TZNAME:CET
TZOFFSETFROM:+0100
TZOFFSETTO:+0100
DTSTART:19460101T000000
RDATE:19800101T000000
END:STANDARD
BEGIN:STANDARD
TZNAME:CET
TZOFFSETFROM:+0200
TZOFFSETTO:+0100
DTSTART:19471005T030000
RRULE:FREQ=YEARLY;UNTIL=19491002T010000Z;BYMONTH=10;BYDAY=1SU
END:STANDARD
BEGIN:STANDARD
TZNAME:CET
TZOFFSETFROM:+0200
TZOFFSETTO:+0100
DTSTART:19800928T030000
RRULE:FREQ=YEARLY;UNTIL=19950924T010000Z;BYMONTH=9;BYDAY=-1SU
END:STANDARD
BEGIN:DAYLIGHT
TZNAME:CEST
TZOFFSETFROM:+0100
TZOFFSETTO:+0200
DTSTART:19810329T020000
RRULE:FREQ=YEARLY;BYMONTH=3;BYDAY=-1SU
END:DAYLIGHT
BEGIN:STANDARD
TZNAME:CET
TZOFFSETFROM:+0200
TZOFFSETTO:+0100
DTSTART:19961027T030000
RRULE:FREQ=YEARLY;BYMONTH=10;BYDAY=-1SU
END:STANDARD
END:VTIMEZONE
BEGIN:VEVENT
DTSTAMP:20260423T224214Z
DTSTART;TZID=Europe/Berlin:20200901T193000
DTEND;TZID=Europe/Berlin:20200901T210000
SUMMARY:Freund_MÄ SC DHfK Leipzig II vs HV Grün-Weiß Werder (7)
UID:6ee383d7-0670-4bdf-87ae-dd83affa0faf
STATUS:CONFIRMED
DESCRIPTION:Freundschaftsspiele Männer\nBegegnungs-Nr: 7\nHeim: SC DHfK Leipzig II\nGast: HV Grün-Weiß Werder\nHalle: SH Sportoberschule (31132)\nAdresse: Max -Planck-Str. 53-55\, 04105 Leipzig\n
LOCATION:SH Sportoberschule (31132): Max -Planck-Str. 53-55\, 04105 Leipzig
CATEGORIES:Saison Freundschaft 2020/21
END:VEVENT
BEGIN:VEVENT
DTSTAMP:20260423T224214Z
DTSTART;TZID=Europe/Berlin:20200905T140000
DTEND;TZID=Europe/Berlin:20200905T153000
SUMMARY:Freund_MÄ SC DHfK Leipzig II vs HaSpo Bayreuth (8)
UID:34efcfb9-664c-4af2-9dcd-1bcd35ff818d
STATUS:CONFIRMED
DESCRIPTION:Freundschaftsspiele Männer\nBegegnungs-Nr: 8\nHeim: SC DHfK Leipzig II\nGast: HaSpo Bayreuth\nHalle: SH Sportoberschule (31132)\nAdresse: Max -Planck-Str. 53-55\, 04105 Leipzig\n
LOCATION:SH Sportoberschule (31132): Max -Planck-Str. 53-55\, 04105 Leipzig
CATEGORIES:Saison Freundschaft 2020/21
END:VEVENT
BEGIN:VEVENT
DTSTAMP:20260423T224214Z
DTSTART;TZID=Europe/Berlin:20200915T173000
DTEND;TZID=Europe/Berlin:20200915T190000
SUMMARY:Freund_MÄ SC DHfK Leipzig II vs SV Anhalt Bernburg (4)
UID:10c1a3c4-46d7-44af-bac0-efafb60847bd
STATUS:CONFIRMED
LAST-MODIFIED:20200730T091428Z
DESCRIPTION:Freundschaftsspiele Männer\nBegegnungs-Nr: 4\nHeim: SC DHfK Leipzig II\nGast: SV Anhalt Bernburg\nHalle: Kleine ARENA Leipzig (31117)\nAdresse: Am Sportforum 1\, 04105 Leipzig\n
LOCATION:Kleine ARENA Leipzig (31117): Am Sportforum 1\, 04105 Leipzig
CATEGORIES:Saison Freundschaft 2020/21
END:VEVENT
BEGIN:VEVENT
DTSTAMP:20260423T224214Z
DTSTART;TZID=Europe/Berlin:20200901T173000
DTEND;TZID=Europe/Berlin:20200901T190000
SUMMARY:Freund_MÄ SC DHfK Leipzig II vs HC Elbflorenz 2006 II (3)
UID:96cc4400-88b3-43e4-97fa-f092f0ff5ee6
STATUS:CONFIRMED
DESCRIPTION:Freundschaftsspiele Männer\nBegegnungs-Nr: 3\nHeim: SC DHfK Leipzig II\nGast: HC Elbflorenz 2006 II\nHalle: Kleine ARENA Leipzig (31117)\nAdresse: Am Sportforum 1\, 04105 Leipzig\n
LOCATION:Kleine ARENA Leipzig (31117): Am Sportforum 1\, 04105 Leipzig
CATEGORIES:Saison Freundschaft 2020/21
END:VEVENT
BEGIN:VEVENT
DTSTAMP:20260423T224214Z
DTSTART;TZID=Europe/Berlin:20200808T173000
DTEND;TZID=Europe/Berlin:20200808T190000
SUMMARY:Freund_MÄ SC DHfK Leipzig II vs HSG Freiberg (2)
UID:9ca70169-b3e8-4301-901a-65bf19895fe5
STATUS:CONFIRMED
DESCRIPTION:Freundschaftsspiele Männer\nBegegnungs-Nr: 2\nHeim: SC DHfK Leipzig II\nGast: HSG Freiberg\nHalle: Rödertal-SH (33205)\nAdresse: Am Marstall 4\, 01558 Großenhain\n
LOCATION:Rödertal-SH (33205): Am Marstall 4\, 01558 Großenhain
CATEGORIES:Saison Freundschaft 2020/21
END:VEVENT
END:VCALENDAR
