BEGIN:VCALENDAR
PRODID:-//nuDatenautomaten//framework iCal4j //DE
VERSION:2.0
CALSCALE:GREGORIAN
BEGIN:VTIMEZONE
TZID:Europe/Berlin
LAST-MODIFIED:20260306T231828Z
TZURL:https://www.tzurl.org/zoneinfo/Europe/Berlin
X-LIC-LOCATION:Europe/Berlin
X-PROLEPTIC-TZNAME:LMT
BEGIN:STANDARD
TZNAME:CET
TZOFFSETFROM:+005328
TZOFFSETTO:+0100
DTSTART:18930401T000000
END:STANDARD
BEGIN:DAYLIGHT
TZNAME:CEST
TZOFFSETFROM:+0100
TZOFFSETTO:+0200
DTSTART:19160430T230000
RDATE:19400401T020000
RDATE:19430329T020000
RDATE:19460414T020000
RDATE:19470406T030000
RDATE:19480418T020000
RDATE:19490410T020000
RDATE:19800406T020000
END:DAYLIGHT
BEGIN:STANDARD
TZNAME:CET
TZOFFSETFROM:+0200
TZOFFSETTO:+0100
DTSTART:19161001T010000
RDATE:19421102T030000
RDATE:19431004T030000
RDATE:19441002T030000
RDATE:19451118T030000
RDATE:19461007T030000
END:STANDARD
BEGIN:DAYLIGHT
TZNAME:CEST
TZOFFSETFROM:+0100
TZOFFSETTO:+0200
DTSTART:19170416T020000
RRULE:FREQ=YEARLY;UNTIL=19180415T010000Z;BYMONTH=4;BYDAY=3MO
END:DAYLIGHT
BEGIN:STANDARD
TZNAME:CET
TZOFFSETFROM:+0200
TZOFFSETTO:+0100
DTSTART:19170917T030000
RRULE:FREQ=YEARLY;UNTIL=19180916T010000Z;BYMONTH=9;BYDAY=3MO
END:STANDARD
BEGIN:DAYLIGHT
TZNAME:CEST
TZOFFSETFROM:+0100
TZOFFSETTO:+0200
DTSTART:19440403T020000
RRULE:FREQ=YEARLY;UNTIL=19450402T010000Z;BYMONTH=4;BYDAY=1MO
END:DAYLIGHT
BEGIN:DAYLIGHT
TZNAME:CEMT
TZOFFSETFROM:+0200
TZOFFSETTO:+0300
DTSTART:19450524T020000
RDATE:19470511T030000
END:DAYLIGHT
BEGIN:DAYLIGHT
TZNAME:CEST
TZOFFSETFROM:+0300
TZOFFSETTO:+0200
DTSTART:19450924T030000
RDATE:19470629T030000
END:DAYLIGHT
BEGIN:STANDARD
TZNAME:CET
TZOFFSETFROM:+0100
TZOFFSETTO:+0100
DTSTART:19460101T000000
RDATE:19800101T000000
END:STANDARD
BEGIN:STANDARD
TZNAME:CET
TZOFFSETFROM:+0200
TZOFFSETTO:+0100
DTSTART:19471005T030000
RRULE:FREQ=YEARLY;UNTIL=19491002T010000Z;BYMONTH=10;BYDAY=1SU
END:STANDARD
BEGIN:STANDARD
TZNAME:CET
TZOFFSETFROM:+0200
TZOFFSETTO:+0100
DTSTART:19800928T030000
RRULE:FREQ=YEARLY;UNTIL=19950924T010000Z;BYMONTH=9;BYDAY=-1SU
END:STANDARD
BEGIN:DAYLIGHT
TZNAME:CEST
TZOFFSETFROM:+0100
TZOFFSETTO:+0200
DTSTART:19810329T020000
RRULE:FREQ=YEARLY;BYMONTH=3;BYDAY=-1SU
END:DAYLIGHT
BEGIN:STANDARD
TZNAME:CET
TZOFFSETFROM:+0200
TZOFFSETTO:+0100
DTSTART:19961027T030000
RRULE:FREQ=YEARLY;BYMONTH=10;BYDAY=-1SU
END:STANDARD
END:VTIMEZONE
BEGIN:VEVENT
DTSTAMP:20260422T034208Z
DTSTART;TZID=Europe/Berlin:20220402T170000
DTEND;TZID=Europe/Berlin:20220402T180000
SUMMARY:Bezirksliga mB Fortschritt Mittweida vs NSG EHV/NH Aue III (631)
UID:8b11b4b6-da39-4fd1-8fa0-6ab9240da796
STATUS:CONFIRMED
LAST-MODIFIED:20220501T075228Z
DESCRIPTION:Bezirksliga Chemnitz männl. Jugend B\nBegegnungs-Nr: 631\nHeim: Fortschritt Mittweida\nGast: NSG EHV/NH Aue III\nHalle: SH \"Am Schwanenteich\" Mittweida (32207)\nAdresse: Leipziger Straße 15\, 09648 Mittweida\n
LOCATION:SH \"Am Schwanenteich\" Mittweida (32207): Leipziger Straße 15\, 09648 Mittweida
CATEGORIES:Saison 2021/22
END:VEVENT
BEGIN:VEVENT
DTSTAMP:20260422T034208Z
DTSTART;TZID=Europe/Berlin:20211009T130000
DTEND;TZID=Europe/Berlin:20211009T140000
SUMMARY:Bezirksliga mB Fortschritt Mittweida vs NSG TSV/SV04/HCE (606)
UID:6cc16983-5c04-4732-8be9-79e805aad95f
STATUS:CONFIRMED
LAST-MODIFIED:20211108T143205Z
DESCRIPTION:Bezirksliga Chemnitz männl. Jugend B\nBegegnungs-Nr: 606\nHeim: Fortschritt Mittweida\nGast: NSG TSV/SV04/HCE\nHalle: SH \"Am Schwanenteich\" Mittweida (32207)\nAdresse: Leipziger Straße 15\, 09648 Mittweida\n
LOCATION:SH \"Am Schwanenteich\" Mittweida (32207): Leipziger Straße 15\, 09648 Mittweida
CATEGORIES:Saison 2021/22
END:VEVENT
BEGIN:VEVENT
DTSTAMP:20260422T034208Z
DTSTART;TZID=Europe/Berlin:20220409T130000
DTEND;TZID=Europe/Berlin:20220409T140000
SUMMARY:Bezirksliga mB Fortschritt Mittweida vs HSG Rottluff/Lok Chemnitz II (646)
UID:8013d09b-1aea-4a59-a29a-b434fc940cc3
STATUS:CONFIRMED
LAST-MODIFIED:20220425T135804Z
DESCRIPTION:Bezirksliga Chemnitz männl. Jugend B\nBegegnungs-Nr: 646\nHeim: Fortschritt Mittweida\nGast: HSG Rottluff/Lok Chemnitz II\nHalle: SH \"Am Schwanenteich\" Mittweida (32207)\nAdresse: Leipziger Straße 15\, 09648 Mittweida\n
LOCATION:SH \"Am Schwanenteich\" Mittweida (32207): Leipziger Straße 15\, 09648 Mittweida
CATEGORIES:Saison 2021/22
END:VEVENT
BEGIN:VEVENT
DTSTAMP:20260422T034208Z
DTSTART;TZID=Europe/Berlin:20220501T140000
DTEND;TZID=Europe/Berlin:20220501T150000
SUMMARY:Bezirksliga mB Burgstädter HC vs Fortschritt Mittweida (650)
UID:4aa156f1-a38f-4937-829c-613b6f6f3a6f
STATUS:CONFIRMED
LAST-MODIFIED:20220522T073329Z
DESCRIPTION:Bezirksliga Chemnitz männl. Jugend B\nBegegnungs-Nr: 650\nHeim: Burgstädter HC\nGast: Fortschritt Mittweida\nHalle: SH Burgstädt - Sportzentrum am Taurastein (32206)\nAdresse: Am Stadion 22\, 09217  Burgstädt\n
LOCATION:SH Burgstädt - Sportzentrum am Taurastein (32206): Am Stadion 22\, 09217  Burgstädt
CATEGORIES:Saison 2021/22
END:VEVENT
BEGIN:VEVENT
DTSTAMP:20260422T034208Z
DTSTART;TZID=Europe/Berlin:20220312T100000
DTEND;TZID=Europe/Berlin:20220312T110000
SUMMARY:Bezirksliga mB NSG Gc-Mee-LO vs Fortschritt Mittweida (628)
UID:42d798df-0520-4a6d-9cd1-c73aa5690b4b
STATUS:CONFIRMED
LAST-MODIFIED:20220322T063846Z
DESCRIPTION:Bezirksliga Chemnitz männl. Jugend B\nBegegnungs-Nr: 628\nHeim: NSG Gc-Mee-LO\nGast: Fortschritt Mittweida\nHalle: GSH Limbach-Oberfrohna (32201)\nAdresse: Anna-Esche-Gäßchen 1\, 09212 Limbach-Oberfrohna\n
LOCATION:GSH Limbach-Oberfrohna (32201): Anna-Esche-Gäßchen 1\, 09212 Limbach-Oberfrohna
CATEGORIES:Saison 2021/22
END:VEVENT
BEGIN:VEVENT
DTSTAMP:20260422T034208Z
DTSTART;TZID=Europe/Berlin:20220515T140000
DTEND;TZID=Europe/Berlin:20220515T150000
SUMMARY:Bezirksliga mB Rotation Weißenborn vs Fortschritt Mittweida (655)
UID:fdbf4063-e737-4a34-ac3d-5b3b8909a83a
STATUS:CONFIRMED
LAST-MODIFIED:20220522T074158Z
DESCRIPTION:Bezirksliga Chemnitz männl. Jugend B\nBegegnungs-Nr: 655\nHeim: Rotation Weißenborn\nGast: Fortschritt Mittweida\nHalle: SH Schoeller Weißenborn (32415)\nAdresse: Lichtenberger Straße 8\, 09600 Weißenborn\n
LOCATION:SH Schoeller Weißenborn (32415): Lichtenberger Straße 8\, 09600 Weißenborn
CATEGORIES:Saison 2021/22
END:VEVENT
BEGIN:VEVENT
DTSTAMP:20260422T034208Z
DTSTART;TZID=Europe/Berlin:20211113T144500
DTEND;TZID=Europe/Berlin:20211113T154500
SUMMARY:Bezirksliga mB HSG Rottluff/Lok Chemnitz vs Fortschritt Mittweida (612)
UID:ae14b937-8629-4f52-8dee-cb30f0c64a25
STATUS:CONFIRMED
LAST-MODIFIED:20211120T082310Z
DESCRIPTION:Bezirksliga Chemnitz männl. Jugend B\nBegegnungs-Nr: 612\nHeim: HSG Rottluff/Lok Chemnitz\nGast: Fortschritt Mittweida\nHalle: Sachsenhalle Chemnitz (32101)\nAdresse: Straße Usti nad Labem 275\, 09119 Chemnitz\n
LOCATION:Sachsenhalle Chemnitz (32101): Straße Usti nad Labem 275\, 09119 Chemnitz
CATEGORIES:Saison 2021/22
END:VEVENT
END:VCALENDAR
