BEGIN:VCALENDAR
PRODID:-//nuDatenautomaten//framework iCal4j //DE
VERSION:2.0
CALSCALE:GREGORIAN
BEGIN:VTIMEZONE
TZID:Europe/Berlin
LAST-MODIFIED:20260306T231828Z
TZURL:https://www.tzurl.org/zoneinfo/Europe/Berlin
X-LIC-LOCATION:Europe/Berlin
X-PROLEPTIC-TZNAME:LMT
BEGIN:STANDARD
TZNAME:CET
TZOFFSETFROM:+005328
TZOFFSETTO:+0100
DTSTART:18930401T000000
END:STANDARD
BEGIN:DAYLIGHT
TZNAME:CEST
TZOFFSETFROM:+0100
TZOFFSETTO:+0200
DTSTART:19160430T230000
RDATE:19400401T020000
RDATE:19430329T020000
RDATE:19460414T020000
RDATE:19470406T030000
RDATE:19480418T020000
RDATE:19490410T020000
RDATE:19800406T020000
END:DAYLIGHT
BEGIN:STANDARD
TZNAME:CET
TZOFFSETFROM:+0200
TZOFFSETTO:+0100
DTSTART:19161001T010000
RDATE:19421102T030000
RDATE:19431004T030000
RDATE:19441002T030000
RDATE:19451118T030000
RDATE:19461007T030000
END:STANDARD
BEGIN:DAYLIGHT
TZNAME:CEST
TZOFFSETFROM:+0100
TZOFFSETTO:+0200
DTSTART:19170416T020000
RRULE:FREQ=YEARLY;UNTIL=19180415T010000Z;BYMONTH=4;BYDAY=3MO
END:DAYLIGHT
BEGIN:STANDARD
TZNAME:CET
TZOFFSETFROM:+0200
TZOFFSETTO:+0100
DTSTART:19170917T030000
RRULE:FREQ=YEARLY;UNTIL=19180916T010000Z;BYMONTH=9;BYDAY=3MO
END:STANDARD
BEGIN:DAYLIGHT
TZNAME:CEST
TZOFFSETFROM:+0100
TZOFFSETTO:+0200
DTSTART:19440403T020000
RRULE:FREQ=YEARLY;UNTIL=19450402T010000Z;BYMONTH=4;BYDAY=1MO
END:DAYLIGHT
BEGIN:DAYLIGHT
TZNAME:CEMT
TZOFFSETFROM:+0200
TZOFFSETTO:+0300
DTSTART:19450524T020000
RDATE:19470511T030000
END:DAYLIGHT
BEGIN:DAYLIGHT
TZNAME:CEST
TZOFFSETFROM:+0300
TZOFFSETTO:+0200
DTSTART:19450924T030000
RDATE:19470629T030000
END:DAYLIGHT
BEGIN:STANDARD
TZNAME:CET
TZOFFSETFROM:+0100
TZOFFSETTO:+0100
DTSTART:19460101T000000
RDATE:19800101T000000
END:STANDARD
BEGIN:STANDARD
TZNAME:CET
TZOFFSETFROM:+0200
TZOFFSETTO:+0100
DTSTART:19471005T030000
RRULE:FREQ=YEARLY;UNTIL=19491002T010000Z;BYMONTH=10;BYDAY=1SU
END:STANDARD
BEGIN:STANDARD
TZNAME:CET
TZOFFSETFROM:+0200
TZOFFSETTO:+0100
DTSTART:19800928T030000
RRULE:FREQ=YEARLY;UNTIL=19950924T010000Z;BYMONTH=9;BYDAY=-1SU
END:STANDARD
BEGIN:DAYLIGHT
TZNAME:CEST
TZOFFSETFROM:+0100
TZOFFSETTO:+0200
DTSTART:19810329T020000
RRULE:FREQ=YEARLY;BYMONTH=3;BYDAY=-1SU
END:DAYLIGHT
BEGIN:STANDARD
TZNAME:CET
TZOFFSETFROM:+0200
TZOFFSETTO:+0100
DTSTART:19961027T030000
RRULE:FREQ=YEARLY;BYMONTH=10;BYDAY=-1SU
END:STANDARD
END:VTIMEZONE
BEGIN:VEVENT
DTSTAMP:20260422T234314Z
DTSTART;TZID=Europe/Berlin:20211009T103000
DTEND;TZID=Europe/Berlin:20211009T113000
SUMMARY:Bezirksliga mJD - 1 HSV Mölkau - Die Haie  vs Germania Zwenkau (18106)
UID:0205c08f-5c1f-483b-aa63-d6bb7a1ce4b8
STATUS:CONFIRMED
LAST-MODIFIED:20211011T141905Z
DESCRIPTION:Bezirksliga männliche Jugend D (Staffel 1)\nBegegnungs-Nr: 18106\nHeim: HSV Mölkau - Die Haie \nGast: Germania Zwenkau\nHalle: SH Oberschule Leipzig-Mölkau (31106)\nAdresse: Schulstr. 6\, 04316 Leipzig\n
LOCATION:SH Oberschule Leipzig-Mölkau (31106): Schulstr. 6\, 04316 Leipzig
CATEGORIES:Saison 2021/22
END:VEVENT
BEGIN:VEVENT
DTSTAMP:20260422T234314Z
DTSTART;TZID=Europe/Berlin:20210925T103000
DTEND;TZID=Europe/Berlin:20210925T113000
SUMMARY:Bezirksliga mJD - 1 HSV Mölkau - Die Haie  vs SG LVB (18102)
UID:d4b94cb4-fc1f-4e58-bb92-48e2b5b1eed0
STATUS:CONFIRMED
LAST-MODIFIED:20210929T111124Z
DESCRIPTION:Bezirksliga männliche Jugend D (Staffel 1)\nBegegnungs-Nr: 18102\nHeim: HSV Mölkau - Die Haie \nGast: SG LVB\nHalle: SH Oberschule Leipzig-Mölkau (31106)\nAdresse: Schulstr. 6\, 04316 Leipzig\n
LOCATION:SH Oberschule Leipzig-Mölkau (31106): Schulstr. 6\, 04316 Leipzig
CATEGORIES:Saison 2021/22
END:VEVENT
BEGIN:VEVENT
DTSTAMP:20260422T234314Z
DTSTART;TZID=Europe/Berlin:20220305T113000
DTEND;TZID=Europe/Berlin:20220305T123000
SUMMARY:Bezirksliga mJD - 1 HSV Mölkau - Die Haie  vs SG MoGoNo Leipzig (18116)
UID:e01e5cad-4e30-4d76-ba00-368feb13066c
STATUS:CONFIRMED
LAST-MODIFIED:20220311T094728Z
DESCRIPTION:Bezirksliga männliche Jugend D (Staffel 1)\nBegegnungs-Nr: 18116\nHeim: HSV Mölkau - Die Haie \nGast: SG MoGoNo Leipzig\nHalle: SH Oberschule Leipzig-Mölkau (31106)\nAdresse: Schulstr. 6\, 04316 Leipzig\n
LOCATION:SH Oberschule Leipzig-Mölkau (31106): Schulstr. 6\, 04316 Leipzig
CATEGORIES:Saison 2021/22
END:VEVENT
BEGIN:VEVENT
DTSTAMP:20260422T234314Z
DTSTART;TZID=Europe/Berlin:20211016T100000
DTEND;TZID=Europe/Berlin:20211016T110000
SUMMARY:Bezirksliga mJD - 1 Leipziger SV Südwest vs HSV Mölkau - Die Haie  (18108)
UID:f0e12010-3d27-41e2-b961-e444ed3e141b
STATUS:CONFIRMED
LAST-MODIFIED:20211111T181536Z
DESCRIPTION:Bezirksliga männliche Jugend D (Staffel 1)\nBegegnungs-Nr: 18108\nHeim: Leipziger SV Südwest\nGast: HSV Mölkau - Die Haie \nHalle: SH am Grünen Gleis (31134)\nAdresse: Baumannstraße 13\, 04229 Leipzig\n
LOCATION:SH am Grünen Gleis (31134): Baumannstraße 13\, 04229 Leipzig
CATEGORIES:Saison 2021/22
END:VEVENT
BEGIN:VEVENT
DTSTAMP:20260422T234314Z
DTSTART;TZID=Europe/Berlin:20220410T110000
DTEND;TZID=Europe/Berlin:20220410T120000
SUMMARY:Bezirksliga mJD - 1 Bornaer HV 09 vs HSV Mölkau - Die Haie  (18119)
UID:f766e0d9-1442-43b3-b3a2-ffaf43cf25cd
STATUS:CONFIRMED
LAST-MODIFIED:20220504T142304Z
DESCRIPTION:Bezirksliga männliche Jugend D (Staffel 1)\nBegegnungs-Nr: 18119\nHeim: Bornaer HV 09\nGast: HSV Mölkau - Die Haie \nHalle: SH Borna-Ost (31401)\nAdresse: Oststr. 2 \, 04552 Borna\n
LOCATION:SH Borna-Ost (31401): Oststr. 2 \, 04552 Borna
CATEGORIES:Saison 2021/22
END:VEVENT
BEGIN:VEVENT
DTSTAMP:20260422T234314Z
DTSTART;TZID=Europe/Berlin:20211002T113000
DTEND;TZID=Europe/Berlin:20211002T123000
SUMMARY:Bezirksliga mJD - 1 HSG Neudorf/Döbeln vs HSV Mölkau - Die Haie  (18103)
UID:dd6c16f3-3f87-4d1b-9794-9600d8ff4b21
STATUS:CONFIRMED
LAST-MODIFIED:20211007T123140Z
DESCRIPTION:Bezirksliga männliche Jugend D (Staffel 1)\nBegegnungs-Nr: 18103\nHeim: HSG Neudorf/Döbeln\nGast: HSV Mölkau - Die Haie \nHalle: Stadt-SH Döbeln (31202)\nAdresse: Str. des Friedens 9\, 04720 Döbeln\n
LOCATION:Stadt-SH Döbeln (31202): Str. des Friedens 9\, 04720 Döbeln
CATEGORIES:Saison 2021/22
END:VEVENT
END:VCALENDAR
