BEGIN:VCALENDAR
PRODID:-//nuDatenautomaten//framework iCal4j //DE
VERSION:2.0
CALSCALE:GREGORIAN
BEGIN:VTIMEZONE
TZID:Europe/Berlin
LAST-MODIFIED:20260306T231828Z
TZURL:https://www.tzurl.org/zoneinfo/Europe/Berlin
X-LIC-LOCATION:Europe/Berlin
X-PROLEPTIC-TZNAME:LMT
BEGIN:STANDARD
TZNAME:CET
TZOFFSETFROM:+005328
TZOFFSETTO:+0100
DTSTART:18930401T000000
END:STANDARD
BEGIN:DAYLIGHT
TZNAME:CEST
TZOFFSETFROM:+0100
TZOFFSETTO:+0200
DTSTART:19160430T230000
RDATE:19400401T020000
RDATE:19430329T020000
RDATE:19460414T020000
RDATE:19470406T030000
RDATE:19480418T020000
RDATE:19490410T020000
RDATE:19800406T020000
END:DAYLIGHT
BEGIN:STANDARD
TZNAME:CET
TZOFFSETFROM:+0200
TZOFFSETTO:+0100
DTSTART:19161001T010000
RDATE:19421102T030000
RDATE:19431004T030000
RDATE:19441002T030000
RDATE:19451118T030000
RDATE:19461007T030000
END:STANDARD
BEGIN:DAYLIGHT
TZNAME:CEST
TZOFFSETFROM:+0100
TZOFFSETTO:+0200
DTSTART:19170416T020000
RRULE:FREQ=YEARLY;UNTIL=19180415T010000Z;BYMONTH=4;BYDAY=3MO
END:DAYLIGHT
BEGIN:STANDARD
TZNAME:CET
TZOFFSETFROM:+0200
TZOFFSETTO:+0100
DTSTART:19170917T030000
RRULE:FREQ=YEARLY;UNTIL=19180916T010000Z;BYMONTH=9;BYDAY=3MO
END:STANDARD
BEGIN:DAYLIGHT
TZNAME:CEST
TZOFFSETFROM:+0100
TZOFFSETTO:+0200
DTSTART:19440403T020000
RRULE:FREQ=YEARLY;UNTIL=19450402T010000Z;BYMONTH=4;BYDAY=1MO
END:DAYLIGHT
BEGIN:DAYLIGHT
TZNAME:CEMT
TZOFFSETFROM:+0200
TZOFFSETTO:+0300
DTSTART:19450524T020000
RDATE:19470511T030000
END:DAYLIGHT
BEGIN:DAYLIGHT
TZNAME:CEST
TZOFFSETFROM:+0300
TZOFFSETTO:+0200
DTSTART:19450924T030000
RDATE:19470629T030000
END:DAYLIGHT
BEGIN:STANDARD
TZNAME:CET
TZOFFSETFROM:+0100
TZOFFSETTO:+0100
DTSTART:19460101T000000
RDATE:19800101T000000
END:STANDARD
BEGIN:STANDARD
TZNAME:CET
TZOFFSETFROM:+0200
TZOFFSETTO:+0100
DTSTART:19471005T030000
RRULE:FREQ=YEARLY;UNTIL=19491002T010000Z;BYMONTH=10;BYDAY=1SU
END:STANDARD
BEGIN:STANDARD
TZNAME:CET
TZOFFSETFROM:+0200
TZOFFSETTO:+0100
DTSTART:19800928T030000
RRULE:FREQ=YEARLY;UNTIL=19950924T010000Z;BYMONTH=9;BYDAY=-1SU
END:STANDARD
BEGIN:DAYLIGHT
TZNAME:CEST
TZOFFSETFROM:+0100
TZOFFSETTO:+0200
DTSTART:19810329T020000
RRULE:FREQ=YEARLY;BYMONTH=3;BYDAY=-1SU
END:DAYLIGHT
BEGIN:STANDARD
TZNAME:CET
TZOFFSETFROM:+0200
TZOFFSETTO:+0100
DTSTART:19961027T030000
RRULE:FREQ=YEARLY;BYMONTH=10;BYDAY=-1SU
END:STANDARD
END:VTIMEZONE
BEGIN:VEVENT
DTSTAMP:20260423T170759Z
DTSTART;TZID=Europe/Berlin:20220710T163000
DTEND;TZID=Europe/Berlin:20220710T173000
SUMMARY:KKJS mB Grün-Weiß Niederwiesa vs Burgstädter HC (50)
UID:4c9496f5-5582-4546-8caa-259e2d9423cb
STATUS:CONFIRMED
LAST-MODIFIED:20220711T194206Z
DESCRIPTION:KKJS Mittelsachsen männl. B\nBegegnungs-Nr: 50\nHeim: Grün-Weiß Niederwiesa\nGast: Burgstädter HC\nHalle: Ernst-Grube-Halle Freiberg (32401)\nAdresse: Tschaikowskistr. 2\, 09599 Freiberg\n
LOCATION:Ernst-Grube-Halle Freiberg (32401): Tschaikowskistr. 2\, 09599 Freiberg
CATEGORIES:Saison 2021/22
END:VEVENT
BEGIN:VEVENT
DTSTAMP:20260423T170759Z
DTSTART;TZID=Europe/Berlin:20220313T150000
DTEND;TZID=Europe/Berlin:20220313T160000
SUMMARY:Kreisliga Chemnitz Grün-Weiß Niederwiesa vs SG Chemnitzer HC (50)
UID:18199ad1-a5e7-4a85-b129-f24aa1fda7da
STATUS:CONFIRMED
LAST-MODIFIED:20220403T190120Z
DESCRIPTION:Kreisliga Chemnitz männlich B\nBegegnungs-Nr: 50\nHeim: Grün-Weiß Niederwiesa\nGast: SG Chemnitzer HC\nHalle: SH S.-v.-Pufendorf-Gymnasium Flöha (32404)\nAdresse: Turnerstr. 16\, 09557 Flöha\n
LOCATION:SH S.-v.-Pufendorf-Gymnasium Flöha (32404): Turnerstr. 16\, 09557 Flöha
CATEGORIES:Saison 2021/22
END:VEVENT
BEGIN:VEVENT
DTSTAMP:20260423T170759Z
DTSTART;TZID=Europe/Berlin:20220306T140000
DTEND;TZID=Europe/Berlin:20220306T150000
SUMMARY:Kreisliga Chemnitz Grün-Weiß Niederwiesa vs Rotation Borstendorf (38)
UID:b3d6d54d-7ec2-4174-8a67-e27eeafb3204
STATUS:CONFIRMED
LAST-MODIFIED:20220403T190043Z
DESCRIPTION:Kreisliga Chemnitz männlich B\nBegegnungs-Nr: 38\nHeim: Grün-Weiß Niederwiesa\nGast: Rotation Borstendorf\nHalle: SH S.-v.-Pufendorf-Gymnasium Flöha (32404)\nAdresse: Turnerstr. 16\, 09557 Flöha\n
LOCATION:SH S.-v.-Pufendorf-Gymnasium Flöha (32404): Turnerstr. 16\, 09557 Flöha
CATEGORIES:Saison 2021/22
END:VEVENT
BEGIN:VEVENT
DTSTAMP:20260423T170759Z
DTSTART;TZID=Europe/Berlin:20220115T000000
DTEND;TZID=Europe/Berlin:20220115T010000
SUMMARY:Kreisliga Chemnitz Grün-Weiß Niederwiesa vs spielfrei (35)
UID:f5eabd46-78ed-4bc8-a365-8de15b16c301
STATUS:CONFIRMED
LAST-MODIFIED:20220220T124211Z
DESCRIPTION:Kreisliga Chemnitz männlich B\nBegegnungs-Nr: 35\nHeim: Grün-Weiß Niederwiesa\nGast: spielfrei\nHalle: SH S.-v.-Pufendorf-Gymnasium Flöha (32404)\nAdresse: Turnerstr. 16\, 09557 Flöha\n
LOCATION:SH S.-v.-Pufendorf-Gymnasium Flöha (32404): Turnerstr. 16\, 09557 Flöha
CATEGORIES:Saison 2021/22
END:VEVENT
BEGIN:VEVENT
DTSTAMP:20260423T170759Z
DTSTART;TZID=Europe/Berlin:20220327T103000
DTEND;TZID=Europe/Berlin:20220327T113000
SUMMARY:Kreisliga Chemnitz Grün-Weiß Niederwiesa vs TSV Einheit Claußnitz (27)
UID:eed2719d-eab2-43c7-96ab-314123e75511
STATUS:CONFIRMED
LAST-MODIFIED:20220403T190341Z
DESCRIPTION:Kreisliga Chemnitz männlich B\nBegegnungs-Nr: 27\nHeim: Grün-Weiß Niederwiesa\nGast: TSV Einheit Claußnitz\nHalle: SH S.-v.-Pufendorf-Gymnasium Flöha (32404)\nAdresse: Turnerstr. 16\, 09557 Flöha\n
LOCATION:SH S.-v.-Pufendorf-Gymnasium Flöha (32404): Turnerstr. 16\, 09557 Flöha
CATEGORIES:Saison 2021/22
END:VEVENT
BEGIN:VEVENT
DTSTAMP:20260423T170759Z
DTSTART;TZID=Europe/Berlin:20211113T000000
DTEND;TZID=Europe/Berlin:20211113T010000
SUMMARY:Kreisliga Chemnitz Grün-Weiß Niederwiesa vs spielfrei (20)
UID:b345110d-30ed-45e3-b647-e87145068c2b
STATUS:CONFIRMED
LAST-MODIFIED:20220324T103129Z
DESCRIPTION:Kreisliga Chemnitz männlich B\nBegegnungs-Nr: 20\nHeim: Grün-Weiß Niederwiesa\nGast: spielfrei\nHalle: SH S.-v.-Pufendorf-Gymnasium Flöha (32404)\nAdresse: Turnerstr. 16\, 09557 Flöha\n
LOCATION:SH S.-v.-Pufendorf-Gymnasium Flöha (32404): Turnerstr. 16\, 09557 Flöha
CATEGORIES:Saison 2021/22
END:VEVENT
BEGIN:VEVENT
DTSTAMP:20260423T170759Z
DTSTART;TZID=Europe/Berlin:20220521T153000
DTEND;TZID=Europe/Berlin:20220521T163000
SUMMARY:Kreisliga Chemnitz Grün-Weiß Niederwiesa vs HV Grüna (13)
UID:89fade05-3c6a-4f46-9605-e9a5ae8cab8a
STATUS:CONFIRMED
LAST-MODIFIED:20220312T195647Z
DESCRIPTION:Kreisliga Chemnitz männlich B\nBegegnungs-Nr: 13\nHeim: Grün-Weiß Niederwiesa\nGast: HV Grüna\nHalle: SH S.-v.-Pufendorf-Gymnasium Flöha (32404)\nAdresse: Turnerstr. 16\, 09557 Flöha\n
LOCATION:SH S.-v.-Pufendorf-Gymnasium Flöha (32404): Turnerstr. 16\, 09557 Flöha
CATEGORIES:Saison 2021/22
END:VEVENT
BEGIN:VEVENT
DTSTAMP:20260423T170759Z
DTSTART;TZID=Europe/Berlin:20220507T160000
DTEND;TZID=Europe/Berlin:20220507T170000
SUMMARY:Kreisliga Chemnitz Grün-Weiß Niederwiesa vs NSG Burkhardtsdorf/Thalheim (69)
UID:f57f6d4e-9f30-4f1d-9af9-ae06c7f156ca
STATUS:CONFIRMED
DESCRIPTION:Kreisliga Chemnitz männlich B\nBegegnungs-Nr: 69\nHeim: Grün-Weiß Niederwiesa\nGast: NSG Burkhardtsdorf/Thalheim\nHalle: SH S.-v.-Pufendorf-Gymnasium Flöha (32404)\nAdresse: Turnerstr. 16\, 09557 Flöha\n
LOCATION:SH S.-v.-Pufendorf-Gymnasium Flöha (32404): Turnerstr. 16\, 09557 Flöha
CATEGORIES:Saison 2021/22
END:VEVENT
BEGIN:VEVENT
DTSTAMP:20260423T170759Z
DTSTART;TZID=Europe/Berlin:20220710T150000
DTEND;TZID=Europe/Berlin:20220710T160000
SUMMARY:KKJS mB HSG Freiberg II vs Grün-Weiß Niederwiesa (48)
UID:cd4990b4-981a-40b6-831e-b87f323ac597
STATUS:CONFIRMED
LAST-MODIFIED:20220711T194043Z
DESCRIPTION:KKJS Mittelsachsen männl. B\nBegegnungs-Nr: 48\nHeim: HSG Freiberg II\nGast: Grün-Weiß Niederwiesa\nHalle: Ernst-Grube-Halle Freiberg (32401)\nAdresse: Tschaikowskistr. 2\, 09599 Freiberg\n
LOCATION:Ernst-Grube-Halle Freiberg (32401): Tschaikowskistr. 2\, 09599 Freiberg
CATEGORIES:Saison 2021/22
END:VEVENT
BEGIN:VEVENT
DTSTAMP:20260423T170759Z
DTSTART;TZID=Europe/Berlin:20220514T000000
DTEND;TZID=Europe/Berlin:20220514T010000
SUMMARY:Kreisliga Chemnitz spielfrei vs Grün-Weiß Niederwiesa (71)
UID:d8604824-ece3-40f4-8e65-dd86ab2e02c5
STATUS:CONFIRMED
LAST-MODIFIED:20220220T124211Z
DESCRIPTION:Kreisliga Chemnitz männlich B\nBegegnungs-Nr: 71\nHeim: spielfrei\nGast: Grün-Weiß Niederwiesa\nHalle: SH Gymnasium Markneukirchen (32713)\nAdresse: Alte Wohlhausenerstr. 10\, 08258 Markneukirchen\n
LOCATION:SH Gymnasium Markneukirchen (32713): Alte Wohlhausenerstr. 10\, 08258 Markneukirchen
CATEGORIES:Saison 2021/22
END:VEVENT
BEGIN:VEVENT
DTSTAMP:20260423T170759Z
DTSTART;TZID=Europe/Berlin:20220430T130000
DTEND;TZID=Europe/Berlin:20220430T140000
SUMMARY:Kreisliga Chemnitz TSV Einheit Claußnitz vs Grün-Weiß Niederwiesa (63)
UID:0442071f-dc7e-4149-917a-9140b0fb3095
STATUS:CONFIRMED
DESCRIPTION:Kreisliga Chemnitz männlich B\nBegegnungs-Nr: 63\nHeim: TSV Einheit Claußnitz\nGast: Grün-Weiß Niederwiesa\nHalle: Zweifeldhalle Claußnitz (32218)\nAdresse: Daniel-Gottlob-Türk-Str. 3\, 09236 Claußnitz\n
LOCATION:Zweifeldhalle Claußnitz (32218): Daniel-Gottlob-Türk-Str. 3\, 09236 Claußnitz
CATEGORIES:Saison 2021/22
END:VEVENT
BEGIN:VEVENT
DTSTAMP:20260423T170759Z
DTSTART;TZID=Europe/Berlin:20220319T000000
DTEND;TZID=Europe/Berlin:20220319T010000
SUMMARY:Kreisliga Chemnitz spielfrei vs Grün-Weiß Niederwiesa (56)
UID:dba5758e-f85e-490d-a515-492ecdd96989
STATUS:CONFIRMED
LAST-MODIFIED:20220324T103129Z
DESCRIPTION:Kreisliga Chemnitz männlich B\nBegegnungs-Nr: 56\nHeim: spielfrei\nGast: Grün-Weiß Niederwiesa\nHalle: Silberlandhalle Annaberg-Buchholz (32601)\nAdresse: Talstraße 8-10\, 09456 Annaberg-Buchholz\n
LOCATION:Silberlandhalle Annaberg-Buchholz (32601): Talstraße 8-10\, 09456 Annaberg-Buchholz
CATEGORIES:Saison 2021/22
END:VEVENT
BEGIN:VEVENT
DTSTAMP:20260423T170759Z
DTSTART;TZID=Europe/Berlin:20220424T140000
DTEND;TZID=Europe/Berlin:20220424T150000
SUMMARY:Kreisliga Chemnitz HV Grüna vs Grün-Weiß Niederwiesa (49)
UID:53ceb4d3-9899-48c6-a309-5cd86925abca
STATUS:CONFIRMED
LAST-MODIFIED:20220220T120149Z
DESCRIPTION:Kreisliga Chemnitz männlich B\nBegegnungs-Nr: 49\nHeim: HV Grüna\nGast: Grün-Weiß Niederwiesa\nHalle: SH Oberlungwitz (32203)\nAdresse: Erlbacher Str. 19\, 09353 Oberlungwitz\n
LOCATION:SH Oberlungwitz (32203): Erlbacher Str. 19\, 09353 Oberlungwitz
CATEGORIES:Saison 2021/22
END:VEVENT
BEGIN:VEVENT
DTSTAMP:20260423T170759Z
DTSTART;TZID=Europe/Berlin:20210925T160000
DTEND;TZID=Europe/Berlin:20210925T170000
SUMMARY:Kreisliga Chemnitz Rotation Borstendorf vs Grün-Weiß Niederwiesa (2)
UID:0bc2c61f-09de-49bb-b49f-d5c3f1e3e00f
STATUS:CONFIRMED
DESCRIPTION:Kreisliga Chemnitz männlich B\nBegegnungs-Nr: 2\nHeim: Rotation Borstendorf\nGast: Grün-Weiß Niederwiesa\nHalle: SH BSZ Zschopau Nord (32406)\nAdresse: Johann-Gottlieb-Pfaff-Str. 1\, 09405 Zschopau\n
LOCATION:SH BSZ Zschopau Nord (32406): Johann-Gottlieb-Pfaff-Str. 1\, 09405 Zschopau
CATEGORIES:Saison 2021/22
END:VEVENT
BEGIN:VEVENT
DTSTAMP:20260423T170759Z
DTSTART;TZID=Europe/Berlin:20211107T140000
DTEND;TZID=Europe/Berlin:20211107T150000
SUMMARY:Kreisliga Chemnitz SG Chemnitzer HC vs Grün-Weiß Niederwiesa (14)
UID:41b53067-d216-4417-b9f6-e98c11530111
STATUS:CONFIRMED
LAST-MODIFIED:20220403T185809Z
DESCRIPTION:Kreisliga Chemnitz männlich B\nBegegnungs-Nr: 14\nHeim: SG Chemnitzer HC\nGast: Grün-Weiß Niederwiesa\nHalle: SH Chemnitzer PSV (32108)\nAdresse: Forststraße 9\, 09130 Chemnitz\n
LOCATION:SH Chemnitzer PSV (32108): Forststraße 9\, 09130 Chemnitz
CATEGORIES:Saison 2021/22
END:VEVENT
END:VCALENDAR
