BEGIN:VCALENDAR
PRODID:-//nuDatenautomaten//framework iCal4j //DE
VERSION:2.0
CALSCALE:GREGORIAN
BEGIN:VTIMEZONE
TZID:Europe/Berlin
LAST-MODIFIED:20260306T231828Z
TZURL:https://www.tzurl.org/zoneinfo/Europe/Berlin
X-LIC-LOCATION:Europe/Berlin
X-PROLEPTIC-TZNAME:LMT
BEGIN:STANDARD
TZNAME:CET
TZOFFSETFROM:+005328
TZOFFSETTO:+0100
DTSTART:18930401T000000
END:STANDARD
BEGIN:DAYLIGHT
TZNAME:CEST
TZOFFSETFROM:+0100
TZOFFSETTO:+0200
DTSTART:19160430T230000
RDATE:19400401T020000
RDATE:19430329T020000
RDATE:19460414T020000
RDATE:19470406T030000
RDATE:19480418T020000
RDATE:19490410T020000
RDATE:19800406T020000
END:DAYLIGHT
BEGIN:STANDARD
TZNAME:CET
TZOFFSETFROM:+0200
TZOFFSETTO:+0100
DTSTART:19161001T010000
RDATE:19421102T030000
RDATE:19431004T030000
RDATE:19441002T030000
RDATE:19451118T030000
RDATE:19461007T030000
END:STANDARD
BEGIN:DAYLIGHT
TZNAME:CEST
TZOFFSETFROM:+0100
TZOFFSETTO:+0200
DTSTART:19170416T020000
RRULE:FREQ=YEARLY;UNTIL=19180415T010000Z;BYMONTH=4;BYDAY=3MO
END:DAYLIGHT
BEGIN:STANDARD
TZNAME:CET
TZOFFSETFROM:+0200
TZOFFSETTO:+0100
DTSTART:19170917T030000
RRULE:FREQ=YEARLY;UNTIL=19180916T010000Z;BYMONTH=9;BYDAY=3MO
END:STANDARD
BEGIN:DAYLIGHT
TZNAME:CEST
TZOFFSETFROM:+0100
TZOFFSETTO:+0200
DTSTART:19440403T020000
RRULE:FREQ=YEARLY;UNTIL=19450402T010000Z;BYMONTH=4;BYDAY=1MO
END:DAYLIGHT
BEGIN:DAYLIGHT
TZNAME:CEMT
TZOFFSETFROM:+0200
TZOFFSETTO:+0300
DTSTART:19450524T020000
RDATE:19470511T030000
END:DAYLIGHT
BEGIN:DAYLIGHT
TZNAME:CEST
TZOFFSETFROM:+0300
TZOFFSETTO:+0200
DTSTART:19450924T030000
RDATE:19470629T030000
END:DAYLIGHT
BEGIN:STANDARD
TZNAME:CET
TZOFFSETFROM:+0100
TZOFFSETTO:+0100
DTSTART:19460101T000000
RDATE:19800101T000000
END:STANDARD
BEGIN:STANDARD
TZNAME:CET
TZOFFSETFROM:+0200
TZOFFSETTO:+0100
DTSTART:19471005T030000
RRULE:FREQ=YEARLY;UNTIL=19491002T010000Z;BYMONTH=10;BYDAY=1SU
END:STANDARD
BEGIN:STANDARD
TZNAME:CET
TZOFFSETFROM:+0200
TZOFFSETTO:+0100
DTSTART:19800928T030000
RRULE:FREQ=YEARLY;UNTIL=19950924T010000Z;BYMONTH=9;BYDAY=-1SU
END:STANDARD
BEGIN:DAYLIGHT
TZNAME:CEST
TZOFFSETFROM:+0100
TZOFFSETTO:+0200
DTSTART:19810329T020000
RRULE:FREQ=YEARLY;BYMONTH=3;BYDAY=-1SU
END:DAYLIGHT
BEGIN:STANDARD
TZNAME:CET
TZOFFSETFROM:+0200
TZOFFSETTO:+0100
DTSTART:19961027T030000
RRULE:FREQ=YEARLY;BYMONTH=10;BYDAY=-1SU
END:STANDARD
END:VTIMEZONE
BEGIN:VEVENT
DTSTAMP:20260423T012734Z
DTSTART;TZID=Europe/Berlin:20220320T120000
DTEND;TZID=Europe/Berlin:20220320T130000
SUMMARY:Sachsenliga wJC SC Markranstädt vs SSV Heidenau  (21038)
UID:ba4a0217-0b62-44fc-87ed-733fa80f6975
STATUS:CONFIRMED
LAST-MODIFIED:20220321T125358Z
DESCRIPTION:Sachsenliga weibliche Jugend C\nBegegnungs-Nr: 21038\nHeim: SC Markranstädt\nGast: SSV Heidenau \nHalle: Sportcenter Markranstädt (31127)\nAdresse: Leipziger Str. 47\, 04420 Markranstädt\n
LOCATION:Sportcenter Markranstädt (31127): Leipziger Str. 47\, 04420 Markranstädt
CATEGORIES:Saison 2021/22
END:VEVENT
BEGIN:VEVENT
DTSTAMP:20260423T012734Z
DTSTART;TZID=Europe/Berlin:20220410T144500
DTEND;TZID=Europe/Berlin:20220410T151500
SUMMARY:Quali BE Endrunde SC Markranstädt vs Görlitzer HC (3)
UID:82cc67e6-7df3-4575-b04f-2329f71f06fb
STATUS:CONFIRMED
LAST-MODIFIED:20220410T170125Z
DESCRIPTION:Quali für Nord-Ost-Deutsche Bestenermittlung/MHV Meisterschaft Endrunde\nBegegnungs-Nr: 3\nHeim: SC Markranstädt\nGast: Görlitzer HC\nHalle: SH BSZ Meißen (33220)\nAdresse: Goethestraße 21\, 01662 Meißen\n
LOCATION:SH BSZ Meißen (33220): Goethestraße 21\, 01662 Meißen
CATEGORIES:Saison 2021/22
END:VEVENT
BEGIN:VEVENT
DTSTAMP:20260423T012734Z
DTSTART;TZID=Europe/Berlin:20211113T170000
DTEND;TZID=Europe/Berlin:20211113T180000
SUMMARY:Sachsenliga wJC SC Markranstädt vs HSV Marienberg (21012)
UID:6fd93abd-372b-4997-a330-488435987c5b
STATUS:CONFIRMED
LAST-MODIFIED:20211113T224728Z
DESCRIPTION:Sachsenliga weibliche Jugend C\nBegegnungs-Nr: 21012\nHeim: SC Markranstädt\nGast: HSV Marienberg\nHalle: Sportcenter Markranstädt (31127)\nAdresse: Leipziger Str. 47\, 04420 Markranstädt\n
LOCATION:Sportcenter Markranstädt (31127): Leipziger Str. 47\, 04420 Markranstädt
CATEGORIES:Saison 2021/22
END:VEVENT
BEGIN:VEVENT
DTSTAMP:20260423T012734Z
DTSTART;TZID=Europe/Berlin:20211010T130000
DTEND;TZID=Europe/Berlin:20211010T140000
SUMMARY:Sachsenliga wJC SC Markranstädt vs Radeberger SV (21011)
UID:2ac27f85-be63-4a6f-aeb6-63fd46322f46
STATUS:CONFIRMED
LAST-MODIFIED:20211031T170802Z
DESCRIPTION:Sachsenliga weibliche Jugend C\nBegegnungs-Nr: 21011\nHeim: SC Markranstädt\nGast: Radeberger SV\nHalle: Sportcenter Markranstädt (31127)\nAdresse: Leipziger Str. 47\, 04420 Markranstädt\n
LOCATION:Sportcenter Markranstädt (31127): Leipziger Str. 47\, 04420 Markranstädt
CATEGORIES:Saison 2021/22
END:VEVENT
BEGIN:VEVENT
DTSTAMP:20260423T012734Z
DTSTART;TZID=Europe/Berlin:20220508T110000
DTEND;TZID=Europe/Berlin:20220508T120000
SUMMARY:Sachsenliga wJC SC Markranstädt vs BSV Sa. Zwickau (21064)
UID:c2d01b23-e15e-4ff3-a405-c51b7f3869b0
STATUS:CONFIRMED
LAST-MODIFIED:20220509T150352Z
DESCRIPTION:Sachsenliga weibliche Jugend C\nBegegnungs-Nr: 21064\nHeim: SC Markranstädt\nGast: BSV Sa. Zwickau\nHalle: Sportcenter Markranstädt (31127)\nAdresse: Leipziger Str. 47\, 04420 Markranstädt\n
LOCATION:Sportcenter Markranstädt (31127): Leipziger Str. 47\, 04420 Markranstädt
CATEGORIES:Saison 2021/22
END:VEVENT
BEGIN:VEVENT
DTSTAMP:20260423T012734Z
DTSTART;TZID=Europe/Berlin:20211016T140000
DTEND;TZID=Europe/Berlin:20211016T150000
SUMMARY:Sachsenliga wJC SC Markranstädt vs Görlitzer HC (21051)
UID:79b96495-1f56-41a9-86cf-cbfb244ce233
STATUS:CONFIRMED
LAST-MODIFIED:20211031T170857Z
DESCRIPTION:Sachsenliga weibliche Jugend C\nBegegnungs-Nr: 21051\nHeim: SC Markranstädt\nGast: Görlitzer HC\nHalle: Sportcenter Markranstädt (31127)\nAdresse: Leipziger Str. 47\, 04420 Markranstädt\n
LOCATION:Sportcenter Markranstädt (31127): Leipziger Str. 47\, 04420 Markranstädt
CATEGORIES:Saison 2021/22
END:VEVENT
BEGIN:VEVENT
DTSTAMP:20260423T012734Z
DTSTART;TZID=Europe/Berlin:20220410T130000
DTEND;TZID=Europe/Berlin:20220410T133000
SUMMARY:Quali BE VR Gr.I SC Markranstädt vs HSV Marienberg (5)
UID:abd28e4e-537d-465c-a2c1-31a1c74156be
STATUS:CONFIRMED
LAST-MODIFIED:20220410T165847Z
DESCRIPTION:Quali für Nord-Ost-Deutsche Bestenermittlung/MHV Meisterschaft GR I\nBegegnungs-Nr: 5\nHeim: SC Markranstädt\nGast: HSV Marienberg\nHalle: SH BSZ Meißen (33220)\nAdresse: Goethestraße 21\, 01662 Meißen\n
LOCATION:SH BSZ Meißen (33220): Goethestraße 21\, 01662 Meißen
CATEGORIES:Saison 2021/22
END:VEVENT
BEGIN:VEVENT
DTSTAMP:20260423T012734Z
DTSTART;TZID=Europe/Berlin:20220305T110000
DTEND;TZID=Europe/Berlin:20220305T120000
SUMMARY:Sachsenliga wJC SC Markranstädt vs HC Rödertal  (21025)
UID:c8e96917-2de5-42e8-ace2-b983af09b2aa
STATUS:CONFIRMED
LAST-MODIFIED:20220309T211106Z
DESCRIPTION:Sachsenliga weibliche Jugend C\nBegegnungs-Nr: 21025\nHeim: SC Markranstädt\nGast: HC Rödertal \nHalle: Sportcenter Markranstädt (31127)\nAdresse: Leipziger Str. 47\, 04420 Markranstädt\n
LOCATION:Sportcenter Markranstädt (31127): Leipziger Str. 47\, 04420 Markranstädt
CATEGORIES:Saison 2021/22
END:VEVENT
BEGIN:VEVENT
DTSTAMP:20260423T012734Z
DTSTART;TZID=Europe/Berlin:20211113T130000
DTEND;TZID=Europe/Berlin:20211113T140000
SUMMARY:Sachsenliga wJC VfL Meißen vs SC Markranstädt (21022)
UID:5d47ede0-0836-4d4c-b496-b029eb971244
STATUS:CONFIRMED
LAST-MODIFIED:20211113T224602Z
DESCRIPTION:Sachsenliga weibliche Jugend C\nBegegnungs-Nr: 21022\nHeim: VfL Meißen\nGast: SC Markranstädt\nHalle: SH \"Heiliger Grund\" Meißen (33212)\nAdresse: Goethestraße 27\, 01662 Meißen\n
LOCATION:SH \"Heiliger Grund\" Meißen (33212): Goethestraße 27\, 01662 Meißen
CATEGORIES:Saison 2021/22
END:VEVENT
BEGIN:VEVENT
DTSTAMP:20260423T012734Z
DTSTART;TZID=Europe/Berlin:20220410T170000
DTEND;TZID=Europe/Berlin:20220410T173000
SUMMARY:Quali BE Endrunde BSV Sa. Zwickau vs SC Markranstädt (6)
UID:affba825-9634-47cd-9062-e06f3d1aac89
STATUS:CONFIRMED
LAST-MODIFIED:20220410T170222Z
DESCRIPTION:Quali für Nord-Ost-Deutsche Bestenermittlung/MHV Meisterschaft Endrunde\nBegegnungs-Nr: 6\nHeim: BSV Sa. Zwickau\nGast: SC Markranstädt\nHalle: SH BSZ Meißen (33220)\nAdresse: Goethestraße 21\, 01662 Meißen\n
LOCATION:SH BSZ Meißen (33220): Goethestraße 21\, 01662 Meißen
CATEGORIES:Saison 2021/22
END:VEVENT
BEGIN:VEVENT
DTSTAMP:20260423T012734Z
DTSTART;TZID=Europe/Berlin:20220410T100000
DTEND;TZID=Europe/Berlin:20220410T103000
SUMMARY:Quali BE Endrunde HC Leipzig vs SC Markranstädt (1)
UID:fae897be-3293-4481-a92f-49bd95850cde
STATUS:CONFIRMED
LAST-MODIFIED:20220410T122110Z
DESCRIPTION:Quali für Nord-Ost-Deutsche Bestenermittlung/MHV Meisterschaft Endrunde\nBegegnungs-Nr: 1\nHeim: HC Leipzig\nGast: SC Markranstädt\nHalle: SH BSZ Meißen (33220)\nAdresse: Goethestraße 21\, 01662 Meißen\n
LOCATION:SH BSZ Meißen (33220): Goethestraße 21\, 01662 Meißen
CATEGORIES:Saison 2021/22
END:VEVENT
BEGIN:VEVENT
DTSTAMP:20260423T012734Z
DTSTART;TZID=Europe/Berlin:20211002T130000
DTEND;TZID=Europe/Berlin:20211002T140000
SUMMARY:Sachsenliga wJC MSV Dresden vs SC Markranstädt (21000)
UID:6b06f1eb-2877-4083-89f6-21fa869df1c8
STATUS:CONFIRMED
LAST-MODIFIED:20211005T192115Z
DESCRIPTION:Sachsenliga weibliche Jugend C\nBegegnungs-Nr: 21000\nHeim: MSV Dresden\nGast: SC Markranstädt\nHalle: SH Bertolt-Brecht-Gymnasium Dresden (33129)\nAdresse: Thomaestraße 60\, 01307 Dresden\n
LOCATION:SH Bertolt-Brecht-Gymnasium Dresden (33129): Thomaestraße 60\, 01307 Dresden
CATEGORIES:Saison 2021/22
END:VEVENT
BEGIN:VEVENT
DTSTAMP:20260423T012734Z
DTSTART;TZID=Europe/Berlin:20220327T140000
DTEND;TZID=Europe/Berlin:20220327T150000
SUMMARY:Sachsenliga wJC MSV Dresden II vs SC Markranstädt (21044)
UID:755a04b5-e517-4b41-9e29-fea520c3b6ca
STATUS:CONFIRMED
LAST-MODIFIED:20220403T102201Z
DESCRIPTION:Sachsenliga weibliche Jugend C\nBegegnungs-Nr: 21044\nHeim: MSV Dresden II\nGast: SC Markranstädt\nHalle: SH 56. Oberschule Dresden Am Trachenberg (33131)\nAdresse: Aachener Straße 10\, 01129 Dresden\n
LOCATION:SH 56. Oberschule Dresden Am Trachenberg (33131): Aachener Straße 10\, 01129 Dresden
CATEGORIES:Saison 2021/22
END:VEVENT
BEGIN:VEVENT
DTSTAMP:20260423T012734Z
DTSTART;TZID=Europe/Berlin:20220410T100000
DTEND;TZID=Europe/Berlin:20220410T103000
SUMMARY:Quali BE VR Gr.I HC Leipzig vs SC Markranstädt (1)
UID:862ae032-70d5-4c8f-87bc-3e5b8f60754e
STATUS:CONFIRMED
LAST-MODIFIED:20220410T165704Z
DESCRIPTION:Quali für Nord-Ost-Deutsche Bestenermittlung/MHV Meisterschaft GR I\nBegegnungs-Nr: 1\nHeim: HC Leipzig\nGast: SC Markranstädt\nHalle: SH BSZ Meißen (33220)\nAdresse: Goethestraße 21\, 01662 Meißen\n
LOCATION:SH BSZ Meißen (33220): Goethestraße 21\, 01662 Meißen
CATEGORIES:Saison 2021/22
END:VEVENT
BEGIN:VEVENT
DTSTAMP:20260423T012734Z
DTSTART;TZID=Europe/Berlin:20220426T160000
DTEND;TZID=Europe/Berlin:20220426T170000
SUMMARY:Sachsenliga wJC HC Leipzig vs SC Markranstädt (21055)
UID:b926be8d-5974-43e5-88b3-c500c1572cb7
STATUS:CONFIRMED
LAST-MODIFIED:20220501T151905Z
DESCRIPTION:Sachsenliga weibliche Jugend C\nBegegnungs-Nr: 21055\nHeim: HC Leipzig\nGast: SC Markranstädt\nHalle: SH Sportoberschule (31132)\nAdresse: Max -Planck-Str. 53-55\, 04105 Leipzig\n
LOCATION:SH Sportoberschule (31132): Max -Planck-Str. 53-55\, 04105 Leipzig
CATEGORIES:Saison 2021/22
END:VEVENT
END:VCALENDAR
